{"text_format":"1","workbook":"xlsx","n_sheets":44,"sheets":["Index","Class Details","Unit 1","Unit 2","Unit 3","Unit 4","Unit 5","Unit 6","Unit 7","Unit 8","Unit 9","Unit 10","Unit 11","Unit 12","Unit 13","Unit 14","Unit 15","Unit 16","Unit 17","Unit 18","Unit 19","Unit 20","Unit 21","Unit 22","Unit 23","Unit 24","Unit 25","Unit 26","Unit 27","Unit 28","Unit 29","Unit 30","Unit 31","Unit 32","Unit 33","Unit 34","Unit 35","Unit 36","Unit 37","Unit 38","Planning Tool, Rationale & Aim","Learning Outcomes Engagement","Instructions page","Data Set"],"not_rendered":{"charts":0,"images":19,"macros":0,"external_links":0,"defined_names":7,"comments":0,"pivot_tables":0},"unopened":[],"bounds":{"document_bytes":16777216,"sheet_cells":100000,"rows_first":2000,"rows_last":500,"rows_between":2000,"halvings":0,"cell_chars":16384,"cell_head_chars":4096},"cells_cut":0,"cells_raw":0,"read":"whole","date_system":"1900"}

{"sheet":"Index","index":0,"n_rows":57,"n_cols":22,"rows_kept":57,"cut":false,"hidden":false,"merged":[[7,0,25,0],[1,0,1,1],[4,5,5,5],[6,10,6,19],[0,10,2,19],[5,9,5,15],[1,5,2,5]]}
[null,null,null,null,null,null,null,null,null,null,"NOTE: Printable summary that populates automatically. This sheet cannot be edited."]
["Click:",null,null,null,null,"Index","Class Details","Planning Tool, Rationale & Aim","Learning Outcomes Engagement","Instructions"]
[]
[]
[null,null,null,null,null,{"$f":"'Data Set'!D4","v":"Engineering:"},"Class group: (code/name)","Junior Cycle cohort:          Start year/","End year","School:"]
[null,null,null,null,null,null,{"$f":"IF('Class Details'!K21=\"\",\"\",'Class Details'!K21)","v":"Enter in Class Details sheet"},{"$f":"IF('Class Details'!K19=\"\",\"\",'Class Details'!K19)","v":"Enter in Class Details sheet"},{"$f":"IF('Class Details'!K20=\"\",\"\",'Class Details'!K20)","v":"Enter in Class Details sheet"},{"$f":"IF('Class Details'!J8=\"\",\"\",'Class Details'!J8)","v":"Enter in Class Details sheet"}]
[null,null,"Sheet names:","Active units:","List of units (No blank lines):","Unit of learning titles: (Click links)","Year group:","Commencement date:","Duration:","Teacher: ","Chosen Learning Outcomes:"]
["NOTE: Always keep Index Sheet tab on the left.",{"$f":"IF(COUNTA(E8)=1,\"1\",\"\")","v":"1"},{"$f":"IFERROR(INDEX(MID(SheetNames,FIND(\"]\",SheetNames)+1,100),ROW(C2),1),\"\")","v":""},{"$f":"IFERROR(IF(AND(INDIRECT(\"'\"&$C8&\"'!c4\")='Data Set'!$D$4,INDIRECT(\"'\"&$C8&\"'!f5\")=\"Yes\"),C8,\"\"),\"\")","v":""},{"$f":"IFERROR(INDEX($D$8:$D$57,MATCH(0,COUNTIF($E$7:E7,$D$8:$D$57&\"\")+IF($D$8:$D$57=\"\",1,0), 0)),\"\")","v":""},{"$f":"HYPERLINK(\"#'\"&E8&\"'!A1\",E8)","v":""},{"$f":"IFERROR(IF(INDIRECT(\"'\"&$F8&\"'!c7\")=\"\",\"\",INDIRECT(\"'\"&$F8&\"'!c7\")),\"\")","v":""},{"$f":"IFERROR(IF(INDIRECT(\"'\"&$F8&\"'!e7\")=\"\",\"\",INDIRECT(\"'\"&$F8&\"'!e7\")),\"\")","v":""},{"$f":"IFERROR(IF(INDIRECT(\"'\"&$F8&\"'!f7\")=\"\",\"\",INDIRECT(\"'\"&$F8&\"'!f7\")),\"\")","v":""},{"$f":"IFERROR(IF(INDIRECT(\"'\"&$F8&\"'!h5\")=\"\",\"\",INDIRECT(\"'\"&$F8&\"'!h5\")),\"\")","v":""},{"$f":"IFERROR(LEFT(INDIRECT(\"'\"&$E8&\"'!c15\"),4),\"\")","v":""},{"$f":"IFERROR(LEFT(INDIRECT(\"'\"&$E8&\"'!c16\"),4),\"\")","v":""},{"$f":"IFERROR(LEFT(INDIRECT(\"'\"&$E8&\"'!c19\"),4),\"\")","v":""},{"$f":"IFERROR(LEFT(INDIRECT(\"'\"&$E8&\"'!c20\"),4),\"\")","v":""},{"$f":"IFERROR(LEFT(INDIRECT(\"'\"&$E8&\"'!c22\"),4),\"\")","v":""},{"$f":"IFERROR(LEFT(INDIRECT(\"'\"&$E8&\"'!c23\"),4),\"\")","v":""},{"$f":"IFERROR(LEFT(INDIRECT(\"'\"&$E8&\"'!c25\"),4),\"\")","v":""},{"$f":"IFERROR(LEFT(INDIRECT(\"'\"&$E8&\"'!c26\"),4),\"\")","v":""},{"$f":"IFERROR(LEFT(INDIRECT(\"'\"&$E8&\"'!c29\"),4),\"\")","v":""},{"$f":"IFERROR(LEFT(INDIRECT(\"'\"&$E8&\"'!c30\"),4),\"\")","v":""},{"$f":"IFERROR(LEFT(INDIRECT(\"'\"&$E8&\"'!c32\"),4),\"\")","v":""},{"$f":"IFERROR(LEFT(INDIRECT(\"'\"&$E8&\"'!c33\"),4),\"\")","v":""}]
[null,{"$f":"IF(E9=\"\",\"\",B8+1)","v":""},{"$f":"IFERROR(INDEX(MID(SheetNames,FIND(\"]\",SheetNames)+1,100),ROW(C3),1),\"\")","v":""},{"$f":"IFERROR(IF(AND(INDIRECT(\"'\"&$C9&\"'!c4\")='Data Set'!$D$4,INDIRECT(\"'\"&$C9&\"'!f5\")=\"Yes\"),C9,\"\"),\"\")","v":""},{"$f":"IFERROR(INDEX($D$8:$D$57,MATCH(0,COUNTIF($E$7:E8,$D$8:$D$57&\"\")+IF($D$8:$D$57=\"\",1,0), 0)),\"\")","v":""},{"$f":"HYPERLINK(\"#'\"&E9&\"'!A1\",E9)","v":""},{"$f":"IFERROR(IF(INDIRECT(\"'\"&$F9&\"'!c7\")=\"\",\"\",INDIRECT(\"'\"&$F9&\"'!c7\")),\"\")","v":""},{"$f":"IFERROR(IF(INDIRECT(\"'\"&$F9&\"'!e7\")=\"\",\"\",INDIRECT(\"'\"&$F9&\"'!e7\")),\"\")","v":""},{"$f":"IFERROR(IF(INDIRECT(\"'\"&$F9&\"'!f7\")=\"\",\"\",INDIRECT(\"'\"&$F9&\"'!f7\")),\"\")","v":""},{"$f":"IFERROR(IF(INDIRECT(\"'\"&$F9&\"'!h5\")=\"\",\"\",INDIRECT(\"'\"&$F9&\"'!h5\")),\"\")","v":""},{"$f":"IFERROR(LEFT(INDIRECT(\"'\"&$E9&\"'!c15\"),4),\"\")","v":""},{"$f":"IFERROR(LEFT(INDIRECT(\"'\"&$E9&\"'!c16\"),4),\"\")","v":""},{"$f":"IFERROR(LEFT(INDIRECT(\"'\"&$E9&\"'!c19\"),4),\"\")","v":""},{"$f":"IFERROR(LEFT(INDIRECT(\"'\"&$E9&\"'!c20\"),4),\"\")","v":""},{"$f":"IFERROR(LEFT(INDIRECT(\"'\"&$E9&\"'!c22\"),4),\"\")","v":""},{"$f":"IFERROR(LEFT(INDIRECT(\"'\"&$E9&\"'!c23\"),4),\"\")","v":""},{"$f":"IFERROR(LEFT(INDIRECT(\"'\"&$E9&\"'!c25\"),4),\"\")","v":""},{"$f":"IFERROR(LEFT(INDIRECT(\"'\"&$E9&\"'!c26\"),4),\"\")","v":""},{"$f":"IFERROR(LEFT(INDIRECT(\"'\"&$E9&\"'!c29\"),4),\"\")","v":""},{"$f":"IFERROR(LEFT(INDIRECT(\"'\"&$E9&\"'!c30\"),4),\"\")","v":""},{"$f":"IFERROR(LEFT(INDIRECT(\"'\"&$E9&\"'!c32\"),4),\"\")","v":""},{"$f":"IFERROR(LEFT(INDIRECT(\"'\"&$E9&\"'!c33\"),4),\"\")","v":""}]
[null,{"$f":"IF(E10=\"\",\"\",B9+1)","v":""},{"$f":"IFERROR(INDEX(MID(SheetNames,FIND(\"]\",SheetNames)+1,100),ROW(C4),1),\"\")","v":""},{"$f":"IFERROR(IF(AND(INDIRECT(\"'\"&$C10&\"'!c4\")='Data Set'!$D$4,INDIRECT(\"'\"&$C10&\"'!f5\")=\"Yes\"),C10,\"\"),\"\")","v":""},{"$f":"IFERROR(INDEX($D$8:$D$57,MATCH(0,COUNTIF($E$7:E9,$D$8:$D$57&\"\")+IF($D$8:$D$57=\"\",1,0), 0)),\"\")","v":""},"",{"$f":"IFERROR(IF(INDIRECT(\"'\"&$F10&\"'!c7\")=\"\",\"\",INDIRECT(\"'\"&$F10&\"'!c7\")),\"\")","v":""},{"$f":"IFERROR(IF(INDIRECT(\"'\"&$F10&\"'!e7\")=\"\",\"\",INDIRECT(\"'\"&$F10&\"'!e7\")),\"\")","v":""},{"$f":"IFERROR(IF(INDIRECT(\"'\"&$F10&\"'!f7\")=\"\",\"\",INDIRECT(\"'\"&$F10&\"'!f7\")),\"\")","v":""},{"$f":"IFERROR(IF(INDIRECT(\"'\"&$F10&\"'!h5\")=\"\",\"\",INDIRECT(\"'\"&$F10&\"'!h5\")),\"\")","v":""},{"$f":"IFERROR(LEFT(INDIRECT(\"'\"&$E10&\"'!c15\"),4),\"\")","v":""},{"$f":"IFERROR(LEFT(INDIRECT(\"'\"&$E10&\"'!c16\"),4),\"\")","v":""},{"$f":"IFERROR(LEFT(INDIRECT(\"'\"&$E10&\"'!c19\"),4),\"\")","v":""},{"$f":"IFERROR(LEFT(INDIRECT(\"'\"&$E10&\"'!c20\"),4),\"\")","v":""},{"$f":"IFERROR(LEFT(INDIRECT(\"'\"&$E10&\"'!c22\"),4),\"\")","v":""},{"$f":"IFERROR(LEFT(INDIRECT(\"'\"&$E10&\"'!c23\"),4),\"\")","v":""},{"$f":"IFERROR(LEFT(INDIRECT(\"'\"&$E10&\"'!c25\"),4),\"\")","v":""},{"$f":"IFERROR(LEFT(INDIRECT(\"'\"&$E10&\"'!c26\"),4),\"\")","v":""},{"$f":"IFERROR(LEFT(INDIRECT(\"'\"&$E10&\"'!c29\"),4),\"\")","v":""},{"$f":"IFERROR(LEFT(INDIRECT(\"'\"&$E10&\"'!c30\"),4),\"\")","v":""},{"$f":"IFERROR(LEFT(INDIRECT(\"'\"&$E10&\"'!c32\"),4),\"\")","v":""},{"$f":"IFERROR(LEFT(INDIRECT(\"'\"&$E10&\"'!c33\"),4),\"\")","v":""}]
[null,"",{"$f":"IFERROR(INDEX(MID(SheetNames,FIND(\"]\",SheetNames)+1,100),ROW(C5),1),\"\")","v":""},{"$f":"IFERROR(IF(AND(INDIRECT(\"'\"&$C11&\"'!c4\")='Data Set'!$D$4,INDIRECT(\"'\"&$C11&\"'!f5\")=\"Yes\"),C11,\"\"),\"\")","v":""},{"$f":"IFERROR(INDEX($D$8:$D$57,MATCH(0,COUNTIF($E$7:E10,$D$8:$D$57&\"\")+IF($D$8:$D$57=\"\",1,0), 0)),\"\")","v":""},"",{"$f":"IFERROR(IF(INDIRECT(\"'\"&$F11&\"'!c7\")=\"\",\"\",INDIRECT(\"'\"&$F11&\"'!c7\")),\"\")","v":""},{"$f":"IFERROR(IF(INDIRECT(\"'\"&$F11&\"'!e7\")=\"\",\"\",INDIRECT(\"'\"&$F11&\"'!e7\")),\"\")","v":""},{"$f":"IFERROR(IF(INDIRECT(\"'\"&$F11&\"'!f7\")=\"\",\"\",INDIRECT(\"'\"&$F11&\"'!f7\")),\"\")","v":""},{"$f":"IFERROR(IF(INDIRECT(\"'\"&$F11&\"'!h5\")=\"\",\"\",INDIRECT(\"'\"&$F11&\"'!h5\")),\"\")","v":""},{"$f":"IFERROR(LEFT(INDIRECT(\"'\"&$E11&\"'!c15\"),4),\"\")","v":""},{"$f":"IFERROR(LEFT(INDIRECT(\"'\"&$E11&\"'!c16\"),4),\"\")","v":""},{"$f":"IFERROR(LEFT(INDIRECT(\"'\"&$E11&\"'!c19\"),4),\"\")","v":""},{"$f":"IFERROR(LEFT(INDIRECT(\"'\"&$E11&\"'!c20\"),4),\"\")","v":""},{"$f":"IFERROR(LEFT(INDIRECT(\"'\"&$E11&\"'!c22\"),4),\"\")","v":""},{"$f":"IFERROR(LEFT(INDIRECT(\"'\"&$E11&\"'!c23\"),4),\"\")","v":""},{"$f":"IFERROR(LEFT(INDIRECT(\"'\"&$E11&\"'!c25\"),4),\"\")","v":""},{"$f":"IFERROR(LEFT(INDIRECT(\"'\"&$E11&\"'!c26\"),4),\"\")","v":""},{"$f":"IFERROR(LEFT(INDIRECT(\"'\"&$E11&\"'!c29\"),4),\"\")","v":""},{"$f":"IFERROR(LEFT(INDIRECT(\"'\"&$E11&\"'!c30\"),4),\"\")","v":""},{"$f":"IFERROR(LEFT(INDIRECT(\"'\"&$E11&\"'!c32\"),4),\"\")","v":""},{"$f":"IFERROR(LEFT(INDIRECT(\"'\"&$E11&\"'!c33\"),4),\"\")","v":""}]
[null,"",{"$f":"IFERROR(INDEX(MID(SheetNames,FIND(\"]\",SheetNames)+1,100),ROW(C6),1),\"\")","v":""},{"$f":"IFERROR(IF(AND(INDIRECT(\"'\"&$C12&\"'!c4\")='Data Set'!$D$4,INDIRECT(\"'\"&$C12&\"'!f5\")=\"Yes\"),C12,\"\"),\"\")","v":""},{"$f":"IFERROR(INDEX($D$8:$D$57,MATCH(0,COUNTIF($E$7:E11,$D$8:$D$57&\"\")+IF($D$8:$D$57=\"\",1,0), 0)),\"\")","v":""},"",{"$f":"IFERROR(IF(INDIRECT(\"'\"&$F12&\"'!c7\")=\"\",\"\",INDIRECT(\"'\"&$F12&\"'!c7\")),\"\")","v":""},{"$f":"IFERROR(IF(INDIRECT(\"'\"&$F12&\"'!e7\")=\"\",\"\",INDIRECT(\"'\"&$F12&\"'!e7\")),\"\")","v":""},{"$f":"IFERROR(IF(INDIRECT(\"'\"&$F12&\"'!f7\")=\"\",\"\",INDIRECT(\"'\"&$F12&\"'!f7\")),\"\")","v":""},{"$f":"IFERROR(IF(INDIRECT(\"'\"&$F12&\"'!h5\")=\"\",\"\",INDIRECT(\"'\"&$F12&\"'!h5\")),\"\")","v":""},{"$f":"IFERROR(LEFT(INDIRECT(\"'\"&$E12&\"'!c15\"),4),\"\")","v":""},{"$f":"IFERROR(LEFT(INDIRECT(\"'\"&$E12&\"'!c16\"),4),\"\")","v":""},{"$f":"IFERROR(LEFT(INDIRECT(\"'\"&$E12&\"'!c19\"),4),\"\")","v":""},{"$f":"IFERROR(LEFT(INDIRECT(\"'\"&$E12&\"'!c20\"),4),\"\")","v":""},{"$f":"IFERROR(LEFT(INDIRECT(\"'\"&$E12&\"'!c22\"),4),\"\")","v":""},{"$f":"IFERROR(LEFT(INDIRECT(\"'\"&$E12&\"'!c23\"),4),\"\")","v":""},{"$f":"IFERROR(LEFT(INDIRECT(\"'\"&$E12&\"'!c25\"),4),\"\")","v":""},{"$f":"IFERROR(LEFT(INDIRECT(\"'\"&$E12&\"'!c26\"),4),\"\")","v":""},{"$f":"IFERROR(LEFT(INDIRECT(\"'\"&$E12&\"'!c29\"),4),\"\")","v":""},{"$f":"IFERROR(LEFT(INDIRECT(\"'\"&$E12&\"'!c30\"),4),\"\")","v":""},{"$f":"IFERROR(LEFT(INDIRECT(\"'\"&$E12&\"'!c32\"),4),\"\")","v":""},{"$f":"IFERROR(LEFT(INDIRECT(\"'\"&$E12&\"'!c33\"),4),\"\")","v":""}]
[null,"",{"$f":"IFERROR(INDEX(MID(SheetNames,FIND(\"]\",SheetNames)+1,100),ROW(C7),1),\"\")","v":""},{"$f":"IFERROR(IF(AND(INDIRECT(\"'\"&$C13&\"'!c4\")='Data Set'!$D$4,INDIRECT(\"'\"&$C13&\"'!f5\")=\"Yes\"),C13,\"\"),\"\")","v":""},{"$f":"IFERROR(INDEX($D$8:$D$57,MATCH(0,COUNTIF($E$7:E12,$D$8:$D$57&\"\")+IF($D$8:$D$57=\"\",1,0), 0)),\"\")","v":""},"",{"$f":"IFERROR(IF(INDIRECT(\"'\"&$F13&\"'!c7\")=\"\",\"\",INDIRECT(\"'\"&$F13&\"'!c7\")),\"\")","v":""},{"$f":"IFERROR(IF(INDIRECT(\"'\"&$F13&\"'!e7\")=\"\",\"\",INDIRECT(\"'\"&$F13&\"'!e7\")),\"\")","v":""},{"$f":"IFERROR(IF(INDIRECT(\"'\"&$F13&\"'!f7\")=\"\",\"\",INDIRECT(\"'\"&$F13&\"'!f7\")),\"\")","v":""},{"$f":"IFERROR(IF(INDIRECT(\"'\"&$F13&\"'!h5\")=\"\",\"\",INDIRECT(\"'\"&$F13&\"'!h5\")),\"\")","v":""},{"$f":"IFERROR(LEFT(INDIRECT(\"'\"&$E13&\"'!c15\"),4),\"\")","v":""},{"$f":"IFERROR(LEFT(INDIRECT(\"'\"&$E13&\"'!c16\"),4),\"\")","v":""},{"$f":"IFERROR(LEFT(INDIRECT(\"'\"&$E13&\"'!c19\"),4),\"\")","v":""},{"$f":"IFERROR(LEFT(INDIRECT(\"'\"&$E13&\"'!c20\"),4),\"\")","v":""},{"$f":"IFERROR(LEFT(INDIRECT(\"'\"&$E13&\"'!c22\"),4),\"\")","v":""},{"$f":"IFERROR(LEFT(INDIRECT(\"'\"&$E13&\"'!c23\"),4),\"\")","v":""},{"$f":"IFERROR(LEFT(INDIRECT(\"'\"&$E13&\"'!c25\"),4),\"\")","v":""},{"$f":"IFERROR(LEFT(INDIRECT(\"'\"&$E13&\"'!c26\"),4),\"\")","v":""},{"$f":"IFERROR(LEFT(INDIRECT(\"'\"&$E13&\"'!c29\"),4),\"\")","v":""},{"$f":"IFERROR(LEFT(INDIRECT(\"'\"&$E13&\"'!c30\"),4),\"\")","v":""},{"$f":"IFERROR(LEFT(INDIRECT(\"'\"&$E13&\"'!c32\"),4),\"\")","v":""},{"$f":"IFERROR(LEFT(INDIRECT(\"'\"&$E13&\"'!c33\"),4),\"\")","v":""}]
[null,"",{"$f":"IFERROR(INDEX(MID(SheetNames,FIND(\"]\",SheetNames)+1,100),ROW(C8),1),\"\")","v":""},{"$f":"IFERROR(IF(AND(INDIRECT(\"'\"&$C14&\"'!c4\")='Data Set'!$D$4,INDIRECT(\"'\"&$C14&\"'!f5\")=\"Yes\"),C14,\"\"),\"\")","v":""},{"$f":"IFERROR(INDEX($D$8:$D$57,MATCH(0,COUNTIF($E$7:E13,$D$8:$D$57&\"\")+IF($D$8:$D$57=\"\",1,0), 0)),\"\")","v":""},"",{"$f":"IFERROR(IF(INDIRECT(\"'\"&$F14&\"'!c7\")=\"\",\"\",INDIRECT(\"'\"&$F14&\"'!c7\")),\"\")","v":""},{"$f":"IFERROR(IF(INDIRECT(\"'\"&$F14&\"'!e7\")=\"\",\"\",INDIRECT(\"'\"&$F14&\"'!e7\")),\"\")","v":""},{"$f":"IFERROR(IF(INDIRECT(\"'\"&$F14&\"'!f7\")=\"\",\"\",INDIRECT(\"'\"&$F14&\"'!f7\")),\"\")","v":""},{"$f":"IFERROR(IF(INDIRECT(\"'\"&$F14&\"'!h5\")=\"\",\"\",INDIRECT(\"'\"&$F14&\"'!h5\")),\"\")","v":""},{"$f":"IFERROR(LEFT(INDIRECT(\"'\"&$E14&\"'!c15\"),4),\"\")","v":""},{"$f":"IFERROR(LEFT(INDIRECT(\"'\"&$E14&\"'!c16\"),4),\"\")","v":""},{"$f":"IFERROR(LEFT(INDIRECT(\"'\"&$E14&\"'!c19\"),4),\"\")","v":""},{"$f":"IFERROR(LEFT(INDIRECT(\"'\"&$E14&\"'!c20\"),4),\"\")","v":""},{"$f":"IFERROR(LEFT(INDIRECT(\"'\"&$E14&\"'!c22\"),4),\"\")","v":""},{"$f":"IFERROR(LEFT(INDIRECT(\"'\"&$E14&\"'!c23\"),4),\"\")","v":""},{"$f":"IFERROR(LEFT(INDIRECT(\"'\"&$E14&\"'!c25\"),4),\"\")","v":""},{"$f":"IFERROR(LEFT(INDIRECT(\"'\"&$E14&\"'!c26\"),4),\"\")","v":""},{"$f":"IFERROR(LEFT(INDIRECT(\"'\"&$E14&\"'!c29\"),4),\"\")","v":""},{"$f":"IFERROR(LEFT(INDIRECT(\"'\"&$E14&\"'!c30\"),4),\"\")","v":""},{"$f":"IFERROR(LEFT(INDIRECT(\"'\"&$E14&\"'!c32\"),4),\"\")","v":""},{"$f":"IFERROR(LEFT(INDIRECT(\"'\"&$E14&\"'!c33\"),4),\"\")","v":""}]
[null,"",{"$f":"IFERROR(INDEX(MID(SheetNames,FIND(\"]\",SheetNames)+1,100),ROW(C9),1),\"\")","v":""},{"$f":"IFERROR(IF(AND(INDIRECT(\"'\"&$C15&\"'!c4\")='Data Set'!$D$4,INDIRECT(\"'\"&$C15&\"'!f5\")=\"Yes\"),C15,\"\"),\"\")","v":""},{"$f":"IFERROR(INDEX($D$8:$D$57,MATCH(0,COUNTIF($E$7:E14,$D$8:$D$57&\"\")+IF($D$8:$D$57=\"\",1,0), 0)),\"\")","v":""},"",{"$f":"IFERROR(IF(INDIRECT(\"'\"&$F15&\"'!c7\")=\"\",\"\",INDIRECT(\"'\"&$F15&\"'!c7\")),\"\")","v":""},{"$f":"IFERROR(IF(INDIRECT(\"'\"&$F15&\"'!e7\")=\"\",\"\",INDIRECT(\"'\"&$F15&\"'!e7\")),\"\")","v":""},{"$f":"IFERROR(IF(INDIRECT(\"'\"&$F15&\"'!f7\")=\"\",\"\",INDIRECT(\"'\"&$F15&\"'!f7\")),\"\")","v":""},{"$f":"IFERROR(IF(INDIRECT(\"'\"&$F15&\"'!h5\")=\"\",\"\",INDIRECT(\"'\"&$F15&\"'!h5\")),\"\")","v":""},{"$f":"IFERROR(LEFT(INDIRECT(\"'\"&$E15&\"'!c15\"),4),\"\")","v":""},{"$f":"IFERROR(LEFT(INDIRECT(\"'\"&$E15&\"'!c16\"),4),\"\")","v":""},{"$f":"IFERROR(LEFT(INDIRECT(\"'\"&$E15&\"'!c19\"),4),\"\")","v":""},{"$f":"IFERROR(LEFT(INDIRECT(\"'\"&$E15&\"'!c20\"),4),\"\")","v":""},{"$f":"IFERROR(LEFT(INDIRECT(\"'\"&$E15&\"'!c22\"),4),\"\")","v":""},{"$f":"IFERROR(LEFT(INDIRECT(\"'\"&$E15&\"'!c23\"),4),\"\")","v":""},{"$f":"IFERROR(LEFT(INDIRECT(\"'\"&$E15&\"'!c25\"),4),\"\")","v":""},{"$f":"IFERROR(LEFT(INDIRECT(\"'\"&$E15&\"'!c26\"),4),\"\")","v":""},{"$f":"IFERROR(LEFT(INDIRECT(\"'\"&$E15&\"'!c29\"),4),\"\")","v":""},{"$f":"IFERROR(LEFT(INDIRECT(\"'\"&$E15&\"'!c30\"),4),\"\")","v":""},{"$f":"IFERROR(LEFT(INDIRECT(\"'\"&$E15&\"'!c32\"),4),\"\")","v":""},{"$f":"IFERROR(LEFT(INDIRECT(\"'\"&$E15&\"'!c33\"),4),\"\")","v":""}]
[null,"",{"$f":"IFERROR(INDEX(MID(SheetNames,FIND(\"]\",SheetNames)+1,100),ROW(C10),1),\"\")","v":""},{"$f":"IFERROR(IF(AND(INDIRECT(\"'\"&$C16&\"'!c4\")='Data Set'!$D$4,INDIRECT(\"'\"&$C16&\"'!f5\")=\"Yes\"),C16,\"\"),\"\")","v":""},{"$f":"IFERROR(INDEX($D$8:$D$57,MATCH(0,COUNTIF($E$7:E15,$D$8:$D$57&\"\")+IF($D$8:$D$57=\"\",1,0), 0)),\"\")","v":""},"",{"$f":"IFERROR(IF(INDIRECT(\"'\"&$F16&\"'!c7\")=\"\",\"\",INDIRECT(\"'\"&$F16&\"'!c7\")),\"\")","v":""},{"$f":"IFERROR(IF(INDIRECT(\"'\"&$F16&\"'!e7\")=\"\",\"\",INDIRECT(\"'\"&$F16&\"'!e7\")),\"\")","v":""},{"$f":"IFERROR(IF(INDIRECT(\"'\"&$F16&\"'!f7\")=\"\",\"\",INDIRECT(\"'\"&$F16&\"'!f7\")),\"\")","v":""},{"$f":"IFERROR(IF(INDIRECT(\"'\"&$F16&\"'!h5\")=\"\",\"\",INDIRECT(\"'\"&$F16&\"'!h5\")),\"\")","v":""},{"$f":"IFERROR(LEFT(INDIRECT(\"'\"&$E16&\"'!c15\"),4),\"\")","v":""},{"$f":"IFERROR(LEFT(INDIRECT(\"'\"&$E16&\"'!c16\"),4),\"\")","v":""},{"$f":"IFERROR(LEFT(INDIRECT(\"'\"&$E16&\"'!c19\"),4),\"\")","v":""},{"$f":"IFERROR(LEFT(INDIRECT(\"'\"&$E16&\"'!c20\"),4),\"\")","v":""},{"$f":"IFERROR(LEFT(INDIRECT(\"'\"&$E16&\"'!c22\"),4),\"\")","v":""},{"$f":"IFERROR(LEFT(INDIRECT(\"'\"&$E16&\"'!c23\"),4),\"\")","v":""},{"$f":"IFERROR(LEFT(INDIRECT(\"'\"&$E16&\"'!c25\"),4),\"\")","v":""},{"$f":"IFERROR(LEFT(INDIRECT(\"'\"&$E16&\"'!c26\"),4),\"\")","v":""},{"$f":"IFERROR(LEFT(INDIRECT(\"'\"&$E16&\"'!c29\"),4),\"\")","v":""},{"$f":"IFERROR(LEFT(INDIRECT(\"'\"&$E16&\"'!c30\"),4),\"\")","v":""},{"$f":"IFERROR(LEFT(INDIRECT(\"'\"&$E16&\"'!c32\"),4),\"\")","v":""},{"$f":"IFERROR(LEFT(INDIRECT(\"'\"&$E16&\"'!c33\"),4),\"\")","v":""}]
[null,"",{"$f":"IFERROR(INDEX(MID(SheetNames,FIND(\"]\",SheetNames)+1,100),ROW(C11),1),\"\")","v":""},{"$f":"IFERROR(IF(AND(INDIRECT(\"'\"&$C17&\"'!c4\")='Data Set'!$D$4,INDIRECT(\"'\"&$C17&\"'!f5\")=\"Yes\"),C17,\"\"),\"\")","v":""},{"$f":"IFERROR(INDEX($D$8:$D$57,MATCH(0,COUNTIF($E$7:E16,$D$8:$D$57&\"\")+IF($D$8:$D$57=\"\",1,0), 0)),\"\")","v":""},"",{"$f":"IFERROR(IF(INDIRECT(\"'\"&$F17&\"'!c7\")=\"\",\"\",INDIRECT(\"'\"&$F17&\"'!c7\")),\"\")","v":""},{"$f":"IFERROR(IF(INDIRECT(\"'\"&$F17&\"'!e7\")=\"\",\"\",INDIRECT(\"'\"&$F17&\"'!e7\")),\"\")","v":""},{"$f":"IFERROR(IF(INDIRECT(\"'\"&$F17&\"'!f7\")=\"\",\"\",INDIRECT(\"'\"&$F17&\"'!f7\")),\"\")","v":""},{"$f":"IFERROR(IF(INDIRECT(\"'\"&$F17&\"'!h5\")=\"\",\"\",INDIRECT(\"'\"&$F17&\"'!h5\")),\"\")","v":""},{"$f":"IFERROR(LEFT(INDIRECT(\"'\"&$E17&\"'!c15\"),4),\"\")","v":""},{"$f":"IFERROR(LEFT(INDIRECT(\"'\"&$E17&\"'!c16\"),4),\"\")","v":""},{"$f":"IFERROR(LEFT(INDIRECT(\"'\"&$E17&\"'!c19\"),4),\"\")","v":""},{"$f":"IFERROR(LEFT(INDIRECT(\"'\"&$E17&\"'!c20\"),4),\"\")","v":""},{"$f":"IFERROR(LEFT(INDIRECT(\"'\"&$E17&\"'!c22\"),4),\"\")","v":""},{"$f":"IFERROR(LEFT(INDIRECT(\"'\"&$E17&\"'!c23\"),4),\"\")","v":""},{"$f":"IFERROR(LEFT(INDIRECT(\"'\"&$E17&\"'!c25\"),4),\"\")","v":""},{"$f":"IFERROR(LEFT(INDIRECT(\"'\"&$E17&\"'!c26\"),4),\"\")","v":""},{"$f":"IFERROR(LEFT(INDIRECT(\"'\"&$E17&\"'!c29\"),4),\"\")","v":""},{"$f":"IFERROR(LEFT(INDIRECT(\"'\"&$E17&\"'!c30\"),4),\"\")","v":""},{"$f":"IFERROR(LEFT(INDIRECT(\"'\"&$E17&\"'!c32\"),4),\"\")","v":""},{"$f":"IFERROR(LEFT(INDIRECT(\"'\"&$E17&\"'!c33\"),4),\"\")","v":""}]
[null,"",{"$f":"IFERROR(INDEX(MID(SheetNames,FIND(\"]\",SheetNames)+1,100),ROW(C12),1),\"\")","v":""},{"$f":"IFERROR(IF(AND(INDIRECT(\"'\"&$C18&\"'!c4\")='Data Set'!$D$4,INDIRECT(\"'\"&$C18&\"'!f5\")=\"Yes\"),C18,\"\"),\"\")","v":""},{"$f":"IFERROR(INDEX($D$8:$D$57,MATCH(0,COUNTIF($E$7:E17,$D$8:$D$57&\"\")+IF($D$8:$D$57=\"\",1,0), 0)),\"\")","v":""},"",{"$f":"IFERROR(IF(INDIRECT(\"'\"&$F18&\"'!c7\")=\"\",\"\",INDIRECT(\"'\"&$F18&\"'!c7\")),\"\")","v":""},{"$f":"IFERROR(IF(INDIRECT(\"'\"&$F18&\"'!e7\")=\"\",\"\",INDIRECT(\"'\"&$F18&\"'!e7\")),\"\")","v":""},{"$f":"IFERROR(IF(INDIRECT(\"'\"&$F18&\"'!f7\")=\"\",\"\",INDIRECT(\"'\"&$F18&\"'!f7\")),\"\")","v":""},{"$f":"IFERROR(IF(INDIRECT(\"'\"&$F18&\"'!h5\")=\"\",\"\",INDIRECT(\"'\"&$F18&\"'!h5\")),\"\")","v":""},{"$f":"IFERROR(LEFT(INDIRECT(\"'\"&$E18&\"'!c15\"),4),\"\")","v":""},{"$f":"IFERROR(LEFT(INDIRECT(\"'\"&$E18&\"'!c16\"),4),\"\")","v":""},{"$f":"IFERROR(LEFT(INDIRECT(\"'\"&$E18&\"'!c19\"),4),\"\")","v":""},{"$f":"IFERROR(LEFT(INDIRECT(\"'\"&$E18&\"'!c20\"),4),\"\")","v":""},{"$f":"IFERROR(LEFT(INDIRECT(\"'\"&$E18&\"'!c22\"),4),\"\")","v":""},{"$f":"IFERROR(LEFT(INDIRECT(\"'\"&$E18&\"'!c23\"),4),\"\")","v":""},{"$f":"IFERROR(LEFT(INDIRECT(\"'\"&$E18&\"'!c25\"),4),\"\")","v":""},{"$f":"IFERROR(LEFT(INDIRECT(\"'\"&$E18&\"'!c26\"),4),\"\")","v":""},{"$f":"IFERROR(LEFT(INDIRECT(\"'\"&$E18&\"'!c29\"),4),\"\")","v":""},{"$f":"IFERROR(LEFT(INDIRECT(\"'\"&$E18&\"'!c30\"),4),\"\")","v":""},{"$f":"IFERROR(LEFT(INDIRECT(\"'\"&$E18&\"'!c32\"),4),\"\")","v":""},{"$f":"IFERROR(LEFT(INDIRECT(\"'\"&$E18&\"'!c33\"),4),\"\")","v":""}]
[null,"",{"$f":"IFERROR(INDEX(MID(SheetNames,FIND(\"]\",SheetNames)+1,100),ROW(C13),1),\"\")","v":""},{"$f":"IFERROR(IF(AND(INDIRECT(\"'\"&$C19&\"'!c4\")='Data Set'!$D$4,INDIRECT(\"'\"&$C19&\"'!f5\")=\"Yes\"),C19,\"\"),\"\")","v":""},{"$f":"IFERROR(INDEX($D$8:$D$57,MATCH(0,COUNTIF($E$7:E18,$D$8:$D$57&\"\")+IF($D$8:$D$57=\"\",1,0), 0)),\"\")","v":""},"",{"$f":"IFERROR(IF(INDIRECT(\"'\"&$F19&\"'!c7\")=\"\",\"\",INDIRECT(\"'\"&$F19&\"'!c7\")),\"\")","v":""},{"$f":"IFERROR(IF(INDIRECT(\"'\"&$F19&\"'!e7\")=\"\",\"\",INDIRECT(\"'\"&$F19&\"'!e7\")),\"\")","v":""},{"$f":"IFERROR(IF(INDIRECT(\"'\"&$F19&\"'!f7\")=\"\",\"\",INDIRECT(\"'\"&$F19&\"'!f7\")),\"\")","v":""},{"$f":"IFERROR(IF(INDIRECT(\"'\"&$F19&\"'!h5\")=\"\",\"\",INDIRECT(\"'\"&$F19&\"'!h5\")),\"\")","v":""},{"$f":"IFERROR(LEFT(INDIRECT(\"'\"&$E19&\"'!c15\"),4),\"\")","v":""},{"$f":"IFERROR(LEFT(INDIRECT(\"'\"&$E19&\"'!c16\"),4),\"\")","v":""},{"$f":"IFERROR(LEFT(INDIRECT(\"'\"&$E19&\"'!c19\"),4),\"\")","v":""},{"$f":"IFERROR(LEFT(INDIRECT(\"'\"&$E19&\"'!c20\"),4),\"\")","v":""},{"$f":"IFERROR(LEFT(INDIRECT(\"'\"&$E19&\"'!c22\"),4),\"\")","v":""},{"$f":"IFERROR(LEFT(INDIRECT(\"'\"&$E19&\"'!c23\"),4),\"\")","v":""},{"$f":"IFERROR(LEFT(INDIRECT(\"'\"&$E19&\"'!c25\"),4),\"\")","v":""},{"$f":"IFERROR(LEFT(INDIRECT(\"'\"&$E19&\"'!c26\"),4),\"\")","v":""},{"$f":"IFERROR(LEFT(INDIRECT(\"'\"&$E19&\"'!c29\"),4),\"\")","v":""},{"$f":"IFERROR(LEFT(INDIRECT(\"'\"&$E19&\"'!c30\"),4),\"\")","v":""},{"$f":"IFERROR(LEFT(INDIRECT(\"'\"&$E19&\"'!c32\"),4),\"\")","v":""},{"$f":"IFERROR(LEFT(INDIRECT(\"'\"&$E19&\"'!c33\"),4),\"\")","v":""}]
[null,"",{"$f":"IFERROR(INDEX(MID(SheetNames,FIND(\"]\",SheetNames)+1,100),ROW(C14),1),\"\")","v":""},{"$f":"IFERROR(IF(AND(INDIRECT(\"'\"&$C20&\"'!c4\")='Data Set'!$D$4,INDIRECT(\"'\"&$C20&\"'!f5\")=\"Yes\"),C20,\"\"),\"\")","v":""},{"$f":"IFERROR(INDEX($D$8:$D$57,MATCH(0,COUNTIF($E$7:E19,$D$8:$D$57&\"\")+IF($D$8:$D$57=\"\",1,0), 0)),\"\")","v":""},"",{"$f":"IFERROR(IF(INDIRECT(\"'\"&$F20&\"'!c7\")=\"\",\"\",INDIRECT(\"'\"&$F20&\"'!c7\")),\"\")","v":""},{"$f":"IFERROR(IF(INDIRECT(\"'\"&$F20&\"'!e7\")=\"\",\"\",INDIRECT(\"'\"&$F20&\"'!e7\")),\"\")","v":""},{"$f":"IFERROR(IF(INDIRECT(\"'\"&$F20&\"'!f7\")=\"\",\"\",INDIRECT(\"'\"&$F20&\"'!f7\")),\"\")","v":""},{"$f":"IFERROR(IF(INDIRECT(\"'\"&$F20&\"'!h5\")=\"\",\"\",INDIRECT(\"'\"&$F20&\"'!h5\")),\"\")","v":""},{"$f":"IFERROR(LEFT(INDIRECT(\"'\"&$E20&\"'!c15\"),4),\"\")","v":""},{"$f":"IFERROR(LEFT(INDIRECT(\"'\"&$E20&\"'!c16\"),4),\"\")","v":""},{"$f":"IFERROR(LEFT(INDIRECT(\"'\"&$E20&\"'!c19\"),4),\"\")","v":""},{"$f":"IFERROR(LEFT(INDIRECT(\"'\"&$E20&\"'!c20\"),4),\"\")","v":""},{"$f":"IFERROR(LEFT(INDIRECT(\"'\"&$E20&\"'!c22\"),4),\"\")","v":""},{"$f":"IFERROR(LEFT(INDIRECT(\"'\"&$E20&\"'!c23\"),4),\"\")","v":""},{"$f":"IFERROR(LEFT(INDIRECT(\"'\"&$E20&\"'!c25\"),4),\"\")","v":""},{"$f":"IFERROR(LEFT(INDIRECT(\"'\"&$E20&\"'!c26\"),4),\"\")","v":""},{"$f":"IFERROR(LEFT(INDIRECT(\"'\"&$E20&\"'!c29\"),4),\"\")","v":""},{"$f":"IFERROR(LEFT(INDIRECT(\"'\"&$E20&\"'!c30\"),4),\"\")","v":""},{"$f":"IFERROR(LEFT(INDIRECT(\"'\"&$E20&\"'!c32\"),4),\"\")","v":""},{"$f":"IFERROR(LEFT(INDIRECT(\"'\"&$E20&\"'!c33\"),4),\"\")","v":""}]
[null,"",{"$f":"IFERROR(INDEX(MID(SheetNames,FIND(\"]\",SheetNames)+1,100),ROW(C15),1),\"\")","v":""},{"$f":"IFERROR(IF(AND(INDIRECT(\"'\"&$C21&\"'!c4\")='Data Set'!$D$4,INDIRECT(\"'\"&$C21&\"'!f5\")=\"Yes\"),C21,\"\"),\"\")","v":""},{"$f":"IFERROR(INDEX($D$8:$D$57,MATCH(0,COUNTIF($E$7:E20,$D$8:$D$57&\"\")+IF($D$8:$D$57=\"\",1,0), 0)),\"\")","v":""},"",{"$f":"IFERROR(IF(INDIRECT(\"'\"&$F21&\"'!c7\")=\"\",\"\",INDIRECT(\"'\"&$F21&\"'!c7\")),\"\")","v":""},{"$f":"IFERROR(IF(INDIRECT(\"'\"&$F21&\"'!e7\")=\"\",\"\",INDIRECT(\"'\"&$F21&\"'!e7\")),\"\")","v":""},{"$f":"IFERROR(IF(INDIRECT(\"'\"&$F21&\"'!f7\")=\"\",\"\",INDIRECT(\"'\"&$F21&\"'!f7\")),\"\")","v":""},{"$f":"IFERROR(IF(INDIRECT(\"'\"&$F21&\"'!h5\")=\"\",\"\",INDIRECT(\"'\"&$F21&\"'!h5\")),\"\")","v":""},{"$f":"IFERROR(LEFT(INDIRECT(\"'\"&$E21&\"'!c15\"),4),\"\")","v":""},{"$f":"IFERROR(LEFT(INDIRECT(\"'\"&$E21&\"'!c16\"),4),\"\")","v":""},{"$f":"IFERROR(LEFT(INDIRECT(\"'\"&$E21&\"'!c19\"),4),\"\")","v":""},{"$f":"IFERROR(LEFT(INDIRECT(\"'\"&$E21&\"'!c20\"),4),\"\")","v":""},{"$f":"IFERROR(LEFT(INDIRECT(\"'\"&$E21&\"'!c22\"),4),\"\")","v":""},{"$f":"IFERROR(LEFT(INDIRECT(\"'\"&$E21&\"'!c23\"),4),\"\")","v":""},{"$f":"IFERROR(LEFT(INDIRECT(\"'\"&$E21&\"'!c25\"),4),\"\")","v":""},{"$f":"IFERROR(LEFT(INDIRECT(\"'\"&$E21&\"'!c26\"),4),\"\")","v":""},{"$f":"IFERROR(LEFT(INDIRECT(\"'\"&$E21&\"'!c29\"),4),\"\")","v":""},{"$f":"IFERROR(LEFT(INDIRECT(\"'\"&$E21&\"'!c30\"),4),\"\")","v":""},{"$f":"IFERROR(LEFT(INDIRECT(\"'\"&$E21&\"'!c32\"),4),\"\")","v":""},{"$f":"IFERROR(LEFT(INDIRECT(\"'\"&$E21&\"'!c33\"),4),\"\")","v":""}]
[null,"",{"$f":"IFERROR(INDEX(MID(SheetNames,FIND(\"]\",SheetNames)+1,100),ROW(C16),1),\"\")","v":""},{"$f":"IFERROR(IF(AND(INDIRECT(\"'\"&$C22&\"'!c4\")='Data Set'!$D$4,INDIRECT(\"'\"&$C22&\"'!f5\")=\"Yes\"),C22,\"\"),\"\")","v":""},{"$f":"IFERROR(INDEX($D$8:$D$57,MATCH(0,COUNTIF($E$7:E21,$D$8:$D$57&\"\")+IF($D$8:$D$57=\"\",1,0), 0)),\"\")","v":""},"",{"$f":"IFERROR(IF(INDIRECT(\"'\"&$F22&\"'!c7\")=\"\",\"\",INDIRECT(\"'\"&$F22&\"'!c7\")),\"\")","v":""},{"$f":"IFERROR(IF(INDIRECT(\"'\"&$F22&\"'!e7\")=\"\",\"\",INDIRECT(\"'\"&$F22&\"'!e7\")),\"\")","v":""},{"$f":"IFERROR(IF(INDIRECT(\"'\"&$F22&\"'!f7\")=\"\",\"\",INDIRECT(\"'\"&$F22&\"'!f7\")),\"\")","v":""},{"$f":"IFERROR(IF(INDIRECT(\"'\"&$F22&\"'!h5\")=\"\",\"\",INDIRECT(\"'\"&$F22&\"'!h5\")),\"\")","v":""},{"$f":"IFERROR(LEFT(INDIRECT(\"'\"&$E22&\"'!c15\"),4),\"\")","v":""},{"$f":"IFERROR(LEFT(INDIRECT(\"'\"&$E22&\"'!c16\"),4),\"\")","v":""},{"$f":"IFERROR(LEFT(INDIRECT(\"'\"&$E22&\"'!c19\"),4),\"\")","v":""},{"$f":"IFERROR(LEFT(INDIRECT(\"'\"&$E22&\"'!c20\"),4),\"\")","v":""},{"$f":"IFERROR(LEFT(INDIRECT(\"'\"&$E22&\"'!c22\"),4),\"\")","v":""},{"$f":"IFERROR(LEFT(INDIRECT(\"'\"&$E22&\"'!c23\"),4),\"\")","v":""},{"$f":"IFERROR(LEFT(INDIRECT(\"'\"&$E22&\"'!c25\"),4),\"\")","v":""},{"$f":"IFERROR(LEFT(INDIRECT(\"'\"&$E22&\"'!c26\"),4),\"\")","v":""},{"$f":"IFERROR(LEFT(INDIRECT(\"'\"&$E22&\"'!c29\"),4),\"\")","v":""},{"$f":"IFERROR(LEFT(INDIRECT(\"'\"&$E22&\"'!c30\"),4),\"\")","v":""},{"$f":"IFERROR(LEFT(INDIRECT(\"'\"&$E22&\"'!c32\"),4),\"\")","v":""},{"$f":"IFERROR(LEFT(INDIRECT(\"'\"&$E22&\"'!c33\"),4),\"\")","v":""}]
[null,"",{"$f":"IFERROR(INDEX(MID(SheetNames,FIND(\"]\",SheetNames)+1,100),ROW(C17),1),\"\")","v":""},{"$f":"IFERROR(IF(AND(INDIRECT(\"'\"&$C23&\"'!c4\")='Data Set'!$D$4,INDIRECT(\"'\"&$C23&\"'!f5\")=\"Yes\"),C23,\"\"),\"\")","v":""},{"$f":"IFERROR(INDEX($D$8:$D$57,MATCH(0,COUNTIF($E$7:E22,$D$8:$D$57&\"\")+IF($D$8:$D$57=\"\",1,0), 0)),\"\")","v":""},"",{"$f":"IFERROR(IF(INDIRECT(\"'\"&$F23&\"'!c7\")=\"\",\"\",INDIRECT(\"'\"&$F23&\"'!c7\")),\"\")","v":""},{"$f":"IFERROR(IF(INDIRECT(\"'\"&$F23&\"'!e7\")=\"\",\"\",INDIRECT(\"'\"&$F23&\"'!e7\")),\"\")","v":""},{"$f":"IFERROR(IF(INDIRECT(\"'\"&$F23&\"'!f7\")=\"\",\"\",INDIRECT(\"'\"&$F23&\"'!f7\")),\"\")","v":""},{"$f":"IFERROR(IF(INDIRECT(\"'\"&$F23&\"'!h5\")=\"\",\"\",INDIRECT(\"'\"&$F23&\"'!h5\")),\"\")","v":""},{"$f":"IFERROR(LEFT(INDIRECT(\"'\"&$E23&\"'!c15\"),4),\"\")","v":""},{"$f":"IFERROR(LEFT(INDIRECT(\"'\"&$E23&\"'!c16\"),4),\"\")","v":""},{"$f":"IFERROR(LEFT(INDIRECT(\"'\"&$E23&\"'!c19\"),4),\"\")","v":""},{"$f":"IFERROR(LEFT(INDIRECT(\"'\"&$E23&\"'!c20\"),4),\"\")","v":""},{"$f":"IFERROR(LEFT(INDIRECT(\"'\"&$E23&\"'!c22\"),4),\"\")","v":""},{"$f":"IFERROR(LEFT(INDIRECT(\"'\"&$E23&\"'!c23\"),4),\"\")","v":""},{"$f":"IFERROR(LEFT(INDIRECT(\"'\"&$E23&\"'!c25\"),4),\"\")","v":""},{"$f":"IFERROR(LEFT(INDIRECT(\"'\"&$E23&\"'!c26\"),4),\"\")","v":""},{"$f":"IFERROR(LEFT(INDIRECT(\"'\"&$E23&\"'!c29\"),4),\"\")","v":""},{"$f":"IFERROR(LEFT(INDIRECT(\"'\"&$E23&\"'!c30\"),4),\"\")","v":""},{"$f":"IFERROR(LEFT(INDIRECT(\"'\"&$E23&\"'!c32\"),4),\"\")","v":""},{"$f":"IFERROR(LEFT(INDIRECT(\"'\"&$E23&\"'!c33\"),4),\"\")","v":""}]
[null,"",{"$f":"IFERROR(INDEX(MID(SheetNames,FIND(\"]\",SheetNames)+1,100),ROW(C18),1),\"\")","v":""},{"$f":"IFERROR(IF(AND(INDIRECT(\"'\"&$C24&\"'!c4\")='Data Set'!$D$4,INDIRECT(\"'\"&$C24&\"'!f5\")=\"Yes\"),C24,\"\"),\"\")","v":""},{"$f":"IFERROR(INDEX($D$8:$D$57,MATCH(0,COUNTIF($E$7:E23,$D$8:$D$57&\"\")+IF($D$8:$D$57=\"\",1,0), 0)),\"\")","v":""},"",{"$f":"IFERROR(IF(INDIRECT(\"'\"&$F24&\"'!c7\")=\"\",\"\",INDIRECT(\"'\"&$F24&\"'!c7\")),\"\")","v":""},{"$f":"IFERROR(IF(INDIRECT(\"'\"&$F24&\"'!e7\")=\"\",\"\",INDIRECT(\"'\"&$F24&\"'!e7\")),\"\")","v":""},{"$f":"IFERROR(IF(INDIRECT(\"'\"&$F24&\"'!f7\")=\"\",\"\",INDIRECT(\"'\"&$F24&\"'!f7\")),\"\")","v":""},{"$f":"IFERROR(IF(INDIRECT(\"'\"&$F24&\"'!h5\")=\"\",\"\",INDIRECT(\"'\"&$F24&\"'!h5\")),\"\")","v":""},{"$f":"IFERROR(LEFT(INDIRECT(\"'\"&$E24&\"'!c15\"),4),\"\")","v":""},{"$f":"IFERROR(LEFT(INDIRECT(\"'\"&$E24&\"'!c16\"),4),\"\")","v":""},{"$f":"IFERROR(LEFT(INDIRECT(\"'\"&$E24&\"'!c19\"),4),\"\")","v":""},{"$f":"IFERROR(LEFT(INDIRECT(\"'\"&$E24&\"'!c20\"),4),\"\")","v":""},{"$f":"IFERROR(LEFT(INDIRECT(\"'\"&$E24&\"'!c22\"),4),\"\")","v":""},{"$f":"IFERROR(LEFT(INDIRECT(\"'\"&$E24&\"'!c23\"),4),\"\")","v":""},{"$f":"IFERROR(LEFT(INDIRECT(\"'\"&$E24&\"'!c25\"),4),\"\")","v":""},{"$f":"IFERROR(LEFT(INDIRECT(\"'\"&$E24&\"'!c26\"),4),\"\")","v":""},{"$f":"IFERROR(LEFT(INDIRECT(\"'\"&$E24&\"'!c29\"),4),\"\")","v":""},{"$f":"IFERROR(LEFT(INDIRECT(\"'\"&$E24&\"'!c30\"),4),\"\")","v":""},{"$f":"IFERROR(LEFT(INDIRECT(\"'\"&$E24&\"'!c32\"),4),\"\")","v":""},{"$f":"IFERROR(LEFT(INDIRECT(\"'\"&$E24&\"'!c33\"),4),\"\")","v":""}]
[null,"",{"$f":"IFERROR(INDEX(MID(SheetNames,FIND(\"]\",SheetNames)+1,100),ROW(C19),1),\"\")","v":""},{"$f":"IFERROR(IF(AND(INDIRECT(\"'\"&$C25&\"'!c4\")='Data Set'!$D$4,INDIRECT(\"'\"&$C25&\"'!f5\")=\"Yes\"),C25,\"\"),\"\")","v":""},{"$f":"IFERROR(INDEX($D$8:$D$57,MATCH(0,COUNTIF($E$7:E24,$D$8:$D$57&\"\")+IF($D$8:$D$57=\"\",1,0), 0)),\"\")","v":""},"",{"$f":"IFERROR(IF(INDIRECT(\"'\"&$F25&\"'!c7\")=\"\",\"\",INDIRECT(\"'\"&$F25&\"'!c7\")),\"\")","v":""},{"$f":"IFERROR(IF(INDIRECT(\"'\"&$F25&\"'!e7\")=\"\",\"\",INDIRECT(\"'\"&$F25&\"'!e7\")),\"\")","v":""},{"$f":"IFERROR(IF(INDIRECT(\"'\"&$F25&\"'!f7\")=\"\",\"\",INDIRECT(\"'\"&$F25&\"'!f7\")),\"\")","v":""},{"$f":"IFERROR(IF(INDIRECT(\"'\"&$F25&\"'!h5\")=\"\",\"\",INDIRECT(\"'\"&$F25&\"'!h5\")),\"\")","v":""},{"$f":"IFERROR(LEFT(INDIRECT(\"'\"&$E25&\"'!c15\"),4),\"\")","v":""},{"$f":"IFERROR(LEFT(INDIRECT(\"'\"&$E25&\"'!c16\"),4),\"\")","v":""},{"$f":"IFERROR(LEFT(INDIRECT(\"'\"&$E25&\"'!c19\"),4),\"\")","v":""},{"$f":"IFERROR(LEFT(INDIRECT(\"'\"&$E25&\"'!c20\"),4),\"\")","v":""},{"$f":"IFERROR(LEFT(INDIRECT(\"'\"&$E25&\"'!c22\"),4),\"\")","v":""},{"$f":"IFERROR(LEFT(INDIRECT(\"'\"&$E25&\"'!c23\"),4),\"\")","v":""},{"$f":"IFERROR(LEFT(INDIRECT(\"'\"&$E25&\"'!c25\"),4),\"\")","v":""},{"$f":"IFERROR(LEFT(INDIRECT(\"'\"&$E25&\"'!c26\"),4),\"\")","v":""},{"$f":"IFERROR(LEFT(INDIRECT(\"'\"&$E25&\"'!c29\"),4),\"\")","v":""},{"$f":"IFERROR(LEFT(INDIRECT(\"'\"&$E25&\"'!c30\"),4),\"\")","v":""},{"$f":"IFERROR(LEFT(INDIRECT(\"'\"&$E25&\"'!c32\"),4),\"\")","v":""},{"$f":"IFERROR(LEFT(INDIRECT(\"'\"&$E25&\"'!c33\"),4),\"\")","v":""}]
[null,"",{"$f":"IFERROR(INDEX(MID(SheetNames,FIND(\"]\",SheetNames)+1,100),ROW(C20),1),\"\")","v":""},{"$f":"IFERROR(IF(AND(INDIRECT(\"'\"&$C26&\"'!c4\")='Data Set'!$D$4,INDIRECT(\"'\"&$C26&\"'!f5\")=\"Yes\"),C26,\"\"),\"\")","v":""},{"$f":"IFERROR(INDEX($D$8:$D$57,MATCH(0,COUNTIF($E$7:E25,$D$8:$D$57&\"\")+IF($D$8:$D$57=\"\",1,0), 0)),\"\")","v":""},"",{"$f":"IFERROR(IF(INDIRECT(\"'\"&$F26&\"'!c7\")=\"\",\"\",INDIRECT(\"'\"&$F26&\"'!c7\")),\"\")","v":""},{"$f":"IFERROR(IF(INDIRECT(\"'\"&$F26&\"'!e7\")=\"\",\"\",INDIRECT(\"'\"&$F26&\"'!e7\")),\"\")","v":""},{"$f":"IFERROR(IF(INDIRECT(\"'\"&$F26&\"'!f7\")=\"\",\"\",INDIRECT(\"'\"&$F26&\"'!f7\")),\"\")","v":""},{"$f":"IFERROR(IF(INDIRECT(\"'\"&$F26&\"'!h5\")=\"\",\"\",INDIRECT(\"'\"&$F26&\"'!h5\")),\"\")","v":""},{"$f":"IFERROR(LEFT(INDIRECT(\"'\"&$E26&\"'!c15\"),4),\"\")","v":""},{"$f":"IFERROR(LEFT(INDIRECT(\"'\"&$E26&\"'!c16\"),4),\"\")","v":""},{"$f":"IFERROR(LEFT(INDIRECT(\"'\"&$E26&\"'!c19\"),4),\"\")","v":""},{"$f":"IFERROR(LEFT(INDIRECT(\"'\"&$E26&\"'!c20\"),4),\"\")","v":""},{"$f":"IFERROR(LEFT(INDIRECT(\"'\"&$E26&\"'!c22\"),4),\"\")","v":""},{"$f":"IFERROR(LEFT(INDIRECT(\"'\"&$E26&\"'!c23\"),4),\"\")","v":""},{"$f":"IFERROR(LEFT(INDIRECT(\"'\"&$E26&\"'!c25\"),4),\"\")","v":""},{"$f":"IFERROR(LEFT(INDIRECT(\"'\"&$E26&\"'!c26\"),4),\"\")","v":""},{"$f":"IFERROR(LEFT(INDIRECT(\"'\"&$E26&\"'!c29\"),4),\"\")","v":""},{"$f":"IFERROR(LEFT(INDIRECT(\"'\"&$E26&\"'!c30\"),4),\"\")","v":""},{"$f":"IFERROR(LEFT(INDIRECT(\"'\"&$E26&\"'!c32\"),4),\"\")","v":""},{"$f":"IFERROR(LEFT(INDIRECT(\"'\"&$E26&\"'!c33\"),4),\"\")","v":""}]
[null,"",{"$f":"IFERROR(INDEX(MID(SheetNames,FIND(\"]\",SheetNames)+1,100),ROW(C21),1),\"\")","v":""},{"$f":"IFERROR(IF(AND(INDIRECT(\"'\"&$C27&\"'!c4\")='Data Set'!$D$4,INDIRECT(\"'\"&$C27&\"'!f5\")=\"Yes\"),C27,\"\"),\"\")","v":""},{"$f":"IFERROR(INDEX($D$8:$D$57,MATCH(0,COUNTIF($E$7:E26,$D$8:$D$57&\"\")+IF($D$8:$D$57=\"\",1,0), 0)),\"\")","v":""},"",{"$f":"IFERROR(IF(INDIRECT(\"'\"&$F27&\"'!c7\")=\"\",\"\",INDIRECT(\"'\"&$F27&\"'!c7\")),\"\")","v":""},{"$f":"IFERROR(IF(INDIRECT(\"'\"&$F27&\"'!e7\")=\"\",\"\",INDIRECT(\"'\"&$F27&\"'!e7\")),\"\")","v":""},{"$f":"IFERROR(IF(INDIRECT(\"'\"&$F27&\"'!f7\")=\"\",\"\",INDIRECT(\"'\"&$F27&\"'!f7\")),\"\")","v":""},{"$f":"IFERROR(IF(INDIRECT(\"'\"&$F27&\"'!h5\")=\"\",\"\",INDIRECT(\"'\"&$F27&\"'!h5\")),\"\")","v":""},{"$f":"IFERROR(LEFT(INDIRECT(\"'\"&$E27&\"'!c15\"),4),\"\")","v":""},{"$f":"IFERROR(LEFT(INDIRECT(\"'\"&$E27&\"'!c16\"),4),\"\")","v":""},{"$f":"IFERROR(LEFT(INDIRECT(\"'\"&$E27&\"'!c19\"),4),\"\")","v":""},{"$f":"IFERROR(LEFT(INDIRECT(\"'\"&$E27&\"'!c20\"),4),\"\")","v":""},{"$f":"IFERROR(LEFT(INDIRECT(\"'\"&$E27&\"'!c22\"),4),\"\")","v":""},{"$f":"IFERROR(LEFT(INDIRECT(\"'\"&$E27&\"'!c23\"),4),\"\")","v":""},{"$f":"IFERROR(LEFT(INDIRECT(\"'\"&$E27&\"'!c25\"),4),\"\")","v":""},{"$f":"IFERROR(LEFT(INDIRECT(\"'\"&$E27&\"'!c26\"),4),\"\")","v":""},{"$f":"IFERROR(LEFT(INDIRECT(\"'\"&$E27&\"'!c29\"),4),\"\")","v":""},{"$f":"IFERROR(LEFT(INDIRECT(\"'\"&$E27&\"'!c30\"),4),\"\")","v":""},{"$f":"IFERROR(LEFT(INDIRECT(\"'\"&$E27&\"'!c32\"),4),\"\")","v":""},{"$f":"IFERROR(LEFT(INDIRECT(\"'\"&$E27&\"'!c33\"),4),\"\")","v":""}]
[null,"",{"$f":"IFERROR(INDEX(MID(SheetNames,FIND(\"]\",SheetNames)+1,100),ROW(C22),1),\"\")","v":""},{"$f":"IFERROR(IF(AND(INDIRECT(\"'\"&$C28&\"'!c4\")='Data Set'!$D$4,INDIRECT(\"'\"&$C28&\"'!f5\")=\"Yes\"),C28,\"\"),\"\")","v":""},{"$f":"IFERROR(INDEX($D$8:$D$57,MATCH(0,COUNTIF($E$7:E27,$D$8:$D$57&\"\")+IF($D$8:$D$57=\"\",1,0), 0)),\"\")","v":""},"",{"$f":"IFERROR(IF(INDIRECT(\"'\"&$F28&\"'!c7\")=\"\",\"\",INDIRECT(\"'\"&$F28&\"'!c7\")),\"\")","v":""},{"$f":"IFERROR(IF(INDIRECT(\"'\"&$F28&\"'!e7\")=\"\",\"\",INDIRECT(\"'\"&$F28&\"'!e7\")),\"\")","v":""},{"$f":"IFERROR(IF(INDIRECT(\"'\"&$F28&\"'!f7\")=\"\",\"\",INDIRECT(\"'\"&$F28&\"'!f7\")),\"\")","v":""},{"$f":"IFERROR(IF(INDIRECT(\"'\"&$F28&\"'!h5\")=\"\",\"\",INDIRECT(\"'\"&$F28&\"'!h5\")),\"\")","v":""},{"$f":"IFERROR(LEFT(INDIRECT(\"'\"&$E28&\"'!c15\"),4),\"\")","v":""},{"$f":"IFERROR(LEFT(INDIRECT(\"'\"&$E28&\"'!c16\"),4),\"\")","v":""},{"$f":"IFERROR(LEFT(INDIRECT(\"'\"&$E28&\"'!c19\"),4),\"\")","v":""},{"$f":"IFERROR(LEFT(INDIRECT(\"'\"&$E28&\"'!c20\"),4),\"\")","v":""},{"$f":"IFERROR(LEFT(INDIRECT(\"'\"&$E28&\"'!c22\"),4),\"\")","v":""},{"$f":"IFERROR(LEFT(INDIRECT(\"'\"&$E28&\"'!c23\"),4),\"\")","v":""},{"$f":"IFERROR(LEFT(INDIRECT(\"'\"&$E28&\"'!c25\"),4),\"\")","v":""},{"$f":"IFERROR(LEFT(INDIRECT(\"'\"&$E28&\"'!c26\"),4),\"\")","v":""},{"$f":"IFERROR(LEFT(INDIRECT(\"'\"&$E28&\"'!c29\"),4),\"\")","v":""},{"$f":"IFERROR(LEFT(INDIRECT(\"'\"&$E28&\"'!c30\"),4),\"\")","v":""},{"$f":"IFERROR(LEFT(INDIRECT(\"'\"&$E28&\"'!c32\"),4),\"\")","v":""},{"$f":"IFERROR(LEFT(INDIRECT(\"'\"&$E28&\"'!c33\"),4),\"\")","v":""}]
[null,"",{"$f":"IFERROR(INDEX(MID(SheetNames,FIND(\"]\",SheetNames)+1,100),ROW(C23),1),\"\")","v":""},{"$f":"IFERROR(IF(AND(INDIRECT(\"'\"&$C29&\"'!c4\")='Data Set'!$D$4,INDIRECT(\"'\"&$C29&\"'!f5\")=\"Yes\"),C29,\"\"),\"\")","v":""},{"$f":"IFERROR(INDEX($D$8:$D$57,MATCH(0,COUNTIF($E$7:E28,$D$8:$D$57&\"\")+IF($D$8:$D$57=\"\",1,0), 0)),\"\")","v":""},"",{"$f":"IFERROR(IF(INDIRECT(\"'\"&$F29&\"'!c7\")=\"\",\"\",INDIRECT(\"'\"&$F29&\"'!c7\")),\"\")","v":""},{"$f":"IFERROR(IF(INDIRECT(\"'\"&$F29&\"'!e7\")=\"\",\"\",INDIRECT(\"'\"&$F29&\"'!e7\")),\"\")","v":""},{"$f":"IFERROR(IF(INDIRECT(\"'\"&$F29&\"'!f7\")=\"\",\"\",INDIRECT(\"'\"&$F29&\"'!f7\")),\"\")","v":""},{"$f":"IFERROR(IF(INDIRECT(\"'\"&$F29&\"'!h5\")=\"\",\"\",INDIRECT(\"'\"&$F29&\"'!h5\")),\"\")","v":""},{"$f":"IFERROR(LEFT(INDIRECT(\"'\"&$E29&\"'!c15\"),4),\"\")","v":""},{"$f":"IFERROR(LEFT(INDIRECT(\"'\"&$E29&\"'!c16\"),4),\"\")","v":""},{"$f":"IFERROR(LEFT(INDIRECT(\"'\"&$E29&\"'!c19\"),4),\"\")","v":""},{"$f":"IFERROR(LEFT(INDIRECT(\"'\"&$E29&\"'!c20\"),4),\"\")","v":""},{"$f":"IFERROR(LEFT(INDIRECT(\"'\"&$E29&\"'!c22\"),4),\"\")","v":""},{"$f":"IFERROR(LEFT(INDIRECT(\"'\"&$E29&\"'!c23\"),4),\"\")","v":""},{"$f":"IFERROR(LEFT(INDIRECT(\"'\"&$E29&\"'!c25\"),4),\"\")","v":""},{"$f":"IFERROR(LEFT(INDIRECT(\"'\"&$E29&\"'!c26\"),4),\"\")","v":""},{"$f":"IFERROR(LEFT(INDIRECT(\"'\"&$E29&\"'!c29\"),4),\"\")","v":""},{"$f":"IFERROR(LEFT(INDIRECT(\"'\"&$E29&\"'!c30\"),4),\"\")","v":""},{"$f":"IFERROR(LEFT(INDIRECT(\"'\"&$E29&\"'!c32\"),4),\"\")","v":""},{"$f":"IFERROR(LEFT(INDIRECT(\"'\"&$E29&\"'!c33\"),4),\"\")","v":""}]
[null,"",{"$f":"IFERROR(INDEX(MID(SheetNames,FIND(\"]\",SheetNames)+1,100),ROW(C24),1),\"\")","v":""},{"$f":"IFERROR(IF(AND(INDIRECT(\"'\"&$C30&\"'!c4\")='Data Set'!$D$4,INDIRECT(\"'\"&$C30&\"'!f5\")=\"Yes\"),C30,\"\"),\"\")","v":""},{"$f":"IFERROR(INDEX($D$8:$D$57,MATCH(0,COUNTIF($E$7:E29,$D$8:$D$57&\"\")+IF($D$8:$D$57=\"\",1,0), 0)),\"\")","v":""},"",{"$f":"IFERROR(IF(INDIRECT(\"'\"&$F30&\"'!c7\")=\"\",\"\",INDIRECT(\"'\"&$F30&\"'!c7\")),\"\")","v":""},{"$f":"IFERROR(IF(INDIRECT(\"'\"&$F30&\"'!e7\")=\"\",\"\",INDIRECT(\"'\"&$F30&\"'!e7\")),\"\")","v":""},{"$f":"IFERROR(IF(INDIRECT(\"'\"&$F30&\"'!f7\")=\"\",\"\",INDIRECT(\"'\"&$F30&\"'!f7\")),\"\")","v":""},{"$f":"IFERROR(IF(INDIRECT(\"'\"&$F30&\"'!h5\")=\"\",\"\",INDIRECT(\"'\"&$F30&\"'!h5\")),\"\")","v":""},{"$f":"IFERROR(LEFT(INDIRECT(\"'\"&$E30&\"'!c15\"),4),\"\")","v":""},{"$f":"IFERROR(LEFT(INDIRECT(\"'\"&$E30&\"'!c16\"),4),\"\")","v":""},{"$f":"IFERROR(LEFT(INDIRECT(\"'\"&$E30&\"'!c19\"),4),\"\")","v":""},{"$f":"IFERROR(LEFT(INDIRECT(\"'\"&$E30&\"'!c20\"),4),\"\")","v":""},{"$f":"IFERROR(LEFT(INDIRECT(\"'\"&$E30&\"'!c22\"),4),\"\")","v":""},{"$f":"IFERROR(LEFT(INDIRECT(\"'\"&$E30&\"'!c23\"),4),\"\")","v":""},{"$f":"IFERROR(LEFT(INDIRECT(\"'\"&$E30&\"'!c25\"),4),\"\")","v":""},{"$f":"IFERROR(LEFT(INDIRECT(\"'\"&$E30&\"'!c26\"),4),\"\")","v":""},{"$f":"IFERROR(LEFT(INDIRECT(\"'\"&$E30&\"'!c29\"),4),\"\")","v":""},{"$f":"IFERROR(LEFT(INDIRECT(\"'\"&$E30&\"'!c30\"),4),\"\")","v":""},{"$f":"IFERROR(LEFT(INDIRECT(\"'\"&$E30&\"'!c32\"),4),\"\")","v":""},{"$f":"IFERROR(LEFT(INDIRECT(\"'\"&$E30&\"'!c33\"),4),\"\")","v":""}]
[null,"",{"$f":"IFERROR(INDEX(MID(SheetNames,FIND(\"]\",SheetNames)+1,100),ROW(C25),1),\"\")","v":""},{"$f":"IFERROR(IF(AND(INDIRECT(\"'\"&$C31&\"'!c4\")='Data Set'!$D$4,INDIRECT(\"'\"&$C31&\"'!f5\")=\"Yes\"),C31,\"\"),\"\")","v":""},{"$f":"IFERROR(INDEX($D$8:$D$57,MATCH(0,COUNTIF($E$7:E30,$D$8:$D$57&\"\")+IF($D$8:$D$57=\"\",1,0), 0)),\"\")","v":""},"",{"$f":"IFERROR(IF(INDIRECT(\"'\"&$F31&\"'!c7\")=\"\",\"\",INDIRECT(\"'\"&$F31&\"'!c7\")),\"\")","v":""},{"$f":"IFERROR(IF(INDIRECT(\"'\"&$F31&\"'!e7\")=\"\",\"\",INDIRECT(\"'\"&$F31&\"'!e7\")),\"\")","v":""},{"$f":"IFERROR(IF(INDIRECT(\"'\"&$F31&\"'!f7\")=\"\",\"\",INDIRECT(\"'\"&$F31&\"'!f7\")),\"\")","v":""},{"$f":"IFERROR(IF(INDIRECT(\"'\"&$F31&\"'!h5\")=\"\",\"\",INDIRECT(\"'\"&$F31&\"'!h5\")),\"\")","v":""},{"$f":"IFERROR(LEFT(INDIRECT(\"'\"&$E31&\"'!c15\"),4),\"\")","v":""},{"$f":"IFERROR(LEFT(INDIRECT(\"'\"&$E31&\"'!c16\"),4),\"\")","v":""},{"$f":"IFERROR(LEFT(INDIRECT(\"'\"&$E31&\"'!c19\"),4),\"\")","v":""},{"$f":"IFERROR(LEFT(INDIRECT(\"'\"&$E31&\"'!c20\"),4),\"\")","v":""},{"$f":"IFERROR(LEFT(INDIRECT(\"'\"&$E31&\"'!c22\"),4),\"\")","v":""},{"$f":"IFERROR(LEFT(INDIRECT(\"'\"&$E31&\"'!c23\"),4),\"\")","v":""},{"$f":"IFERROR(LEFT(INDIRECT(\"'\"&$E31&\"'!c25\"),4),\"\")","v":""},{"$f":"IFERROR(LEFT(INDIRECT(\"'\"&$E31&\"'!c26\"),4),\"\")","v":""},{"$f":"IFERROR(LEFT(INDIRECT(\"'\"&$E31&\"'!c29\"),4),\"\")","v":""},{"$f":"IFERROR(LEFT(INDIRECT(\"'\"&$E31&\"'!c30\"),4),\"\")","v":""},{"$f":"IFERROR(LEFT(INDIRECT(\"'\"&$E31&\"'!c32\"),4),\"\")","v":""},{"$f":"IFERROR(LEFT(INDIRECT(\"'\"&$E31&\"'!c33\"),4),\"\")","v":""}]
[null,"",{"$f":"IFERROR(INDEX(MID(SheetNames,FIND(\"]\",SheetNames)+1,100),ROW(C26),1),\"\")","v":""},{"$f":"IFERROR(IF(AND(INDIRECT(\"'\"&$C32&\"'!c4\")='Data Set'!$D$4,INDIRECT(\"'\"&$C32&\"'!f5\")=\"Yes\"),C32,\"\"),\"\")","v":""},{"$f":"IFERROR(INDEX($D$8:$D$57,MATCH(0,COUNTIF($E$7:E31,$D$8:$D$57&\"\")+IF($D$8:$D$57=\"\",1,0), 0)),\"\")","v":""},"",{"$f":"IFERROR(IF(INDIRECT(\"'\"&$F32&\"'!c7\")=\"\",\"\",INDIRECT(\"'\"&$F32&\"'!c7\")),\"\")","v":""},{"$f":"IFERROR(IF(INDIRECT(\"'\"&$F32&\"'!e7\")=\"\",\"\",INDIRECT(\"'\"&$F32&\"'!e7\")),\"\")","v":""},{"$f":"IFERROR(IF(INDIRECT(\"'\"&$F32&\"'!f7\")=\"\",\"\",INDIRECT(\"'\"&$F32&\"'!f7\")),\"\")","v":""},{"$f":"IFERROR(IF(INDIRECT(\"'\"&$F32&\"'!h5\")=\"\",\"\",INDIRECT(\"'\"&$F32&\"'!h5\")),\"\")","v":""},{"$f":"IFERROR(LEFT(INDIRECT(\"'\"&$E32&\"'!c15\"),4),\"\")","v":""},{"$f":"IFERROR(LEFT(INDIRECT(\"'\"&$E32&\"'!c16\"),4),\"\")","v":""},{"$f":"IFERROR(LEFT(INDIRECT(\"'\"&$E32&\"'!c19\"),4),\"\")","v":""},{"$f":"IFERROR(LEFT(INDIRECT(\"'\"&$E32&\"'!c20\"),4),\"\")","v":""},{"$f":"IFERROR(LEFT(INDIRECT(\"'\"&$E32&\"'!c22\"),4),\"\")","v":""},{"$f":"IFERROR(LEFT(INDIRECT(\"'\"&$E32&\"'!c23\"),4),\"\")","v":""},{"$f":"IFERROR(LEFT(INDIRECT(\"'\"&$E32&\"'!c25\"),4),\"\")","v":""},{"$f":"IFERROR(LEFT(INDIRECT(\"'\"&$E32&\"'!c26\"),4),\"\")","v":""},{"$f":"IFERROR(LEFT(INDIRECT(\"'\"&$E32&\"'!c29\"),4),\"\")","v":""},{"$f":"IFERROR(LEFT(INDIRECT(\"'\"&$E32&\"'!c30\"),4),\"\")","v":""},{"$f":"IFERROR(LEFT(INDIRECT(\"'\"&$E32&\"'!c32\"),4),\"\")","v":""},{"$f":"IFERROR(LEFT(INDIRECT(\"'\"&$E32&\"'!c33\"),4),\"\")","v":""}]
[null,"",{"$f":"IFERROR(INDEX(MID(SheetNames,FIND(\"]\",SheetNames)+1,100),ROW(C27),1),\"\")","v":""},{"$f":"IFERROR(IF(AND(INDIRECT(\"'\"&$C33&\"'!c4\")='Data Set'!$D$4,INDIRECT(\"'\"&$C33&\"'!f5\")=\"Yes\"),C33,\"\"),\"\")","v":""},{"$f":"IFERROR(INDEX($D$8:$D$57,MATCH(0,COUNTIF($E$7:E32,$D$8:$D$57&\"\")+IF($D$8:$D$57=\"\",1,0), 0)),\"\")","v":""},"",{"$f":"IFERROR(IF(INDIRECT(\"'\"&$F33&\"'!c7\")=\"\",\"\",INDIRECT(\"'\"&$F33&\"'!c7\")),\"\")","v":""},{"$f":"IFERROR(IF(INDIRECT(\"'\"&$F33&\"'!e7\")=\"\",\"\",INDIRECT(\"'\"&$F33&\"'!e7\")),\"\")","v":""},{"$f":"IFERROR(IF(INDIRECT(\"'\"&$F33&\"'!f7\")=\"\",\"\",INDIRECT(\"'\"&$F33&\"'!f7\")),\"\")","v":""},{"$f":"IFERROR(IF(INDIRECT(\"'\"&$F33&\"'!h5\")=\"\",\"\",INDIRECT(\"'\"&$F33&\"'!h5\")),\"\")","v":""},{"$f":"IFERROR(LEFT(INDIRECT(\"'\"&$E33&\"'!c15\"),4),\"\")","v":""},{"$f":"IFERROR(LEFT(INDIRECT(\"'\"&$E33&\"'!c16\"),4),\"\")","v":""},{"$f":"IFERROR(LEFT(INDIRECT(\"'\"&$E33&\"'!c19\"),4),\"\")","v":""},{"$f":"IFERROR(LEFT(INDIRECT(\"'\"&$E33&\"'!c20\"),4),\"\")","v":""},{"$f":"IFERROR(LEFT(INDIRECT(\"'\"&$E33&\"'!c22\"),4),\"\")","v":""},{"$f":"IFERROR(LEFT(INDIRECT(\"'\"&$E33&\"'!c23\"),4),\"\")","v":""},{"$f":"IFERROR(LEFT(INDIRECT(\"'\"&$E33&\"'!c25\"),4),\"\")","v":""},{"$f":"IFERROR(LEFT(INDIRECT(\"'\"&$E33&\"'!c26\"),4),\"\")","v":""},{"$f":"IFERROR(LEFT(INDIRECT(\"'\"&$E33&\"'!c29\"),4),\"\")","v":""},{"$f":"IFERROR(LEFT(INDIRECT(\"'\"&$E33&\"'!c30\"),4),\"\")","v":""},{"$f":"IFERROR(LEFT(INDIRECT(\"'\"&$E33&\"'!c32\"),4),\"\")","v":""},{"$f":"IFERROR(LEFT(INDIRECT(\"'\"&$E33&\"'!c33\"),4),\"\")","v":""}]
[null,"",{"$f":"IFERROR(INDEX(MID(SheetNames,FIND(\"]\",SheetNames)+1,100),ROW(C28),1),\"\")","v":""},{"$f":"IFERROR(IF(AND(INDIRECT(\"'\"&$C34&\"'!c4\")='Data Set'!$D$4,INDIRECT(\"'\"&$C34&\"'!f5\")=\"Yes\"),C34,\"\"),\"\")","v":""},{"$f":"IFERROR(INDEX($D$8:$D$57,MATCH(0,COUNTIF($E$7:E33,$D$8:$D$57&\"\")+IF($D$8:$D$57=\"\",1,0), 0)),\"\")","v":""},"",{"$f":"IFERROR(IF(INDIRECT(\"'\"&$F34&\"'!c7\")=\"\",\"\",INDIRECT(\"'\"&$F34&\"'!c7\")),\"\")","v":""},{"$f":"IFERROR(IF(INDIRECT(\"'\"&$F34&\"'!e7\")=\"\",\"\",INDIRECT(\"'\"&$F34&\"'!e7\")),\"\")","v":""},{"$f":"IFERROR(IF(INDIRECT(\"'\"&$F34&\"'!f7\")=\"\",\"\",INDIRECT(\"'\"&$F34&\"'!f7\")),\"\")","v":""},{"$f":"IFERROR(IF(INDIRECT(\"'\"&$F34&\"'!h5\")=\"\",\"\",INDIRECT(\"'\"&$F34&\"'!h5\")),\"\")","v":""},{"$f":"IFERROR(LEFT(INDIRECT(\"'\"&$E34&\"'!c15\"),4),\"\")","v":""},{"$f":"IFERROR(LEFT(INDIRECT(\"'\"&$E34&\"'!c16\"),4),\"\")","v":""},{"$f":"IFERROR(LEFT(INDIRECT(\"'\"&$E34&\"'!c19\"),4),\"\")","v":""},{"$f":"IFERROR(LEFT(INDIRECT(\"'\"&$E34&\"'!c20\"),4),\"\")","v":""},{"$f":"IFERROR(LEFT(INDIRECT(\"'\"&$E34&\"'!c22\"),4),\"\")","v":""},{"$f":"IFERROR(LEFT(INDIRECT(\"'\"&$E34&\"'!c23\"),4),\"\")","v":""},{"$f":"IFERROR(LEFT(INDIRECT(\"'\"&$E34&\"'!c25\"),4),\"\")","v":""},{"$f":"IFERROR(LEFT(INDIRECT(\"'\"&$E34&\"'!c26\"),4),\"\")","v":""},{"$f":"IFERROR(LEFT(INDIRECT(\"'\"&$E34&\"'!c29\"),4),\"\")","v":""},{"$f":"IFERROR(LEFT(INDIRECT(\"'\"&$E34&\"'!c30\"),4),\"\")","v":""},{"$f":"IFERROR(LEFT(INDIRECT(\"'\"&$E34&\"'!c32\"),4),\"\")","v":""},{"$f":"IFERROR(LEFT(INDIRECT(\"'\"&$E34&\"'!c33\"),4),\"\")","v":""}]
[null,"",{"$f":"IFERROR(INDEX(MID(SheetNames,FIND(\"]\",SheetNames)+1,100),ROW(C29),1),\"\")","v":""},{"$f":"IFERROR(IF(AND(INDIRECT(\"'\"&$C35&\"'!c4\")='Data Set'!$D$4,INDIRECT(\"'\"&$C35&\"'!f5\")=\"Yes\"),C35,\"\"),\"\")","v":""},{"$f":"IFERROR(INDEX($D$8:$D$57,MATCH(0,COUNTIF($E$7:E34,$D$8:$D$57&\"\")+IF($D$8:$D$57=\"\",1,0), 0)),\"\")","v":""},"",{"$f":"IFERROR(IF(INDIRECT(\"'\"&$F35&\"'!c7\")=\"\",\"\",INDIRECT(\"'\"&$F35&\"'!c7\")),\"\")","v":""},{"$f":"IFERROR(IF(INDIRECT(\"'\"&$F35&\"'!e7\")=\"\",\"\",INDIRECT(\"'\"&$F35&\"'!e7\")),\"\")","v":""},{"$f":"IFERROR(IF(INDIRECT(\"'\"&$F35&\"'!f7\")=\"\",\"\",INDIRECT(\"'\"&$F35&\"'!f7\")),\"\")","v":""},{"$f":"IFERROR(IF(INDIRECT(\"'\"&$F35&\"'!h5\")=\"\",\"\",INDIRECT(\"'\"&$F35&\"'!h5\")),\"\")","v":""},{"$f":"IFERROR(LEFT(INDIRECT(\"'\"&$E35&\"'!c15\"),4),\"\")","v":""},{"$f":"IFERROR(LEFT(INDIRECT(\"'\"&$E35&\"'!c16\"),4),\"\")","v":""},{"$f":"IFERROR(LEFT(INDIRECT(\"'\"&$E35&\"'!c19\"),4),\"\")","v":""},{"$f":"IFERROR(LEFT(INDIRECT(\"'\"&$E35&\"'!c20\"),4),\"\")","v":""},{"$f":"IFERROR(LEFT(INDIRECT(\"'\"&$E35&\"'!c22\"),4),\"\")","v":""},{"$f":"IFERROR(LEFT(INDIRECT(\"'\"&$E35&\"'!c23\"),4),\"\")","v":""},{"$f":"IFERROR(LEFT(INDIRECT(\"'\"&$E35&\"'!c25\"),4),\"\")","v":""},{"$f":"IFERROR(LEFT(INDIRECT(\"'\"&$E35&\"'!c26\"),4),\"\")","v":""},{"$f":"IFERROR(LEFT(INDIRECT(\"'\"&$E35&\"'!c29\"),4),\"\")","v":""},{"$f":"IFERROR(LEFT(INDIRECT(\"'\"&$E35&\"'!c30\"),4),\"\")","v":""},{"$f":"IFERROR(LEFT(INDIRECT(\"'\"&$E35&\"'!c32\"),4),\"\")","v":""},{"$f":"IFERROR(LEFT(INDIRECT(\"'\"&$E35&\"'!c33\"),4),\"\")","v":""}]
[null,"",{"$f":"IFERROR(INDEX(MID(SheetNames,FIND(\"]\",SheetNames)+1,100),ROW(C30),1),\"\")","v":""},{"$f":"IFERROR(IF(AND(INDIRECT(\"'\"&$C36&\"'!c4\")='Data Set'!$D$4,INDIRECT(\"'\"&$C36&\"'!f5\")=\"Yes\"),C36,\"\"),\"\")","v":""},{"$f":"IFERROR(INDEX($D$8:$D$57,MATCH(0,COUNTIF($E$7:E35,$D$8:$D$57&\"\")+IF($D$8:$D$57=\"\",1,0), 0)),\"\")","v":""},"",{"$f":"IFERROR(IF(INDIRECT(\"'\"&$F36&\"'!c7\")=\"\",\"\",INDIRECT(\"'\"&$F36&\"'!c7\")),\"\")","v":""},{"$f":"IFERROR(IF(INDIRECT(\"'\"&$F36&\"'!e7\")=\"\",\"\",INDIRECT(\"'\"&$F36&\"'!e7\")),\"\")","v":""},{"$f":"IFERROR(IF(INDIRECT(\"'\"&$F36&\"'!f7\")=\"\",\"\",INDIRECT(\"'\"&$F36&\"'!f7\")),\"\")","v":""},{"$f":"IFERROR(IF(INDIRECT(\"'\"&$F36&\"'!h5\")=\"\",\"\",INDIRECT(\"'\"&$F36&\"'!h5\")),\"\")","v":""},{"$f":"IFERROR(LEFT(INDIRECT(\"'\"&$E36&\"'!c15\"),4),\"\")","v":""},{"$f":"IFERROR(LEFT(INDIRECT(\"'\"&$E36&\"'!c16\"),4),\"\")","v":""},{"$f":"IFERROR(LEFT(INDIRECT(\"'\"&$E36&\"'!c19\"),4),\"\")","v":""},{"$f":"IFERROR(LEFT(INDIRECT(\"'\"&$E36&\"'!c20\"),4),\"\")","v":""},{"$f":"IFERROR(LEFT(INDIRECT(\"'\"&$E36&\"'!c22\"),4),\"\")","v":""},{"$f":"IFERROR(LEFT(INDIRECT(\"'\"&$E36&\"'!c23\"),4),\"\")","v":""},{"$f":"IFERROR(LEFT(INDIRECT(\"'\"&$E36&\"'!c25\"),4),\"\")","v":""},{"$f":"IFERROR(LEFT(INDIRECT(\"'\"&$E36&\"'!c26\"),4),\"\")","v":""},{"$f":"IFERROR(LEFT(INDIRECT(\"'\"&$E36&\"'!c29\"),4),\"\")","v":""},{"$f":"IFERROR(LEFT(INDIRECT(\"'\"&$E36&\"'!c30\"),4),\"\")","v":""},{"$f":"IFERROR(LEFT(INDIRECT(\"'\"&$E36&\"'!c32\"),4),\"\")","v":""},{"$f":"IFERROR(LEFT(INDIRECT(\"'\"&$E36&\"'!c33\"),4),\"\")","v":""}]
[null,"",{"$f":"IFERROR(INDEX(MID(SheetNames,FIND(\"]\",SheetNames)+1,100),ROW(C31),1),\"\")","v":""},{"$f":"IFERROR(IF(AND(INDIRECT(\"'\"&$C37&\"'!c4\")='Data Set'!$D$4,INDIRECT(\"'\"&$C37&\"'!f5\")=\"Yes\"),C37,\"\"),\"\")","v":""},{"$f":"IFERROR(INDEX($D$8:$D$57,MATCH(0,COUNTIF($E$7:E36,$D$8:$D$57&\"\")+IF($D$8:$D$57=\"\",1,0), 0)),\"\")","v":""},"",{"$f":"IFERROR(IF(INDIRECT(\"'\"&$F37&\"'!c7\")=\"\",\"\",INDIRECT(\"'\"&$F37&\"'!c7\")),\"\")","v":""},{"$f":"IFERROR(IF(INDIRECT(\"'\"&$F37&\"'!e7\")=\"\",\"\",INDIRECT(\"'\"&$F37&\"'!e7\")),\"\")","v":""},{"$f":"IFERROR(IF(INDIRECT(\"'\"&$F37&\"'!f7\")=\"\",\"\",INDIRECT(\"'\"&$F37&\"'!f7\")),\"\")","v":""},{"$f":"IFERROR(IF(INDIRECT(\"'\"&$F37&\"'!h5\")=\"\",\"\",INDIRECT(\"'\"&$F37&\"'!h5\")),\"\")","v":""},{"$f":"IFERROR(LEFT(INDIRECT(\"'\"&$E37&\"'!c15\"),4),\"\")","v":""},{"$f":"IFERROR(LEFT(INDIRECT(\"'\"&$E37&\"'!c16\"),4),\"\")","v":""},{"$f":"IFERROR(LEFT(INDIRECT(\"'\"&$E37&\"'!c19\"),4),\"\")","v":""},{"$f":"IFERROR(LEFT(INDIRECT(\"'\"&$E37&\"'!c20\"),4),\"\")","v":""},{"$f":"IFERROR(LEFT(INDIRECT(\"'\"&$E37&\"'!c22\"),4),\"\")","v":""},{"$f":"IFERROR(LEFT(INDIRECT(\"'\"&$E37&\"'!c23\"),4),\"\")","v":""},{"$f":"IFERROR(LEFT(INDIRECT(\"'\"&$E37&\"'!c25\"),4),\"\")","v":""},{"$f":"IFERROR(LEFT(INDIRECT(\"'\"&$E37&\"'!c26\"),4),\"\")","v":""},{"$f":"IFERROR(LEFT(INDIRECT(\"'\"&$E37&\"'!c29\"),4),\"\")","v":""},{"$f":"IFERROR(LEFT(INDIRECT(\"'\"&$E37&\"'!c30\"),4),\"\")","v":""},{"$f":"IFERROR(LEFT(INDIRECT(\"'\"&$E37&\"'!c32\"),4),\"\")","v":""},{"$f":"IFERROR(LEFT(INDIRECT(\"'\"&$E37&\"'!c33\"),4),\"\")","v":""}]
[null,"",{"$f":"IFERROR(INDEX(MID(SheetNames,FIND(\"]\",SheetNames)+1,100),ROW(C32),1),\"\")","v":""},{"$f":"IFERROR(IF(AND(INDIRECT(\"'\"&$C38&\"'!c4\")='Data Set'!$D$4,INDIRECT(\"'\"&$C38&\"'!f5\")=\"Yes\"),C38,\"\"),\"\")","v":""},{"$f":"IFERROR(INDEX($D$8:$D$57,MATCH(0,COUNTIF($E$7:E37,$D$8:$D$57&\"\")+IF($D$8:$D$57=\"\",1,0), 0)),\"\")","v":""},"",{"$f":"IFERROR(IF(INDIRECT(\"'\"&$F38&\"'!c7\")=\"\",\"\",INDIRECT(\"'\"&$F38&\"'!c7\")),\"\")","v":""},{"$f":"IFERROR(IF(INDIRECT(\"'\"&$F38&\"'!e7\")=\"\",\"\",INDIRECT(\"'\"&$F38&\"'!e7\")),\"\")","v":""},{"$f":"IFERROR(IF(INDIRECT(\"'\"&$F38&\"'!f7\")=\"\",\"\",INDIRECT(\"'\"&$F38&\"'!f7\")),\"\")","v":""},{"$f":"IFERROR(IF(INDIRECT(\"'\"&$F38&\"'!h5\")=\"\",\"\",INDIRECT(\"'\"&$F38&\"'!h5\")),\"\")","v":""},{"$f":"IFERROR(LEFT(INDIRECT(\"'\"&$E38&\"'!c15\"),4),\"\")","v":""},{"$f":"IFERROR(LEFT(INDIRECT(\"'\"&$E38&\"'!c16\"),4),\"\")","v":""},{"$f":"IFERROR(LEFT(INDIRECT(\"'\"&$E38&\"'!c19\"),4),\"\")","v":""},{"$f":"IFERROR(LEFT(INDIRECT(\"'\"&$E38&\"'!c20\"),4),\"\")","v":""},{"$f":"IFERROR(LEFT(INDIRECT(\"'\"&$E38&\"'!c22\"),4),\"\")","v":""},{"$f":"IFERROR(LEFT(INDIRECT(\"'\"&$E38&\"'!c23\"),4),\"\")","v":""},{"$f":"IFERROR(LEFT(INDIRECT(\"'\"&$E38&\"'!c25\"),4),\"\")","v":""},{"$f":"IFERROR(LEFT(INDIRECT(\"'\"&$E38&\"'!c26\"),4),\"\")","v":""},{"$f":"IFERROR(LEFT(INDIRECT(\"'\"&$E38&\"'!c29\"),4),\"\")","v":""},{"$f":"IFERROR(LEFT(INDIRECT(\"'\"&$E38&\"'!c30\"),4),\"\")","v":""},{"$f":"IFERROR(LEFT(INDIRECT(\"'\"&$E38&\"'!c32\"),4),\"\")","v":""},{"$f":"IFERROR(LEFT(INDIRECT(\"'\"&$E38&\"'!c33\"),4),\"\")","v":""}]
[null,"",{"$f":"IFERROR(INDEX(MID(SheetNames,FIND(\"]\",SheetNames)+1,100),ROW(C33),1),\"\")","v":""},{"$f":"IFERROR(IF(AND(INDIRECT(\"'\"&$C39&\"'!c4\")='Data Set'!$D$4,INDIRECT(\"'\"&$C39&\"'!f5\")=\"Yes\"),C39,\"\"),\"\")","v":""},{"$f":"IFERROR(INDEX($D$8:$D$57,MATCH(0,COUNTIF($E$7:E38,$D$8:$D$57&\"\")+IF($D$8:$D$57=\"\",1,0), 0)),\"\")","v":""},"",{"$f":"IFERROR(IF(INDIRECT(\"'\"&$F39&\"'!c7\")=\"\",\"\",INDIRECT(\"'\"&$F39&\"'!c7\")),\"\")","v":""},{"$f":"IFERROR(IF(INDIRECT(\"'\"&$F39&\"'!e7\")=\"\",\"\",INDIRECT(\"'\"&$F39&\"'!e7\")),\"\")","v":""},{"$f":"IFERROR(IF(INDIRECT(\"'\"&$F39&\"'!f7\")=\"\",\"\",INDIRECT(\"'\"&$F39&\"'!f7\")),\"\")","v":""},{"$f":"IFERROR(IF(INDIRECT(\"'\"&$F39&\"'!h5\")=\"\",\"\",INDIRECT(\"'\"&$F39&\"'!h5\")),\"\")","v":""},{"$f":"IFERROR(LEFT(INDIRECT(\"'\"&$E39&\"'!c15\"),4),\"\")","v":""},{"$f":"IFERROR(LEFT(INDIRECT(\"'\"&$E39&\"'!c16\"),4),\"\")","v":""},{"$f":"IFERROR(LEFT(INDIRECT(\"'\"&$E39&\"'!c19\"),4),\"\")","v":""},{"$f":"IFERROR(LEFT(INDIRECT(\"'\"&$E39&\"'!c20\"),4),\"\")","v":""},{"$f":"IFERROR(LEFT(INDIRECT(\"'\"&$E39&\"'!c22\"),4),\"\")","v":""},{"$f":"IFERROR(LEFT(INDIRECT(\"'\"&$E39&\"'!c23\"),4),\"\")","v":""},{"$f":"IFERROR(LEFT(INDIRECT(\"'\"&$E39&\"'!c25\"),4),\"\")","v":""},{"$f":"IFERROR(LEFT(INDIRECT(\"'\"&$E39&\"'!c26\"),4),\"\")","v":""},{"$f":"IFERROR(LEFT(INDIRECT(\"'\"&$E39&\"'!c29\"),4),\"\")","v":""},{"$f":"IFERROR(LEFT(INDIRECT(\"'\"&$E39&\"'!c30\"),4),\"\")","v":""},{"$f":"IFERROR(LEFT(INDIRECT(\"'\"&$E39&\"'!c32\"),4),\"\")","v":""},{"$f":"IFERROR(LEFT(INDIRECT(\"'\"&$E39&\"'!c33\"),4),\"\")","v":""}]
[null,"",{"$f":"IFERROR(INDEX(MID(SheetNames,FIND(\"]\",SheetNames)+1,100),ROW(C34),1),\"\")","v":""},{"$f":"IFERROR(IF(AND(INDIRECT(\"'\"&$C40&\"'!c4\")='Data Set'!$D$4,INDIRECT(\"'\"&$C40&\"'!f5\")=\"Yes\"),C40,\"\"),\"\")","v":""},{"$f":"IFERROR(INDEX($D$8:$D$57,MATCH(0,COUNTIF($E$7:E39,$D$8:$D$57&\"\")+IF($D$8:$D$57=\"\",1,0), 0)),\"\")","v":""},"",{"$f":"IFERROR(IF(INDIRECT(\"'\"&$F40&\"'!c7\")=\"\",\"\",INDIRECT(\"'\"&$F40&\"'!c7\")),\"\")","v":""},{"$f":"IFERROR(IF(INDIRECT(\"'\"&$F40&\"'!e7\")=\"\",\"\",INDIRECT(\"'\"&$F40&\"'!e7\")),\"\")","v":""},{"$f":"IFERROR(IF(INDIRECT(\"'\"&$F40&\"'!f7\")=\"\",\"\",INDIRECT(\"'\"&$F40&\"'!f7\")),\"\")","v":""},{"$f":"IFERROR(IF(INDIRECT(\"'\"&$F40&\"'!h5\")=\"\",\"\",INDIRECT(\"'\"&$F40&\"'!h5\")),\"\")","v":""},{"$f":"IFERROR(LEFT(INDIRECT(\"'\"&$E40&\"'!c15\"),4),\"\")","v":""},{"$f":"IFERROR(LEFT(INDIRECT(\"'\"&$E40&\"'!c16\"),4),\"\")","v":""},{"$f":"IFERROR(LEFT(INDIRECT(\"'\"&$E40&\"'!c19\"),4),\"\")","v":""},{"$f":"IFERROR(LEFT(INDIRECT(\"'\"&$E40&\"'!c20\"),4),\"\")","v":""},{"$f":"IFERROR(LEFT(INDIRECT(\"'\"&$E40&\"'!c22\"),4),\"\")","v":""},{"$f":"IFERROR(LEFT(INDIRECT(\"'\"&$E40&\"'!c23\"),4),\"\")","v":""},{"$f":"IFERROR(LEFT(INDIRECT(\"'\"&$E40&\"'!c25\"),4),\"\")","v":""},{"$f":"IFERROR(LEFT(INDIRECT(\"'\"&$E40&\"'!c26\"),4),\"\")","v":""},{"$f":"IFERROR(LEFT(INDIRECT(\"'\"&$E40&\"'!c29\"),4),\"\")","v":""},{"$f":"IFERROR(LEFT(INDIRECT(\"'\"&$E40&\"'!c30\"),4),\"\")","v":""},{"$f":"IFERROR(LEFT(INDIRECT(\"'\"&$E40&\"'!c32\"),4),\"\")","v":""},{"$f":"IFERROR(LEFT(INDIRECT(\"'\"&$E40&\"'!c33\"),4),\"\")","v":""}]
[null,"",{"$f":"IFERROR(INDEX(MID(SheetNames,FIND(\"]\",SheetNames)+1,100),ROW(C35),1),\"\")","v":""},{"$f":"IFERROR(IF(AND(INDIRECT(\"'\"&$C41&\"'!c4\")='Data Set'!$D$4,INDIRECT(\"'\"&$C41&\"'!f5\")=\"Yes\"),C41,\"\"),\"\")","v":""},{"$f":"IFERROR(INDEX($D$8:$D$57,MATCH(0,COUNTIF($E$7:E40,$D$8:$D$57&\"\")+IF($D$8:$D$57=\"\",1,0), 0)),\"\")","v":""},"",{"$f":"IFERROR(IF(INDIRECT(\"'\"&$F41&\"'!c7\")=\"\",\"\",INDIRECT(\"'\"&$F41&\"'!c7\")),\"\")","v":""},{"$f":"IFERROR(IF(INDIRECT(\"'\"&$F41&\"'!e7\")=\"\",\"\",INDIRECT(\"'\"&$F41&\"'!e7\")),\"\")","v":""},{"$f":"IFERROR(IF(INDIRECT(\"'\"&$F41&\"'!f7\")=\"\",\"\",INDIRECT(\"'\"&$F41&\"'!f7\")),\"\")","v":""},{"$f":"IFERROR(IF(INDIRECT(\"'\"&$F41&\"'!h5\")=\"\",\"\",INDIRECT(\"'\"&$F41&\"'!h5\")),\"\")","v":""},{"$f":"IFERROR(LEFT(INDIRECT(\"'\"&$E41&\"'!c15\"),4),\"\")","v":""},{"$f":"IFERROR(LEFT(INDIRECT(\"'\"&$E41&\"'!c16\"),4),\"\")","v":""},{"$f":"IFERROR(LEFT(INDIRECT(\"'\"&$E41&\"'!c19\"),4),\"\")","v":""},{"$f":"IFERROR(LEFT(INDIRECT(\"'\"&$E41&\"'!c20\"),4),\"\")","v":""},{"$f":"IFERROR(LEFT(INDIRECT(\"'\"&$E41&\"'!c22\"),4),\"\")","v":""},{"$f":"IFERROR(LEFT(INDIRECT(\"'\"&$E41&\"'!c23\"),4),\"\")","v":""},{"$f":"IFERROR(LEFT(INDIRECT(\"'\"&$E41&\"'!c25\"),4),\"\")","v":""},{"$f":"IFERROR(LEFT(INDIRECT(\"'\"&$E41&\"'!c26\"),4),\"\")","v":""},{"$f":"IFERROR(LEFT(INDIRECT(\"'\"&$E41&\"'!c29\"),4),\"\")","v":""},{"$f":"IFERROR(LEFT(INDIRECT(\"'\"&$E41&\"'!c30\"),4),\"\")","v":""},{"$f":"IFERROR(LEFT(INDIRECT(\"'\"&$E41&\"'!c32\"),4),\"\")","v":""},{"$f":"IFERROR(LEFT(INDIRECT(\"'\"&$E41&\"'!c33\"),4),\"\")","v":""}]
[null,"",{"$f":"IFERROR(INDEX(MID(SheetNames,FIND(\"]\",SheetNames)+1,100),ROW(C36),1),\"\")","v":""},{"$f":"IFERROR(IF(AND(INDIRECT(\"'\"&$C42&\"'!c4\")='Data Set'!$D$4,INDIRECT(\"'\"&$C42&\"'!f5\")=\"Yes\"),C42,\"\"),\"\")","v":""},{"$f":"IFERROR(INDEX($D$8:$D$57,MATCH(0,COUNTIF($E$7:E41,$D$8:$D$57&\"\")+IF($D$8:$D$57=\"\",1,0), 0)),\"\")","v":""},"",{"$f":"IFERROR(IF(INDIRECT(\"'\"&$F42&\"'!c7\")=\"\",\"\",INDIRECT(\"'\"&$F42&\"'!c7\")),\"\")","v":""},{"$f":"IFERROR(IF(INDIRECT(\"'\"&$F42&\"'!e7\")=\"\",\"\",INDIRECT(\"'\"&$F42&\"'!e7\")),\"\")","v":""},{"$f":"IFERROR(IF(INDIRECT(\"'\"&$F42&\"'!f7\")=\"\",\"\",INDIRECT(\"'\"&$F42&\"'!f7\")),\"\")","v":""},{"$f":"IFERROR(IF(INDIRECT(\"'\"&$F42&\"'!h5\")=\"\",\"\",INDIRECT(\"'\"&$F42&\"'!h5\")),\"\")","v":""},{"$f":"IFERROR(LEFT(INDIRECT(\"'\"&$E42&\"'!c15\"),4),\"\")","v":""},{"$f":"IFERROR(LEFT(INDIRECT(\"'\"&$E42&\"'!c16\"),4),\"\")","v":""},{"$f":"IFERROR(LEFT(INDIRECT(\"'\"&$E42&\"'!c19\"),4),\"\")","v":""},{"$f":"IFERROR(LEFT(INDIRECT(\"'\"&$E42&\"'!c20\"),4),\"\")","v":""},{"$f":"IFERROR(LEFT(INDIRECT(\"'\"&$E42&\"'!c22\"),4),\"\")","v":""},{"$f":"IFERROR(LEFT(INDIRECT(\"'\"&$E42&\"'!c23\"),4),\"\")","v":""},{"$f":"IFERROR(LEFT(INDIRECT(\"'\"&$E42&\"'!c25\"),4),\"\")","v":""},{"$f":"IFERROR(LEFT(INDIRECT(\"'\"&$E42&\"'!c26\"),4),\"\")","v":""},{"$f":"IFERROR(LEFT(INDIRECT(\"'\"&$E42&\"'!c29\"),4),\"\")","v":""},{"$f":"IFERROR(LEFT(INDIRECT(\"'\"&$E42&\"'!c30\"),4),\"\")","v":""},{"$f":"IFERROR(LEFT(INDIRECT(\"'\"&$E42&\"'!c32\"),4),\"\")","v":""},{"$f":"IFERROR(LEFT(INDIRECT(\"'\"&$E42&\"'!c33\"),4),\"\")","v":""}]
[null,"",{"$f":"IFERROR(INDEX(MID(SheetNames,FIND(\"]\",SheetNames)+1,100),ROW(C37),1),\"\")","v":""},{"$f":"IFERROR(IF(AND(INDIRECT(\"'\"&$C43&\"'!c4\")='Data Set'!$D$4,INDIRECT(\"'\"&$C43&\"'!f5\")=\"Yes\"),C43,\"\"),\"\")","v":""},{"$f":"IFERROR(INDEX($D$8:$D$57,MATCH(0,COUNTIF($E$7:E42,$D$8:$D$57&\"\")+IF($D$8:$D$57=\"\",1,0), 0)),\"\")","v":""},"",{"$f":"IFERROR(IF(INDIRECT(\"'\"&$F43&\"'!c7\")=\"\",\"\",INDIRECT(\"'\"&$F43&\"'!c7\")),\"\")","v":""},{"$f":"IFERROR(IF(INDIRECT(\"'\"&$F43&\"'!e7\")=\"\",\"\",INDIRECT(\"'\"&$F43&\"'!e7\")),\"\")","v":""},{"$f":"IFERROR(IF(INDIRECT(\"'\"&$F43&\"'!f7\")=\"\",\"\",INDIRECT(\"'\"&$F43&\"'!f7\")),\"\")","v":""},{"$f":"IFERROR(IF(INDIRECT(\"'\"&$F43&\"'!h5\")=\"\",\"\",INDIRECT(\"'\"&$F43&\"'!h5\")),\"\")","v":""},{"$f":"IFERROR(LEFT(INDIRECT(\"'\"&$E43&\"'!c15\"),4),\"\")","v":""},{"$f":"IFERROR(LEFT(INDIRECT(\"'\"&$E43&\"'!c16\"),4),\"\")","v":""},{"$f":"IFERROR(LEFT(INDIRECT(\"'\"&$E43&\"'!c19\"),4),\"\")","v":""},{"$f":"IFERROR(LEFT(INDIRECT(\"'\"&$E43&\"'!c20\"),4),\"\")","v":""},{"$f":"IFERROR(LEFT(INDIRECT(\"'\"&$E43&\"'!c22\"),4),\"\")","v":""},{"$f":"IFERROR(LEFT(INDIRECT(\"'\"&$E43&\"'!c23\"),4),\"\")","v":""},{"$f":"IFERROR(LEFT(INDIRECT(\"'\"&$E43&\"'!c25\"),4),\"\")","v":""},{"$f":"IFERROR(LEFT(INDIRECT(\"'\"&$E43&\"'!c26\"),4),\"\")","v":""},{"$f":"IFERROR(LEFT(INDIRECT(\"'\"&$E43&\"'!c29\"),4),\"\")","v":""},{"$f":"IFERROR(LEFT(INDIRECT(\"'\"&$E43&\"'!c30\"),4),\"\")","v":""},{"$f":"IFERROR(LEFT(INDIRECT(\"'\"&$E43&\"'!c32\"),4),\"\")","v":""},{"$f":"IFERROR(LEFT(INDIRECT(\"'\"&$E43&\"'!c33\"),4),\"\")","v":""}]
[null,"",{"$f":"IFERROR(INDEX(MID(SheetNames,FIND(\"]\",SheetNames)+1,100),ROW(C38),1),\"\")","v":""},{"$f":"IFERROR(IF(AND(INDIRECT(\"'\"&$C44&\"'!c4\")='Data Set'!$D$4,INDIRECT(\"'\"&$C44&\"'!f5\")=\"Yes\"),C44,\"\"),\"\")","v":""},{"$f":"IFERROR(INDEX($D$8:$D$57,MATCH(0,COUNTIF($E$7:E43,$D$8:$D$57&\"\")+IF($D$8:$D$57=\"\",1,0), 0)),\"\")","v":""},"",{"$f":"IFERROR(IF(INDIRECT(\"'\"&$F44&\"'!c7\")=\"\",\"\",INDIRECT(\"'\"&$F44&\"'!c7\")),\"\")","v":""},{"$f":"IFERROR(IF(INDIRECT(\"'\"&$F44&\"'!e7\")=\"\",\"\",INDIRECT(\"'\"&$F44&\"'!e7\")),\"\")","v":""},{"$f":"IFERROR(IF(INDIRECT(\"'\"&$F44&\"'!f7\")=\"\",\"\",INDIRECT(\"'\"&$F44&\"'!f7\")),\"\")","v":""},{"$f":"IFERROR(IF(INDIRECT(\"'\"&$F44&\"'!h5\")=\"\",\"\",INDIRECT(\"'\"&$F44&\"'!h5\")),\"\")","v":""},{"$f":"IFERROR(LEFT(INDIRECT(\"'\"&$E44&\"'!c15\"),4),\"\")","v":""},{"$f":"IFERROR(LEFT(INDIRECT(\"'\"&$E44&\"'!c16\"),4),\"\")","v":""},{"$f":"IFERROR(LEFT(INDIRECT(\"'\"&$E44&\"'!c19\"),4),\"\")","v":""},{"$f":"IFERROR(LEFT(INDIRECT(\"'\"&$E44&\"'!c20\"),4),\"\")","v":""},{"$f":"IFERROR(LEFT(INDIRECT(\"'\"&$E44&\"'!c22\"),4),\"\")","v":""},{"$f":"IFERROR(LEFT(INDIRECT(\"'\"&$E44&\"'!c23\"),4),\"\")","v":""},{"$f":"IFERROR(LEFT(INDIRECT(\"'\"&$E44&\"'!c25\"),4),\"\")","v":""},{"$f":"IFERROR(LEFT(INDIRECT(\"'\"&$E44&\"'!c26\"),4),\"\")","v":""},{"$f":"IFERROR(LEFT(INDIRECT(\"'\"&$E44&\"'!c29\"),4),\"\")","v":""},{"$f":"IFERROR(LEFT(INDIRECT(\"'\"&$E44&\"'!c30\"),4),\"\")","v":""},{"$f":"IFERROR(LEFT(INDIRECT(\"'\"&$E44&\"'!c32\"),4),\"\")","v":""},{"$f":"IFERROR(LEFT(INDIRECT(\"'\"&$E44&\"'!c33\"),4),\"\")","v":""}]
[null,"",{"$f":"IFERROR(INDEX(MID(SheetNames,FIND(\"]\",SheetNames)+1,100),ROW(C39),1),\"\")","v":""},{"$f":"IFERROR(IF(AND(INDIRECT(\"'\"&$C45&\"'!c4\")='Data Set'!$D$4,INDIRECT(\"'\"&$C45&\"'!f5\")=\"Yes\"),C45,\"\"),\"\")","v":""},{"$f":"IFERROR(INDEX($D$8:$D$57,MATCH(0,COUNTIF($E$7:E44,$D$8:$D$57&\"\")+IF($D$8:$D$57=\"\",1,0), 0)),\"\")","v":""},"",{"$f":"IFERROR(IF(INDIRECT(\"'\"&$F45&\"'!c7\")=\"\",\"\",INDIRECT(\"'\"&$F45&\"'!c7\")),\"\")","v":""},{"$f":"IFERROR(IF(INDIRECT(\"'\"&$F45&\"'!e7\")=\"\",\"\",INDIRECT(\"'\"&$F45&\"'!e7\")),\"\")","v":""},{"$f":"IFERROR(IF(INDIRECT(\"'\"&$F45&\"'!f7\")=\"\",\"\",INDIRECT(\"'\"&$F45&\"'!f7\")),\"\")","v":""},{"$f":"IFERROR(IF(INDIRECT(\"'\"&$F45&\"'!h5\")=\"\",\"\",INDIRECT(\"'\"&$F45&\"'!h5\")),\"\")","v":""},{"$f":"IFERROR(LEFT(INDIRECT(\"'\"&$E45&\"'!c15\"),4),\"\")","v":""},{"$f":"IFERROR(LEFT(INDIRECT(\"'\"&$E45&\"'!c16\"),4),\"\")","v":""},{"$f":"IFERROR(LEFT(INDIRECT(\"'\"&$E45&\"'!c19\"),4),\"\")","v":""},{"$f":"IFERROR(LEFT(INDIRECT(\"'\"&$E45&\"'!c20\"),4),\"\")","v":""},{"$f":"IFERROR(LEFT(INDIRECT(\"'\"&$E45&\"'!c22\"),4),\"\")","v":""},{"$f":"IFERROR(LEFT(INDIRECT(\"'\"&$E45&\"'!c23\"),4),\"\")","v":""},{"$f":"IFERROR(LEFT(INDIRECT(\"'\"&$E45&\"'!c25\"),4),\"\")","v":""},{"$f":"IFERROR(LEFT(INDIRECT(\"'\"&$E45&\"'!c26\"),4),\"\")","v":""},{"$f":"IFERROR(LEFT(INDIRECT(\"'\"&$E45&\"'!c29\"),4),\"\")","v":""},{"$f":"IFERROR(LEFT(INDIRECT(\"'\"&$E45&\"'!c30\"),4),\"\")","v":""},{"$f":"IFERROR(LEFT(INDIRECT(\"'\"&$E45&\"'!c32\"),4),\"\")","v":""},{"$f":"IFERROR(LEFT(INDIRECT(\"'\"&$E45&\"'!c33\"),4),\"\")","v":""}]
[null,"",{"$f":"IFERROR(INDEX(MID(SheetNames,FIND(\"]\",SheetNames)+1,100),ROW(C40),1),\"\")","v":""},{"$f":"IFERROR(IF(AND(INDIRECT(\"'\"&$C46&\"'!c4\")='Data Set'!$D$4,INDIRECT(\"'\"&$C46&\"'!f5\")=\"Yes\"),C46,\"\"),\"\")","v":""},{"$f":"IFERROR(INDEX($D$8:$D$57,MATCH(0,COUNTIF($E$7:E45,$D$8:$D$57&\"\")+IF($D$8:$D$57=\"\",1,0), 0)),\"\")","v":""},"",{"$f":"IFERROR(IF(INDIRECT(\"'\"&$F46&\"'!c7\")=\"\",\"\",INDIRECT(\"'\"&$F46&\"'!c7\")),\"\")","v":""},{"$f":"IFERROR(IF(INDIRECT(\"'\"&$F46&\"'!e7\")=\"\",\"\",INDIRECT(\"'\"&$F46&\"'!e7\")),\"\")","v":""},{"$f":"IFERROR(IF(INDIRECT(\"'\"&$F46&\"'!f7\")=\"\",\"\",INDIRECT(\"'\"&$F46&\"'!f7\")),\"\")","v":""},{"$f":"IFERROR(IF(INDIRECT(\"'\"&$F46&\"'!h5\")=\"\",\"\",INDIRECT(\"'\"&$F46&\"'!h5\")),\"\")","v":""},{"$f":"IFERROR(LEFT(INDIRECT(\"'\"&$E46&\"'!c15\"),4),\"\")","v":""},{"$f":"IFERROR(LEFT(INDIRECT(\"'\"&$E46&\"'!c16\"),4),\"\")","v":""},{"$f":"IFERROR(LEFT(INDIRECT(\"'\"&$E46&\"'!c19\"),4),\"\")","v":""},{"$f":"IFERROR(LEFT(INDIRECT(\"'\"&$E46&\"'!c20\"),4),\"\")","v":""},{"$f":"IFERROR(LEFT(INDIRECT(\"'\"&$E46&\"'!c22\"),4),\"\")","v":""},{"$f":"IFERROR(LEFT(INDIRECT(\"'\"&$E46&\"'!c23\"),4),\"\")","v":""},{"$f":"IFERROR(LEFT(INDIRECT(\"'\"&$E46&\"'!c25\"),4),\"\")","v":""},{"$f":"IFERROR(LEFT(INDIRECT(\"'\"&$E46&\"'!c26\"),4),\"\")","v":""},{"$f":"IFERROR(LEFT(INDIRECT(\"'\"&$E46&\"'!c29\"),4),\"\")","v":""},{"$f":"IFERROR(LEFT(INDIRECT(\"'\"&$E46&\"'!c30\"),4),\"\")","v":""},{"$f":"IFERROR(LEFT(INDIRECT(\"'\"&$E46&\"'!c32\"),4),\"\")","v":""},{"$f":"IFERROR(LEFT(INDIRECT(\"'\"&$E46&\"'!c33\"),4),\"\")","v":""}]
[null,"",{"$f":"IFERROR(INDEX(MID(SheetNames,FIND(\"]\",SheetNames)+1,100),ROW(C41),1),\"\")","v":""},{"$f":"IFERROR(IF(AND(INDIRECT(\"'\"&$C47&\"'!c4\")='Data Set'!$D$4,INDIRECT(\"'\"&$C47&\"'!f5\")=\"Yes\"),C47,\"\"),\"\")","v":""},{"$f":"IFERROR(INDEX($D$8:$D$57,MATCH(0,COUNTIF($E$7:E46,$D$8:$D$57&\"\")+IF($D$8:$D$57=\"\",1,0), 0)),\"\")","v":""},"",{"$f":"IFERROR(IF(INDIRECT(\"'\"&$F47&\"'!c7\")=\"\",\"\",INDIRECT(\"'\"&$F47&\"'!c7\")),\"\")","v":""},{"$f":"IFERROR(IF(INDIRECT(\"'\"&$F47&\"'!e7\")=\"\",\"\",INDIRECT(\"'\"&$F47&\"'!e7\")),\"\")","v":""},{"$f":"IFERROR(IF(INDIRECT(\"'\"&$F47&\"'!f7\")=\"\",\"\",INDIRECT(\"'\"&$F47&\"'!f7\")),\"\")","v":""},{"$f":"IFERROR(IF(INDIRECT(\"'\"&$F47&\"'!h5\")=\"\",\"\",INDIRECT(\"'\"&$F47&\"'!h5\")),\"\")","v":""},{"$f":"IFERROR(LEFT(INDIRECT(\"'\"&$E47&\"'!c15\"),4),\"\")","v":""},{"$f":"IFERROR(LEFT(INDIRECT(\"'\"&$E47&\"'!c16\"),4),\"\")","v":""},{"$f":"IFERROR(LEFT(INDIRECT(\"'\"&$E47&\"'!c19\"),4),\"\")","v":""},{"$f":"IFERROR(LEFT(INDIRECT(\"'\"&$E47&\"'!c20\"),4),\"\")","v":""},{"$f":"IFERROR(LEFT(INDIRECT(\"'\"&$E47&\"'!c22\"),4),\"\")","v":""},{"$f":"IFERROR(LEFT(INDIRECT(\"'\"&$E47&\"'!c23\"),4),\"\")","v":""},{"$f":"IFERROR(LEFT(INDIRECT(\"'\"&$E47&\"'!c25\"),4),\"\")","v":""},{"$f":"IFERROR(LEFT(INDIRECT(\"'\"&$E47&\"'!c26\"),4),\"\")","v":""},{"$f":"IFERROR(LEFT(INDIRECT(\"'\"&$E47&\"'!c29\"),4),\"\")","v":""},{"$f":"IFERROR(LEFT(INDIRECT(\"'\"&$E47&\"'!c30\"),4),\"\")","v":""},{"$f":"IFERROR(LEFT(INDIRECT(\"'\"&$E47&\"'!c32\"),4),\"\")","v":""},{"$f":"IFERROR(LEFT(INDIRECT(\"'\"&$E47&\"'!c33\"),4),\"\")","v":""}]
[null,"",{"$f":"IFERROR(INDEX(MID(SheetNames,FIND(\"]\",SheetNames)+1,100),ROW(C42),1),\"\")","v":""},{"$f":"IFERROR(IF(AND(INDIRECT(\"'\"&$C48&\"'!c4\")='Data Set'!$D$4,INDIRECT(\"'\"&$C48&\"'!f5\")=\"Yes\"),C48,\"\"),\"\")","v":""},{"$f":"IFERROR(INDEX($D$8:$D$57,MATCH(0,COUNTIF($E$7:E47,$D$8:$D$57&\"\")+IF($D$8:$D$57=\"\",1,0), 0)),\"\")","v":""},"",{"$f":"IFERROR(IF(INDIRECT(\"'\"&$F48&\"'!c7\")=\"\",\"\",INDIRECT(\"'\"&$F48&\"'!c7\")),\"\")","v":""},{"$f":"IFERROR(IF(INDIRECT(\"'\"&$F48&\"'!e7\")=\"\",\"\",INDIRECT(\"'\"&$F48&\"'!e7\")),\"\")","v":""},{"$f":"IFERROR(IF(INDIRECT(\"'\"&$F48&\"'!f7\")=\"\",\"\",INDIRECT(\"'\"&$F48&\"'!f7\")),\"\")","v":""},{"$f":"IFERROR(IF(INDIRECT(\"'\"&$F48&\"'!h5\")=\"\",\"\",INDIRECT(\"'\"&$F48&\"'!h5\")),\"\")","v":""},{"$f":"IFERROR(LEFT(INDIRECT(\"'\"&$E48&\"'!c15\"),4),\"\")","v":""},{"$f":"IFERROR(LEFT(INDIRECT(\"'\"&$E48&\"'!c16\"),4),\"\")","v":""},{"$f":"IFERROR(LEFT(INDIRECT(\"'\"&$E48&\"'!c19\"),4),\"\")","v":""},{"$f":"IFERROR(LEFT(INDIRECT(\"'\"&$E48&\"'!c20\"),4),\"\")","v":""},{"$f":"IFERROR(LEFT(INDIRECT(\"'\"&$E48&\"'!c22\"),4),\"\")","v":""},{"$f":"IFERROR(LEFT(INDIRECT(\"'\"&$E48&\"'!c23\"),4),\"\")","v":""},{"$f":"IFERROR(LEFT(INDIRECT(\"'\"&$E48&\"'!c25\"),4),\"\")","v":""},{"$f":"IFERROR(LEFT(INDIRECT(\"'\"&$E48&\"'!c26\"),4),\"\")","v":""},{"$f":"IFERROR(LEFT(INDIRECT(\"'\"&$E48&\"'!c29\"),4),\"\")","v":""},{"$f":"IFERROR(LEFT(INDIRECT(\"'\"&$E48&\"'!c30\"),4),\"\")","v":""},{"$f":"IFERROR(LEFT(INDIRECT(\"'\"&$E48&\"'!c32\"),4),\"\")","v":""},{"$f":"IFERROR(LEFT(INDIRECT(\"'\"&$E48&\"'!c33\"),4),\"\")","v":""}]
[null,"",{"$f":"IFERROR(INDEX(MID(SheetNames,FIND(\"]\",SheetNames)+1,100),ROW(C43),1),\"\")","v":""},{"$f":"IFERROR(IF(AND(INDIRECT(\"'\"&$C49&\"'!c4\")='Data Set'!$D$4,INDIRECT(\"'\"&$C49&\"'!f5\")=\"Yes\"),C49,\"\"),\"\")","v":""},{"$f":"IFERROR(INDEX($D$8:$D$57,MATCH(0,COUNTIF($E$7:E48,$D$8:$D$57&\"\")+IF($D$8:$D$57=\"\",1,0), 0)),\"\")","v":""},"",{"$f":"IFERROR(IF(INDIRECT(\"'\"&$F49&\"'!c7\")=\"\",\"\",INDIRECT(\"'\"&$F49&\"'!c7\")),\"\")","v":""},{"$f":"IFERROR(IF(INDIRECT(\"'\"&$F49&\"'!e7\")=\"\",\"\",INDIRECT(\"'\"&$F49&\"'!e7\")),\"\")","v":""},{"$f":"IFERROR(IF(INDIRECT(\"'\"&$F49&\"'!f7\")=\"\",\"\",INDIRECT(\"'\"&$F49&\"'!f7\")),\"\")","v":""},{"$f":"IFERROR(IF(INDIRECT(\"'\"&$F49&\"'!h5\")=\"\",\"\",INDIRECT(\"'\"&$F49&\"'!h5\")),\"\")","v":""},{"$f":"IFERROR(LEFT(INDIRECT(\"'\"&$E49&\"'!c15\"),4),\"\")","v":""},{"$f":"IFERROR(LEFT(INDIRECT(\"'\"&$E49&\"'!c16\"),4),\"\")","v":""},{"$f":"IFERROR(LEFT(INDIRECT(\"'\"&$E49&\"'!c19\"),4),\"\")","v":""},{"$f":"IFERROR(LEFT(INDIRECT(\"'\"&$E49&\"'!c20\"),4),\"\")","v":""},{"$f":"IFERROR(LEFT(INDIRECT(\"'\"&$E49&\"'!c22\"),4),\"\")","v":""},{"$f":"IFERROR(LEFT(INDIRECT(\"'\"&$E49&\"'!c23\"),4),\"\")","v":""},{"$f":"IFERROR(LEFT(INDIRECT(\"'\"&$E49&\"'!c25\"),4),\"\")","v":""},{"$f":"IFERROR(LEFT(INDIRECT(\"'\"&$E49&\"'!c26\"),4),\"\")","v":""},{"$f":"IFERROR(LEFT(INDIRECT(\"'\"&$E49&\"'!c29\"),4),\"\")","v":""},{"$f":"IFERROR(LEFT(INDIRECT(\"'\"&$E49&\"'!c30\"),4),\"\")","v":""},{"$f":"IFERROR(LEFT(INDIRECT(\"'\"&$E49&\"'!c32\"),4),\"\")","v":""},{"$f":"IFERROR(LEFT(INDIRECT(\"'\"&$E49&\"'!c33\"),4),\"\")","v":""}]
[null,"",{"$f":"IFERROR(INDEX(MID(SheetNames,FIND(\"]\",SheetNames)+1,100),ROW(C44),1),\"\")","v":""},{"$f":"IFERROR(IF(AND(INDIRECT(\"'\"&$C50&\"'!c4\")='Data Set'!$D$4,INDIRECT(\"'\"&$C50&\"'!f5\")=\"Yes\"),C50,\"\"),\"\")","v":""},{"$f":"IFERROR(INDEX($D$8:$D$57,MATCH(0,COUNTIF($E$7:E49,$D$8:$D$57&\"\")+IF($D$8:$D$57=\"\",1,0), 0)),\"\")","v":""},"",{"$f":"IFERROR(IF(INDIRECT(\"'\"&$F50&\"'!c7\")=\"\",\"\",INDIRECT(\"'\"&$F50&\"'!c7\")),\"\")","v":""},{"$f":"IFERROR(IF(INDIRECT(\"'\"&$F50&\"'!e7\")=\"\",\"\",INDIRECT(\"'\"&$F50&\"'!e7\")),\"\")","v":""},{"$f":"IFERROR(IF(INDIRECT(\"'\"&$F50&\"'!f7\")=\"\",\"\",INDIRECT(\"'\"&$F50&\"'!f7\")),\"\")","v":""},{"$f":"IFERROR(IF(INDIRECT(\"'\"&$F50&\"'!h5\")=\"\",\"\",INDIRECT(\"'\"&$F50&\"'!h5\")),\"\")","v":""},{"$f":"IFERROR(LEFT(INDIRECT(\"'\"&$E50&\"'!c15\"),4),\"\")","v":""},{"$f":"IFERROR(LEFT(INDIRECT(\"'\"&$E50&\"'!c16\"),4),\"\")","v":""},{"$f":"IFERROR(LEFT(INDIRECT(\"'\"&$E50&\"'!c19\"),4),\"\")","v":""},{"$f":"IFERROR(LEFT(INDIRECT(\"'\"&$E50&\"'!c20\"),4),\"\")","v":""},{"$f":"IFERROR(LEFT(INDIRECT(\"'\"&$E50&\"'!c22\"),4),\"\")","v":""},{"$f":"IFERROR(LEFT(INDIRECT(\"'\"&$E50&\"'!c23\"),4),\"\")","v":""},{"$f":"IFERROR(LEFT(INDIRECT(\"'\"&$E50&\"'!c25\"),4),\"\")","v":""},{"$f":"IFERROR(LEFT(INDIRECT(\"'\"&$E50&\"'!c26\"),4),\"\")","v":""},{"$f":"IFERROR(LEFT(INDIRECT(\"'\"&$E50&\"'!c29\"),4),\"\")","v":""},{"$f":"IFERROR(LEFT(INDIRECT(\"'\"&$E50&\"'!c30\"),4),\"\")","v":""},{"$f":"IFERROR(LEFT(INDIRECT(\"'\"&$E50&\"'!c32\"),4),\"\")","v":""},{"$f":"IFERROR(LEFT(INDIRECT(\"'\"&$E50&\"'!c33\"),4),\"\")","v":""}]
[null,"",{"$f":"IFERROR(INDEX(MID(SheetNames,FIND(\"]\",SheetNames)+1,100),ROW(C45),1),\"\")","v":""},{"$f":"IFERROR(IF(AND(INDIRECT(\"'\"&$C51&\"'!c4\")='Data Set'!$D$4,INDIRECT(\"'\"&$C51&\"'!f5\")=\"Yes\"),C51,\"\"),\"\")","v":""},{"$f":"IFERROR(INDEX($D$8:$D$57,MATCH(0,COUNTIF($E$7:E50,$D$8:$D$57&\"\")+IF($D$8:$D$57=\"\",1,0), 0)),\"\")","v":""},"",{"$f":"IFERROR(IF(INDIRECT(\"'\"&$F51&\"'!c7\")=\"\",\"\",INDIRECT(\"'\"&$F51&\"'!c7\")),\"\")","v":""},{"$f":"IFERROR(IF(INDIRECT(\"'\"&$F51&\"'!e7\")=\"\",\"\",INDIRECT(\"'\"&$F51&\"'!e7\")),\"\")","v":""},{"$f":"IFERROR(IF(INDIRECT(\"'\"&$F51&\"'!f7\")=\"\",\"\",INDIRECT(\"'\"&$F51&\"'!f7\")),\"\")","v":""},{"$f":"IFERROR(IF(INDIRECT(\"'\"&$F51&\"'!h5\")=\"\",\"\",INDIRECT(\"'\"&$F51&\"'!h5\")),\"\")","v":""},{"$f":"IFERROR(LEFT(INDIRECT(\"'\"&$E51&\"'!c15\"),4),\"\")","v":""},{"$f":"IFERROR(LEFT(INDIRECT(\"'\"&$E51&\"'!c16\"),4),\"\")","v":""},{"$f":"IFERROR(LEFT(INDIRECT(\"'\"&$E51&\"'!c19\"),4),\"\")","v":""},{"$f":"IFERROR(LEFT(INDIRECT(\"'\"&$E51&\"'!c20\"),4),\"\")","v":""},{"$f":"IFERROR(LEFT(INDIRECT(\"'\"&$E51&\"'!c22\"),4),\"\")","v":""},{"$f":"IFERROR(LEFT(INDIRECT(\"'\"&$E51&\"'!c23\"),4),\"\")","v":""},{"$f":"IFERROR(LEFT(INDIRECT(\"'\"&$E51&\"'!c25\"),4),\"\")","v":""},{"$f":"IFERROR(LEFT(INDIRECT(\"'\"&$E51&\"'!c26\"),4),\"\")","v":""},{"$f":"IFERROR(LEFT(INDIRECT(\"'\"&$E51&\"'!c29\"),4),\"\")","v":""},{"$f":"IFERROR(LEFT(INDIRECT(\"'\"&$E51&\"'!c30\"),4),\"\")","v":""},{"$f":"IFERROR(LEFT(INDIRECT(\"'\"&$E51&\"'!c32\"),4),\"\")","v":""},{"$f":"IFERROR(LEFT(INDIRECT(\"'\"&$E51&\"'!c33\"),4),\"\")","v":""}]
[null,"",{"$f":"IFERROR(INDEX(MID(SheetNames,FIND(\"]\",SheetNames)+1,100),ROW(C46),1),\"\")","v":""},{"$f":"IFERROR(IF(AND(INDIRECT(\"'\"&$C52&\"'!c4\")='Data Set'!$D$4,INDIRECT(\"'\"&$C52&\"'!f5\")=\"Yes\"),C52,\"\"),\"\")","v":""},{"$f":"IFERROR(INDEX($D$8:$D$57,MATCH(0,COUNTIF($E$7:E51,$D$8:$D$57&\"\")+IF($D$8:$D$57=\"\",1,0), 0)),\"\")","v":""},"",{"$f":"IFERROR(IF(INDIRECT(\"'\"&$F52&\"'!c7\")=\"\",\"\",INDIRECT(\"'\"&$F52&\"'!c7\")),\"\")","v":""},{"$f":"IFERROR(IF(INDIRECT(\"'\"&$F52&\"'!e7\")=\"\",\"\",INDIRECT(\"'\"&$F52&\"'!e7\")),\"\")","v":""},{"$f":"IFERROR(IF(INDIRECT(\"'\"&$F52&\"'!f7\")=\"\",\"\",INDIRECT(\"'\"&$F52&\"'!f7\")),\"\")","v":""},{"$f":"IFERROR(IF(INDIRECT(\"'\"&$F52&\"'!h5\")=\"\",\"\",INDIRECT(\"'\"&$F52&\"'!h5\")),\"\")","v":""},{"$f":"IFERROR(LEFT(INDIRECT(\"'\"&$E52&\"'!c15\"),4),\"\")","v":""},{"$f":"IFERROR(LEFT(INDIRECT(\"'\"&$E52&\"'!c16\"),4),\"\")","v":""},{"$f":"IFERROR(LEFT(INDIRECT(\"'\"&$E52&\"'!c19\"),4),\"\")","v":""},{"$f":"IFERROR(LEFT(INDIRECT(\"'\"&$E52&\"'!c20\"),4),\"\")","v":""},{"$f":"IFERROR(LEFT(INDIRECT(\"'\"&$E52&\"'!c22\"),4),\"\")","v":""},{"$f":"IFERROR(LEFT(INDIRECT(\"'\"&$E52&\"'!c23\"),4),\"\")","v":""},{"$f":"IFERROR(LEFT(INDIRECT(\"'\"&$E52&\"'!c25\"),4),\"\")","v":""},{"$f":"IFERROR(LEFT(INDIRECT(\"'\"&$E52&\"'!c26\"),4),\"\")","v":""},{"$f":"IFERROR(LEFT(INDIRECT(\"'\"&$E52&\"'!c29\"),4),\"\")","v":""},{"$f":"IFERROR(LEFT(INDIRECT(\"'\"&$E52&\"'!c30\"),4),\"\")","v":""},{"$f":"IFERROR(LEFT(INDIRECT(\"'\"&$E52&\"'!c32\"),4),\"\")","v":""},{"$f":"IFERROR(LEFT(INDIRECT(\"'\"&$E52&\"'!c33\"),4),\"\")","v":""}]
[null,"",{"$f":"IFERROR(INDEX(MID(SheetNames,FIND(\"]\",SheetNames)+1,100),ROW(C47),1),\"\")","v":""},{"$f":"IFERROR(IF(AND(INDIRECT(\"'\"&$C53&\"'!c4\")='Data Set'!$D$4,INDIRECT(\"'\"&$C53&\"'!f5\")=\"Yes\"),C53,\"\"),\"\")","v":""},{"$f":"IFERROR(INDEX($D$8:$D$57,MATCH(0,COUNTIF($E$7:E52,$D$8:$D$57&\"\")+IF($D$8:$D$57=\"\",1,0), 0)),\"\")","v":""},"",{"$f":"IFERROR(IF(INDIRECT(\"'\"&$F53&\"'!c7\")=\"\",\"\",INDIRECT(\"'\"&$F53&\"'!c7\")),\"\")","v":""},{"$f":"IFERROR(IF(INDIRECT(\"'\"&$F53&\"'!e7\")=\"\",\"\",INDIRECT(\"'\"&$F53&\"'!e7\")),\"\")","v":""},{"$f":"IFERROR(IF(INDIRECT(\"'\"&$F53&\"'!f7\")=\"\",\"\",INDIRECT(\"'\"&$F53&\"'!f7\")),\"\")","v":""},{"$f":"IFERROR(IF(INDIRECT(\"'\"&$F53&\"'!h5\")=\"\",\"\",INDIRECT(\"'\"&$F53&\"'!h5\")),\"\")","v":""},{"$f":"IFERROR(LEFT(INDIRECT(\"'\"&$E53&\"'!c15\"),4),\"\")","v":""},{"$f":"IFERROR(LEFT(INDIRECT(\"'\"&$E53&\"'!c16\"),4),\"\")","v":""},{"$f":"IFERROR(LEFT(INDIRECT(\"'\"&$E53&\"'!c19\"),4),\"\")","v":""},{"$f":"IFERROR(LEFT(INDIRECT(\"'\"&$E53&\"'!c20\"),4),\"\")","v":""},{"$f":"IFERROR(LEFT(INDIRECT(\"'\"&$E53&\"'!c22\"),4),\"\")","v":""},{"$f":"IFERROR(LEFT(INDIRECT(\"'\"&$E53&\"'!c23\"),4),\"\")","v":""},{"$f":"IFERROR(LEFT(INDIRECT(\"'\"&$E53&\"'!c25\"),4),\"\")","v":""},{"$f":"IFERROR(LEFT(INDIRECT(\"'\"&$E53&\"'!c26\"),4),\"\")","v":""},{"$f":"IFERROR(LEFT(INDIRECT(\"'\"&$E53&\"'!c29\"),4),\"\")","v":""},{"$f":"IFERROR(LEFT(INDIRECT(\"'\"&$E53&\"'!c30\"),4),\"\")","v":""},{"$f":"IFERROR(LEFT(INDIRECT(\"'\"&$E53&\"'!c32\"),4),\"\")","v":""},{"$f":"IFERROR(LEFT(INDIRECT(\"'\"&$E53&\"'!c33\"),4),\"\")","v":""}]
[null,"",{"$f":"IFERROR(INDEX(MID(SheetNames,FIND(\"]\",SheetNames)+1,100),ROW(C48),1),\"\")","v":""},{"$f":"IFERROR(IF(AND(INDIRECT(\"'\"&$C54&\"'!c4\")='Data Set'!$D$4,INDIRECT(\"'\"&$C54&\"'!f5\")=\"Yes\"),C54,\"\"),\"\")","v":""},{"$f":"IFERROR(INDEX($D$8:$D$57,MATCH(0,COUNTIF($E$7:E53,$D$8:$D$57&\"\")+IF($D$8:$D$57=\"\",1,0), 0)),\"\")","v":""},"",{"$f":"IFERROR(IF(INDIRECT(\"'\"&$F54&\"'!c7\")=\"\",\"\",INDIRECT(\"'\"&$F54&\"'!c7\")),\"\")","v":""},{"$f":"IFERROR(IF(INDIRECT(\"'\"&$F54&\"'!e7\")=\"\",\"\",INDIRECT(\"'\"&$F54&\"'!e7\")),\"\")","v":""},{"$f":"IFERROR(IF(INDIRECT(\"'\"&$F54&\"'!f7\")=\"\",\"\",INDIRECT(\"'\"&$F54&\"'!f7\")),\"\")","v":""},{"$f":"IFERROR(IF(INDIRECT(\"'\"&$F54&\"'!h5\")=\"\",\"\",INDIRECT(\"'\"&$F54&\"'!h5\")),\"\")","v":""},{"$f":"IFERROR(LEFT(INDIRECT(\"'\"&$E54&\"'!c15\"),4),\"\")","v":""},{"$f":"IFERROR(LEFT(INDIRECT(\"'\"&$E54&\"'!c16\"),4),\"\")","v":""},{"$f":"IFERROR(LEFT(INDIRECT(\"'\"&$E54&\"'!c19\"),4),\"\")","v":""},{"$f":"IFERROR(LEFT(INDIRECT(\"'\"&$E54&\"'!c20\"),4),\"\")","v":""},{"$f":"IFERROR(LEFT(INDIRECT(\"'\"&$E54&\"'!c22\"),4),\"\")","v":""},{"$f":"IFERROR(LEFT(INDIRECT(\"'\"&$E54&\"'!c23\"),4),\"\")","v":""},{"$f":"IFERROR(LEFT(INDIRECT(\"'\"&$E54&\"'!c25\"),4),\"\")","v":""},{"$f":"IFERROR(LEFT(INDIRECT(\"'\"&$E54&\"'!c26\"),4),\"\")","v":""},{"$f":"IFERROR(LEFT(INDIRECT(\"'\"&$E54&\"'!c29\"),4),\"\")","v":""},{"$f":"IFERROR(LEFT(INDIRECT(\"'\"&$E54&\"'!c30\"),4),\"\")","v":""},{"$f":"IFERROR(LEFT(INDIRECT(\"'\"&$E54&\"'!c32\"),4),\"\")","v":""},{"$f":"IFERROR(LEFT(INDIRECT(\"'\"&$E54&\"'!c33\"),4),\"\")","v":""}]
[null,"",{"$f":"IFERROR(INDEX(MID(SheetNames,FIND(\"]\",SheetNames)+1,100),ROW(C49),1),\"\")","v":""},{"$f":"IFERROR(IF(AND(INDIRECT(\"'\"&$C55&\"'!c4\")='Data Set'!$D$4,INDIRECT(\"'\"&$C55&\"'!f5\")=\"Yes\"),C55,\"\"),\"\")","v":""},{"$f":"IFERROR(INDEX($D$8:$D$57,MATCH(0,COUNTIF($E$7:E54,$D$8:$D$57&\"\")+IF($D$8:$D$57=\"\",1,0), 0)),\"\")","v":""},"",{"$f":"IFERROR(IF(INDIRECT(\"'\"&$F55&\"'!c7\")=\"\",\"\",INDIRECT(\"'\"&$F55&\"'!c7\")),\"\")","v":""},{"$f":"IFERROR(IF(INDIRECT(\"'\"&$F55&\"'!e7\")=\"\",\"\",INDIRECT(\"'\"&$F55&\"'!e7\")),\"\")","v":""},{"$f":"IFERROR(IF(INDIRECT(\"'\"&$F55&\"'!f7\")=\"\",\"\",INDIRECT(\"'\"&$F55&\"'!f7\")),\"\")","v":""},{"$f":"IFERROR(IF(INDIRECT(\"'\"&$F55&\"'!h5\")=\"\",\"\",INDIRECT(\"'\"&$F55&\"'!h5\")),\"\")","v":""},{"$f":"IFERROR(LEFT(INDIRECT(\"'\"&$E55&\"'!c15\"),4),\"\")","v":""},{"$f":"IFERROR(LEFT(INDIRECT(\"'\"&$E55&\"'!c16\"),4),\"\")","v":""},{"$f":"IFERROR(LEFT(INDIRECT(\"'\"&$E55&\"'!c19\"),4),\"\")","v":""},{"$f":"IFERROR(LEFT(INDIRECT(\"'\"&$E55&\"'!c20\"),4),\"\")","v":""},{"$f":"IFERROR(LEFT(INDIRECT(\"'\"&$E55&\"'!c22\"),4),\"\")","v":""},{"$f":"IFERROR(LEFT(INDIRECT(\"'\"&$E55&\"'!c23\"),4),\"\")","v":""},{"$f":"IFERROR(LEFT(INDIRECT(\"'\"&$E55&\"'!c25\"),4),\"\")","v":""},{"$f":"IFERROR(LEFT(INDIRECT(\"'\"&$E55&\"'!c26\"),4),\"\")","v":""},{"$f":"IFERROR(LEFT(INDIRECT(\"'\"&$E55&\"'!c29\"),4),\"\")","v":""},{"$f":"IFERROR(LEFT(INDIRECT(\"'\"&$E55&\"'!c30\"),4),\"\")","v":""},{"$f":"IFERROR(LEFT(INDIRECT(\"'\"&$E55&\"'!c32\"),4),\"\")","v":""},{"$f":"IFERROR(LEFT(INDIRECT(\"'\"&$E55&\"'!c33\"),4),\"\")","v":""}]
[null,"",{"$f":"IFERROR(INDEX(MID(SheetNames,FIND(\"]\",SheetNames)+1,100),ROW(C50),1),\"\")","v":""},{"$f":"IFERROR(IF(AND(INDIRECT(\"'\"&$C56&\"'!c4\")='Data Set'!$D$4,INDIRECT(\"'\"&$C56&\"'!f5\")=\"Yes\"),C56,\"\"),\"\")","v":""},{"$f":"IFERROR(INDEX($D$8:$D$57,MATCH(0,COUNTIF($E$7:E55,$D$8:$D$57&\"\")+IF($D$8:$D$57=\"\",1,0), 0)),\"\")","v":""},"",{"$f":"IFERROR(IF(INDIRECT(\"'\"&$F56&\"'!c7\")=\"\",\"\",INDIRECT(\"'\"&$F56&\"'!c7\")),\"\")","v":""},{"$f":"IFERROR(IF(INDIRECT(\"'\"&$F56&\"'!e7\")=\"\",\"\",INDIRECT(\"'\"&$F56&\"'!e7\")),\"\")","v":""},{"$f":"IFERROR(IF(INDIRECT(\"'\"&$F56&\"'!f7\")=\"\",\"\",INDIRECT(\"'\"&$F56&\"'!f7\")),\"\")","v":""},{"$f":"IFERROR(IF(INDIRECT(\"'\"&$F56&\"'!h5\")=\"\",\"\",INDIRECT(\"'\"&$F56&\"'!h5\")),\"\")","v":""},{"$f":"IFERROR(LEFT(INDIRECT(\"'\"&$E56&\"'!c15\"),4),\"\")","v":""},{"$f":"IFERROR(LEFT(INDIRECT(\"'\"&$E56&\"'!c16\"),4),\"\")","v":""},{"$f":"IFERROR(LEFT(INDIRECT(\"'\"&$E56&\"'!c19\"),4),\"\")","v":""},{"$f":"IFERROR(LEFT(INDIRECT(\"'\"&$E56&\"'!c20\"),4),\"\")","v":""},{"$f":"IFERROR(LEFT(INDIRECT(\"'\"&$E56&\"'!c22\"),4),\"\")","v":""},{"$f":"IFERROR(LEFT(INDIRECT(\"'\"&$E56&\"'!c23\"),4),\"\")","v":""},{"$f":"IFERROR(LEFT(INDIRECT(\"'\"&$E56&\"'!c25\"),4),\"\")","v":""},{"$f":"IFERROR(LEFT(INDIRECT(\"'\"&$E56&\"'!c26\"),4),\"\")","v":""},{"$f":"IFERROR(LEFT(INDIRECT(\"'\"&$E56&\"'!c29\"),4),\"\")","v":""},{"$f":"IFERROR(LEFT(INDIRECT(\"'\"&$E56&\"'!c30\"),4),\"\")","v":""},{"$f":"IFERROR(LEFT(INDIRECT(\"'\"&$E56&\"'!c32\"),4),\"\")","v":""},{"$f":"IFERROR(LEFT(INDIRECT(\"'\"&$E56&\"'!c33\"),4),\"\")","v":""}]
[null,"",{"$f":"IFERROR(INDEX(MID(SheetNames,FIND(\"]\",SheetNames)+1,100),ROW(C51),1),\"\")","v":""},{"$f":"IFERROR(IF(AND(INDIRECT(\"'\"&$C57&\"'!c4\")='Data Set'!$D$4,INDIRECT(\"'\"&$C57&\"'!f5\")=\"Yes\"),C57,\"\"),\"\")","v":""},{"$f":"IFERROR(INDEX($D$8:$D$57,MATCH(0,COUNTIF($E$7:E56,$D$8:$D$57&\"\")+IF($D$8:$D$57=\"\",1,0), 0)),\"\")","v":""},"",{"$f":"IFERROR(IF(INDIRECT(\"'\"&$F57&\"'!c7\")=\"\",\"\",INDIRECT(\"'\"&$F57&\"'!c7\")),\"\")","v":""},{"$f":"IFERROR(IF(INDIRECT(\"'\"&$F57&\"'!e7\")=\"\",\"\",INDIRECT(\"'\"&$F57&\"'!e7\")),\"\")","v":""},{"$f":"IFERROR(IF(INDIRECT(\"'\"&$F57&\"'!f7\")=\"\",\"\",INDIRECT(\"'\"&$F57&\"'!f7\")),\"\")","v":""},{"$f":"IFERROR(IF(INDIRECT(\"'\"&$F57&\"'!h5\")=\"\",\"\",INDIRECT(\"'\"&$F57&\"'!h5\")),\"\")","v":""},{"$f":"IFERROR(LEFT(INDIRECT(\"'\"&$E57&\"'!c15\"),4),\"\")","v":""},{"$f":"IFERROR(LEFT(INDIRECT(\"'\"&$E57&\"'!c16\"),4),\"\")","v":""},{"$f":"IFERROR(LEFT(INDIRECT(\"'\"&$E57&\"'!c19\"),4),\"\")","v":""},{"$f":"IFERROR(LEFT(INDIRECT(\"'\"&$E57&\"'!c20\"),4),\"\")","v":""},{"$f":"IFERROR(LEFT(INDIRECT(\"'\"&$E57&\"'!c22\"),4),\"\")","v":""},{"$f":"IFERROR(LEFT(INDIRECT(\"'\"&$E57&\"'!c23\"),4),\"\")","v":""},{"$f":"IFERROR(LEFT(INDIRECT(\"'\"&$E57&\"'!c25\"),4),\"\")","v":""},{"$f":"IFERROR(LEFT(INDIRECT(\"'\"&$E57&\"'!c26\"),4),\"\")","v":""},{"$f":"IFERROR(LEFT(INDIRECT(\"'\"&$E57&\"'!c29\"),4),\"\")","v":""},{"$f":"IFERROR(LEFT(INDIRECT(\"'\"&$E57&\"'!c30\"),4),\"\")","v":""},{"$f":"IFERROR(LEFT(INDIRECT(\"'\"&$E57&\"'!c32\"),4),\"\")","v":""},{"$f":"IFERROR(LEFT(INDIRECT(\"'\"&$E57&\"'!c33\"),4),\"\")","v":""}]

{"sheet":"Class Details","index":1,"n_rows":24,"n_cols":19,"rows_kept":24,"cut":false,"hidden":false,"merged":[[11,2,11,6],[11,18,11,19],[18,10,18,15],[11,10,11,15],[12,10,12,15],[8,7,17,8],[13,3,13,5],[15,2,15,6],[5,2,5,6],[1,0,1,1],[7,7,7,8],[1,2,1,5],[6,2,6,6],[1,6,2,9],[5,7,6,15],[1,10,1,13],[1,14,1,17],[7,2,10,6],[7,9,7,15],[1,18,1,21],[19,7,19,9],[20,7,20,9],[18,7,18,9],[13,10,13,15],[14,10,14,15],[15,10,15,15],[16,10,16,15],[17,10,17,15],[19,10,19,15],[20,10,20,15],[8,10,8,15],[9,10,9,15],[10,10,10,15],[7,18,7,19]]}
[]
["Click:",null,"Index",null,null,null,"Class Details",null,null,null,"Planning Tool, Rationale & Aim",null,null,null,"Learning Outcomes Engagement",null,null,null,"Instructions"]
[]
[]
[]
[null,null,null,null,null,null,null,"Class Details Sheet:\nComplete the table below. The information in this table will prepopulate in other sheets. Teacher names will be available in a dropdown menu in each unit of learning sheet once names are filled in here."]
[]
[null,null,{"$f":"'Data Set'!D4","v":"Engineering:"},null,null,null,null,"School:",null,"Enter in Class Details sheet",null,null,null,null,null,null,null,"Current Date:",{"$f":"NOW()","v":"2021-05-26T14:48:55.450"}]
[null,null,null,null,null,null,null,"Subject teachers in the school:",null,1,"Enter in Class Details sheet"]
[null,null,null,null,null,null,null,null,null,2]
[null,null,null,null,null,null,null,null,null,3]
[null,null,"Digital Planning Tool",null,null,null,null,null,null,4]
[null,null,null,null,null,null,null,null,null,5]
[null,null,null,null,null,null,null,null,null,6]
[null,null,null,null,null,null,null,null,null,7]
[null,null,null,null,null,null,null,null,null,8]
[null,null,null,null,null,null,null,null,null,9]
[null,null,null,null,null,null,null,null,null,10]
[null,null,null,null,null,null,null,"Start year of Junior Cycle:",null,null,"Enter in Class Details sheet"]
[null,null,null,null,null,null,null,"End year of Junior Cycle:",null,null,"Enter in Class Details sheet"]
[null,null,null,null,null,null,null,"Class group: (code/name)",null,null,"Enter in Class Details sheet"]
[]
[]
[null,null,null,null,"Notes:"]

{"sheet":"Unit 1","index":2,"n_rows":38,"n_cols":11,"rows_kept":38,"cut":false,"hidden":false,"merged":[[1,0,1,1],[1,6,1,7],[4,3,4,4],[26,5,33,5],[21,5,24,5],[9,7,24,7],[33,2,33,3],[9,4,19,4],[21,4,33,4],[17,10,23,10],[8,10,15,10],[26,10,33,10],[37,2,37,3],[3,2,4,2],[34,2,34,4],[34,5,34,7],[8,2,8,3],[9,2,10,3],[30,2,30,3],[16,2,17,3],[20,2,20,3],[23,2,23,3],[26,7,30,7],[26,2,27,3],[9,5,19,5]]}
[]
["Click:",null,"Index","Class Details","Plannning Tool, Rationale & Aim","Learning Outcomes Engagement","Instructions"]
[]
[null,null,{"$f":"'Data Set'!D4","v":"Engineering:"},"Unit Title:",null,"Include on Index sheet: Select Yes / No",null,"Teacher:"]
[null,null,null,{"$f":"MID(CELL(\"filename\",A1),FIND(\"]\",CELL(\"filename\",A1))+1,1000)","v":"Unit 1"},null,"No"]
[null,null,"Year Group:","Class Group:","Commencement Date:","Duration:",null,"School:"]
[null,null,null,{"$f":"IF('Class Details'!K21=\"\",\"\",'Class Details'!K21)","v":"Enter in Class Details sheet"},"dd/mm/yyyy","No. of weeks / classes",null,{"$f":"IF('Class Details'!J8=\"\",\"\",'Class Details'!J8)","v":"Enter in Class Details sheet"}]
[]
[null,null,"PRIOR LEARNING",null,"EVIDENCE OF LEARNING:","STRATEGIES / METHODOLOGIES",null,"CLASSROOM APPROACH\n(Collaborative and / or individual)",null,null,"IDENTIFYING KEY LEARNING\n(Based on collaborative discussion)\nPrompt Questions\n\nIs there a particular area I/we want to explore with students?\nHow might this unit of learning progress prior learning?\nHave I/we considered the age and stage of students?\nHave I/we considered using learning outcomes across the strands/elements?\nHave I/we considered the action verbs in identifying key learning. "]
[]
[]
[null,null,"FOCUS OF LEARNING","EXPLORING LEARNING OUTCOMES"]
[null,null,null,"Exploring Learning Outcomes' booklet."]
[null,null,"LEARNING OUTCOMES AND KEY LEARNING:","ACTION VERBS:"]
[null,null,null,{"$f":"IF(ISERROR(VLOOKUP(C15,'Data Set'!D$8:E$55,2,FALSE)),\"\",(VLOOKUP(C15,'Data Set'!D$8:E$55,2,FALSE)))","v":""}]
[null,null,null,{"$f":"IF(ISERROR(VLOOKUP(C16,'Data Set'!D$8:E$55,2,FALSE)),\"\",(VLOOKUP(C16,'Data Set'!D$8:E$55,2,FALSE)))","v":""}]
[null,null,"Insert Key Learning"]
[null,null,null,null,null,null,null,null,null,null,"IDENTIFYING ASSESSMENT METHODS\n(Based on collaborative discussion)\nPrompt Questions\n\nHaving identified key learning we consider how students will be able to demonstrate this learning.\nHave I/we considered the use of both formative and summative assessment?\nHave I/we considered action verbs in developing assessments to allow students to demonstrate this key learning?"]
[null,null,null,{"$f":"IF(ISERROR(VLOOKUP(C19,'Data Set'!D$8:E$55,2,FALSE)),\"\",(VLOOKUP(C19,'Data Set'!D$8:E$55,2,FALSE)))","v":""}]
[null,null,null,{"$f":"IF(ISERROR(VLOOKUP(C20,'Data Set'!D$8:E$55,2,FALSE)),\"\",(VLOOKUP(C20,'Data Set'!D$8:E$55,2,FALSE)))","v":""}]
[null,null,"Insert Key Learning",null,"ONGOING ASSESSMENT:","RESOURCES"]
[null,null,null,{"$f":"IF(ISERROR(VLOOKUP(C22,'Data Set'!D$8:E$55,2,FALSE)),\"\",(VLOOKUP(C22,'Data Set'!D$8:E$55,2,FALSE)))","v":""}]
[null,null,null,{"$f":"IF(ISERROR(VLOOKUP(C23,'Data Set'!D$8:E$55,2,FALSE)),\"\",(VLOOKUP(C23,'Data Set'!D$8:E$55,2,FALSE)))","v":""}]
[null,null,"Insert Key Learning"]
[null,null,null,{"$f":"IF(ISERROR(VLOOKUP(C25,'Data Set'!D$8:E$55,2,FALSE)),\"\",(VLOOKUP(C25,'Data Set'!D$8:E$55,2,FALSE)))","v":""}]
[null,null,null,{"$f":"IF(ISERROR(VLOOKUP(C26,'Data Set'!D$8:E$55,2,FALSE)),\"\",(VLOOKUP(C26,'Data Set'!D$8:E$55,2,FALSE)))","v":""},null,"LEARNER EXPERIENCE",null,"REFLECTION / NEXT STEPS:"]
[null,null,"Insert Key Learning",null,null,null,null,null,null,null,"IDENTIFYING KEY LEARNING\n(Based on collaborative discussion)\nPrompt Questions\n\nIs there a particular area I/we want to explore with students?\nHow might this unit of learning progress prior learning?\nHave I/we considered the age and stage of students?\nHave I/we considered using learning outcomes across the strands/elements?\nHave I/we considered the action verbs in identifying key learning. "]
[]
[null,null,null,{"$f":"IF(ISERROR(VLOOKUP(C29,'Data Set'!D$8:E$55,2,FALSE)),\"\",(VLOOKUP(C29,'Data Set'!D$8:E$55,2,FALSE)))","v":""}]
[null,null,null,{"$f":"IF(ISERROR(VLOOKUP(C30,'Data Set'!D$8:E$55,2,FALSE)),\"\",(VLOOKUP(C30,'Data Set'!D$8:E$55,2,FALSE)))","v":""}]
[null,null,"Insert Key Learning"]
[null,null,null,{"$f":"IF(ISERROR(VLOOKUP(C32,'Data Set'!D$8:E$55,2,FALSE)),\"\",(VLOOKUP(C32,'Data Set'!D$8:E$55,2,FALSE)))","v":""}]
[null,null,null,{"$f":"IF(ISERROR(VLOOKUP(C33,'Data Set'!D$8:E$55,2,FALSE)),\"\",(VLOOKUP(C33,'Data Set'!D$8:E$55,2,FALSE)))","v":""}]
[null,null,"Insert key Learning"]
[null,null,"TEACHERS COLLABORATIVE PLANNING",null,null,"TEACHERS COLLABORATIVE/INDIVDUAL PLANNING"]
[null,null,null,null,null,null,null,"Designed by JCt4."]
[]
[null,null,"Notes/hyperlinks to resources/other:"]

{"sheet":"Unit 2","index":3,"n_rows":38,"n_cols":11,"rows_kept":38,"cut":false,"hidden":false,"merged":[[9,4,19,4],[9,5,19,5],[9,7,24,7],[16,2,17,3],[1,0,1,1],[1,6,1,7],[3,2,4,2],[4,3,4,4],[8,2,8,3],[34,2,34,4],[34,5,34,7],[37,2,37,3],[8,10,15,10],[9,2,10,3],[26,10,33,10],[33,2,33,3],[17,10,23,10],[20,2,20,3],[21,4,33,4],[21,5,24,5],[23,2,23,3],[26,2,27,3],[26,5,33,5],[26,7,30,7],[30,2,30,3]]}
[]
["Click:",null,"Index","Class Details","Plannning Tool, Rationale & Aim","Learning Outcomes Engagement","Instructions"]
[]
[null,null,{"$f":"'Data Set'!D4","v":"Engineering:"},"Unit Title:",null,"Include on Index sheet: Select Yes / No",null,"Teacher:"]
[null,null,null,{"$f":"MID(CELL(\"filename\",A1),FIND(\"]\",CELL(\"filename\",A1))+1,1000)","v":"Unit 2"},null,"No"]
[null,null,"Year Group:","Class Group:","Commencement Date:","Duration:",null,"School:"]
[null,null,null,{"$f":"IF('Class Details'!K21=\"\",\"\",'Class Details'!K21)","v":"Enter in Class Details sheet"},"dd/mm/yyyy","No. of weeks / classes",null,{"$f":"IF('Class Details'!J8=\"\",\"\",'Class Details'!J8)","v":"Enter in Class Details sheet"}]
[]
[null,null,"PRIOR LEARNING",null,"EVIDENCE OF LEARNING:","STRATEGIES / METHODOLOGIES",null,"CLASSROOM APPROACH\n(Collaborative and / or individual)",null,null,"IDENTIFYING KEY LEARNING\n(Based on collaborative discussion)\nPrompt Questions\n\nIs there a particular area I/we want to explore with students?\nHow might this unit of learning progress prior learning?\nHave I/we considered the age and stage of students?\nHave I/we considered using learning outcomes across the strands/elements?\nHave I/we considered the action verbs in identifying key learning. "]
[]
[]
[null,null,"FOCUS OF LEARNING","EXPLORING LEARNING OUTCOMES"]
[null,null,null,"Exploring Learning Outcomes' booklet."]
[null,null,"LEARNING OUTCOMES AND KEY LEARNING:","ACTION VERBS:"]
[null,null,null,{"$f":"IF(ISERROR(VLOOKUP(C15,'Data Set'!D$8:E$55,2,FALSE)),\"\",(VLOOKUP(C15,'Data Set'!D$8:E$55,2,FALSE)))","v":""}]
[null,null,null,{"$f":"IF(ISERROR(VLOOKUP(C16,'Data Set'!D$8:E$55,2,FALSE)),\"\",(VLOOKUP(C16,'Data Set'!D$8:E$55,2,FALSE)))","v":""}]
[null,null,"Insert Key Learning"]
[null,null,null,null,null,null,null,null,null,null,"IDENTIFYING ASSESSMENT METHODS\n(Based on collaborative discussion)\nPrompt Questions\n\nHaving identified key learning we consider how students will be able to demonstrate this learning.\nHave I/we considered the use of both formative and summative assessment?\nHave I/we considered action verbs in developing assessments to allow students to demonstrate this key learning?"]
[null,null,null,{"$f":"IF(ISERROR(VLOOKUP(C19,'Data Set'!D$8:E$55,2,FALSE)),\"\",(VLOOKUP(C19,'Data Set'!D$8:E$55,2,FALSE)))","v":""}]
[null,null,null,{"$f":"IF(ISERROR(VLOOKUP(C20,'Data Set'!D$8:E$55,2,FALSE)),\"\",(VLOOKUP(C20,'Data Set'!D$8:E$55,2,FALSE)))","v":""}]
[null,null,"Insert Key Learning",null,"ONGOING ASSESSMENT:","RESOURCES"]
[null,null,null,{"$f":"IF(ISERROR(VLOOKUP(C22,'Data Set'!D$8:E$55,2,FALSE)),\"\",(VLOOKUP(C22,'Data Set'!D$8:E$55,2,FALSE)))","v":""}]
[null,null,null,{"$f":"IF(ISERROR(VLOOKUP(C23,'Data Set'!D$8:E$55,2,FALSE)),\"\",(VLOOKUP(C23,'Data Set'!D$8:E$55,2,FALSE)))","v":""}]
[null,null,"Insert Key Learning"]
[null,null,null,{"$f":"IF(ISERROR(VLOOKUP(C25,'Data Set'!D$8:E$55,2,FALSE)),\"\",(VLOOKUP(C25,'Data Set'!D$8:E$55,2,FALSE)))","v":""}]
[null,null,null,{"$f":"IF(ISERROR(VLOOKUP(C26,'Data Set'!D$8:E$55,2,FALSE)),\"\",(VLOOKUP(C26,'Data Set'!D$8:E$55,2,FALSE)))","v":""},null,"LEARNER EXPERIENCE",null,"REFLECTION / NEXT STEPS:"]
[null,null,"Insert Key Learning",null,null,null,null,null,null,null,"IDENTIFYING KEY LEARNING\n(Based on collaborative discussion)\nPrompt Questions\n\nIs there a particular area I/we want to explore with students?\nHow might this unit of learning progress prior learning?\nHave I/we considered the age and stage of students?\nHave I/we considered using learning outcomes across the strands/elements?\nHave I/we considered the action verbs in identifying key learning. "]
[]
[null,null,null,{"$f":"IF(ISERROR(VLOOKUP(C29,'Data Set'!D$8:E$55,2,FALSE)),\"\",(VLOOKUP(C29,'Data Set'!D$8:E$55,2,FALSE)))","v":""}]
[null,null,null,{"$f":"IF(ISERROR(VLOOKUP(C30,'Data Set'!D$8:E$55,2,FALSE)),\"\",(VLOOKUP(C30,'Data Set'!D$8:E$55,2,FALSE)))","v":""}]
[null,null,"Insert Key Learning"]
[null,null,null,{"$f":"IF(ISERROR(VLOOKUP(C32,'Data Set'!D$8:E$55,2,FALSE)),\"\",(VLOOKUP(C32,'Data Set'!D$8:E$55,2,FALSE)))","v":""}]
[null,null,null,{"$f":"IF(ISERROR(VLOOKUP(C33,'Data Set'!D$8:E$55,2,FALSE)),\"\",(VLOOKUP(C33,'Data Set'!D$8:E$55,2,FALSE)))","v":""}]
[null,null,"Insert key Learning"]
[null,null,"TEACHERS COLLABORATIVE PLANNING",null,null,"TEACHERS COLLABORATIVE/INDIVDUAL PLANNING"]
[null,null,null,null,null,null,null,"Designed by JCt4."]
[]
[null,null,"Notes/hyperlinks to resources/other:"]

{"sheet":"Unit 3","index":4,"n_rows":38,"n_cols":11,"rows_kept":38,"cut":false,"hidden":false,"merged":[[37,2,37,3],[1,6,1,7],[3,2,4,2],[4,3,4,4],[9,4,19,4],[9,5,19,5],[9,7,24,7],[16,2,17,3],[20,2,20,3],[21,4,33,4],[21,5,24,5],[23,2,23,3],[26,2,27,3],[26,5,33,5],[26,7,30,7],[1,0,1,1],[8,2,8,3],[30,2,30,3],[34,2,34,4],[8,10,15,10],[9,2,10,3],[26,10,33,10],[33,2,33,3],[17,10,23,10],[34,5,34,7]]}
[]
["Click:",null,"Index","Class Details","Plannning Tool, Rationale & Aim","Learning Outcomes Engagement","Instructions"]
[]
[null,null,{"$f":"'Data Set'!D4","v":"Engineering:"},"Unit Title:",null,"Include on Index sheet: Select Yes / No",null,"Teacher:"]
[null,null,null,{"$f":"MID(CELL(\"filename\",A1),FIND(\"]\",CELL(\"filename\",A1))+1,1000)","v":"Unit 3"},null,"No"]
[null,null,"Year Group:","Class Group:","Commencement Date:","Duration:",null,"School:"]
[null,null,null,{"$f":"IF('Class Details'!K21=\"\",\"\",'Class Details'!K21)","v":"Enter in Class Details sheet"},"dd/mm/yyyy","No. of weeks / classes",null,{"$f":"IF('Class Details'!J8=\"\",\"\",'Class Details'!J8)","v":"Enter in Class Details sheet"}]
[]
[null,null,"PRIOR LEARNING",null,"EVIDENCE OF LEARNING:","STRATEGIES / METHODOLOGIES",null,"CLASSROOM APPROACH\n(Collaborative and / or individual)",null,null,"IDENTIFYING KEY LEARNING\n(Based on collaborative discussion)\nPrompt Questions\n\nIs there a particular area I/we want to explore with students?\nHow might this unit of learning progress prior learning?\nHave I/we considered the age and stage of students?\nHave I/we considered using learning outcomes across the strands/elements?\nHave I/we considered the action verbs in identifying key learning. "]
[]
[]
[null,null,"FOCUS OF LEARNING","EXPLORING LEARNING OUTCOMES"]
[null,null,null,"Exploring Learning Outcomes' booklet."]
[null,null,"LEARNING OUTCOMES AND KEY LEARNING:","ACTION VERBS:"]
[null,null,null,{"$f":"IF(ISERROR(VLOOKUP(C15,'Data Set'!D$8:E$55,2,FALSE)),\"\",(VLOOKUP(C15,'Data Set'!D$8:E$55,2,FALSE)))","v":""}]
[null,null,null,{"$f":"IF(ISERROR(VLOOKUP(C16,'Data Set'!D$8:E$55,2,FALSE)),\"\",(VLOOKUP(C16,'Data Set'!D$8:E$55,2,FALSE)))","v":""}]
[null,null,"Insert Key Learning"]
[null,null,null,null,null,null,null,null,null,null,"IDENTIFYING ASSESSMENT METHODS\n(Based on collaborative discussion)\nPrompt Questions\n\nHaving identified key learning we consider how students will be able to demonstrate this learning.\nHave I/we considered the use of both formative and summative assessment?\nHave I/we considered action verbs in developing assessments to allow students to demonstrate this key learning?"]
[null,null,null,{"$f":"IF(ISERROR(VLOOKUP(C19,'Data Set'!D$8:E$55,2,FALSE)),\"\",(VLOOKUP(C19,'Data Set'!D$8:E$55,2,FALSE)))","v":""}]
[null,null,null,{"$f":"IF(ISERROR(VLOOKUP(C20,'Data Set'!D$8:E$55,2,FALSE)),\"\",(VLOOKUP(C20,'Data Set'!D$8:E$55,2,FALSE)))","v":""}]
[null,null,"Insert Key Learning",null,"ONGOING ASSESSMENT:","RESOURCES"]
[null,null,null,{"$f":"IF(ISERROR(VLOOKUP(C22,'Data Set'!D$8:E$55,2,FALSE)),\"\",(VLOOKUP(C22,'Data Set'!D$8:E$55,2,FALSE)))","v":""}]
[null,null,null,{"$f":"IF(ISERROR(VLOOKUP(C23,'Data Set'!D$8:E$55,2,FALSE)),\"\",(VLOOKUP(C23,'Data Set'!D$8:E$55,2,FALSE)))","v":""}]
[null,null,"Insert Key Learning"]
[null,null,null,{"$f":"IF(ISERROR(VLOOKUP(C25,'Data Set'!D$8:E$55,2,FALSE)),\"\",(VLOOKUP(C25,'Data Set'!D$8:E$55,2,FALSE)))","v":""}]
[null,null,null,{"$f":"IF(ISERROR(VLOOKUP(C26,'Data Set'!D$8:E$55,2,FALSE)),\"\",(VLOOKUP(C26,'Data Set'!D$8:E$55,2,FALSE)))","v":""},null,"LEARNER EXPERIENCE",null,"REFLECTION / NEXT STEPS:"]
[null,null,"Insert Key Learning",null,null,null,null,null,null,null,"IDENTIFYING KEY LEARNING\n(Based on collaborative discussion)\nPrompt Questions\n\nIs there a particular area I/we want to explore with students?\nHow might this unit of learning progress prior learning?\nHave I/we considered the age and stage of students?\nHave I/we considered using learning outcomes across the strands/elements?\nHave I/we considered the action verbs in identifying key learning. "]
[]
[null,null,null,{"$f":"IF(ISERROR(VLOOKUP(C29,'Data Set'!D$8:E$55,2,FALSE)),\"\",(VLOOKUP(C29,'Data Set'!D$8:E$55,2,FALSE)))","v":""}]
[null,null,null,{"$f":"IF(ISERROR(VLOOKUP(C30,'Data Set'!D$8:E$55,2,FALSE)),\"\",(VLOOKUP(C30,'Data Set'!D$8:E$55,2,FALSE)))","v":""}]
[null,null,"Insert Key Learning"]
[null,null,null,{"$f":"IF(ISERROR(VLOOKUP(C32,'Data Set'!D$8:E$55,2,FALSE)),\"\",(VLOOKUP(C32,'Data Set'!D$8:E$55,2,FALSE)))","v":""}]
[null,null,null,{"$f":"IF(ISERROR(VLOOKUP(C33,'Data Set'!D$8:E$55,2,FALSE)),\"\",(VLOOKUP(C33,'Data Set'!D$8:E$55,2,FALSE)))","v":""}]
[null,null,"Insert key Learning"]
[null,null,"TEACHERS COLLABORATIVE PLANNING",null,null,"TEACHERS COLLABORATIVE/INDIVDUAL PLANNING"]
[null,null,null,null,null,null,null,"Designed by JCt4."]
[]
[null,null,"Notes/hyperlinks to resources/other:"]

{"sheet":"Unit 4","index":5,"n_rows":38,"n_cols":11,"rows_kept":38,"cut":false,"hidden":false,"merged":[[9,4,19,4],[9,5,19,5],[9,7,24,7],[16,2,17,3],[1,0,1,1],[1,6,1,7],[3,2,4,2],[4,3,4,4],[8,2,8,3],[34,2,34,4],[34,5,34,7],[37,2,37,3],[8,10,15,10],[9,2,10,3],[26,10,33,10],[33,2,33,3],[17,10,23,10],[20,2,20,3],[21,4,33,4],[21,5,24,5],[23,2,23,3],[26,2,27,3],[26,5,33,5],[26,7,30,7],[30,2,30,3]]}
[]
["Click:",null,"Index","Class Details","Plannning Tool, Rationale & Aim","Learning Outcomes Engagement","Instructions"]
[]
[null,null,{"$f":"'Data Set'!D4","v":"Engineering:"},"Unit Title:",null,"Include on Index sheet: Select Yes / No",null,"Teacher:"]
[null,null,null,{"$f":"MID(CELL(\"filename\",A1),FIND(\"]\",CELL(\"filename\",A1))+1,1000)","v":"Unit 4"},null,"No"]
[null,null,"Year Group:","Class Group:","Commencement Date:","Duration:",null,"School:"]
[null,null,null,{"$f":"IF('Class Details'!K21=\"\",\"\",'Class Details'!K21)","v":"Enter in Class Details sheet"},"dd/mm/yyyy","No. of weeks / classes",null,{"$f":"IF('Class Details'!J8=\"\",\"\",'Class Details'!J8)","v":"Enter in Class Details sheet"}]
[]
[null,null,"PRIOR LEARNING",null,"EVIDENCE OF LEARNING:","STRATEGIES / METHODOLOGIES",null,"CLASSROOM APPROACH\n(Collaborative and / or individual)",null,null,"IDENTIFYING KEY LEARNING\n(Based on collaborative discussion)\nPrompt Questions\n\nIs there a particular area I/we want to explore with students?\nHow might this unit of learning progress prior learning?\nHave I/we considered the age and stage of students?\nHave I/we considered using learning outcomes across the strands/elements?\nHave I/we considered the action verbs in identifying key learning. "]
[]
[]
[null,null,"FOCUS OF LEARNING","EXPLORING LEARNING OUTCOMES"]
[null,null,null,"Exploring Learning Outcomes' booklet."]
[null,null,"LEARNING OUTCOMES AND KEY LEARNING:","ACTION VERBS:"]
[null,null,null,{"$f":"IF(ISERROR(VLOOKUP(C15,'Data Set'!D$8:E$55,2,FALSE)),\"\",(VLOOKUP(C15,'Data Set'!D$8:E$55,2,FALSE)))","v":""}]
[null,null,null,{"$f":"IF(ISERROR(VLOOKUP(C16,'Data Set'!D$8:E$55,2,FALSE)),\"\",(VLOOKUP(C16,'Data Set'!D$8:E$55,2,FALSE)))","v":""}]
[null,null,"Insert Key Learning"]
[null,null,null,null,null,null,null,null,null,null,"IDENTIFYING ASSESSMENT METHODS\n(Based on collaborative discussion)\nPrompt Questions\n\nHaving identified key learning we consider how students will be able to demonstrate this learning.\nHave I/we considered the use of both formative and summative assessment?\nHave I/we considered action verbs in developing assessments to allow students to demonstrate this key learning?"]
[null,null,null,{"$f":"IF(ISERROR(VLOOKUP(C19,'Data Set'!D$8:E$55,2,FALSE)),\"\",(VLOOKUP(C19,'Data Set'!D$8:E$55,2,FALSE)))","v":""}]
[null,null,null,{"$f":"IF(ISERROR(VLOOKUP(C20,'Data Set'!D$8:E$55,2,FALSE)),\"\",(VLOOKUP(C20,'Data Set'!D$8:E$55,2,FALSE)))","v":""}]
[null,null,"Insert Key Learning",null,"ONGOING ASSESSMENT:","RESOURCES"]
[null,null,null,{"$f":"IF(ISERROR(VLOOKUP(C22,'Data Set'!D$8:E$55,2,FALSE)),\"\",(VLOOKUP(C22,'Data Set'!D$8:E$55,2,FALSE)))","v":""}]
[null,null,null,{"$f":"IF(ISERROR(VLOOKUP(C23,'Data Set'!D$8:E$55,2,FALSE)),\"\",(VLOOKUP(C23,'Data Set'!D$8:E$55,2,FALSE)))","v":""}]
[null,null,"Insert Key Learning"]
[null,null,null,{"$f":"IF(ISERROR(VLOOKUP(C25,'Data Set'!D$8:E$55,2,FALSE)),\"\",(VLOOKUP(C25,'Data Set'!D$8:E$55,2,FALSE)))","v":""}]
[null,null,null,{"$f":"IF(ISERROR(VLOOKUP(C26,'Data Set'!D$8:E$55,2,FALSE)),\"\",(VLOOKUP(C26,'Data Set'!D$8:E$55,2,FALSE)))","v":""},null,"LEARNER EXPERIENCE",null,"REFLECTION / NEXT STEPS:"]
[null,null,"Insert Key Learning",null,null,null,null,null,null,null,"IDENTIFYING KEY LEARNING\n(Based on collaborative discussion)\nPrompt Questions\n\nIs there a particular area I/we want to explore with students?\nHow might this unit of learning progress prior learning?\nHave I/we considered the age and stage of students?\nHave I/we considered using learning outcomes across the strands/elements?\nHave I/we considered the action verbs in identifying key learning. "]
[]
[null,null,null,{"$f":"IF(ISERROR(VLOOKUP(C29,'Data Set'!D$8:E$55,2,FALSE)),\"\",(VLOOKUP(C29,'Data Set'!D$8:E$55,2,FALSE)))","v":""}]
[null,null,null,{"$f":"IF(ISERROR(VLOOKUP(C30,'Data Set'!D$8:E$55,2,FALSE)),\"\",(VLOOKUP(C30,'Data Set'!D$8:E$55,2,FALSE)))","v":""}]
[null,null,"Insert Key Learning"]
[null,null,null,{"$f":"IF(ISERROR(VLOOKUP(C32,'Data Set'!D$8:E$55,2,FALSE)),\"\",(VLOOKUP(C32,'Data Set'!D$8:E$55,2,FALSE)))","v":""}]
[null,null,null,{"$f":"IF(ISERROR(VLOOKUP(C33,'Data Set'!D$8:E$55,2,FALSE)),\"\",(VLOOKUP(C33,'Data Set'!D$8:E$55,2,FALSE)))","v":""}]
[null,null,"Insert key Learning"]
[null,null,"TEACHERS COLLABORATIVE PLANNING",null,null,"TEACHERS COLLABORATIVE/INDIVDUAL PLANNING"]
[null,null,null,null,null,null,null,"Designed by JCt4."]
[]
[null,null,"Notes/hyperlinks to resources/other:"]

{"sheet":"Unit 5","index":6,"n_rows":38,"n_cols":11,"rows_kept":38,"cut":false,"hidden":false,"merged":[[9,4,19,4],[9,5,19,5],[9,7,24,7],[16,2,17,3],[1,0,1,1],[1,6,1,7],[3,2,4,2],[4,3,4,4],[8,2,8,3],[34,2,34,4],[34,5,34,7],[37,2,37,3],[8,10,15,10],[9,2,10,3],[26,10,33,10],[33,2,33,3],[17,10,23,10],[20,2,20,3],[21,4,33,4],[21,5,24,5],[23,2,23,3],[26,2,27,3],[26,5,33,5],[26,7,30,7],[30,2,30,3]]}
[]
["Click:",null,"Index","Class Details","Plannning Tool, Rationale & Aim","Learning Outcomes Engagement","Instructions"]
[]
[null,null,{"$f":"'Data Set'!D4","v":"Engineering:"},"Unit Title:",null,"Include on Index sheet: Select Yes / No",null,"Teacher:"]
[null,null,null,{"$f":"MID(CELL(\"filename\",A1),FIND(\"]\",CELL(\"filename\",A1))+1,1000)","v":"Unit 5"},null,"No"]
[null,null,"Year Group:","Class Group:","Commencement Date:","Duration:",null,"School:"]
[null,null,null,{"$f":"IF('Class Details'!K21=\"\",\"\",'Class Details'!K21)","v":"Enter in Class Details sheet"},"dd/mm/yyyy","No. of weeks / classes",null,{"$f":"IF('Class Details'!J8=\"\",\"\",'Class Details'!J8)","v":"Enter in Class Details sheet"}]
[]
[null,null,"PRIOR LEARNING",null,"EVIDENCE OF LEARNING:","STRATEGIES / METHODOLOGIES",null,"CLASSROOM APPROACH\n(Collaborative and / or individual)",null,null,"IDENTIFYING KEY LEARNING\n(Based on collaborative discussion)\nPrompt Questions\n\nIs there a particular area I/we want to explore with students?\nHow might this unit of learning progress prior learning?\nHave I/we considered the age and stage of students?\nHave I/we considered using learning outcomes across the strands/elements?\nHave I/we considered the action verbs in identifying key learning. "]
[]
[]
[null,null,"FOCUS OF LEARNING","EXPLORING LEARNING OUTCOMES"]
[null,null,null,"Exploring Learning Outcomes' booklet."]
[null,null,"LEARNING OUTCOMES AND KEY LEARNING:","ACTION VERBS:"]
[null,null,null,{"$f":"IF(ISERROR(VLOOKUP(C15,'Data Set'!D$8:E$55,2,FALSE)),\"\",(VLOOKUP(C15,'Data Set'!D$8:E$55,2,FALSE)))","v":""}]
[null,null,null,{"$f":"IF(ISERROR(VLOOKUP(C16,'Data Set'!D$8:E$55,2,FALSE)),\"\",(VLOOKUP(C16,'Data Set'!D$8:E$55,2,FALSE)))","v":""}]
[null,null,"Insert Key Learning"]
[null,null,null,null,null,null,null,null,null,null,"IDENTIFYING ASSESSMENT METHODS\n(Based on collaborative discussion)\nPrompt Questions\n\nHaving identified key learning we consider how students will be able to demonstrate this learning.\nHave I/we considered the use of both formative and summative assessment?\nHave I/we considered action verbs in developing assessments to allow students to demonstrate this key learning?"]
[null,null,null,{"$f":"IF(ISERROR(VLOOKUP(C19,'Data Set'!D$8:E$55,2,FALSE)),\"\",(VLOOKUP(C19,'Data Set'!D$8:E$55,2,FALSE)))","v":""}]
[null,null,null,{"$f":"IF(ISERROR(VLOOKUP(C20,'Data Set'!D$8:E$55,2,FALSE)),\"\",(VLOOKUP(C20,'Data Set'!D$8:E$55,2,FALSE)))","v":""}]
[null,null,"Insert Key Learning",null,"ONGOING ASSESSMENT:","RESOURCES"]
[null,null,null,{"$f":"IF(ISERROR(VLOOKUP(C22,'Data Set'!D$8:E$55,2,FALSE)),\"\",(VLOOKUP(C22,'Data Set'!D$8:E$55,2,FALSE)))","v":""}]
[null,null,null,{"$f":"IF(ISERROR(VLOOKUP(C23,'Data Set'!D$8:E$55,2,FALSE)),\"\",(VLOOKUP(C23,'Data Set'!D$8:E$55,2,FALSE)))","v":""}]
[null,null,"Insert Key Learning"]
[null,null,null,{"$f":"IF(ISERROR(VLOOKUP(C25,'Data Set'!D$8:E$55,2,FALSE)),\"\",(VLOOKUP(C25,'Data Set'!D$8:E$55,2,FALSE)))","v":""}]
[null,null,null,{"$f":"IF(ISERROR(VLOOKUP(C26,'Data Set'!D$8:E$55,2,FALSE)),\"\",(VLOOKUP(C26,'Data Set'!D$8:E$55,2,FALSE)))","v":""},null,"LEARNER EXPERIENCE",null,"REFLECTION / NEXT STEPS:"]
[null,null,"Insert Key Learning",null,null,null,null,null,null,null,"IDENTIFYING KEY LEARNING\n(Based on collaborative discussion)\nPrompt Questions\n\nIs there a particular area I/we want to explore with students?\nHow might this unit of learning progress prior learning?\nHave I/we considered the age and stage of students?\nHave I/we considered using learning outcomes across the strands/elements?\nHave I/we considered the action verbs in identifying key learning. "]
[]
[null,null,null,{"$f":"IF(ISERROR(VLOOKUP(C29,'Data Set'!D$8:E$55,2,FALSE)),\"\",(VLOOKUP(C29,'Data Set'!D$8:E$55,2,FALSE)))","v":""}]
[null,null,null,{"$f":"IF(ISERROR(VLOOKUP(C30,'Data Set'!D$8:E$55,2,FALSE)),\"\",(VLOOKUP(C30,'Data Set'!D$8:E$55,2,FALSE)))","v":""}]
[null,null,"Insert Key Learning"]
[null,null,null,{"$f":"IF(ISERROR(VLOOKUP(C32,'Data Set'!D$8:E$55,2,FALSE)),\"\",(VLOOKUP(C32,'Data Set'!D$8:E$55,2,FALSE)))","v":""}]
[null,null,null,{"$f":"IF(ISERROR(VLOOKUP(C33,'Data Set'!D$8:E$55,2,FALSE)),\"\",(VLOOKUP(C33,'Data Set'!D$8:E$55,2,FALSE)))","v":""}]
[null,null,"Insert key Learning"]
[null,null,"TEACHERS COLLABORATIVE PLANNING",null,null,"TEACHERS COLLABORATIVE/INDIVDUAL PLANNING"]
[null,null,null,null,null,null,null,"Designed by JCt4."]
[]
[null,null,"Notes/hyperlinks to resources/other:"]

{"sheet":"Unit 6","index":7,"n_rows":38,"n_cols":11,"rows_kept":38,"cut":false,"hidden":true,"merged":[[9,4,19,4],[9,5,19,5],[9,7,24,7],[16,2,17,3],[1,0,1,1],[1,6,1,7],[3,2,4,2],[4,3,4,4],[8,2,8,3],[34,2,34,4],[34,5,34,7],[37,2,37,3],[8,10,15,10],[9,2,10,3],[26,10,33,10],[33,2,33,3],[17,10,23,10],[20,2,20,3],[21,4,33,4],[21,5,24,5],[23,2,23,3],[26,2,27,3],[26,5,33,5],[26,7,30,7],[30,2,30,3]]}
[]
["Click:",null,"Index","Class Details","Plannning Tool, Rationale & Aim","Learning Outcomes Engagement","Instructions"]
[]
[null,null,{"$f":"'Data Set'!D4","v":"Engineering:"},"Unit Title:",null,"Include on Index sheet: Select Yes / No",null,"Teacher:"]
[null,null,null,{"$f":"MID(CELL(\"filename\",A1),FIND(\"]\",CELL(\"filename\",A1))+1,1000)","v":"Unit 6"},null,"No"]
[null,null,"Year Group:","Class Group:","Commencement Date:","Duration:",null,"School:"]
[null,null,null,{"$f":"IF('Class Details'!K21=\"\",\"\",'Class Details'!K21)","v":"Enter in Class Details sheet"},"dd/mm/yyyy","No. of weeks / classes",null,{"$f":"IF('Class Details'!J8=\"\",\"\",'Class Details'!J8)","v":"Enter in Class Details sheet"}]
[]
[null,null,"PRIOR LEARNING",null,"EVIDENCE OF LEARNING:","STRATEGIES / METHODOLOGIES",null,"CLASSROOM APPROACH\n(Collaborative and / or individual)",null,null,"IDENTIFYING KEY LEARNING\n(Based on collaborative discussion)\nPrompt Questions\n\nIs there a particular area I/we want to explore with students?\nHow might this unit of learning progress prior learning?\nHave I/we considered the age and stage of students?\nHave I/we considered using learning outcomes across the strands/elements?\nHave I/we considered the action verbs in identifying key learning. "]
[]
[]
[null,null,"FOCUS OF LEARNING","EXPLORING LEARNING OUTCOMES"]
[null,null,null,"Exploring Learning Outcomes' booklet."]
[null,null,"LEARNING OUTCOMES AND KEY LEARNING:","ACTION VERBS:"]
[null,null,null,{"$f":"IF(ISERROR(VLOOKUP(C15,'Data Set'!D$8:E$55,2,FALSE)),\"\",(VLOOKUP(C15,'Data Set'!D$8:E$55,2,FALSE)))","v":""}]
[null,null,null,{"$f":"IF(ISERROR(VLOOKUP(C16,'Data Set'!D$8:E$55,2,FALSE)),\"\",(VLOOKUP(C16,'Data Set'!D$8:E$55,2,FALSE)))","v":""}]
[null,null,"Insert Key Learning"]
[null,null,null,null,null,null,null,null,null,null,"IDENTIFYING ASSESSMENT METHODS\n(Based on collaborative discussion)\nPrompt Questions\n\nHaving identified key learning we consider how students will be able to demonstrate this learning.\nHave I/we considered the use of both formative and summative assessment?\nHave I/we considered action verbs in developing assessments to allow students to demonstrate this key learning?"]
[null,null,null,{"$f":"IF(ISERROR(VLOOKUP(C19,'Data Set'!D$8:E$55,2,FALSE)),\"\",(VLOOKUP(C19,'Data Set'!D$8:E$55,2,FALSE)))","v":""}]
[null,null,null,{"$f":"IF(ISERROR(VLOOKUP(C20,'Data Set'!D$8:E$55,2,FALSE)),\"\",(VLOOKUP(C20,'Data Set'!D$8:E$55,2,FALSE)))","v":""}]
[null,null,"Insert Key Learning",null,"ONGOING ASSESSMENT:","RESOURCES"]
[null,null,null,{"$f":"IF(ISERROR(VLOOKUP(C22,'Data Set'!D$8:E$55,2,FALSE)),\"\",(VLOOKUP(C22,'Data Set'!D$8:E$55,2,FALSE)))","v":""}]
[null,null,null,{"$f":"IF(ISERROR(VLOOKUP(C23,'Data Set'!D$8:E$55,2,FALSE)),\"\",(VLOOKUP(C23,'Data Set'!D$8:E$55,2,FALSE)))","v":""}]
[null,null,"Insert Key Learning"]
[null,null,null,{"$f":"IF(ISERROR(VLOOKUP(C25,'Data Set'!D$8:E$55,2,FALSE)),\"\",(VLOOKUP(C25,'Data Set'!D$8:E$55,2,FALSE)))","v":""}]
[null,null,null,{"$f":"IF(ISERROR(VLOOKUP(C26,'Data Set'!D$8:E$55,2,FALSE)),\"\",(VLOOKUP(C26,'Data Set'!D$8:E$55,2,FALSE)))","v":""},null,"LEARNER EXPERIENCE",null,"REFLECTION / NEXT STEPS:"]
[null,null,"Insert Key Learning",null,null,null,null,null,null,null,"IDENTIFYING KEY LEARNING\n(Based on collaborative discussion)\nPrompt Questions\n\nIs there a particular area I/we want to explore with students?\nHow might this unit of learning progress prior learning?\nHave I/we considered the age and stage of students?\nHave I/we considered using learning outcomes across the strands/elements?\nHave I/we considered the action verbs in identifying key learning. "]
[]
[null,null,null,{"$f":"IF(ISERROR(VLOOKUP(C29,'Data Set'!D$8:E$55,2,FALSE)),\"\",(VLOOKUP(C29,'Data Set'!D$8:E$55,2,FALSE)))","v":""}]
[null,null,null,{"$f":"IF(ISERROR(VLOOKUP(C30,'Data Set'!D$8:E$55,2,FALSE)),\"\",(VLOOKUP(C30,'Data Set'!D$8:E$55,2,FALSE)))","v":""}]
[null,null,"Insert Key Learning"]
[null,null,null,{"$f":"IF(ISERROR(VLOOKUP(C32,'Data Set'!D$8:E$55,2,FALSE)),\"\",(VLOOKUP(C32,'Data Set'!D$8:E$55,2,FALSE)))","v":""}]
[null,null,null,{"$f":"IF(ISERROR(VLOOKUP(C33,'Data Set'!D$8:E$55,2,FALSE)),\"\",(VLOOKUP(C33,'Data Set'!D$8:E$55,2,FALSE)))","v":""}]
[null,null,"Insert key Learning"]
[null,null,"TEACHERS COLLABORATIVE PLANNING",null,null,"TEACHERS COLLABORATIVE/INDIVDUAL PLANNING"]
[null,null,null,null,null,null,null,"Designed by JCt4."]
[]
[null,null,"Notes/hyperlinks to resources/other:"]

{"sheet":"Unit 7","index":8,"n_rows":38,"n_cols":11,"rows_kept":38,"cut":false,"hidden":true,"merged":[[9,4,19,4],[9,5,19,5],[9,7,24,7],[16,2,17,3],[1,0,1,1],[1,6,1,7],[3,2,4,2],[4,3,4,4],[8,2,8,3],[34,2,34,4],[34,5,34,7],[37,2,37,3],[8,10,15,10],[9,2,10,3],[26,10,33,10],[33,2,33,3],[17,10,23,10],[20,2,20,3],[21,4,33,4],[21,5,24,5],[23,2,23,3],[26,2,27,3],[26,5,33,5],[26,7,30,7],[30,2,30,3]]}
[]
["Click:",null,"Index","Class Details","Plannning Tool, Rationale & Aim","Learning Outcomes Engagement","Instructions"]
[]
[null,null,{"$f":"'Data Set'!D4","v":"Engineering:"},"Unit Title:",null,"Include on Index sheet: Select Yes / No",null,"Teacher:"]
[null,null,null,{"$f":"MID(CELL(\"filename\",A1),FIND(\"]\",CELL(\"filename\",A1))+1,1000)","v":"Unit 7"},null,"No"]
[null,null,"Year Group:","Class Group:","Commencement Date:","Duration:",null,"School:"]
[null,null,null,{"$f":"IF('Class Details'!K21=\"\",\"\",'Class Details'!K21)","v":"Enter in Class Details sheet"},"dd/mm/yyyy","No. of weeks / classes",null,{"$f":"IF('Class Details'!J8=\"\",\"\",'Class Details'!J8)","v":"Enter in Class Details sheet"}]
[]
[null,null,"PRIOR LEARNING",null,"EVIDENCE OF LEARNING:","STRATEGIES / METHODOLOGIES",null,"CLASSROOM APPROACH\n(Collaborative and / or individual)",null,null,"IDENTIFYING KEY LEARNING\n(Based on collaborative discussion)\nPrompt Questions\n\nIs there a particular area I/we want to explore with students?\nHow might this unit of learning progress prior learning?\nHave I/we considered the age and stage of students?\nHave I/we considered using learning outcomes across the strands/elements?\nHave I/we considered the action verbs in identifying key learning. "]
[]
[]
[null,null,"FOCUS OF LEARNING","EXPLORING LEARNING OUTCOMES"]
[null,null,null,"Exploring Learning Outcomes' booklet."]
[null,null,"LEARNING OUTCOMES AND KEY LEARNING:","ACTION VERBS:"]
[null,null,null,{"$f":"IF(ISERROR(VLOOKUP(C15,'Data Set'!D$8:E$55,2,FALSE)),\"\",(VLOOKUP(C15,'Data Set'!D$8:E$55,2,FALSE)))","v":""}]
[null,null,null,{"$f":"IF(ISERROR(VLOOKUP(C16,'Data Set'!D$8:E$55,2,FALSE)),\"\",(VLOOKUP(C16,'Data Set'!D$8:E$55,2,FALSE)))","v":""}]
[null,null,"Insert Key Learning"]
[null,null,null,null,null,null,null,null,null,null,"IDENTIFYING ASSESSMENT METHODS\n(Based on collaborative discussion)\nPrompt Questions\n\nHaving identified key learning we consider how students will be able to demonstrate this learning.\nHave I/we considered the use of both formative and summative assessment?\nHave I/we considered action verbs in developing assessments to allow students to demonstrate this key learning?"]
[null,null,null,{"$f":"IF(ISERROR(VLOOKUP(C19,'Data Set'!D$8:E$55,2,FALSE)),\"\",(VLOOKUP(C19,'Data Set'!D$8:E$55,2,FALSE)))","v":""}]
[null,null,null,{"$f":"IF(ISERROR(VLOOKUP(C20,'Data Set'!D$8:E$55,2,FALSE)),\"\",(VLOOKUP(C20,'Data Set'!D$8:E$55,2,FALSE)))","v":""}]
[null,null,"Insert Key Learning",null,"ONGOING ASSESSMENT:","RESOURCES"]
[null,null,null,{"$f":"IF(ISERROR(VLOOKUP(C22,'Data Set'!D$8:E$55,2,FALSE)),\"\",(VLOOKUP(C22,'Data Set'!D$8:E$55,2,FALSE)))","v":""}]
[null,null,null,{"$f":"IF(ISERROR(VLOOKUP(C23,'Data Set'!D$8:E$55,2,FALSE)),\"\",(VLOOKUP(C23,'Data Set'!D$8:E$55,2,FALSE)))","v":""}]
[null,null,"Insert Key Learning"]
[null,null,null,{"$f":"IF(ISERROR(VLOOKUP(C25,'Data Set'!D$8:E$55,2,FALSE)),\"\",(VLOOKUP(C25,'Data Set'!D$8:E$55,2,FALSE)))","v":""}]
[null,null,null,{"$f":"IF(ISERROR(VLOOKUP(C26,'Data Set'!D$8:E$55,2,FALSE)),\"\",(VLOOKUP(C26,'Data Set'!D$8:E$55,2,FALSE)))","v":""},null,"LEARNER EXPERIENCE",null,"REFLECTION / NEXT STEPS:"]
[null,null,"Insert Key Learning",null,null,null,null,null,null,null,"IDENTIFYING KEY LEARNING\n(Based on collaborative discussion)\nPrompt Questions\n\nIs there a particular area I/we want to explore with students?\nHow might this unit of learning progress prior learning?\nHave I/we considered the age and stage of students?\nHave I/we considered using learning outcomes across the strands/elements?\nHave I/we considered the action verbs in identifying key learning. "]
[]
[null,null,null,{"$f":"IF(ISERROR(VLOOKUP(C29,'Data Set'!D$8:E$55,2,FALSE)),\"\",(VLOOKUP(C29,'Data Set'!D$8:E$55,2,FALSE)))","v":""}]
[null,null,null,{"$f":"IF(ISERROR(VLOOKUP(C30,'Data Set'!D$8:E$55,2,FALSE)),\"\",(VLOOKUP(C30,'Data Set'!D$8:E$55,2,FALSE)))","v":""}]
[null,null,"Insert Key Learning"]
[null,null,null,{"$f":"IF(ISERROR(VLOOKUP(C32,'Data Set'!D$8:E$55,2,FALSE)),\"\",(VLOOKUP(C32,'Data Set'!D$8:E$55,2,FALSE)))","v":""}]
[null,null,null,{"$f":"IF(ISERROR(VLOOKUP(C33,'Data Set'!D$8:E$55,2,FALSE)),\"\",(VLOOKUP(C33,'Data Set'!D$8:E$55,2,FALSE)))","v":""}]
[null,null,"Insert key Learning"]
[null,null,"TEACHERS COLLABORATIVE PLANNING",null,null,"TEACHERS COLLABORATIVE/INDIVDUAL PLANNING"]
[null,null,null,null,null,null,null,"Designed by JCt4."]
[]
[null,null,"Notes/hyperlinks to resources/other:"]

{"sheet":"Unit 8","index":9,"n_rows":38,"n_cols":11,"rows_kept":38,"cut":false,"hidden":true,"merged":[[9,4,19,4],[9,5,19,5],[9,7,24,7],[16,2,17,3],[1,0,1,1],[1,6,1,7],[3,2,4,2],[4,3,4,4],[8,2,8,3],[34,2,34,4],[34,5,34,7],[37,2,37,3],[8,10,15,10],[9,2,10,3],[26,10,33,10],[33,2,33,3],[17,10,23,10],[20,2,20,3],[21,4,33,4],[21,5,24,5],[23,2,23,3],[26,2,27,3],[26,5,33,5],[26,7,30,7],[30,2,30,3]]}
[]
["Click:",null,"Index","Class Details","Plannning Tool, Rationale & Aim","Learning Outcomes Engagement","Instructions"]
[]
[null,null,{"$f":"'Data Set'!D4","v":"Engineering:"},"Unit Title:",null,"Include on Index sheet: Select Yes / No",null,"Teacher:"]
[null,null,null,{"$f":"MID(CELL(\"filename\",A1),FIND(\"]\",CELL(\"filename\",A1))+1,1000)","v":"Unit 8"},null,"No"]
[null,null,"Year Group:","Class Group:","Commencement Date:","Duration:",null,"School:"]
[null,null,null,{"$f":"IF('Class Details'!K21=\"\",\"\",'Class Details'!K21)","v":"Enter in Class Details sheet"},"dd/mm/yyyy","No. of weeks / classes",null,{"$f":"IF('Class Details'!J8=\"\",\"\",'Class Details'!J8)","v":"Enter in Class Details sheet"}]
[]
[null,null,"PRIOR LEARNING",null,"EVIDENCE OF LEARNING:","STRATEGIES / METHODOLOGIES",null,"CLASSROOM APPROACH\n(Collaborative and / or individual)",null,null,"IDENTIFYING KEY LEARNING\n(Based on collaborative discussion)\nPrompt Questions\n\nIs there a particular area I/we want to explore with students?\nHow might this unit of learning progress prior learning?\nHave I/we considered the age and stage of students?\nHave I/we considered using learning outcomes across the strands/elements?\nHave I/we considered the action verbs in identifying key learning. "]
[]
[]
[null,null,"FOCUS OF LEARNING","EXPLORING LEARNING OUTCOMES"]
[null,null,null,"Exploring Learning Outcomes' booklet."]
[null,null,"LEARNING OUTCOMES AND KEY LEARNING:","ACTION VERBS:"]
[null,null,null,{"$f":"IF(ISERROR(VLOOKUP(C15,'Data Set'!D$8:E$55,2,FALSE)),\"\",(VLOOKUP(C15,'Data Set'!D$8:E$55,2,FALSE)))","v":""}]
[null,null,null,{"$f":"IF(ISERROR(VLOOKUP(C16,'Data Set'!D$8:E$55,2,FALSE)),\"\",(VLOOKUP(C16,'Data Set'!D$8:E$55,2,FALSE)))","v":""}]
[null,null,"Insert Key Learning"]
[null,null,null,null,null,null,null,null,null,null,"IDENTIFYING ASSESSMENT METHODS\n(Based on collaborative discussion)\nPrompt Questions\n\nHaving identified key learning we consider how students will be able to demonstrate this learning.\nHave I/we considered the use of both formative and summative assessment?\nHave I/we considered action verbs in developing assessments to allow students to demonstrate this key learning?"]
[null,null,null,{"$f":"IF(ISERROR(VLOOKUP(C19,'Data Set'!D$8:E$55,2,FALSE)),\"\",(VLOOKUP(C19,'Data Set'!D$8:E$55,2,FALSE)))","v":""}]
[null,null,null,{"$f":"IF(ISERROR(VLOOKUP(C20,'Data Set'!D$8:E$55,2,FALSE)),\"\",(VLOOKUP(C20,'Data Set'!D$8:E$55,2,FALSE)))","v":""}]
[null,null,"Insert Key Learning",null,"ONGOING ASSESSMENT:","RESOURCES"]
[null,null,null,{"$f":"IF(ISERROR(VLOOKUP(C22,'Data Set'!D$8:E$55,2,FALSE)),\"\",(VLOOKUP(C22,'Data Set'!D$8:E$55,2,FALSE)))","v":""}]
[null,null,null,{"$f":"IF(ISERROR(VLOOKUP(C23,'Data Set'!D$8:E$55,2,FALSE)),\"\",(VLOOKUP(C23,'Data Set'!D$8:E$55,2,FALSE)))","v":""}]
[null,null,"Insert Key Learning"]
[null,null,null,{"$f":"IF(ISERROR(VLOOKUP(C25,'Data Set'!D$8:E$55,2,FALSE)),\"\",(VLOOKUP(C25,'Data Set'!D$8:E$55,2,FALSE)))","v":""}]
[null,null,null,{"$f":"IF(ISERROR(VLOOKUP(C26,'Data Set'!D$8:E$55,2,FALSE)),\"\",(VLOOKUP(C26,'Data Set'!D$8:E$55,2,FALSE)))","v":""},null,"LEARNER EXPERIENCE",null,"REFLECTION / NEXT STEPS:"]
[null,null,"Insert Key Learning",null,null,null,null,null,null,null,"IDENTIFYING KEY LEARNING\n(Based on collaborative discussion)\nPrompt Questions\n\nIs there a particular area I/we want to explore with students?\nHow might this unit of learning progress prior learning?\nHave I/we considered the age and stage of students?\nHave I/we considered using learning outcomes across the strands/elements?\nHave I/we considered the action verbs in identifying key learning. "]
[]
[null,null,null,{"$f":"IF(ISERROR(VLOOKUP(C29,'Data Set'!D$8:E$55,2,FALSE)),\"\",(VLOOKUP(C29,'Data Set'!D$8:E$55,2,FALSE)))","v":""}]
[null,null,null,{"$f":"IF(ISERROR(VLOOKUP(C30,'Data Set'!D$8:E$55,2,FALSE)),\"\",(VLOOKUP(C30,'Data Set'!D$8:E$55,2,FALSE)))","v":""}]
[null,null,"Insert Key Learning"]
[null,null,null,{"$f":"IF(ISERROR(VLOOKUP(C32,'Data Set'!D$8:E$55,2,FALSE)),\"\",(VLOOKUP(C32,'Data Set'!D$8:E$55,2,FALSE)))","v":""}]
[null,null,null,{"$f":"IF(ISERROR(VLOOKUP(C33,'Data Set'!D$8:E$55,2,FALSE)),\"\",(VLOOKUP(C33,'Data Set'!D$8:E$55,2,FALSE)))","v":""}]
[null,null,"Insert key Learning"]
[null,null,"TEACHERS COLLABORATIVE PLANNING",null,null,"TEACHERS COLLABORATIVE/INDIVDUAL PLANNING"]
[null,null,null,null,null,null,null,"Designed by JCt4."]
[]
[null,null,"Notes/hyperlinks to resources/other:"]

{"sheet":"Unit 9","index":10,"n_rows":38,"n_cols":11,"rows_kept":38,"cut":false,"hidden":true,"merged":[[9,4,19,4],[9,5,19,5],[9,7,24,7],[16,2,17,3],[1,0,1,1],[1,6,1,7],[3,2,4,2],[4,3,4,4],[8,2,8,3],[34,2,34,4],[34,5,34,7],[37,2,37,3],[8,10,15,10],[9,2,10,3],[26,10,33,10],[33,2,33,3],[17,10,23,10],[20,2,20,3],[21,4,33,4],[21,5,24,5],[23,2,23,3],[26,2,27,3],[26,5,33,5],[26,7,30,7],[30,2,30,3]]}
[]
["Click:",null,"Index","Class Details","Plannning Tool, Rationale & Aim","Learning Outcomes Engagement","Instructions"]
[]
[null,null,{"$f":"'Data Set'!D4","v":"Engineering:"},"Unit Title:",null,"Include on Index sheet: Select Yes / No",null,"Teacher:"]
[null,null,null,{"$f":"MID(CELL(\"filename\",A1),FIND(\"]\",CELL(\"filename\",A1))+1,1000)","v":"Unit 9"},null,"No"]
[null,null,"Year Group:","Class Group:","Commencement Date:","Duration:",null,"School:"]
[null,null,null,{"$f":"IF('Class Details'!K21=\"\",\"\",'Class Details'!K21)","v":"Enter in Class Details sheet"},"dd/mm/yyyy","No. of weeks / classes",null,{"$f":"IF('Class Details'!J8=\"\",\"\",'Class Details'!J8)","v":"Enter in Class Details sheet"}]
[]
[null,null,"PRIOR LEARNING",null,"EVIDENCE OF LEARNING:","STRATEGIES / METHODOLOGIES",null,"CLASSROOM APPROACH\n(Collaborative and / or individual)",null,null,"IDENTIFYING KEY LEARNING\n(Based on collaborative discussion)\nPrompt Questions\n\nIs there a particular area I/we want to explore with students?\nHow might this unit of learning progress prior learning?\nHave I/we considered the age and stage of students?\nHave I/we considered using learning outcomes across the strands/elements?\nHave I/we considered the action verbs in identifying key learning. "]
[]
[]
[null,null,"FOCUS OF LEARNING","EXPLORING LEARNING OUTCOMES"]
[null,null,null,"Exploring Learning Outcomes' booklet."]
[null,null,"LEARNING OUTCOMES AND KEY LEARNING:","ACTION VERBS:"]
[null,null,null,{"$f":"IF(ISERROR(VLOOKUP(C15,'Data Set'!D$8:E$55,2,FALSE)),\"\",(VLOOKUP(C15,'Data Set'!D$8:E$55,2,FALSE)))","v":""}]
[null,null,null,{"$f":"IF(ISERROR(VLOOKUP(C16,'Data Set'!D$8:E$55,2,FALSE)),\"\",(VLOOKUP(C16,'Data Set'!D$8:E$55,2,FALSE)))","v":""}]
[null,null,"Insert Key Learning"]
[null,null,null,null,null,null,null,null,null,null,"IDENTIFYING ASSESSMENT METHODS\n(Based on collaborative discussion)\nPrompt Questions\n\nHaving identified key learning we consider how students will be able to demonstrate this learning.\nHave I/we considered the use of both formative and summative assessment?\nHave I/we considered action verbs in developing assessments to allow students to demonstrate this key learning?"]
[null,null,null,{"$f":"IF(ISERROR(VLOOKUP(C19,'Data Set'!D$8:E$55,2,FALSE)),\"\",(VLOOKUP(C19,'Data Set'!D$8:E$55,2,FALSE)))","v":""}]
[null,null,null,{"$f":"IF(ISERROR(VLOOKUP(C20,'Data Set'!D$8:E$55,2,FALSE)),\"\",(VLOOKUP(C20,'Data Set'!D$8:E$55,2,FALSE)))","v":""}]
[null,null,"Insert Key Learning",null,"ONGOING ASSESSMENT:","RESOURCES"]
[null,null,null,{"$f":"IF(ISERROR(VLOOKUP(C22,'Data Set'!D$8:E$55,2,FALSE)),\"\",(VLOOKUP(C22,'Data Set'!D$8:E$55,2,FALSE)))","v":""}]
[null,null,null,{"$f":"IF(ISERROR(VLOOKUP(C23,'Data Set'!D$8:E$55,2,FALSE)),\"\",(VLOOKUP(C23,'Data Set'!D$8:E$55,2,FALSE)))","v":""}]
[null,null,"Insert Key Learning"]
[null,null,null,{"$f":"IF(ISERROR(VLOOKUP(C25,'Data Set'!D$8:E$55,2,FALSE)),\"\",(VLOOKUP(C25,'Data Set'!D$8:E$55,2,FALSE)))","v":""}]
[null,null,null,{"$f":"IF(ISERROR(VLOOKUP(C26,'Data Set'!D$8:E$55,2,FALSE)),\"\",(VLOOKUP(C26,'Data Set'!D$8:E$55,2,FALSE)))","v":""},null,"LEARNER EXPERIENCE",null,"REFLECTION / NEXT STEPS:"]
[null,null,"Insert Key Learning",null,null,null,null,null,null,null,"IDENTIFYING KEY LEARNING\n(Based on collaborative discussion)\nPrompt Questions\n\nIs there a particular area I/we want to explore with students?\nHow might this unit of learning progress prior learning?\nHave I/we considered the age and stage of students?\nHave I/we considered using learning outcomes across the strands/elements?\nHave I/we considered the action verbs in identifying key learning. "]
[]
[null,null,null,{"$f":"IF(ISERROR(VLOOKUP(C29,'Data Set'!D$8:E$55,2,FALSE)),\"\",(VLOOKUP(C29,'Data Set'!D$8:E$55,2,FALSE)))","v":""}]
[null,null,null,{"$f":"IF(ISERROR(VLOOKUP(C30,'Data Set'!D$8:E$55,2,FALSE)),\"\",(VLOOKUP(C30,'Data Set'!D$8:E$55,2,FALSE)))","v":""}]
[null,null,"Insert Key Learning"]
[null,null,null,{"$f":"IF(ISERROR(VLOOKUP(C32,'Data Set'!D$8:E$55,2,FALSE)),\"\",(VLOOKUP(C32,'Data Set'!D$8:E$55,2,FALSE)))","v":""}]
[null,null,null,{"$f":"IF(ISERROR(VLOOKUP(C33,'Data Set'!D$8:E$55,2,FALSE)),\"\",(VLOOKUP(C33,'Data Set'!D$8:E$55,2,FALSE)))","v":""}]
[null,null,"Insert key Learning"]
[null,null,"TEACHERS COLLABORATIVE PLANNING",null,null,"TEACHERS COLLABORATIVE/INDIVDUAL PLANNING"]
[null,null,null,null,null,null,null,"Designed by JCt4."]
[]
[null,null,"Notes/hyperlinks to resources/other:"]

{"sheet":"Unit 10","index":11,"n_rows":38,"n_cols":11,"rows_kept":38,"cut":false,"hidden":true,"merged":[[9,4,19,4],[9,5,19,5],[9,7,24,7],[16,2,17,3],[1,0,1,1],[1,6,1,7],[3,2,4,2],[4,3,4,4],[8,2,8,3],[34,2,34,4],[34,5,34,7],[37,2,37,3],[8,10,15,10],[9,2,10,3],[26,10,33,10],[33,2,33,3],[17,10,23,10],[20,2,20,3],[21,4,33,4],[21,5,24,5],[23,2,23,3],[26,2,27,3],[26,5,33,5],[26,7,30,7],[30,2,30,3]]}
[]
["Click:",null,"Index","Class Details","Plannning Tool, Rationale & Aim","Learning Outcomes Engagement","Instructions"]
[]
[null,null,{"$f":"'Data Set'!D4","v":"Engineering:"},"Unit Title:",null,"Include on Index sheet: Select Yes / No",null,"Teacher:"]
[null,null,null,{"$f":"MID(CELL(\"filename\",A1),FIND(\"]\",CELL(\"filename\",A1))+1,1000)","v":"Unit 10"},null,"No"]
[null,null,"Year Group:","Class Group:","Commencement Date:","Duration:",null,"School:"]
[null,null,null,{"$f":"IF('Class Details'!K21=\"\",\"\",'Class Details'!K21)","v":"Enter in Class Details sheet"},"dd/mm/yyyy","No. of weeks / classes",null,{"$f":"IF('Class Details'!J8=\"\",\"\",'Class Details'!J8)","v":"Enter in Class Details sheet"}]
[]
[null,null,"PRIOR LEARNING",null,"EVIDENCE OF LEARNING:","STRATEGIES / METHODOLOGIES",null,"CLASSROOM APPROACH\n(Collaborative and / or individual)",null,null,"IDENTIFYING KEY LEARNING\n(Based on collaborative discussion)\nPrompt Questions\n\nIs there a particular area I/we want to explore with students?\nHow might this unit of learning progress prior learning?\nHave I/we considered the age and stage of students?\nHave I/we considered using learning outcomes across the strands/elements?\nHave I/we considered the action verbs in identifying key learning. "]
[]
[]
[null,null,"FOCUS OF LEARNING","EXPLORING LEARNING OUTCOMES"]
[null,null,null,"Exploring Learning Outcomes' booklet."]
[null,null,"LEARNING OUTCOMES AND KEY LEARNING:","ACTION VERBS:"]
[null,null,null,{"$f":"IF(ISERROR(VLOOKUP(C15,'Data Set'!D$8:E$55,2,FALSE)),\"\",(VLOOKUP(C15,'Data Set'!D$8:E$55,2,FALSE)))","v":""}]
[null,null,null,{"$f":"IF(ISERROR(VLOOKUP(C16,'Data Set'!D$8:E$55,2,FALSE)),\"\",(VLOOKUP(C16,'Data Set'!D$8:E$55,2,FALSE)))","v":""}]
[null,null,"Insert Key Learning"]
[null,null,null,null,null,null,null,null,null,null,"IDENTIFYING ASSESSMENT METHODS\n(Based on collaborative discussion)\nPrompt Questions\n\nHaving identified key learning we consider how students will be able to demonstrate this learning.\nHave I/we considered the use of both formative and summative assessment?\nHave I/we considered action verbs in developing assessments to allow students to demonstrate this key learning?"]
[null,null,null,{"$f":"IF(ISERROR(VLOOKUP(C19,'Data Set'!D$8:E$55,2,FALSE)),\"\",(VLOOKUP(C19,'Data Set'!D$8:E$55,2,FALSE)))","v":""}]
[null,null,null,{"$f":"IF(ISERROR(VLOOKUP(C20,'Data Set'!D$8:E$55,2,FALSE)),\"\",(VLOOKUP(C20,'Data Set'!D$8:E$55,2,FALSE)))","v":""}]
[null,null,"Insert Key Learning",null,"ONGOING ASSESSMENT:","RESOURCES"]
[null,null,null,{"$f":"IF(ISERROR(VLOOKUP(C22,'Data Set'!D$8:E$55,2,FALSE)),\"\",(VLOOKUP(C22,'Data Set'!D$8:E$55,2,FALSE)))","v":""}]
[null,null,null,{"$f":"IF(ISERROR(VLOOKUP(C23,'Data Set'!D$8:E$55,2,FALSE)),\"\",(VLOOKUP(C23,'Data Set'!D$8:E$55,2,FALSE)))","v":""}]
[null,null,"Insert Key Learning"]
[null,null,null,{"$f":"IF(ISERROR(VLOOKUP(C25,'Data Set'!D$8:E$55,2,FALSE)),\"\",(VLOOKUP(C25,'Data Set'!D$8:E$55,2,FALSE)))","v":""}]
[null,null,null,{"$f":"IF(ISERROR(VLOOKUP(C26,'Data Set'!D$8:E$55,2,FALSE)),\"\",(VLOOKUP(C26,'Data Set'!D$8:E$55,2,FALSE)))","v":""},null,"LEARNER EXPERIENCE",null,"REFLECTION / NEXT STEPS:"]
[null,null,"Insert Key Learning",null,null,null,null,null,null,null,"IDENTIFYING KEY LEARNING\n(Based on collaborative discussion)\nPrompt Questions\n\nIs there a particular area I/we want to explore with students?\nHow might this unit of learning progress prior learning?\nHave I/we considered the age and stage of students?\nHave I/we considered using learning outcomes across the strands/elements?\nHave I/we considered the action verbs in identifying key learning. "]
[]
[null,null,null,{"$f":"IF(ISERROR(VLOOKUP(C29,'Data Set'!D$8:E$55,2,FALSE)),\"\",(VLOOKUP(C29,'Data Set'!D$8:E$55,2,FALSE)))","v":""}]
[null,null,null,{"$f":"IF(ISERROR(VLOOKUP(C30,'Data Set'!D$8:E$55,2,FALSE)),\"\",(VLOOKUP(C30,'Data Set'!D$8:E$55,2,FALSE)))","v":""}]
[null,null,"Insert Key Learning"]
[null,null,null,{"$f":"IF(ISERROR(VLOOKUP(C32,'Data Set'!D$8:E$55,2,FALSE)),\"\",(VLOOKUP(C32,'Data Set'!D$8:E$55,2,FALSE)))","v":""}]
[null,null,null,{"$f":"IF(ISERROR(VLOOKUP(C33,'Data Set'!D$8:E$55,2,FALSE)),\"\",(VLOOKUP(C33,'Data Set'!D$8:E$55,2,FALSE)))","v":""}]
[null,null,"Insert key Learning"]
[null,null,"TEACHERS COLLABORATIVE PLANNING",null,null,"TEACHERS COLLABORATIVE/INDIVDUAL PLANNING"]
[null,null,null,null,null,null,null,"Designed by JCt4."]
[]
[null,null,"Notes/hyperlinks to resources/other:"]

{"sheet":"Unit 11","index":12,"n_rows":38,"n_cols":11,"rows_kept":38,"cut":false,"hidden":true,"merged":[[9,4,19,4],[9,5,19,5],[9,7,24,7],[16,2,17,3],[1,0,1,1],[1,6,1,7],[3,2,4,2],[4,3,4,4],[8,2,8,3],[34,2,34,4],[34,5,34,7],[37,2,37,3],[8,10,15,10],[9,2,10,3],[26,10,33,10],[33,2,33,3],[17,10,23,10],[20,2,20,3],[21,4,33,4],[21,5,24,5],[23,2,23,3],[26,2,27,3],[26,5,33,5],[26,7,30,7],[30,2,30,3]]}
[]
["Click:",null,"Index","Class Details","Plannning Tool, Rationale & Aim","Learning Outcomes Engagement","Instructions"]
[]
[null,null,{"$f":"'Data Set'!D4","v":"Engineering:"},"Unit Title:",null,"Include on Index sheet: Select Yes / No",null,"Teacher:"]
[null,null,null,{"$f":"MID(CELL(\"filename\",A1),FIND(\"]\",CELL(\"filename\",A1))+1,1000)","v":"Unit 11"},null,"No"]
[null,null,"Year Group:","Class Group:","Commencement Date:","Duration:",null,"School:"]
[null,null,null,{"$f":"IF('Class Details'!K21=\"\",\"\",'Class Details'!K21)","v":"Enter in Class Details sheet"},"dd/mm/yyyy","No. of weeks / classes",null,{"$f":"IF('Class Details'!J8=\"\",\"\",'Class Details'!J8)","v":"Enter in Class Details sheet"}]
[]
[null,null,"PRIOR LEARNING",null,"EVIDENCE OF LEARNING:","STRATEGIES / METHODOLOGIES",null,"CLASSROOM APPROACH\n(Collaborative and / or individual)",null,null,"IDENTIFYING KEY LEARNING\n(Based on collaborative discussion)\nPrompt Questions\n\nIs there a particular area I/we want to explore with students?\nHow might this unit of learning progress prior learning?\nHave I/we considered the age and stage of students?\nHave I/we considered using learning outcomes across the strands/elements?\nHave I/we considered the action verbs in identifying key learning. "]
[]
[]
[null,null,"FOCUS OF LEARNING","EXPLORING LEARNING OUTCOMES"]
[null,null,null,"Exploring Learning Outcomes' booklet."]
[null,null,"LEARNING OUTCOMES AND KEY LEARNING:","ACTION VERBS:"]
[null,null,null,{"$f":"IF(ISERROR(VLOOKUP(C15,'Data Set'!D$8:E$55,2,FALSE)),\"\",(VLOOKUP(C15,'Data Set'!D$8:E$55,2,FALSE)))","v":""}]
[null,null,null,{"$f":"IF(ISERROR(VLOOKUP(C16,'Data Set'!D$8:E$55,2,FALSE)),\"\",(VLOOKUP(C16,'Data Set'!D$8:E$55,2,FALSE)))","v":""}]
[null,null,"Insert Key Learning"]
[null,null,null,null,null,null,null,null,null,null,"IDENTIFYING ASSESSMENT METHODS\n(Based on collaborative discussion)\nPrompt Questions\n\nHaving identified key learning we consider how students will be able to demonstrate this learning.\nHave I/we considered the use of both formative and summative assessment?\nHave I/we considered action verbs in developing assessments to allow students to demonstrate this key learning?"]
[null,null,null,{"$f":"IF(ISERROR(VLOOKUP(C19,'Data Set'!D$8:E$55,2,FALSE)),\"\",(VLOOKUP(C19,'Data Set'!D$8:E$55,2,FALSE)))","v":""}]
[null,null,null,{"$f":"IF(ISERROR(VLOOKUP(C20,'Data Set'!D$8:E$55,2,FALSE)),\"\",(VLOOKUP(C20,'Data Set'!D$8:E$55,2,FALSE)))","v":""}]
[null,null,"Insert Key Learning",null,"ONGOING ASSESSMENT:","RESOURCES"]
[null,null,null,{"$f":"IF(ISERROR(VLOOKUP(C22,'Data Set'!D$8:E$55,2,FALSE)),\"\",(VLOOKUP(C22,'Data Set'!D$8:E$55,2,FALSE)))","v":""}]
[null,null,null,{"$f":"IF(ISERROR(VLOOKUP(C23,'Data Set'!D$8:E$55,2,FALSE)),\"\",(VLOOKUP(C23,'Data Set'!D$8:E$55,2,FALSE)))","v":""}]
[null,null,"Insert Key Learning"]
[null,null,null,{"$f":"IF(ISERROR(VLOOKUP(C25,'Data Set'!D$8:E$55,2,FALSE)),\"\",(VLOOKUP(C25,'Data Set'!D$8:E$55,2,FALSE)))","v":""}]
[null,null,null,{"$f":"IF(ISERROR(VLOOKUP(C26,'Data Set'!D$8:E$55,2,FALSE)),\"\",(VLOOKUP(C26,'Data Set'!D$8:E$55,2,FALSE)))","v":""},null,"LEARNER EXPERIENCE",null,"REFLECTION / NEXT STEPS:"]
[null,null,"Insert Key Learning",null,null,null,null,null,null,null,"IDENTIFYING KEY LEARNING\n(Based on collaborative discussion)\nPrompt Questions\n\nIs there a particular area I/we want to explore with students?\nHow might this unit of learning progress prior learning?\nHave I/we considered the age and stage of students?\nHave I/we considered using learning outcomes across the strands/elements?\nHave I/we considered the action verbs in identifying key learning. "]
[]
[null,null,null,{"$f":"IF(ISERROR(VLOOKUP(C29,'Data Set'!D$8:E$55,2,FALSE)),\"\",(VLOOKUP(C29,'Data Set'!D$8:E$55,2,FALSE)))","v":""}]
[null,null,null,{"$f":"IF(ISERROR(VLOOKUP(C30,'Data Set'!D$8:E$55,2,FALSE)),\"\",(VLOOKUP(C30,'Data Set'!D$8:E$55,2,FALSE)))","v":""}]
[null,null,"Insert Key Learning"]
[null,null,null,{"$f":"IF(ISERROR(VLOOKUP(C32,'Data Set'!D$8:E$55,2,FALSE)),\"\",(VLOOKUP(C32,'Data Set'!D$8:E$55,2,FALSE)))","v":""}]
[null,null,null,{"$f":"IF(ISERROR(VLOOKUP(C33,'Data Set'!D$8:E$55,2,FALSE)),\"\",(VLOOKUP(C33,'Data Set'!D$8:E$55,2,FALSE)))","v":""}]
[null,null,"Insert key Learning"]
[null,null,"TEACHERS COLLABORATIVE PLANNING",null,null,"TEACHERS COLLABORATIVE/INDIVDUAL PLANNING"]
[null,null,null,null,null,null,null,"Designed by JCt4."]
[]
[null,null,"Notes/hyperlinks to resources/other:"]

{"sheet":"Unit 12","index":13,"n_rows":38,"n_cols":11,"rows_kept":38,"cut":false,"hidden":true,"merged":[[33,2,33,3],[34,2,34,4],[34,5,34,7],[37,2,37,3],[1,0,1,1],[1,6,1,7],[3,2,4,2],[4,3,4,4],[8,2,8,3],[8,10,15,10],[9,2,10,3],[9,4,19,4],[9,5,19,5],[9,7,24,7],[16,2,17,3],[17,10,23,10],[20,2,20,3],[21,4,33,4],[21,5,24,5],[23,2,23,3],[26,2,27,3],[26,5,33,5],[26,7,30,7],[26,10,33,10],[30,2,30,3]]}
[]
["Click:",null,"Index","Class Details","Plannning Tool, Rationale & Aim","Learning Outcomes Engagement","Instructions"]
[]
[null,null,{"$f":"'Data Set'!D4","v":"Engineering:"},"Unit Title:",null,"Include on Index sheet: Select Yes / No",null,"Teacher:"]
[null,null,null,{"$f":"MID(CELL(\"filename\",A1),FIND(\"]\",CELL(\"filename\",A1))+1,1000)","v":"Unit 12"},null,"No"]
[null,null,"Year Group:","Class Group:","Commencement Date:","Duration:",null,"School:"]
[null,null,null,{"$f":"IF('Class Details'!K21=\"\",\"\",'Class Details'!K21)","v":"Enter in Class Details sheet"},"dd/mm/yyyy","No. of weeks / classes",null,{"$f":"IF('Class Details'!J8=\"\",\"\",'Class Details'!J8)","v":"Enter in Class Details sheet"}]
[]
[null,null,"PRIOR LEARNING",null,"EVIDENCE OF LEARNING:","STRATEGIES / METHODOLOGIES",null,"CLASSROOM APPROACH\n(Collaborative and / or individual)",null,null,"IDENTIFYING KEY LEARNING\n(Based on collaborative discussion)\nPrompt Questions\n\nIs there a particular area I/we want to explore with students?\nHow might this unit of learning progress prior learning?\nHave I/we considered the age and stage of students?\nHave I/we considered using learning outcomes across the strands/elements?\nHave I/we considered the action verbs in identifying key learning. "]
[]
[]
[null,null,"FOCUS OF LEARNING","EXPLORING LEARNING OUTCOMES"]
[null,null,null,"Exploring Learning Outcomes' booklet."]
[null,null,"LEARNING OUTCOMES AND KEY LEARNING:","ACTION VERBS:"]
[null,null,null,{"$f":"IF(ISERROR(VLOOKUP(C15,'Data Set'!D$8:E$55,2,FALSE)),\"\",(VLOOKUP(C15,'Data Set'!D$8:E$55,2,FALSE)))","v":""}]
[null,null,null,{"$f":"IF(ISERROR(VLOOKUP(C16,'Data Set'!D$8:E$55,2,FALSE)),\"\",(VLOOKUP(C16,'Data Set'!D$8:E$55,2,FALSE)))","v":""}]
[null,null,"Insert Key Learning"]
[null,null,null,null,null,null,null,null,null,null,"IDENTIFYING ASSESSMENT METHODS\n(Based on collaborative discussion)\nPrompt Questions\n\nHaving identified key learning we consider how students will be able to demonstrate this learning.\nHave I/we considered the use of both formative and summative assessment?\nHave I/we considered action verbs in developing assessments to allow students to demonstrate this key learning?"]
[null,null,null,{"$f":"IF(ISERROR(VLOOKUP(C19,'Data Set'!D$8:E$55,2,FALSE)),\"\",(VLOOKUP(C19,'Data Set'!D$8:E$55,2,FALSE)))","v":""}]
[null,null,null,{"$f":"IF(ISERROR(VLOOKUP(C20,'Data Set'!D$8:E$55,2,FALSE)),\"\",(VLOOKUP(C20,'Data Set'!D$8:E$55,2,FALSE)))","v":""}]
[null,null,"Insert Key Learning",null,"ONGOING ASSESSMENT:","RESOURCES"]
[null,null,null,{"$f":"IF(ISERROR(VLOOKUP(C22,'Data Set'!D$8:E$55,2,FALSE)),\"\",(VLOOKUP(C22,'Data Set'!D$8:E$55,2,FALSE)))","v":""}]
[null,null,null,{"$f":"IF(ISERROR(VLOOKUP(C23,'Data Set'!D$8:E$55,2,FALSE)),\"\",(VLOOKUP(C23,'Data Set'!D$8:E$55,2,FALSE)))","v":""}]
[null,null,"Insert Key Learning"]
[null,null,null,{"$f":"IF(ISERROR(VLOOKUP(C25,'Data Set'!D$8:E$55,2,FALSE)),\"\",(VLOOKUP(C25,'Data Set'!D$8:E$55,2,FALSE)))","v":""}]
[null,null,null,{"$f":"IF(ISERROR(VLOOKUP(C26,'Data Set'!D$8:E$55,2,FALSE)),\"\",(VLOOKUP(C26,'Data Set'!D$8:E$55,2,FALSE)))","v":""},null,"LEARNER EXPERIENCE",null,"REFLECTION / NEXT STEPS:"]
[null,null,"Insert Key Learning",null,null,null,null,null,null,null,"IDENTIFYING KEY LEARNING\n(Based on collaborative discussion)\nPrompt Questions\n\nIs there a particular area I/we want to explore with students?\nHow might this unit of learning progress prior learning?\nHave I/we considered the age and stage of students?\nHave I/we considered using learning outcomes across the strands/elements?\nHave I/we considered the action verbs in identifying key learning. "]
[]
[null,null,null,{"$f":"IF(ISERROR(VLOOKUP(C29,'Data Set'!D$8:E$55,2,FALSE)),\"\",(VLOOKUP(C29,'Data Set'!D$8:E$55,2,FALSE)))","v":""}]
[null,null,null,{"$f":"IF(ISERROR(VLOOKUP(C30,'Data Set'!D$8:E$55,2,FALSE)),\"\",(VLOOKUP(C30,'Data Set'!D$8:E$55,2,FALSE)))","v":""}]
[null,null,"Insert Key Learning"]
[null,null,null,{"$f":"IF(ISERROR(VLOOKUP(C32,'Data Set'!D$8:E$55,2,FALSE)),\"\",(VLOOKUP(C32,'Data Set'!D$8:E$55,2,FALSE)))","v":""}]
[null,null,null,{"$f":"IF(ISERROR(VLOOKUP(C33,'Data Set'!D$8:E$55,2,FALSE)),\"\",(VLOOKUP(C33,'Data Set'!D$8:E$55,2,FALSE)))","v":""}]
[null,null,"Insert key Learning"]
[null,null,"TEACHERS COLLABORATIVE PLANNING",null,null,"TEACHERS COLLABORATIVE/INDIVDUAL PLANNING"]
[null,null,null,null,null,null,null,"Designed by JCt4."]
[]
[null,null,"Notes/hyperlinks to resources/other:"]

{"sheet":"Unit 13","index":14,"n_rows":38,"n_cols":11,"rows_kept":38,"cut":false,"hidden":true,"merged":[[9,4,19,4],[9,5,19,5],[9,7,24,7],[16,2,17,3],[1,0,1,1],[1,6,1,7],[3,2,4,2],[4,3,4,4],[8,2,8,3],[34,2,34,4],[34,5,34,7],[37,2,37,3],[8,10,15,10],[9,2,10,3],[26,10,33,10],[33,2,33,3],[17,10,23,10],[20,2,20,3],[21,4,33,4],[21,5,24,5],[23,2,23,3],[26,2,27,3],[26,5,33,5],[26,7,30,7],[30,2,30,3]]}
[]
["Click:",null,"Index","Class Details","Plannning Tool, Rationale & Aim","Learning Outcomes Engagement","Instructions"]
[]
[null,null,{"$f":"'Data Set'!D4","v":"Engineering:"},"Unit Title:",null,"Include on Index sheet: Select Yes / No",null,"Teacher:"]
[null,null,null,{"$f":"MID(CELL(\"filename\",A1),FIND(\"]\",CELL(\"filename\",A1))+1,1000)","v":"Unit 13"},null,"No"]
[null,null,"Year Group:","Class Group:","Commencement Date:","Duration:",null,"School:"]
[null,null,null,{"$f":"IF('Class Details'!K21=\"\",\"\",'Class Details'!K21)","v":"Enter in Class Details sheet"},"dd/mm/yyyy","No. of weeks / classes",null,{"$f":"IF('Class Details'!J8=\"\",\"\",'Class Details'!J8)","v":"Enter in Class Details sheet"}]
[]
[null,null,"PRIOR LEARNING",null,"EVIDENCE OF LEARNING:","STRATEGIES / METHODOLOGIES",null,"CLASSROOM APPROACH\n(Collaborative and / or individual)",null,null,"IDENTIFYING KEY LEARNING\n(Based on collaborative discussion)\nPrompt Questions\n\nIs there a particular area I/we want to explore with students?\nHow might this unit of learning progress prior learning?\nHave I/we considered the age and stage of students?\nHave I/we considered using learning outcomes across the strands/elements?\nHave I/we considered the action verbs in identifying key learning. "]
[]
[]
[null,null,"FOCUS OF LEARNING","EXPLORING LEARNING OUTCOMES"]
[null,null,null,"Exploring Learning Outcomes' booklet."]
[null,null,"LEARNING OUTCOMES AND KEY LEARNING:","ACTION VERBS:"]
[null,null,null,{"$f":"IF(ISERROR(VLOOKUP(C15,'Data Set'!D$8:E$55,2,FALSE)),\"\",(VLOOKUP(C15,'Data Set'!D$8:E$55,2,FALSE)))","v":""}]
[null,null,null,{"$f":"IF(ISERROR(VLOOKUP(C16,'Data Set'!D$8:E$55,2,FALSE)),\"\",(VLOOKUP(C16,'Data Set'!D$8:E$55,2,FALSE)))","v":""}]
[null,null,"Insert Key Learning"]
[null,null,null,null,null,null,null,null,null,null,"IDENTIFYING ASSESSMENT METHODS\n(Based on collaborative discussion)\nPrompt Questions\n\nHaving identified key learning we consider how students will be able to demonstrate this learning.\nHave I/we considered the use of both formative and summative assessment?\nHave I/we considered action verbs in developing assessments to allow students to demonstrate this key learning?"]
[null,null,null,{"$f":"IF(ISERROR(VLOOKUP(C19,'Data Set'!D$8:E$55,2,FALSE)),\"\",(VLOOKUP(C19,'Data Set'!D$8:E$55,2,FALSE)))","v":""}]
[null,null,null,{"$f":"IF(ISERROR(VLOOKUP(C20,'Data Set'!D$8:E$55,2,FALSE)),\"\",(VLOOKUP(C20,'Data Set'!D$8:E$55,2,FALSE)))","v":""}]
[null,null,"Insert Key Learning",null,"ONGOING ASSESSMENT:","RESOURCES"]
[null,null,null,{"$f":"IF(ISERROR(VLOOKUP(C22,'Data Set'!D$8:E$55,2,FALSE)),\"\",(VLOOKUP(C22,'Data Set'!D$8:E$55,2,FALSE)))","v":""}]
[null,null,null,{"$f":"IF(ISERROR(VLOOKUP(C23,'Data Set'!D$8:E$55,2,FALSE)),\"\",(VLOOKUP(C23,'Data Set'!D$8:E$55,2,FALSE)))","v":""}]
[null,null,"Insert Key Learning"]
[null,null,null,{"$f":"IF(ISERROR(VLOOKUP(C25,'Data Set'!D$8:E$55,2,FALSE)),\"\",(VLOOKUP(C25,'Data Set'!D$8:E$55,2,FALSE)))","v":""}]
[null,null,null,{"$f":"IF(ISERROR(VLOOKUP(C26,'Data Set'!D$8:E$55,2,FALSE)),\"\",(VLOOKUP(C26,'Data Set'!D$8:E$55,2,FALSE)))","v":""},null,"LEARNER EXPERIENCE",null,"REFLECTION / NEXT STEPS:"]
[null,null,"Insert Key Learning",null,null,null,null,null,null,null,"IDENTIFYING KEY LEARNING\n(Based on collaborative discussion)\nPrompt Questions\n\nIs there a particular area I/we want to explore with students?\nHow might this unit of learning progress prior learning?\nHave I/we considered the age and stage of students?\nHave I/we considered using learning outcomes across the strands/elements?\nHave I/we considered the action verbs in identifying key learning. "]
[]
[null,null,null,{"$f":"IF(ISERROR(VLOOKUP(C29,'Data Set'!D$8:E$55,2,FALSE)),\"\",(VLOOKUP(C29,'Data Set'!D$8:E$55,2,FALSE)))","v":""}]
[null,null,null,{"$f":"IF(ISERROR(VLOOKUP(C30,'Data Set'!D$8:E$55,2,FALSE)),\"\",(VLOOKUP(C30,'Data Set'!D$8:E$55,2,FALSE)))","v":""}]
[null,null,"Insert Key Learning"]
[null,null,null,{"$f":"IF(ISERROR(VLOOKUP(C32,'Data Set'!D$8:E$55,2,FALSE)),\"\",(VLOOKUP(C32,'Data Set'!D$8:E$55,2,FALSE)))","v":""}]
[null,null,null,{"$f":"IF(ISERROR(VLOOKUP(C33,'Data Set'!D$8:E$55,2,FALSE)),\"\",(VLOOKUP(C33,'Data Set'!D$8:E$55,2,FALSE)))","v":""}]
[null,null,"Insert key Learning"]
[null,null,"TEACHERS COLLABORATIVE PLANNING",null,null,"TEACHERS COLLABORATIVE/INDIVDUAL PLANNING"]
[null,null,null,null,null,null,null,"Designed by JCt4."]
[]
[null,null,"Notes/hyperlinks to resources/other:"]

{"sheet":"Unit 14","index":15,"n_rows":38,"n_cols":11,"rows_kept":38,"cut":false,"hidden":true,"merged":[[9,4,19,4],[9,5,19,5],[9,7,24,7],[16,2,17,3],[1,0,1,1],[1,6,1,7],[3,2,4,2],[4,3,4,4],[8,2,8,3],[34,2,34,4],[34,5,34,7],[37,2,37,3],[8,10,15,10],[9,2,10,3],[26,10,33,10],[33,2,33,3],[17,10,23,10],[20,2,20,3],[21,4,33,4],[21,5,24,5],[23,2,23,3],[26,2,27,3],[26,5,33,5],[26,7,30,7],[30,2,30,3]]}
[]
["Click:",null,"Index","Class Details","Plannning Tool, Rationale & Aim","Learning Outcomes Engagement","Instructions"]
[]
[null,null,{"$f":"'Data Set'!D4","v":"Engineering:"},"Unit Title:",null,"Include on Index sheet: Select Yes / No",null,"Teacher:"]
[null,null,null,{"$f":"MID(CELL(\"filename\",A1),FIND(\"]\",CELL(\"filename\",A1))+1,1000)","v":"Unit 14"},null,"No"]
[null,null,"Year Group:","Class Group:","Commencement Date:","Duration:",null,"School:"]
[null,null,null,{"$f":"IF('Class Details'!K21=\"\",\"\",'Class Details'!K21)","v":"Enter in Class Details sheet"},"dd/mm/yyyy","No. of weeks / classes",null,{"$f":"IF('Class Details'!J8=\"\",\"\",'Class Details'!J8)","v":"Enter in Class Details sheet"}]
[]
[null,null,"PRIOR LEARNING",null,"EVIDENCE OF LEARNING:","STRATEGIES / METHODOLOGIES",null,"CLASSROOM APPROACH\n(Collaborative and / or individual)",null,null,"IDENTIFYING KEY LEARNING\n(Based on collaborative discussion)\nPrompt Questions\n\nIs there a particular area I/we want to explore with students?\nHow might this unit of learning progress prior learning?\nHave I/we considered the age and stage of students?\nHave I/we considered using learning outcomes across the strands/elements?\nHave I/we considered the action verbs in identifying key learning. "]
[]
[]
[null,null,"FOCUS OF LEARNING","EXPLORING LEARNING OUTCOMES"]
[null,null,null,"Exploring Learning Outcomes' booklet."]
[null,null,"LEARNING OUTCOMES AND KEY LEARNING:","ACTION VERBS:"]
[null,null,null,{"$f":"IF(ISERROR(VLOOKUP(C15,'Data Set'!D$8:E$55,2,FALSE)),\"\",(VLOOKUP(C15,'Data Set'!D$8:E$55,2,FALSE)))","v":""}]
[null,null,null,{"$f":"IF(ISERROR(VLOOKUP(C16,'Data Set'!D$8:E$55,2,FALSE)),\"\",(VLOOKUP(C16,'Data Set'!D$8:E$55,2,FALSE)))","v":""}]
[null,null,"Insert Key Learning"]
[null,null,null,null,null,null,null,null,null,null,"IDENTIFYING ASSESSMENT METHODS\n(Based on collaborative discussion)\nPrompt Questions\n\nHaving identified key learning we consider how students will be able to demonstrate this learning.\nHave I/we considered the use of both formative and summative assessment?\nHave I/we considered action verbs in developing assessments to allow students to demonstrate this key learning?"]
[null,null,null,{"$f":"IF(ISERROR(VLOOKUP(C19,'Data Set'!D$8:E$55,2,FALSE)),\"\",(VLOOKUP(C19,'Data Set'!D$8:E$55,2,FALSE)))","v":""}]
[null,null,null,{"$f":"IF(ISERROR(VLOOKUP(C20,'Data Set'!D$8:E$55,2,FALSE)),\"\",(VLOOKUP(C20,'Data Set'!D$8:E$55,2,FALSE)))","v":""}]
[null,null,"Insert Key Learning",null,"ONGOING ASSESSMENT:","RESOURCES"]
[null,null,null,{"$f":"IF(ISERROR(VLOOKUP(C22,'Data Set'!D$8:E$55,2,FALSE)),\"\",(VLOOKUP(C22,'Data Set'!D$8:E$55,2,FALSE)))","v":""}]
[null,null,null,{"$f":"IF(ISERROR(VLOOKUP(C23,'Data Set'!D$8:E$55,2,FALSE)),\"\",(VLOOKUP(C23,'Data Set'!D$8:E$55,2,FALSE)))","v":""}]
[null,null,"Insert Key Learning"]
[null,null,null,{"$f":"IF(ISERROR(VLOOKUP(C25,'Data Set'!D$8:E$55,2,FALSE)),\"\",(VLOOKUP(C25,'Data Set'!D$8:E$55,2,FALSE)))","v":""}]
[null,null,null,{"$f":"IF(ISERROR(VLOOKUP(C26,'Data Set'!D$8:E$55,2,FALSE)),\"\",(VLOOKUP(C26,'Data Set'!D$8:E$55,2,FALSE)))","v":""},null,"LEARNER EXPERIENCE",null,"REFLECTION / NEXT STEPS:"]
[null,null,"Insert Key Learning",null,null,null,null,null,null,null,"IDENTIFYING KEY LEARNING\n(Based on collaborative discussion)\nPrompt Questions\n\nIs there a particular area I/we want to explore with students?\nHow might this unit of learning progress prior learning?\nHave I/we considered the age and stage of students?\nHave I/we considered using learning outcomes across the strands/elements?\nHave I/we considered the action verbs in identifying key learning. "]
[]
[null,null,null,{"$f":"IF(ISERROR(VLOOKUP(C29,'Data Set'!D$8:E$55,2,FALSE)),\"\",(VLOOKUP(C29,'Data Set'!D$8:E$55,2,FALSE)))","v":""}]
[null,null,null,{"$f":"IF(ISERROR(VLOOKUP(C30,'Data Set'!D$8:E$55,2,FALSE)),\"\",(VLOOKUP(C30,'Data Set'!D$8:E$55,2,FALSE)))","v":""}]
[null,null,"Insert Key Learning"]
[null,null,null,{"$f":"IF(ISERROR(VLOOKUP(C32,'Data Set'!D$8:E$55,2,FALSE)),\"\",(VLOOKUP(C32,'Data Set'!D$8:E$55,2,FALSE)))","v":""}]
[null,null,null,{"$f":"IF(ISERROR(VLOOKUP(C33,'Data Set'!D$8:E$55,2,FALSE)),\"\",(VLOOKUP(C33,'Data Set'!D$8:E$55,2,FALSE)))","v":""}]
[null,null,"Insert key Learning"]
[null,null,"TEACHERS COLLABORATIVE PLANNING",null,null,"TEACHERS COLLABORATIVE/INDIVDUAL PLANNING"]
[null,null,null,null,null,null,null,"Designed by JCt4."]
[]
[null,null,"Notes/hyperlinks to resources/other:"]

{"sheet":"Unit 15","index":16,"n_rows":38,"n_cols":11,"rows_kept":38,"cut":false,"hidden":true,"merged":[[9,4,19,4],[9,5,19,5],[9,7,24,7],[16,2,17,3],[1,0,1,1],[1,6,1,7],[3,2,4,2],[4,3,4,4],[8,2,8,3],[34,2,34,4],[34,5,34,7],[37,2,37,3],[8,10,15,10],[9,2,10,3],[26,10,33,10],[33,2,33,3],[17,10,23,10],[20,2,20,3],[21,4,33,4],[21,5,24,5],[23,2,23,3],[26,2,27,3],[26,5,33,5],[26,7,30,7],[30,2,30,3]]}
[]
["Click:",null,"Index","Class Details","Plannning Tool, Rationale & Aim","Learning Outcomes Engagement","Instructions"]
[]
[null,null,{"$f":"'Data Set'!D4","v":"Engineering:"},"Unit Title:",null,"Include on Index sheet: Select Yes / No",null,"Teacher:"]
[null,null,null,{"$f":"MID(CELL(\"filename\",A1),FIND(\"]\",CELL(\"filename\",A1))+1,1000)","v":"Unit 15"},null,"No"]
[null,null,"Year Group:","Class Group:","Commencement Date:","Duration:",null,"School:"]
[null,null,null,{"$f":"IF('Class Details'!K21=\"\",\"\",'Class Details'!K21)","v":"Enter in Class Details sheet"},"dd/mm/yyyy","No. of weeks / classes",null,{"$f":"IF('Class Details'!J8=\"\",\"\",'Class Details'!J8)","v":"Enter in Class Details sheet"}]
[]
[null,null,"PRIOR LEARNING",null,"EVIDENCE OF LEARNING:","STRATEGIES / METHODOLOGIES",null,"CLASSROOM APPROACH\n(Collaborative and / or individual)",null,null,"IDENTIFYING KEY LEARNING\n(Based on collaborative discussion)\nPrompt Questions\n\nIs there a particular area I/we want to explore with students?\nHow might this unit of learning progress prior learning?\nHave I/we considered the age and stage of students?\nHave I/we considered using learning outcomes across the strands/elements?\nHave I/we considered the action verbs in identifying key learning. "]
[]
[]
[null,null,"FOCUS OF LEARNING","EXPLORING LEARNING OUTCOMES"]
[null,null,null,"Exploring Learning Outcomes' booklet."]
[null,null,"LEARNING OUTCOMES AND KEY LEARNING:","ACTION VERBS:"]
[null,null,null,{"$f":"IF(ISERROR(VLOOKUP(C15,'Data Set'!D$8:E$55,2,FALSE)),\"\",(VLOOKUP(C15,'Data Set'!D$8:E$55,2,FALSE)))","v":""}]
[null,null,null,{"$f":"IF(ISERROR(VLOOKUP(C16,'Data Set'!D$8:E$55,2,FALSE)),\"\",(VLOOKUP(C16,'Data Set'!D$8:E$55,2,FALSE)))","v":""}]
[null,null,"Insert Key Learning"]
[null,null,null,null,null,null,null,null,null,null,"IDENTIFYING ASSESSMENT METHODS\n(Based on collaborative discussion)\nPrompt Questions\n\nHaving identified key learning we consider how students will be able to demonstrate this learning.\nHave I/we considered the use of both formative and summative assessment?\nHave I/we considered action verbs in developing assessments to allow students to demonstrate this key learning?"]
[null,null,null,{"$f":"IF(ISERROR(VLOOKUP(C19,'Data Set'!D$8:E$55,2,FALSE)),\"\",(VLOOKUP(C19,'Data Set'!D$8:E$55,2,FALSE)))","v":""}]
[null,null,null,{"$f":"IF(ISERROR(VLOOKUP(C20,'Data Set'!D$8:E$55,2,FALSE)),\"\",(VLOOKUP(C20,'Data Set'!D$8:E$55,2,FALSE)))","v":""}]
[null,null,"Insert Key Learning",null,"ONGOING ASSESSMENT:","RESOURCES"]
[null,null,null,{"$f":"IF(ISERROR(VLOOKUP(C22,'Data Set'!D$8:E$55,2,FALSE)),\"\",(VLOOKUP(C22,'Data Set'!D$8:E$55,2,FALSE)))","v":""}]
[null,null,null,{"$f":"IF(ISERROR(VLOOKUP(C23,'Data Set'!D$8:E$55,2,FALSE)),\"\",(VLOOKUP(C23,'Data Set'!D$8:E$55,2,FALSE)))","v":""}]
[null,null,"Insert Key Learning"]
[null,null,null,{"$f":"IF(ISERROR(VLOOKUP(C25,'Data Set'!D$8:E$55,2,FALSE)),\"\",(VLOOKUP(C25,'Data Set'!D$8:E$55,2,FALSE)))","v":""}]
[null,null,null,{"$f":"IF(ISERROR(VLOOKUP(C26,'Data Set'!D$8:E$55,2,FALSE)),\"\",(VLOOKUP(C26,'Data Set'!D$8:E$55,2,FALSE)))","v":""},null,"LEARNER EXPERIENCE",null,"REFLECTION / NEXT STEPS:"]
[null,null,"Insert Key Learning",null,null,null,null,null,null,null,"IDENTIFYING KEY LEARNING\n(Based on collaborative discussion)\nPrompt Questions\n\nIs there a particular area I/we want to explore with students?\nHow might this unit of learning progress prior learning?\nHave I/we considered the age and stage of students?\nHave I/we considered using learning outcomes across the strands/elements?\nHave I/we considered the action verbs in identifying key learning. "]
[]
[null,null,null,{"$f":"IF(ISERROR(VLOOKUP(C29,'Data Set'!D$8:E$55,2,FALSE)),\"\",(VLOOKUP(C29,'Data Set'!D$8:E$55,2,FALSE)))","v":""}]
[null,null,null,{"$f":"IF(ISERROR(VLOOKUP(C30,'Data Set'!D$8:E$55,2,FALSE)),\"\",(VLOOKUP(C30,'Data Set'!D$8:E$55,2,FALSE)))","v":""}]
[null,null,"Insert Key Learning"]
[null,null,null,{"$f":"IF(ISERROR(VLOOKUP(C32,'Data Set'!D$8:E$55,2,FALSE)),\"\",(VLOOKUP(C32,'Data Set'!D$8:E$55,2,FALSE)))","v":""}]
[null,null,null,{"$f":"IF(ISERROR(VLOOKUP(C33,'Data Set'!D$8:E$55,2,FALSE)),\"\",(VLOOKUP(C33,'Data Set'!D$8:E$55,2,FALSE)))","v":""}]
[null,null,"Insert key Learning"]
[null,null,"TEACHERS COLLABORATIVE PLANNING",null,null,"TEACHERS COLLABORATIVE/INDIVDUAL PLANNING"]
[null,null,null,null,null,null,null,"Designed by JCt4."]
[]
[null,null,"Notes/hyperlinks to resources/other:"]

{"sheet":"Unit 16","index":17,"n_rows":38,"n_cols":11,"rows_kept":38,"cut":false,"hidden":true,"merged":[[9,4,19,4],[9,5,19,5],[9,7,24,7],[16,2,17,3],[1,0,1,1],[1,6,1,7],[3,2,4,2],[4,3,4,4],[8,2,8,3],[34,2,34,4],[34,5,34,7],[37,2,37,3],[8,10,15,10],[9,2,10,3],[26,10,33,10],[33,2,33,3],[17,10,23,10],[20,2,20,3],[21,4,33,4],[21,5,24,5],[23,2,23,3],[26,2,27,3],[26,5,33,5],[26,7,30,7],[30,2,30,3]]}
[]
["Click:",null,"Index","Class Details","Plannning Tool, Rationale & Aim","Learning Outcomes Engagement","Instructions"]
[]
[null,null,{"$f":"'Data Set'!D4","v":"Engineering:"},"Unit Title:",null,"Include on Index sheet: Select Yes / No",null,"Teacher:"]
[null,null,null,{"$f":"MID(CELL(\"filename\",A1),FIND(\"]\",CELL(\"filename\",A1))+1,1000)","v":"Unit 16"},null,"No"]
[null,null,"Year Group:","Class Group:","Commencement Date:","Duration:",null,"School:"]
[null,null,null,{"$f":"IF('Class Details'!K21=\"\",\"\",'Class Details'!K21)","v":"Enter in Class Details sheet"},"dd/mm/yyyy","No. of weeks / classes",null,{"$f":"IF('Class Details'!J8=\"\",\"\",'Class Details'!J8)","v":"Enter in Class Details sheet"}]
[]
[null,null,"PRIOR LEARNING",null,"EVIDENCE OF LEARNING:","STRATEGIES / METHODOLOGIES",null,"CLASSROOM APPROACH\n(Collaborative and / or individual)",null,null,"IDENTIFYING KEY LEARNING\n(Based on collaborative discussion)\nPrompt Questions\n\nIs there a particular area I/we want to explore with students?\nHow might this unit of learning progress prior learning?\nHave I/we considered the age and stage of students?\nHave I/we considered using learning outcomes across the strands/elements?\nHave I/we considered the action verbs in identifying key learning. "]
[]
[]
[null,null,"FOCUS OF LEARNING","EXPLORING LEARNING OUTCOMES"]
[null,null,null,"Exploring Learning Outcomes' booklet."]
[null,null,"LEARNING OUTCOMES AND KEY LEARNING:","ACTION VERBS:"]
[null,null,null,{"$f":"IF(ISERROR(VLOOKUP(C15,'Data Set'!D$8:E$55,2,FALSE)),\"\",(VLOOKUP(C15,'Data Set'!D$8:E$55,2,FALSE)))","v":""}]
[null,null,null,{"$f":"IF(ISERROR(VLOOKUP(C16,'Data Set'!D$8:E$55,2,FALSE)),\"\",(VLOOKUP(C16,'Data Set'!D$8:E$55,2,FALSE)))","v":""}]
[null,null,"Insert Key Learning"]
[null,null,null,null,null,null,null,null,null,null,"IDENTIFYING ASSESSMENT METHODS\n(Based on collaborative discussion)\nPrompt Questions\n\nHaving identified key learning we consider how students will be able to demonstrate this learning.\nHave I/we considered the use of both formative and summative assessment?\nHave I/we considered action verbs in developing assessments to allow students to demonstrate this key learning?"]
[null,null,null,{"$f":"IF(ISERROR(VLOOKUP(C19,'Data Set'!D$8:E$55,2,FALSE)),\"\",(VLOOKUP(C19,'Data Set'!D$8:E$55,2,FALSE)))","v":""}]
[null,null,null,{"$f":"IF(ISERROR(VLOOKUP(C20,'Data Set'!D$8:E$55,2,FALSE)),\"\",(VLOOKUP(C20,'Data Set'!D$8:E$55,2,FALSE)))","v":""}]
[null,null,"Insert Key Learning",null,"ONGOING ASSESSMENT:","RESOURCES"]
[null,null,null,{"$f":"IF(ISERROR(VLOOKUP(C22,'Data Set'!D$8:E$55,2,FALSE)),\"\",(VLOOKUP(C22,'Data Set'!D$8:E$55,2,FALSE)))","v":""}]
[null,null,null,{"$f":"IF(ISERROR(VLOOKUP(C23,'Data Set'!D$8:E$55,2,FALSE)),\"\",(VLOOKUP(C23,'Data Set'!D$8:E$55,2,FALSE)))","v":""}]
[null,null,"Insert Key Learning"]
[null,null,null,{"$f":"IF(ISERROR(VLOOKUP(C25,'Data Set'!D$8:E$55,2,FALSE)),\"\",(VLOOKUP(C25,'Data Set'!D$8:E$55,2,FALSE)))","v":""}]
[null,null,null,{"$f":"IF(ISERROR(VLOOKUP(C26,'Data Set'!D$8:E$55,2,FALSE)),\"\",(VLOOKUP(C26,'Data Set'!D$8:E$55,2,FALSE)))","v":""},null,"LEARNER EXPERIENCE",null,"REFLECTION / NEXT STEPS:"]
[null,null,"Insert Key Learning",null,null,null,null,null,null,null,"IDENTIFYING KEY LEARNING\n(Based on collaborative discussion)\nPrompt Questions\n\nIs there a particular area I/we want to explore with students?\nHow might this unit of learning progress prior learning?\nHave I/we considered the age and stage of students?\nHave I/we considered using learning outcomes across the strands/elements?\nHave I/we considered the action verbs in identifying key learning. "]
[]
[null,null,null,{"$f":"IF(ISERROR(VLOOKUP(C29,'Data Set'!D$8:E$55,2,FALSE)),\"\",(VLOOKUP(C29,'Data Set'!D$8:E$55,2,FALSE)))","v":""}]
[null,null,null,{"$f":"IF(ISERROR(VLOOKUP(C30,'Data Set'!D$8:E$55,2,FALSE)),\"\",(VLOOKUP(C30,'Data Set'!D$8:E$55,2,FALSE)))","v":""}]
[null,null,"Insert Key Learning"]
[null,null,null,{"$f":"IF(ISERROR(VLOOKUP(C32,'Data Set'!D$8:E$55,2,FALSE)),\"\",(VLOOKUP(C32,'Data Set'!D$8:E$55,2,FALSE)))","v":""}]
[null,null,null,{"$f":"IF(ISERROR(VLOOKUP(C33,'Data Set'!D$8:E$55,2,FALSE)),\"\",(VLOOKUP(C33,'Data Set'!D$8:E$55,2,FALSE)))","v":""}]
[null,null,"Insert key Learning"]
[null,null,"TEACHERS COLLABORATIVE PLANNING",null,null,"TEACHERS COLLABORATIVE/INDIVDUAL PLANNING"]
[null,null,null,null,null,null,null,"Designed by JCt4."]
[]
[null,null,"Notes/hyperlinks to resources/other:"]

{"sheet":"Unit 17","index":18,"n_rows":38,"n_cols":11,"rows_kept":38,"cut":false,"hidden":true,"merged":[[9,4,19,4],[9,5,19,5],[9,7,24,7],[16,2,17,3],[1,0,1,1],[1,6,1,7],[3,2,4,2],[4,3,4,4],[8,2,8,3],[34,2,34,4],[34,5,34,7],[37,2,37,3],[8,10,15,10],[9,2,10,3],[26,10,33,10],[33,2,33,3],[17,10,23,10],[20,2,20,3],[21,4,33,4],[21,5,24,5],[23,2,23,3],[26,2,27,3],[26,5,33,5],[26,7,30,7],[30,2,30,3]]}
[]
["Click:",null,"Index","Class Details","Plannning Tool, Rationale & Aim","Learning Outcomes Engagement","Instructions"]
[]
[null,null,{"$f":"'Data Set'!D4","v":"Engineering:"},"Unit Title:",null,"Include on Index sheet: Select Yes / No",null,"Teacher:"]
[null,null,null,{"$f":"MID(CELL(\"filename\",A1),FIND(\"]\",CELL(\"filename\",A1))+1,1000)","v":"Unit 17"},null,"No"]
[null,null,"Year Group:","Class Group:","Commencement Date:","Duration:",null,"School:"]
[null,null,null,{"$f":"IF('Class Details'!K21=\"\",\"\",'Class Details'!K21)","v":"Enter in Class Details sheet"},"dd/mm/yyyy","No. of weeks / classes",null,{"$f":"IF('Class Details'!J8=\"\",\"\",'Class Details'!J8)","v":"Enter in Class Details sheet"}]
[]
[null,null,"PRIOR LEARNING",null,"EVIDENCE OF LEARNING:","STRATEGIES / METHODOLOGIES",null,"CLASSROOM APPROACH\n(Collaborative and / or individual)",null,null,"IDENTIFYING KEY LEARNING\n(Based on collaborative discussion)\nPrompt Questions\n\nIs there a particular area I/we want to explore with students?\nHow might this unit of learning progress prior learning?\nHave I/we considered the age and stage of students?\nHave I/we considered using learning outcomes across the strands/elements?\nHave I/we considered the action verbs in identifying key learning. "]
[]
[]
[null,null,"FOCUS OF LEARNING","EXPLORING LEARNING OUTCOMES"]
[null,null,null,"Exploring Learning Outcomes' booklet."]
[null,null,"LEARNING OUTCOMES AND KEY LEARNING:","ACTION VERBS:"]
[null,null,null,{"$f":"IF(ISERROR(VLOOKUP(C15,'Data Set'!D$8:E$55,2,FALSE)),\"\",(VLOOKUP(C15,'Data Set'!D$8:E$55,2,FALSE)))","v":""}]
[null,null,null,{"$f":"IF(ISERROR(VLOOKUP(C16,'Data Set'!D$8:E$55,2,FALSE)),\"\",(VLOOKUP(C16,'Data Set'!D$8:E$55,2,FALSE)))","v":""}]
[null,null,"Insert Key Learning"]
[null,null,null,null,null,null,null,null,null,null,"IDENTIFYING ASSESSMENT METHODS\n(Based on collaborative discussion)\nPrompt Questions\n\nHaving identified key learning we consider how students will be able to demonstrate this learning.\nHave I/we considered the use of both formative and summative assessment?\nHave I/we considered action verbs in developing assessments to allow students to demonstrate this key learning?"]
[null,null,null,{"$f":"IF(ISERROR(VLOOKUP(C19,'Data Set'!D$8:E$55,2,FALSE)),\"\",(VLOOKUP(C19,'Data Set'!D$8:E$55,2,FALSE)))","v":""}]
[null,null,null,{"$f":"IF(ISERROR(VLOOKUP(C20,'Data Set'!D$8:E$55,2,FALSE)),\"\",(VLOOKUP(C20,'Data Set'!D$8:E$55,2,FALSE)))","v":""}]
[null,null,"Insert Key Learning",null,"ONGOING ASSESSMENT:","RESOURCES"]
[null,null,null,{"$f":"IF(ISERROR(VLOOKUP(C22,'Data Set'!D$8:E$55,2,FALSE)),\"\",(VLOOKUP(C22,'Data Set'!D$8:E$55,2,FALSE)))","v":""}]
[null,null,null,{"$f":"IF(ISERROR(VLOOKUP(C23,'Data Set'!D$8:E$55,2,FALSE)),\"\",(VLOOKUP(C23,'Data Set'!D$8:E$55,2,FALSE)))","v":""}]
[null,null,"Insert Key Learning"]
[null,null,null,{"$f":"IF(ISERROR(VLOOKUP(C25,'Data Set'!D$8:E$55,2,FALSE)),\"\",(VLOOKUP(C25,'Data Set'!D$8:E$55,2,FALSE)))","v":""}]
[null,null,null,{"$f":"IF(ISERROR(VLOOKUP(C26,'Data Set'!D$8:E$55,2,FALSE)),\"\",(VLOOKUP(C26,'Data Set'!D$8:E$55,2,FALSE)))","v":""},null,"LEARNER EXPERIENCE",null,"REFLECTION / NEXT STEPS:"]
[null,null,"Insert Key Learning",null,null,null,null,null,null,null,"IDENTIFYING KEY LEARNING\n(Based on collaborative discussion)\nPrompt Questions\n\nIs there a particular area I/we want to explore with students?\nHow might this unit of learning progress prior learning?\nHave I/we considered the age and stage of students?\nHave I/we considered using learning outcomes across the strands/elements?\nHave I/we considered the action verbs in identifying key learning. "]
[]
[null,null,null,{"$f":"IF(ISERROR(VLOOKUP(C29,'Data Set'!D$8:E$55,2,FALSE)),\"\",(VLOOKUP(C29,'Data Set'!D$8:E$55,2,FALSE)))","v":""}]
[null,null,null,{"$f":"IF(ISERROR(VLOOKUP(C30,'Data Set'!D$8:E$55,2,FALSE)),\"\",(VLOOKUP(C30,'Data Set'!D$8:E$55,2,FALSE)))","v":""}]
[null,null,"Insert Key Learning"]
[null,null,null,{"$f":"IF(ISERROR(VLOOKUP(C32,'Data Set'!D$8:E$55,2,FALSE)),\"\",(VLOOKUP(C32,'Data Set'!D$8:E$55,2,FALSE)))","v":""}]
[null,null,null,{"$f":"IF(ISERROR(VLOOKUP(C33,'Data Set'!D$8:E$55,2,FALSE)),\"\",(VLOOKUP(C33,'Data Set'!D$8:E$55,2,FALSE)))","v":""}]
[null,null,"Insert key Learning"]
[null,null,"TEACHERS COLLABORATIVE PLANNING",null,null,"TEACHERS COLLABORATIVE/INDIVDUAL PLANNING"]
[null,null,null,null,null,null,null,"Designed by JCt4."]
[]
[null,null,"Notes/hyperlinks to resources/other:"]

{"sheet":"Unit 18","index":19,"n_rows":38,"n_cols":11,"rows_kept":38,"cut":false,"hidden":true,"merged":[[9,4,19,4],[9,5,19,5],[9,7,24,7],[16,2,17,3],[1,0,1,1],[1,6,1,7],[3,2,4,2],[4,3,4,4],[8,2,8,3],[34,2,34,4],[34,5,34,7],[37,2,37,3],[8,10,15,10],[9,2,10,3],[26,10,33,10],[33,2,33,3],[17,10,23,10],[20,2,20,3],[21,4,33,4],[21,5,24,5],[23,2,23,3],[26,2,27,3],[26,5,33,5],[26,7,30,7],[30,2,30,3]]}
[]
["Click:",null,"Index","Class Details","Plannning Tool, Rationale & Aim","Learning Outcomes Engagement","Instructions"]
[]
[null,null,{"$f":"'Data Set'!D4","v":"Engineering:"},"Unit Title:",null,"Include on Index sheet: Select Yes / No",null,"Teacher:"]
[null,null,null,{"$f":"MID(CELL(\"filename\",A1),FIND(\"]\",CELL(\"filename\",A1))+1,1000)","v":"Unit 18"},null,"No"]
[null,null,"Year Group:","Class Group:","Commencement Date:","Duration:",null,"School:"]
[null,null,null,{"$f":"IF('Class Details'!K21=\"\",\"\",'Class Details'!K21)","v":"Enter in Class Details sheet"},"dd/mm/yyyy","No. of weeks / classes",null,{"$f":"IF('Class Details'!J8=\"\",\"\",'Class Details'!J8)","v":"Enter in Class Details sheet"}]
[]
[null,null,"PRIOR LEARNING",null,"EVIDENCE OF LEARNING:","STRATEGIES / METHODOLOGIES",null,"CLASSROOM APPROACH\n(Collaborative and / or individual)",null,null,"IDENTIFYING KEY LEARNING\n(Based on collaborative discussion)\nPrompt Questions\n\nIs there a particular area I/we want to explore with students?\nHow might this unit of learning progress prior learning?\nHave I/we considered the age and stage of students?\nHave I/we considered using learning outcomes across the strands/elements?\nHave I/we considered the action verbs in identifying key learning. "]
[]
[]
[null,null,"FOCUS OF LEARNING","EXPLORING LEARNING OUTCOMES"]
[null,null,null,"Exploring Learning Outcomes' booklet."]
[null,null,"LEARNING OUTCOMES AND KEY LEARNING:","ACTION VERBS:"]
[null,null,null,{"$f":"IF(ISERROR(VLOOKUP(C15,'Data Set'!D$8:E$55,2,FALSE)),\"\",(VLOOKUP(C15,'Data Set'!D$8:E$55,2,FALSE)))","v":""}]
[null,null,null,{"$f":"IF(ISERROR(VLOOKUP(C16,'Data Set'!D$8:E$55,2,FALSE)),\"\",(VLOOKUP(C16,'Data Set'!D$8:E$55,2,FALSE)))","v":""}]
[null,null,"Insert Key Learning"]
[null,null,null,null,null,null,null,null,null,null,"IDENTIFYING ASSESSMENT METHODS\n(Based on collaborative discussion)\nPrompt Questions\n\nHaving identified key learning we consider how students will be able to demonstrate this learning.\nHave I/we considered the use of both formative and summative assessment?\nHave I/we considered action verbs in developing assessments to allow students to demonstrate this key learning?"]
[null,null,null,{"$f":"IF(ISERROR(VLOOKUP(C19,'Data Set'!D$8:E$55,2,FALSE)),\"\",(VLOOKUP(C19,'Data Set'!D$8:E$55,2,FALSE)))","v":""}]
[null,null,null,{"$f":"IF(ISERROR(VLOOKUP(C20,'Data Set'!D$8:E$55,2,FALSE)),\"\",(VLOOKUP(C20,'Data Set'!D$8:E$55,2,FALSE)))","v":""}]
[null,null,"Insert Key Learning",null,"ONGOING ASSESSMENT:","RESOURCES"]
[null,null,null,{"$f":"IF(ISERROR(VLOOKUP(C22,'Data Set'!D$8:E$55,2,FALSE)),\"\",(VLOOKUP(C22,'Data Set'!D$8:E$55,2,FALSE)))","v":""}]
[null,null,null,{"$f":"IF(ISERROR(VLOOKUP(C23,'Data Set'!D$8:E$55,2,FALSE)),\"\",(VLOOKUP(C23,'Data Set'!D$8:E$55,2,FALSE)))","v":""}]
[null,null,"Insert Key Learning"]
[null,null,null,{"$f":"IF(ISERROR(VLOOKUP(C25,'Data Set'!D$8:E$55,2,FALSE)),\"\",(VLOOKUP(C25,'Data Set'!D$8:E$55,2,FALSE)))","v":""}]
[null,null,null,{"$f":"IF(ISERROR(VLOOKUP(C26,'Data Set'!D$8:E$55,2,FALSE)),\"\",(VLOOKUP(C26,'Data Set'!D$8:E$55,2,FALSE)))","v":""},null,"LEARNER EXPERIENCE",null,"REFLECTION / NEXT STEPS:"]
[null,null,"Insert Key Learning",null,null,null,null,null,null,null,"IDENTIFYING KEY LEARNING\n(Based on collaborative discussion)\nPrompt Questions\n\nIs there a particular area I/we want to explore with students?\nHow might this unit of learning progress prior learning?\nHave I/we considered the age and stage of students?\nHave I/we considered using learning outcomes across the strands/elements?\nHave I/we considered the action verbs in identifying key learning. "]
[]
[null,null,null,{"$f":"IF(ISERROR(VLOOKUP(C29,'Data Set'!D$8:E$55,2,FALSE)),\"\",(VLOOKUP(C29,'Data Set'!D$8:E$55,2,FALSE)))","v":""}]
[null,null,null,{"$f":"IF(ISERROR(VLOOKUP(C30,'Data Set'!D$8:E$55,2,FALSE)),\"\",(VLOOKUP(C30,'Data Set'!D$8:E$55,2,FALSE)))","v":""}]
[null,null,"Insert Key Learning"]
[null,null,null,{"$f":"IF(ISERROR(VLOOKUP(C32,'Data Set'!D$8:E$55,2,FALSE)),\"\",(VLOOKUP(C32,'Data Set'!D$8:E$55,2,FALSE)))","v":""}]
[null,null,null,{"$f":"IF(ISERROR(VLOOKUP(C33,'Data Set'!D$8:E$55,2,FALSE)),\"\",(VLOOKUP(C33,'Data Set'!D$8:E$55,2,FALSE)))","v":""}]
[null,null,"Insert key Learning"]
[null,null,"TEACHERS COLLABORATIVE PLANNING",null,null,"TEACHERS COLLABORATIVE/INDIVDUAL PLANNING"]
[null,null,null,null,null,null,null,"Designed by JCt4."]
[]
[null,null,"Notes/hyperlinks to resources/other:"]

{"sheet":"Unit 19","index":20,"n_rows":38,"n_cols":11,"rows_kept":38,"cut":false,"hidden":true,"merged":[[9,4,19,4],[9,5,19,5],[9,7,24,7],[16,2,17,3],[1,0,1,1],[1,6,1,7],[3,2,4,2],[4,3,4,4],[8,2,8,3],[34,2,34,4],[34,5,34,7],[37,2,37,3],[8,10,15,10],[9,2,10,3],[26,10,33,10],[33,2,33,3],[17,10,23,10],[20,2,20,3],[21,4,33,4],[21,5,24,5],[23,2,23,3],[26,2,27,3],[26,5,33,5],[26,7,30,7],[30,2,30,3]]}
[]
["Click:",null,"Index","Class Details","Plannning Tool, Rationale & Aim","Learning Outcomes Engagement","Instructions"]
[]
[null,null,{"$f":"'Data Set'!D4","v":"Engineering:"},"Unit Title:",null,"Include on Index sheet: Select Yes / No",null,"Teacher:"]
[null,null,null,{"$f":"MID(CELL(\"filename\",A1),FIND(\"]\",CELL(\"filename\",A1))+1,1000)","v":"Unit 19"},null,"No"]
[null,null,"Year Group:","Class Group:","Commencement Date:","Duration:",null,"School:"]
[null,null,null,{"$f":"IF('Class Details'!K21=\"\",\"\",'Class Details'!K21)","v":"Enter in Class Details sheet"},"dd/mm/yyyy","No. of weeks / classes",null,{"$f":"IF('Class Details'!J8=\"\",\"\",'Class Details'!J8)","v":"Enter in Class Details sheet"}]
[]
[null,null,"PRIOR LEARNING",null,"EVIDENCE OF LEARNING:","STRATEGIES / METHODOLOGIES",null,"CLASSROOM APPROACH\n(Collaborative and / or individual)",null,null,"IDENTIFYING KEY LEARNING\n(Based on collaborative discussion)\nPrompt Questions\n\nIs there a particular area I/we want to explore with students?\nHow might this unit of learning progress prior learning?\nHave I/we considered the age and stage of students?\nHave I/we considered using learning outcomes across the strands/elements?\nHave I/we considered the action verbs in identifying key learning. "]
[]
[]
[null,null,"FOCUS OF LEARNING","EXPLORING LEARNING OUTCOMES"]
[null,null,null,"Exploring Learning Outcomes' booklet."]
[null,null,"LEARNING OUTCOMES AND KEY LEARNING:","ACTION VERBS:"]
[null,null,null,{"$f":"IF(ISERROR(VLOOKUP(C15,'Data Set'!D$8:E$55,2,FALSE)),\"\",(VLOOKUP(C15,'Data Set'!D$8:E$55,2,FALSE)))","v":""}]
[null,null,null,{"$f":"IF(ISERROR(VLOOKUP(C16,'Data Set'!D$8:E$55,2,FALSE)),\"\",(VLOOKUP(C16,'Data Set'!D$8:E$55,2,FALSE)))","v":""}]
[null,null,"Insert Key Learning"]
[null,null,null,null,null,null,null,null,null,null,"IDENTIFYING ASSESSMENT METHODS\n(Based on collaborative discussion)\nPrompt Questions\n\nHaving identified key learning we consider how students will be able to demonstrate this learning.\nHave I/we considered the use of both formative and summative assessment?\nHave I/we considered action verbs in developing assessments to allow students to demonstrate this key learning?"]
[null,null,null,{"$f":"IF(ISERROR(VLOOKUP(C19,'Data Set'!D$8:E$55,2,FALSE)),\"\",(VLOOKUP(C19,'Data Set'!D$8:E$55,2,FALSE)))","v":""}]
[null,null,null,{"$f":"IF(ISERROR(VLOOKUP(C20,'Data Set'!D$8:E$55,2,FALSE)),\"\",(VLOOKUP(C20,'Data Set'!D$8:E$55,2,FALSE)))","v":""}]
[null,null,"Insert Key Learning",null,"ONGOING ASSESSMENT:","RESOURCES"]
[null,null,null,{"$f":"IF(ISERROR(VLOOKUP(C22,'Data Set'!D$8:E$55,2,FALSE)),\"\",(VLOOKUP(C22,'Data Set'!D$8:E$55,2,FALSE)))","v":""}]
[null,null,null,{"$f":"IF(ISERROR(VLOOKUP(C23,'Data Set'!D$8:E$55,2,FALSE)),\"\",(VLOOKUP(C23,'Data Set'!D$8:E$55,2,FALSE)))","v":""}]
[null,null,"Insert Key Learning"]
[null,null,null,{"$f":"IF(ISERROR(VLOOKUP(C25,'Data Set'!D$8:E$55,2,FALSE)),\"\",(VLOOKUP(C25,'Data Set'!D$8:E$55,2,FALSE)))","v":""}]
[null,null,null,{"$f":"IF(ISERROR(VLOOKUP(C26,'Data Set'!D$8:E$55,2,FALSE)),\"\",(VLOOKUP(C26,'Data Set'!D$8:E$55,2,FALSE)))","v":""},null,"LEARNER EXPERIENCE",null,"REFLECTION / NEXT STEPS:"]
[null,null,"Insert Key Learning",null,null,null,null,null,null,null,"IDENTIFYING KEY LEARNING\n(Based on collaborative discussion)\nPrompt Questions\n\nIs there a particular area I/we want to explore with students?\nHow might this unit of learning progress prior learning?\nHave I/we considered the age and stage of students?\nHave I/we considered using learning outcomes across the strands/elements?\nHave I/we considered the action verbs in identifying key learning. "]
[]
[null,null,null,{"$f":"IF(ISERROR(VLOOKUP(C29,'Data Set'!D$8:E$55,2,FALSE)),\"\",(VLOOKUP(C29,'Data Set'!D$8:E$55,2,FALSE)))","v":""}]
[null,null,null,{"$f":"IF(ISERROR(VLOOKUP(C30,'Data Set'!D$8:E$55,2,FALSE)),\"\",(VLOOKUP(C30,'Data Set'!D$8:E$55,2,FALSE)))","v":""}]
[null,null,"Insert Key Learning"]
[null,null,null,{"$f":"IF(ISERROR(VLOOKUP(C32,'Data Set'!D$8:E$55,2,FALSE)),\"\",(VLOOKUP(C32,'Data Set'!D$8:E$55,2,FALSE)))","v":""}]
[null,null,null,{"$f":"IF(ISERROR(VLOOKUP(C33,'Data Set'!D$8:E$55,2,FALSE)),\"\",(VLOOKUP(C33,'Data Set'!D$8:E$55,2,FALSE)))","v":""}]
[null,null,"Insert key Learning"]
[null,null,"TEACHERS COLLABORATIVE PLANNING",null,null,"TEACHERS COLLABORATIVE/INDIVDUAL PLANNING"]
[null,null,null,null,null,null,null,"Designed by JCt4."]
[]
[null,null,"Notes/hyperlinks to resources/other:"]

{"sheet":"Unit 20","index":21,"n_rows":38,"n_cols":11,"rows_kept":38,"cut":false,"hidden":true,"merged":[[9,4,19,4],[9,5,19,5],[9,7,24,7],[16,2,17,3],[1,0,1,1],[1,6,1,7],[3,2,4,2],[4,3,4,4],[8,2,8,3],[34,2,34,4],[34,5,34,7],[37,2,37,3],[8,10,15,10],[9,2,10,3],[26,10,33,10],[33,2,33,3],[17,10,23,10],[20,2,20,3],[21,4,33,4],[21,5,24,5],[23,2,23,3],[26,2,27,3],[26,5,33,5],[26,7,30,7],[30,2,30,3]]}
[]
["Click:",null,"Index","Class Details","Plannning Tool, Rationale & Aim","Learning Outcomes Engagement","Instructions"]
[]
[null,null,{"$f":"'Data Set'!D4","v":"Engineering:"},"Unit Title:",null,"Include on Index sheet: Select Yes / No",null,"Teacher:"]
[null,null,null,{"$f":"MID(CELL(\"filename\",A1),FIND(\"]\",CELL(\"filename\",A1))+1,1000)","v":"Unit 20"},null,"No"]
[null,null,"Year Group:","Class Group:","Commencement Date:","Duration:",null,"School:"]
[null,null,null,{"$f":"IF('Class Details'!K21=\"\",\"\",'Class Details'!K21)","v":"Enter in Class Details sheet"},"dd/mm/yyyy","No. of weeks / classes",null,{"$f":"IF('Class Details'!J8=\"\",\"\",'Class Details'!J8)","v":"Enter in Class Details sheet"}]
[]
[null,null,"PRIOR LEARNING",null,"EVIDENCE OF LEARNING:","STRATEGIES / METHODOLOGIES",null,"CLASSROOM APPROACH\n(Collaborative and / or individual)",null,null,"IDENTIFYING KEY LEARNING\n(Based on collaborative discussion)\nPrompt Questions\n\nIs there a particular area I/we want to explore with students?\nHow might this unit of learning progress prior learning?\nHave I/we considered the age and stage of students?\nHave I/we considered using learning outcomes across the strands/elements?\nHave I/we considered the action verbs in identifying key learning. "]
[]
[]
[null,null,"FOCUS OF LEARNING","EXPLORING LEARNING OUTCOMES"]
[null,null,null,"Exploring Learning Outcomes' booklet."]
[null,null,"LEARNING OUTCOMES AND KEY LEARNING:","ACTION VERBS:"]
[null,null,null,{"$f":"IF(ISERROR(VLOOKUP(C15,'Data Set'!D$8:E$55,2,FALSE)),\"\",(VLOOKUP(C15,'Data Set'!D$8:E$55,2,FALSE)))","v":""}]
[null,null,null,{"$f":"IF(ISERROR(VLOOKUP(C16,'Data Set'!D$8:E$55,2,FALSE)),\"\",(VLOOKUP(C16,'Data Set'!D$8:E$55,2,FALSE)))","v":""}]
[null,null,"Insert Key Learning"]
[null,null,null,null,null,null,null,null,null,null,"IDENTIFYING ASSESSMENT METHODS\n(Based on collaborative discussion)\nPrompt Questions\n\nHaving identified key learning we consider how students will be able to demonstrate this learning.\nHave I/we considered the use of both formative and summative assessment?\nHave I/we considered action verbs in developing assessments to allow students to demonstrate this key learning?"]
[null,null,null,{"$f":"IF(ISERROR(VLOOKUP(C19,'Data Set'!D$8:E$55,2,FALSE)),\"\",(VLOOKUP(C19,'Data Set'!D$8:E$55,2,FALSE)))","v":""}]
[null,null,null,{"$f":"IF(ISERROR(VLOOKUP(C20,'Data Set'!D$8:E$55,2,FALSE)),\"\",(VLOOKUP(C20,'Data Set'!D$8:E$55,2,FALSE)))","v":""}]
[null,null,"Insert Key Learning",null,"ONGOING ASSESSMENT:","RESOURCES"]
[null,null,null,{"$f":"IF(ISERROR(VLOOKUP(C22,'Data Set'!D$8:E$55,2,FALSE)),\"\",(VLOOKUP(C22,'Data Set'!D$8:E$55,2,FALSE)))","v":""}]
[null,null,null,{"$f":"IF(ISERROR(VLOOKUP(C23,'Data Set'!D$8:E$55,2,FALSE)),\"\",(VLOOKUP(C23,'Data Set'!D$8:E$55,2,FALSE)))","v":""}]
[null,null,"Insert Key Learning"]
[null,null,null,{"$f":"IF(ISERROR(VLOOKUP(C25,'Data Set'!D$8:E$55,2,FALSE)),\"\",(VLOOKUP(C25,'Data Set'!D$8:E$55,2,FALSE)))","v":""}]
[null,null,null,{"$f":"IF(ISERROR(VLOOKUP(C26,'Data Set'!D$8:E$55,2,FALSE)),\"\",(VLOOKUP(C26,'Data Set'!D$8:E$55,2,FALSE)))","v":""},null,"LEARNER EXPERIENCE",null,"REFLECTION / NEXT STEPS:"]
[null,null,"Insert Key Learning",null,null,null,null,null,null,null,"IDENTIFYING KEY LEARNING\n(Based on collaborative discussion)\nPrompt Questions\n\nIs there a particular area I/we want to explore with students?\nHow might this unit of learning progress prior learning?\nHave I/we considered the age and stage of students?\nHave I/we considered using learning outcomes across the strands/elements?\nHave I/we considered the action verbs in identifying key learning. "]
[]
[null,null,null,{"$f":"IF(ISERROR(VLOOKUP(C29,'Data Set'!D$8:E$55,2,FALSE)),\"\",(VLOOKUP(C29,'Data Set'!D$8:E$55,2,FALSE)))","v":""}]
[null,null,null,{"$f":"IF(ISERROR(VLOOKUP(C30,'Data Set'!D$8:E$55,2,FALSE)),\"\",(VLOOKUP(C30,'Data Set'!D$8:E$55,2,FALSE)))","v":""}]
[null,null,"Insert Key Learning"]
[null,null,null,{"$f":"IF(ISERROR(VLOOKUP(C32,'Data Set'!D$8:E$55,2,FALSE)),\"\",(VLOOKUP(C32,'Data Set'!D$8:E$55,2,FALSE)))","v":""}]
[null,null,null,{"$f":"IF(ISERROR(VLOOKUP(C33,'Data Set'!D$8:E$55,2,FALSE)),\"\",(VLOOKUP(C33,'Data Set'!D$8:E$55,2,FALSE)))","v":""}]
[null,null,"Insert key Learning"]
[null,null,"TEACHERS COLLABORATIVE PLANNING",null,null,"TEACHERS COLLABORATIVE/INDIVDUAL PLANNING"]
[null,null,null,null,null,null,null,"Designed by JCt4."]
[]
[null,null,"Notes/hyperlinks to resources/other:"]

{"sheet":"Unit 21","index":22,"n_rows":38,"n_cols":11,"rows_kept":38,"cut":false,"hidden":true,"merged":[[9,4,19,4],[9,5,19,5],[9,7,24,7],[16,2,17,3],[1,0,1,1],[1,6,1,7],[3,2,4,2],[4,3,4,4],[8,2,8,3],[34,2,34,4],[34,5,34,7],[37,2,37,3],[8,10,15,10],[9,2,10,3],[26,10,33,10],[33,2,33,3],[17,10,23,10],[20,2,20,3],[21,4,33,4],[21,5,24,5],[23,2,23,3],[26,2,27,3],[26,5,33,5],[26,7,30,7],[30,2,30,3]]}
[]
["Click:",null,"Index","Class Details","Plannning Tool, Rationale & Aim","Learning Outcomes Engagement","Instructions"]
[]
[null,null,{"$f":"'Data Set'!D4","v":"Engineering:"},"Unit Title:",null,"Include on Index sheet: Select Yes / No",null,"Teacher:"]
[null,null,null,{"$f":"MID(CELL(\"filename\",A1),FIND(\"]\",CELL(\"filename\",A1))+1,1000)","v":"Unit 21"},null,"No"]
[null,null,"Year Group:","Class Group:","Commencement Date:","Duration:",null,"School:"]
[null,null,null,{"$f":"IF('Class Details'!K21=\"\",\"\",'Class Details'!K21)","v":"Enter in Class Details sheet"},"dd/mm/yyyy","No. of weeks / classes",null,{"$f":"IF('Class Details'!J8=\"\",\"\",'Class Details'!J8)","v":"Enter in Class Details sheet"}]
[]
[null,null,"PRIOR LEARNING",null,"EVIDENCE OF LEARNING:","STRATEGIES / METHODOLOGIES",null,"CLASSROOM APPROACH\n(Collaborative and / or individual)",null,null,"IDENTIFYING KEY LEARNING\n(Based on collaborative discussion)\nPrompt Questions\n\nIs there a particular area I/we want to explore with students?\nHow might this unit of learning progress prior learning?\nHave I/we considered the age and stage of students?\nHave I/we considered using learning outcomes across the strands/elements?\nHave I/we considered the action verbs in identifying key learning. "]
[]
[]
[null,null,"FOCUS OF LEARNING","EXPLORING LEARNING OUTCOMES"]
[null,null,null,"Exploring Learning Outcomes' booklet."]
[null,null,"LEARNING OUTCOMES AND KEY LEARNING:","ACTION VERBS:"]
[null,null,null,{"$f":"IF(ISERROR(VLOOKUP(C15,'Data Set'!D$8:E$55,2,FALSE)),\"\",(VLOOKUP(C15,'Data Set'!D$8:E$55,2,FALSE)))","v":""}]
[null,null,null,{"$f":"IF(ISERROR(VLOOKUP(C16,'Data Set'!D$8:E$55,2,FALSE)),\"\",(VLOOKUP(C16,'Data Set'!D$8:E$55,2,FALSE)))","v":""}]
[null,null,"Insert Key Learning"]
[null,null,null,null,null,null,null,null,null,null,"IDENTIFYING ASSESSMENT METHODS\n(Based on collaborative discussion)\nPrompt Questions\n\nHaving identified key learning we consider how students will be able to demonstrate this learning.\nHave I/we considered the use of both formative and summative assessment?\nHave I/we considered action verbs in developing assessments to allow students to demonstrate this key learning?"]
[null,null,null,{"$f":"IF(ISERROR(VLOOKUP(C19,'Data Set'!D$8:E$55,2,FALSE)),\"\",(VLOOKUP(C19,'Data Set'!D$8:E$55,2,FALSE)))","v":""}]
[null,null,null,{"$f":"IF(ISERROR(VLOOKUP(C20,'Data Set'!D$8:E$55,2,FALSE)),\"\",(VLOOKUP(C20,'Data Set'!D$8:E$55,2,FALSE)))","v":""}]
[null,null,"Insert Key Learning",null,"ONGOING ASSESSMENT:","RESOURCES"]
[null,null,null,{"$f":"IF(ISERROR(VLOOKUP(C22,'Data Set'!D$8:E$55,2,FALSE)),\"\",(VLOOKUP(C22,'Data Set'!D$8:E$55,2,FALSE)))","v":""}]
[null,null,null,{"$f":"IF(ISERROR(VLOOKUP(C23,'Data Set'!D$8:E$55,2,FALSE)),\"\",(VLOOKUP(C23,'Data Set'!D$8:E$55,2,FALSE)))","v":""}]
[null,null,"Insert Key Learning"]
[null,null,null,{"$f":"IF(ISERROR(VLOOKUP(C25,'Data Set'!D$8:E$55,2,FALSE)),\"\",(VLOOKUP(C25,'Data Set'!D$8:E$55,2,FALSE)))","v":""}]
[null,null,null,{"$f":"IF(ISERROR(VLOOKUP(C26,'Data Set'!D$8:E$55,2,FALSE)),\"\",(VLOOKUP(C26,'Data Set'!D$8:E$55,2,FALSE)))","v":""},null,"LEARNER EXPERIENCE",null,"REFLECTION / NEXT STEPS:"]
[null,null,"Insert Key Learning",null,null,null,null,null,null,null,"IDENTIFYING KEY LEARNING\n(Based on collaborative discussion)\nPrompt Questions\n\nIs there a particular area I/we want to explore with students?\nHow might this unit of learning progress prior learning?\nHave I/we considered the age and stage of students?\nHave I/we considered using learning outcomes across the strands/elements?\nHave I/we considered the action verbs in identifying key learning. "]
[]
[null,null,null,{"$f":"IF(ISERROR(VLOOKUP(C29,'Data Set'!D$8:E$55,2,FALSE)),\"\",(VLOOKUP(C29,'Data Set'!D$8:E$55,2,FALSE)))","v":""}]
[null,null,null,{"$f":"IF(ISERROR(VLOOKUP(C30,'Data Set'!D$8:E$55,2,FALSE)),\"\",(VLOOKUP(C30,'Data Set'!D$8:E$55,2,FALSE)))","v":""}]
[null,null,"Insert Key Learning"]
[null,null,null,{"$f":"IF(ISERROR(VLOOKUP(C32,'Data Set'!D$8:E$55,2,FALSE)),\"\",(VLOOKUP(C32,'Data Set'!D$8:E$55,2,FALSE)))","v":""}]
[null,null,null,{"$f":"IF(ISERROR(VLOOKUP(C33,'Data Set'!D$8:E$55,2,FALSE)),\"\",(VLOOKUP(C33,'Data Set'!D$8:E$55,2,FALSE)))","v":""}]
[null,null,"Insert key Learning"]
[null,null,"TEACHERS COLLABORATIVE PLANNING",null,null,"TEACHERS COLLABORATIVE/INDIVDUAL PLANNING"]
[null,null,null,null,null,null,null,"Designed by JCt4."]
[]
[null,null,"Notes/hyperlinks to resources/other:"]

{"sheet":"Unit 22","index":23,"n_rows":38,"n_cols":11,"rows_kept":38,"cut":false,"hidden":true,"merged":[[9,4,19,4],[9,5,19,5],[9,7,24,7],[16,2,17,3],[1,0,1,1],[1,6,1,7],[3,2,4,2],[4,3,4,4],[8,2,8,3],[34,2,34,4],[34,5,34,7],[37,2,37,3],[8,10,15,10],[9,2,10,3],[26,10,33,10],[33,2,33,3],[17,10,23,10],[20,2,20,3],[21,4,33,4],[21,5,24,5],[23,2,23,3],[26,2,27,3],[26,5,33,5],[26,7,30,7],[30,2,30,3]]}
[]
["Click:",null,"Index","Class Details","Plannning Tool, Rationale & Aim","Learning Outcomes Engagement","Instructions"]
[]
[null,null,{"$f":"'Data Set'!D4","v":"Engineering:"},"Unit Title:",null,"Include on Index sheet: Select Yes / No",null,"Teacher:"]
[null,null,null,{"$f":"MID(CELL(\"filename\",A1),FIND(\"]\",CELL(\"filename\",A1))+1,1000)","v":"Unit 22"},null,"No"]
[null,null,"Year Group:","Class Group:","Commencement Date:","Duration:",null,"School:"]
[null,null,null,{"$f":"IF('Class Details'!K21=\"\",\"\",'Class Details'!K21)","v":"Enter in Class Details sheet"},"dd/mm/yyyy","No. of weeks / classes",null,{"$f":"IF('Class Details'!J8=\"\",\"\",'Class Details'!J8)","v":"Enter in Class Details sheet"}]
[]
[null,null,"PRIOR LEARNING",null,"EVIDENCE OF LEARNING:","STRATEGIES / METHODOLOGIES",null,"CLASSROOM APPROACH\n(Collaborative and / or individual)",null,null,"IDENTIFYING KEY LEARNING\n(Based on collaborative discussion)\nPrompt Questions\n\nIs there a particular area I/we want to explore with students?\nHow might this unit of learning progress prior learning?\nHave I/we considered the age and stage of students?\nHave I/we considered using learning outcomes across the strands/elements?\nHave I/we considered the action verbs in identifying key learning. "]
[]
[]
[null,null,"FOCUS OF LEARNING","EXPLORING LEARNING OUTCOMES"]
[null,null,null,"Exploring Learning Outcomes' booklet."]
[null,null,"LEARNING OUTCOMES AND KEY LEARNING:","ACTION VERBS:"]
[null,null,null,{"$f":"IF(ISERROR(VLOOKUP(C15,'Data Set'!D$8:E$55,2,FALSE)),\"\",(VLOOKUP(C15,'Data Set'!D$8:E$55,2,FALSE)))","v":""}]
[null,null,null,{"$f":"IF(ISERROR(VLOOKUP(C16,'Data Set'!D$8:E$55,2,FALSE)),\"\",(VLOOKUP(C16,'Data Set'!D$8:E$55,2,FALSE)))","v":""}]
[null,null,"Insert Key Learning"]
[null,null,null,null,null,null,null,null,null,null,"IDENTIFYING ASSESSMENT METHODS\n(Based on collaborative discussion)\nPrompt Questions\n\nHaving identified key learning we consider how students will be able to demonstrate this learning.\nHave I/we considered the use of both formative and summative assessment?\nHave I/we considered action verbs in developing assessments to allow students to demonstrate this key learning?"]
[null,null,null,{"$f":"IF(ISERROR(VLOOKUP(C19,'Data Set'!D$8:E$55,2,FALSE)),\"\",(VLOOKUP(C19,'Data Set'!D$8:E$55,2,FALSE)))","v":""}]
[null,null,null,{"$f":"IF(ISERROR(VLOOKUP(C20,'Data Set'!D$8:E$55,2,FALSE)),\"\",(VLOOKUP(C20,'Data Set'!D$8:E$55,2,FALSE)))","v":""}]
[null,null,"Insert Key Learning",null,"ONGOING ASSESSMENT:","RESOURCES"]
[null,null,null,{"$f":"IF(ISERROR(VLOOKUP(C22,'Data Set'!D$8:E$55,2,FALSE)),\"\",(VLOOKUP(C22,'Data Set'!D$8:E$55,2,FALSE)))","v":""}]
[null,null,null,{"$f":"IF(ISERROR(VLOOKUP(C23,'Data Set'!D$8:E$55,2,FALSE)),\"\",(VLOOKUP(C23,'Data Set'!D$8:E$55,2,FALSE)))","v":""}]
[null,null,"Insert Key Learning"]
[null,null,null,{"$f":"IF(ISERROR(VLOOKUP(C25,'Data Set'!D$8:E$55,2,FALSE)),\"\",(VLOOKUP(C25,'Data Set'!D$8:E$55,2,FALSE)))","v":""}]
[null,null,null,{"$f":"IF(ISERROR(VLOOKUP(C26,'Data Set'!D$8:E$55,2,FALSE)),\"\",(VLOOKUP(C26,'Data Set'!D$8:E$55,2,FALSE)))","v":""},null,"LEARNER EXPERIENCE",null,"REFLECTION / NEXT STEPS:"]
[null,null,"Insert Key Learning",null,null,null,null,null,null,null,"IDENTIFYING KEY LEARNING\n(Based on collaborative discussion)\nPrompt Questions\n\nIs there a particular area I/we want to explore with students?\nHow might this unit of learning progress prior learning?\nHave I/we considered the age and stage of students?\nHave I/we considered using learning outcomes across the strands/elements?\nHave I/we considered the action verbs in identifying key learning. "]
[]
[null,null,null,{"$f":"IF(ISERROR(VLOOKUP(C29,'Data Set'!D$8:E$55,2,FALSE)),\"\",(VLOOKUP(C29,'Data Set'!D$8:E$55,2,FALSE)))","v":""}]
[null,null,null,{"$f":"IF(ISERROR(VLOOKUP(C30,'Data Set'!D$8:E$55,2,FALSE)),\"\",(VLOOKUP(C30,'Data Set'!D$8:E$55,2,FALSE)))","v":""}]
[null,null,"Insert Key Learning"]
[null,null,null,{"$f":"IF(ISERROR(VLOOKUP(C32,'Data Set'!D$8:E$55,2,FALSE)),\"\",(VLOOKUP(C32,'Data Set'!D$8:E$55,2,FALSE)))","v":""}]
[null,null,null,{"$f":"IF(ISERROR(VLOOKUP(C33,'Data Set'!D$8:E$55,2,FALSE)),\"\",(VLOOKUP(C33,'Data Set'!D$8:E$55,2,FALSE)))","v":""}]
[null,null,"Insert key Learning"]
[null,null,"TEACHERS COLLABORATIVE PLANNING",null,null,"TEACHERS COLLABORATIVE/INDIVDUAL PLANNING"]
[null,null,null,null,null,null,null,"Designed by JCt4."]
[]
[null,null,"Notes/hyperlinks to resources/other:"]

{"sheet":"Unit 23","index":24,"n_rows":38,"n_cols":11,"rows_kept":38,"cut":false,"hidden":true,"merged":[[9,4,19,4],[9,5,19,5],[9,7,24,7],[16,2,17,3],[1,0,1,1],[1,6,1,7],[3,2,4,2],[4,3,4,4],[8,2,8,3],[34,2,34,4],[34,5,34,7],[37,2,37,3],[8,10,15,10],[9,2,10,3],[26,10,33,10],[33,2,33,3],[17,10,23,10],[20,2,20,3],[21,4,33,4],[21,5,24,5],[23,2,23,3],[26,2,27,3],[26,5,33,5],[26,7,30,7],[30,2,30,3]]}
[]
["Click:",null,"Index","Class Details","Plannning Tool, Rationale & Aim","Learning Outcomes Engagement","Instructions"]
[]
[null,null,{"$f":"'Data Set'!D4","v":"Engineering:"},"Unit Title:",null,"Include on Index sheet: Select Yes / No",null,"Teacher:"]
[null,null,null,{"$f":"MID(CELL(\"filename\",A1),FIND(\"]\",CELL(\"filename\",A1))+1,1000)","v":"Unit 23"},null,"No"]
[null,null,"Year Group:","Class Group:","Commencement Date:","Duration:",null,"School:"]
[null,null,null,{"$f":"IF('Class Details'!K21=\"\",\"\",'Class Details'!K21)","v":"Enter in Class Details sheet"},"dd/mm/yyyy","No. of weeks / classes",null,{"$f":"IF('Class Details'!J8=\"\",\"\",'Class Details'!J8)","v":"Enter in Class Details sheet"}]
[]
[null,null,"PRIOR LEARNING",null,"EVIDENCE OF LEARNING:","STRATEGIES / METHODOLOGIES",null,"CLASSROOM APPROACH\n(Collaborative and / or individual)",null,null,"IDENTIFYING KEY LEARNING\n(Based on collaborative discussion)\nPrompt Questions\n\nIs there a particular area I/we want to explore with students?\nHow might this unit of learning progress prior learning?\nHave I/we considered the age and stage of students?\nHave I/we considered using learning outcomes across the strands/elements?\nHave I/we considered the action verbs in identifying key learning. "]
[]
[]
[null,null,"FOCUS OF LEARNING","EXPLORING LEARNING OUTCOMES"]
[null,null,null,"Exploring Learning Outcomes' booklet."]
[null,null,"LEARNING OUTCOMES AND KEY LEARNING:","ACTION VERBS:"]
[null,null,null,{"$f":"IF(ISERROR(VLOOKUP(C15,'Data Set'!D$8:E$55,2,FALSE)),\"\",(VLOOKUP(C15,'Data Set'!D$8:E$55,2,FALSE)))","v":""}]
[null,null,null,{"$f":"IF(ISERROR(VLOOKUP(C16,'Data Set'!D$8:E$55,2,FALSE)),\"\",(VLOOKUP(C16,'Data Set'!D$8:E$55,2,FALSE)))","v":""}]
[null,null,"Insert Key Learning"]
[null,null,null,null,null,null,null,null,null,null,"IDENTIFYING ASSESSMENT METHODS\n(Based on collaborative discussion)\nPrompt Questions\n\nHaving identified key learning we consider how students will be able to demonstrate this learning.\nHave I/we considered the use of both formative and summative assessment?\nHave I/we considered action verbs in developing assessments to allow students to demonstrate this key learning?"]
[null,null,null,{"$f":"IF(ISERROR(VLOOKUP(C19,'Data Set'!D$8:E$55,2,FALSE)),\"\",(VLOOKUP(C19,'Data Set'!D$8:E$55,2,FALSE)))","v":""}]
[null,null,null,{"$f":"IF(ISERROR(VLOOKUP(C20,'Data Set'!D$8:E$55,2,FALSE)),\"\",(VLOOKUP(C20,'Data Set'!D$8:E$55,2,FALSE)))","v":""}]
[null,null,"Insert Key Learning",null,"ONGOING ASSESSMENT:","RESOURCES"]
[null,null,null,{"$f":"IF(ISERROR(VLOOKUP(C22,'Data Set'!D$8:E$55,2,FALSE)),\"\",(VLOOKUP(C22,'Data Set'!D$8:E$55,2,FALSE)))","v":""}]
[null,null,null,{"$f":"IF(ISERROR(VLOOKUP(C23,'Data Set'!D$8:E$55,2,FALSE)),\"\",(VLOOKUP(C23,'Data Set'!D$8:E$55,2,FALSE)))","v":""}]
[null,null,"Insert Key Learning"]
[null,null,null,{"$f":"IF(ISERROR(VLOOKUP(C25,'Data Set'!D$8:E$55,2,FALSE)),\"\",(VLOOKUP(C25,'Data Set'!D$8:E$55,2,FALSE)))","v":""}]
[null,null,null,{"$f":"IF(ISERROR(VLOOKUP(C26,'Data Set'!D$8:E$55,2,FALSE)),\"\",(VLOOKUP(C26,'Data Set'!D$8:E$55,2,FALSE)))","v":""},null,"LEARNER EXPERIENCE",null,"REFLECTION / NEXT STEPS:"]
[null,null,"Insert Key Learning",null,null,null,null,null,null,null,"IDENTIFYING KEY LEARNING\n(Based on collaborative discussion)\nPrompt Questions\n\nIs there a particular area I/we want to explore with students?\nHow might this unit of learning progress prior learning?\nHave I/we considered the age and stage of students?\nHave I/we considered using learning outcomes across the strands/elements?\nHave I/we considered the action verbs in identifying key learning. "]
[]
[null,null,null,{"$f":"IF(ISERROR(VLOOKUP(C29,'Data Set'!D$8:E$55,2,FALSE)),\"\",(VLOOKUP(C29,'Data Set'!D$8:E$55,2,FALSE)))","v":""}]
[null,null,null,{"$f":"IF(ISERROR(VLOOKUP(C30,'Data Set'!D$8:E$55,2,FALSE)),\"\",(VLOOKUP(C30,'Data Set'!D$8:E$55,2,FALSE)))","v":""}]
[null,null,"Insert Key Learning"]
[null,null,null,{"$f":"IF(ISERROR(VLOOKUP(C32,'Data Set'!D$8:E$55,2,FALSE)),\"\",(VLOOKUP(C32,'Data Set'!D$8:E$55,2,FALSE)))","v":""}]
[null,null,null,{"$f":"IF(ISERROR(VLOOKUP(C33,'Data Set'!D$8:E$55,2,FALSE)),\"\",(VLOOKUP(C33,'Data Set'!D$8:E$55,2,FALSE)))","v":""}]
[null,null,"Insert key Learning"]
[null,null,"TEACHERS COLLABORATIVE PLANNING",null,null,"TEACHERS COLLABORATIVE/INDIVDUAL PLANNING"]
[null,null,null,null,null,null,null,"Designed by JCt4."]
[]
[null,null,"Notes/hyperlinks to resources/other:"]

{"sheet":"Unit 24","index":25,"n_rows":38,"n_cols":11,"rows_kept":38,"cut":false,"hidden":true,"merged":[[9,4,19,4],[9,5,19,5],[9,7,24,7],[16,2,17,3],[1,0,1,1],[1,6,1,7],[3,2,4,2],[4,3,4,4],[8,2,8,3],[34,2,34,4],[34,5,34,7],[37,2,37,3],[8,10,15,10],[9,2,10,3],[26,10,33,10],[33,2,33,3],[17,10,23,10],[20,2,20,3],[21,4,33,4],[21,5,24,5],[23,2,23,3],[26,2,27,3],[26,5,33,5],[26,7,30,7],[30,2,30,3]]}
[]
["Click:",null,"Index","Class Details","Plannning Tool, Rationale & Aim","Learning Outcomes Engagement","Instructions"]
[]
[null,null,{"$f":"'Data Set'!D4","v":"Engineering:"},"Unit Title:",null,"Include on Index sheet: Select Yes / No",null,"Teacher:"]
[null,null,null,{"$f":"MID(CELL(\"filename\",A1),FIND(\"]\",CELL(\"filename\",A1))+1,1000)","v":"Unit 24"},null,"No"]
[null,null,"Year Group:","Class Group:","Commencement Date:","Duration:",null,"School:"]
[null,null,null,{"$f":"IF('Class Details'!K21=\"\",\"\",'Class Details'!K21)","v":"Enter in Class Details sheet"},"dd/mm/yyyy","No. of weeks / classes",null,{"$f":"IF('Class Details'!J8=\"\",\"\",'Class Details'!J8)","v":"Enter in Class Details sheet"}]
[]
[null,null,"PRIOR LEARNING",null,"EVIDENCE OF LEARNING:","STRATEGIES / METHODOLOGIES",null,"CLASSROOM APPROACH\n(Collaborative and / or individual)",null,null,"IDENTIFYING KEY LEARNING\n(Based on collaborative discussion)\nPrompt Questions\n\nIs there a particular area I/we want to explore with students?\nHow might this unit of learning progress prior learning?\nHave I/we considered the age and stage of students?\nHave I/we considered using learning outcomes across the strands/elements?\nHave I/we considered the action verbs in identifying key learning. "]
[]
[]
[null,null,"FOCUS OF LEARNING","EXPLORING LEARNING OUTCOMES"]
[null,null,null,"Exploring Learning Outcomes' booklet."]
[null,null,"LEARNING OUTCOMES AND KEY LEARNING:","ACTION VERBS:"]
[null,null,null,{"$f":"IF(ISERROR(VLOOKUP(C15,'Data Set'!D$8:E$55,2,FALSE)),\"\",(VLOOKUP(C15,'Data Set'!D$8:E$55,2,FALSE)))","v":""}]
[null,null,null,{"$f":"IF(ISERROR(VLOOKUP(C16,'Data Set'!D$8:E$55,2,FALSE)),\"\",(VLOOKUP(C16,'Data Set'!D$8:E$55,2,FALSE)))","v":""}]
[null,null,"Insert Key Learning"]
[null,null,null,null,null,null,null,null,null,null,"IDENTIFYING ASSESSMENT METHODS\n(Based on collaborative discussion)\nPrompt Questions\n\nHaving identified key learning we consider how students will be able to demonstrate this learning.\nHave I/we considered the use of both formative and summative assessment?\nHave I/we considered action verbs in developing assessments to allow students to demonstrate this key learning?"]
[null,null,null,{"$f":"IF(ISERROR(VLOOKUP(C19,'Data Set'!D$8:E$55,2,FALSE)),\"\",(VLOOKUP(C19,'Data Set'!D$8:E$55,2,FALSE)))","v":""}]
[null,null,null,{"$f":"IF(ISERROR(VLOOKUP(C20,'Data Set'!D$8:E$55,2,FALSE)),\"\",(VLOOKUP(C20,'Data Set'!D$8:E$55,2,FALSE)))","v":""}]
[null,null,"Insert Key Learning",null,"ONGOING ASSESSMENT:","RESOURCES"]
[null,null,null,{"$f":"IF(ISERROR(VLOOKUP(C22,'Data Set'!D$8:E$55,2,FALSE)),\"\",(VLOOKUP(C22,'Data Set'!D$8:E$55,2,FALSE)))","v":""}]
[null,null,null,{"$f":"IF(ISERROR(VLOOKUP(C23,'Data Set'!D$8:E$55,2,FALSE)),\"\",(VLOOKUP(C23,'Data Set'!D$8:E$55,2,FALSE)))","v":""}]
[null,null,"Insert Key Learning"]
[null,null,null,{"$f":"IF(ISERROR(VLOOKUP(C25,'Data Set'!D$8:E$55,2,FALSE)),\"\",(VLOOKUP(C25,'Data Set'!D$8:E$55,2,FALSE)))","v":""}]
[null,null,null,{"$f":"IF(ISERROR(VLOOKUP(C26,'Data Set'!D$8:E$55,2,FALSE)),\"\",(VLOOKUP(C26,'Data Set'!D$8:E$55,2,FALSE)))","v":""},null,"LEARNER EXPERIENCE",null,"REFLECTION / NEXT STEPS:"]
[null,null,"Insert Key Learning",null,null,null,null,null,null,null,"IDENTIFYING KEY LEARNING\n(Based on collaborative discussion)\nPrompt Questions\n\nIs there a particular area I/we want to explore with students?\nHow might this unit of learning progress prior learning?\nHave I/we considered the age and stage of students?\nHave I/we considered using learning outcomes across the strands/elements?\nHave I/we considered the action verbs in identifying key learning. "]
[]
[null,null,null,{"$f":"IF(ISERROR(VLOOKUP(C29,'Data Set'!D$8:E$55,2,FALSE)),\"\",(VLOOKUP(C29,'Data Set'!D$8:E$55,2,FALSE)))","v":""}]
[null,null,null,{"$f":"IF(ISERROR(VLOOKUP(C30,'Data Set'!D$8:E$55,2,FALSE)),\"\",(VLOOKUP(C30,'Data Set'!D$8:E$55,2,FALSE)))","v":""}]
[null,null,"Insert Key Learning"]
[null,null,null,{"$f":"IF(ISERROR(VLOOKUP(C32,'Data Set'!D$8:E$55,2,FALSE)),\"\",(VLOOKUP(C32,'Data Set'!D$8:E$55,2,FALSE)))","v":""}]
[null,null,null,{"$f":"IF(ISERROR(VLOOKUP(C33,'Data Set'!D$8:E$55,2,FALSE)),\"\",(VLOOKUP(C33,'Data Set'!D$8:E$55,2,FALSE)))","v":""}]
[null,null,"Insert key Learning"]
[null,null,"TEACHERS COLLABORATIVE PLANNING",null,null,"TEACHERS COLLABORATIVE/INDIVDUAL PLANNING"]
[null,null,null,null,null,null,null,"Designed by JCt4."]
[]
[null,null,"Notes/hyperlinks to resources/other:"]

{"sheet":"Unit 25","index":26,"n_rows":38,"n_cols":11,"rows_kept":38,"cut":false,"hidden":true,"merged":[[9,4,19,4],[9,5,19,5],[9,7,24,7],[16,2,17,3],[1,0,1,1],[1,6,1,7],[3,2,4,2],[4,3,4,4],[8,2,8,3],[34,2,34,4],[34,5,34,7],[37,2,37,3],[8,10,15,10],[9,2,10,3],[26,10,33,10],[33,2,33,3],[17,10,23,10],[20,2,20,3],[21,4,33,4],[21,5,24,5],[23,2,23,3],[26,2,27,3],[26,5,33,5],[26,7,30,7],[30,2,30,3]]}
[]
["Click:",null,"Index","Class Details","Plannning Tool, Rationale & Aim","Learning Outcomes Engagement","Instructions"]
[]
[null,null,{"$f":"'Data Set'!D4","v":"Engineering:"},"Unit Title:",null,"Include on Index sheet: Select Yes / No",null,"Teacher:"]
[null,null,null,{"$f":"MID(CELL(\"filename\",A1),FIND(\"]\",CELL(\"filename\",A1))+1,1000)","v":"Unit 25"},null,"No"]
[null,null,"Year Group:","Class Group:","Commencement Date:","Duration:",null,"School:"]
[null,null,null,{"$f":"IF('Class Details'!K21=\"\",\"\",'Class Details'!K21)","v":"Enter in Class Details sheet"},"dd/mm/yyyy","No. of weeks / classes",null,{"$f":"IF('Class Details'!J8=\"\",\"\",'Class Details'!J8)","v":"Enter in Class Details sheet"}]
[]
[null,null,"PRIOR LEARNING",null,"EVIDENCE OF LEARNING:","STRATEGIES / METHODOLOGIES",null,"CLASSROOM APPROACH\n(Collaborative and / or individual)",null,null,"IDENTIFYING KEY LEARNING\n(Based on collaborative discussion)\nPrompt Questions\n\nIs there a particular area I/we want to explore with students?\nHow might this unit of learning progress prior learning?\nHave I/we considered the age and stage of students?\nHave I/we considered using learning outcomes across the strands/elements?\nHave I/we considered the action verbs in identifying key learning. "]
[]
[]
[null,null,"FOCUS OF LEARNING","EXPLORING LEARNING OUTCOMES"]
[null,null,null,"Exploring Learning Outcomes' booklet."]
[null,null,"LEARNING OUTCOMES AND KEY LEARNING:","ACTION VERBS:"]
[null,null,null,{"$f":"IF(ISERROR(VLOOKUP(C15,'Data Set'!D$8:E$55,2,FALSE)),\"\",(VLOOKUP(C15,'Data Set'!D$8:E$55,2,FALSE)))","v":""}]
[null,null,null,{"$f":"IF(ISERROR(VLOOKUP(C16,'Data Set'!D$8:E$55,2,FALSE)),\"\",(VLOOKUP(C16,'Data Set'!D$8:E$55,2,FALSE)))","v":""}]
[null,null,"Insert Key Learning"]
[null,null,null,null,null,null,null,null,null,null,"IDENTIFYING ASSESSMENT METHODS\n(Based on collaborative discussion)\nPrompt Questions\n\nHaving identified key learning we consider how students will be able to demonstrate this learning.\nHave I/we considered the use of both formative and summative assessment?\nHave I/we considered action verbs in developing assessments to allow students to demonstrate this key learning?"]
[null,null,null,{"$f":"IF(ISERROR(VLOOKUP(C19,'Data Set'!D$8:E$55,2,FALSE)),\"\",(VLOOKUP(C19,'Data Set'!D$8:E$55,2,FALSE)))","v":""}]
[null,null,null,{"$f":"IF(ISERROR(VLOOKUP(C20,'Data Set'!D$8:E$55,2,FALSE)),\"\",(VLOOKUP(C20,'Data Set'!D$8:E$55,2,FALSE)))","v":""}]
[null,null,"Insert Key Learning",null,"ONGOING ASSESSMENT:","RESOURCES"]
[null,null,null,{"$f":"IF(ISERROR(VLOOKUP(C22,'Data Set'!D$8:E$55,2,FALSE)),\"\",(VLOOKUP(C22,'Data Set'!D$8:E$55,2,FALSE)))","v":""}]
[null,null,null,{"$f":"IF(ISERROR(VLOOKUP(C23,'Data Set'!D$8:E$55,2,FALSE)),\"\",(VLOOKUP(C23,'Data Set'!D$8:E$55,2,FALSE)))","v":""}]
[null,null,"Insert Key Learning"]
[null,null,null,{"$f":"IF(ISERROR(VLOOKUP(C25,'Data Set'!D$8:E$55,2,FALSE)),\"\",(VLOOKUP(C25,'Data Set'!D$8:E$55,2,FALSE)))","v":""}]
[null,null,null,{"$f":"IF(ISERROR(VLOOKUP(C26,'Data Set'!D$8:E$55,2,FALSE)),\"\",(VLOOKUP(C26,'Data Set'!D$8:E$55,2,FALSE)))","v":""},null,"LEARNER EXPERIENCE",null,"REFLECTION / NEXT STEPS:"]
[null,null,"Insert Key Learning",null,null,null,null,null,null,null,"IDENTIFYING KEY LEARNING\n(Based on collaborative discussion)\nPrompt Questions\n\nIs there a particular area I/we want to explore with students?\nHow might this unit of learning progress prior learning?\nHave I/we considered the age and stage of students?\nHave I/we considered using learning outcomes across the strands/elements?\nHave I/we considered the action verbs in identifying key learning. "]
[]
[null,null,null,{"$f":"IF(ISERROR(VLOOKUP(C29,'Data Set'!D$8:E$55,2,FALSE)),\"\",(VLOOKUP(C29,'Data Set'!D$8:E$55,2,FALSE)))","v":""}]
[null,null,null,{"$f":"IF(ISERROR(VLOOKUP(C30,'Data Set'!D$8:E$55,2,FALSE)),\"\",(VLOOKUP(C30,'Data Set'!D$8:E$55,2,FALSE)))","v":""}]
[null,null,"Insert Key Learning"]
[null,null,null,{"$f":"IF(ISERROR(VLOOKUP(C32,'Data Set'!D$8:E$55,2,FALSE)),\"\",(VLOOKUP(C32,'Data Set'!D$8:E$55,2,FALSE)))","v":""}]
[null,null,null,{"$f":"IF(ISERROR(VLOOKUP(C33,'Data Set'!D$8:E$55,2,FALSE)),\"\",(VLOOKUP(C33,'Data Set'!D$8:E$55,2,FALSE)))","v":""}]
[null,null,"Insert key Learning"]
[null,null,"TEACHERS COLLABORATIVE PLANNING",null,null,"TEACHERS COLLABORATIVE/INDIVDUAL PLANNING"]
[null,null,null,null,null,null,null,"Designed by JCt4."]
[]
[null,null,"Notes/hyperlinks to resources/other:"]

{"sheet":"Unit 26","index":27,"n_rows":38,"n_cols":11,"rows_kept":38,"cut":false,"hidden":true,"merged":[[9,4,19,4],[9,5,19,5],[9,7,24,7],[16,2,17,3],[1,0,1,1],[1,6,1,7],[3,2,4,2],[4,3,4,4],[8,2,8,3],[34,2,34,4],[34,5,34,7],[37,2,37,3],[8,10,15,10],[9,2,10,3],[26,10,33,10],[33,2,33,3],[17,10,23,10],[20,2,20,3],[21,4,33,4],[21,5,24,5],[23,2,23,3],[26,2,27,3],[26,5,33,5],[26,7,30,7],[30,2,30,3]]}
[]
["Click:",null,"Index","Class Details","Plannning Tool, Rationale & Aim","Learning Outcomes Engagement","Instructions"]
[]
[null,null,{"$f":"'Data Set'!D4","v":"Engineering:"},"Unit Title:",null,"Include on Index sheet: Select Yes / No",null,"Teacher:"]
[null,null,null,{"$f":"MID(CELL(\"filename\",A1),FIND(\"]\",CELL(\"filename\",A1))+1,1000)","v":"Unit 26"},null,"No"]
[null,null,"Year Group:","Class Group:","Commencement Date:","Duration:",null,"School:"]
[null,null,null,{"$f":"IF('Class Details'!K21=\"\",\"\",'Class Details'!K21)","v":"Enter in Class Details sheet"},"dd/mm/yyyy","No. of weeks / classes",null,{"$f":"IF('Class Details'!J8=\"\",\"\",'Class Details'!J8)","v":"Enter in Class Details sheet"}]
[]
[null,null,"PRIOR LEARNING",null,"EVIDENCE OF LEARNING:","STRATEGIES / METHODOLOGIES",null,"CLASSROOM APPROACH\n(Collaborative and / or individual)",null,null,"IDENTIFYING KEY LEARNING\n(Based on collaborative discussion)\nPrompt Questions\n\nIs there a particular area I/we want to explore with students?\nHow might this unit of learning progress prior learning?\nHave I/we considered the age and stage of students?\nHave I/we considered using learning outcomes across the strands/elements?\nHave I/we considered the action verbs in identifying key learning. "]
[]
[]
[null,null,"FOCUS OF LEARNING","EXPLORING LEARNING OUTCOMES"]
[null,null,null,"Exploring Learning Outcomes' booklet."]
[null,null,"LEARNING OUTCOMES AND KEY LEARNING:","ACTION VERBS:"]
[null,null,null,{"$f":"IF(ISERROR(VLOOKUP(C15,'Data Set'!D$8:E$55,2,FALSE)),\"\",(VLOOKUP(C15,'Data Set'!D$8:E$55,2,FALSE)))","v":""}]
[null,null,null,{"$f":"IF(ISERROR(VLOOKUP(C16,'Data Set'!D$8:E$55,2,FALSE)),\"\",(VLOOKUP(C16,'Data Set'!D$8:E$55,2,FALSE)))","v":""}]
[null,null,"Insert Key Learning"]
[null,null,null,null,null,null,null,null,null,null,"IDENTIFYING ASSESSMENT METHODS\n(Based on collaborative discussion)\nPrompt Questions\n\nHaving identified key learning we consider how students will be able to demonstrate this learning.\nHave I/we considered the use of both formative and summative assessment?\nHave I/we considered action verbs in developing assessments to allow students to demonstrate this key learning?"]
[null,null,null,{"$f":"IF(ISERROR(VLOOKUP(C19,'Data Set'!D$8:E$55,2,FALSE)),\"\",(VLOOKUP(C19,'Data Set'!D$8:E$55,2,FALSE)))","v":""}]
[null,null,null,{"$f":"IF(ISERROR(VLOOKUP(C20,'Data Set'!D$8:E$55,2,FALSE)),\"\",(VLOOKUP(C20,'Data Set'!D$8:E$55,2,FALSE)))","v":""}]
[null,null,"Insert Key Learning",null,"ONGOING ASSESSMENT:","RESOURCES"]
[null,null,null,{"$f":"IF(ISERROR(VLOOKUP(C22,'Data Set'!D$8:E$55,2,FALSE)),\"\",(VLOOKUP(C22,'Data Set'!D$8:E$55,2,FALSE)))","v":""}]
[null,null,null,{"$f":"IF(ISERROR(VLOOKUP(C23,'Data Set'!D$8:E$55,2,FALSE)),\"\",(VLOOKUP(C23,'Data Set'!D$8:E$55,2,FALSE)))","v":""}]
[null,null,"Insert Key Learning"]
[null,null,null,{"$f":"IF(ISERROR(VLOOKUP(C25,'Data Set'!D$8:E$55,2,FALSE)),\"\",(VLOOKUP(C25,'Data Set'!D$8:E$55,2,FALSE)))","v":""}]
[null,null,null,{"$f":"IF(ISERROR(VLOOKUP(C26,'Data Set'!D$8:E$55,2,FALSE)),\"\",(VLOOKUP(C26,'Data Set'!D$8:E$55,2,FALSE)))","v":""},null,"LEARNER EXPERIENCE",null,"REFLECTION / NEXT STEPS:"]
[null,null,"Insert Key Learning",null,null,null,null,null,null,null,"IDENTIFYING KEY LEARNING\n(Based on collaborative discussion)\nPrompt Questions\n\nIs there a particular area I/we want to explore with students?\nHow might this unit of learning progress prior learning?\nHave I/we considered the age and stage of students?\nHave I/we considered using learning outcomes across the strands/elements?\nHave I/we considered the action verbs in identifying key learning. "]
[]
[null,null,null,{"$f":"IF(ISERROR(VLOOKUP(C29,'Data Set'!D$8:E$55,2,FALSE)),\"\",(VLOOKUP(C29,'Data Set'!D$8:E$55,2,FALSE)))","v":""}]
[null,null,null,{"$f":"IF(ISERROR(VLOOKUP(C30,'Data Set'!D$8:E$55,2,FALSE)),\"\",(VLOOKUP(C30,'Data Set'!D$8:E$55,2,FALSE)))","v":""}]
[null,null,"Insert Key Learning"]
[null,null,null,{"$f":"IF(ISERROR(VLOOKUP(C32,'Data Set'!D$8:E$55,2,FALSE)),\"\",(VLOOKUP(C32,'Data Set'!D$8:E$55,2,FALSE)))","v":""}]
[null,null,null,{"$f":"IF(ISERROR(VLOOKUP(C33,'Data Set'!D$8:E$55,2,FALSE)),\"\",(VLOOKUP(C33,'Data Set'!D$8:E$55,2,FALSE)))","v":""}]
[null,null,"Insert key Learning"]
[null,null,"TEACHERS COLLABORATIVE PLANNING",null,null,"TEACHERS COLLABORATIVE/INDIVDUAL PLANNING"]
[null,null,null,null,null,null,null,"Designed by JCt4."]
[]
[null,null,"Notes/hyperlinks to resources/other:"]

{"sheet":"Unit 27","index":28,"n_rows":38,"n_cols":11,"rows_kept":38,"cut":false,"hidden":true,"merged":[[9,4,19,4],[9,5,19,5],[9,7,24,7],[16,2,17,3],[1,0,1,1],[1,6,1,7],[3,2,4,2],[4,3,4,4],[8,2,8,3],[34,2,34,4],[34,5,34,7],[37,2,37,3],[8,10,15,10],[9,2,10,3],[26,10,33,10],[33,2,33,3],[17,10,23,10],[20,2,20,3],[21,4,33,4],[21,5,24,5],[23,2,23,3],[26,2,27,3],[26,5,33,5],[26,7,30,7],[30,2,30,3]]}
[]
["Click:",null,"Index","Class Details","Plannning Tool, Rationale & Aim","Learning Outcomes Engagement","Instructions"]
[]
[null,null,{"$f":"'Data Set'!D4","v":"Engineering:"},"Unit Title:",null,"Include on Index sheet: Select Yes / No",null,"Teacher:"]
[null,null,null,{"$f":"MID(CELL(\"filename\",A1),FIND(\"]\",CELL(\"filename\",A1))+1,1000)","v":"Unit 27"},null,"No"]
[null,null,"Year Group:","Class Group:","Commencement Date:","Duration:",null,"School:"]
[null,null,null,{"$f":"IF('Class Details'!K21=\"\",\"\",'Class Details'!K21)","v":"Enter in Class Details sheet"},"dd/mm/yyyy","No. of weeks / classes",null,{"$f":"IF('Class Details'!J8=\"\",\"\",'Class Details'!J8)","v":"Enter in Class Details sheet"}]
[]
[null,null,"PRIOR LEARNING",null,"EVIDENCE OF LEARNING:","STRATEGIES / METHODOLOGIES",null,"CLASSROOM APPROACH\n(Collaborative and / or individual)",null,null,"IDENTIFYING KEY LEARNING\n(Based on collaborative discussion)\nPrompt Questions\n\nIs there a particular area I/we want to explore with students?\nHow might this unit of learning progress prior learning?\nHave I/we considered the age and stage of students?\nHave I/we considered using learning outcomes across the strands/elements?\nHave I/we considered the action verbs in identifying key learning. "]
[]
[]
[null,null,"FOCUS OF LEARNING","EXPLORING LEARNING OUTCOMES"]
[null,null,null,"Exploring Learning Outcomes' booklet."]
[null,null,"LEARNING OUTCOMES AND KEY LEARNING:","ACTION VERBS:"]
[null,null,null,{"$f":"IF(ISERROR(VLOOKUP(C15,'Data Set'!D$8:E$55,2,FALSE)),\"\",(VLOOKUP(C15,'Data Set'!D$8:E$55,2,FALSE)))","v":""}]
[null,null,null,{"$f":"IF(ISERROR(VLOOKUP(C16,'Data Set'!D$8:E$55,2,FALSE)),\"\",(VLOOKUP(C16,'Data Set'!D$8:E$55,2,FALSE)))","v":""}]
[null,null,"Insert Key Learning"]
[null,null,null,null,null,null,null,null,null,null,"IDENTIFYING ASSESSMENT METHODS\n(Based on collaborative discussion)\nPrompt Questions\n\nHaving identified key learning we consider how students will be able to demonstrate this learning.\nHave I/we considered the use of both formative and summative assessment?\nHave I/we considered action verbs in developing assessments to allow students to demonstrate this key learning?"]
[null,null,null,{"$f":"IF(ISERROR(VLOOKUP(C19,'Data Set'!D$8:E$55,2,FALSE)),\"\",(VLOOKUP(C19,'Data Set'!D$8:E$55,2,FALSE)))","v":""}]
[null,null,null,{"$f":"IF(ISERROR(VLOOKUP(C20,'Data Set'!D$8:E$55,2,FALSE)),\"\",(VLOOKUP(C20,'Data Set'!D$8:E$55,2,FALSE)))","v":""}]
[null,null,"Insert Key Learning",null,"ONGOING ASSESSMENT:","RESOURCES"]
[null,null,null,{"$f":"IF(ISERROR(VLOOKUP(C22,'Data Set'!D$8:E$55,2,FALSE)),\"\",(VLOOKUP(C22,'Data Set'!D$8:E$55,2,FALSE)))","v":""}]
[null,null,null,{"$f":"IF(ISERROR(VLOOKUP(C23,'Data Set'!D$8:E$55,2,FALSE)),\"\",(VLOOKUP(C23,'Data Set'!D$8:E$55,2,FALSE)))","v":""}]
[null,null,"Insert Key Learning"]
[null,null,null,{"$f":"IF(ISERROR(VLOOKUP(C25,'Data Set'!D$8:E$55,2,FALSE)),\"\",(VLOOKUP(C25,'Data Set'!D$8:E$55,2,FALSE)))","v":""}]
[null,null,null,{"$f":"IF(ISERROR(VLOOKUP(C26,'Data Set'!D$8:E$55,2,FALSE)),\"\",(VLOOKUP(C26,'Data Set'!D$8:E$55,2,FALSE)))","v":""},null,"LEARNER EXPERIENCE",null,"REFLECTION / NEXT STEPS:"]
[null,null,"Insert Key Learning",null,null,null,null,null,null,null,"IDENTIFYING KEY LEARNING\n(Based on collaborative discussion)\nPrompt Questions\n\nIs there a particular area I/we want to explore with students?\nHow might this unit of learning progress prior learning?\nHave I/we considered the age and stage of students?\nHave I/we considered using learning outcomes across the strands/elements?\nHave I/we considered the action verbs in identifying key learning. "]
[]
[null,null,null,{"$f":"IF(ISERROR(VLOOKUP(C29,'Data Set'!D$8:E$55,2,FALSE)),\"\",(VLOOKUP(C29,'Data Set'!D$8:E$55,2,FALSE)))","v":""}]
[null,null,null,{"$f":"IF(ISERROR(VLOOKUP(C30,'Data Set'!D$8:E$55,2,FALSE)),\"\",(VLOOKUP(C30,'Data Set'!D$8:E$55,2,FALSE)))","v":""}]
[null,null,"Insert Key Learning"]
[null,null,null,{"$f":"IF(ISERROR(VLOOKUP(C32,'Data Set'!D$8:E$55,2,FALSE)),\"\",(VLOOKUP(C32,'Data Set'!D$8:E$55,2,FALSE)))","v":""}]
[null,null,null,{"$f":"IF(ISERROR(VLOOKUP(C33,'Data Set'!D$8:E$55,2,FALSE)),\"\",(VLOOKUP(C33,'Data Set'!D$8:E$55,2,FALSE)))","v":""}]
[null,null,"Insert key Learning"]
[null,null,"TEACHERS COLLABORATIVE PLANNING",null,null,"TEACHERS COLLABORATIVE/INDIVDUAL PLANNING"]
[null,null,null,null,null,null,null,"Designed by JCt4."]
[]
[null,null,"Notes/hyperlinks to resources/other:"]

{"sheet":"Unit 28","index":29,"n_rows":38,"n_cols":11,"rows_kept":38,"cut":false,"hidden":true,"merged":[[9,4,19,4],[9,5,19,5],[9,7,24,7],[16,2,17,3],[1,0,1,1],[1,6,1,7],[3,2,4,2],[4,3,4,4],[8,2,8,3],[34,2,34,4],[34,5,34,7],[37,2,37,3],[8,10,15,10],[9,2,10,3],[26,10,33,10],[33,2,33,3],[17,10,23,10],[20,2,20,3],[21,4,33,4],[21,5,24,5],[23,2,23,3],[26,2,27,3],[26,5,33,5],[26,7,30,7],[30,2,30,3]]}
[]
["Click:",null,"Index","Class Details","Plannning Tool, Rationale & Aim","Learning Outcomes Engagement","Instructions"]
[]
[null,null,{"$f":"'Data Set'!D4","v":"Engineering:"},"Unit Title:",null,"Include on Index sheet: Select Yes / No",null,"Teacher:"]
[null,null,null,{"$f":"MID(CELL(\"filename\",A1),FIND(\"]\",CELL(\"filename\",A1))+1,1000)","v":"Unit 28"},null,"No"]
[null,null,"Year Group:","Class Group:","Commencement Date:","Duration:",null,"School:"]
[null,null,null,{"$f":"IF('Class Details'!K21=\"\",\"\",'Class Details'!K21)","v":"Enter in Class Details sheet"},"dd/mm/yyyy","No. of weeks / classes",null,{"$f":"IF('Class Details'!J8=\"\",\"\",'Class Details'!J8)","v":"Enter in Class Details sheet"}]
[]
[null,null,"PRIOR LEARNING",null,"EVIDENCE OF LEARNING:","STRATEGIES / METHODOLOGIES",null,"CLASSROOM APPROACH\n(Collaborative and / or individual)",null,null,"IDENTIFYING KEY LEARNING\n(Based on collaborative discussion)\nPrompt Questions\n\nIs there a particular area I/we want to explore with students?\nHow might this unit of learning progress prior learning?\nHave I/we considered the age and stage of students?\nHave I/we considered using learning outcomes across the strands/elements?\nHave I/we considered the action verbs in identifying key learning. "]
[]
[]
[null,null,"FOCUS OF LEARNING","EXPLORING LEARNING OUTCOMES"]
[null,null,null,"Exploring Learning Outcomes' booklet."]
[null,null,"LEARNING OUTCOMES AND KEY LEARNING:","ACTION VERBS:"]
[null,null,null,{"$f":"IF(ISERROR(VLOOKUP(C15,'Data Set'!D$8:E$55,2,FALSE)),\"\",(VLOOKUP(C15,'Data Set'!D$8:E$55,2,FALSE)))","v":""}]
[null,null,null,{"$f":"IF(ISERROR(VLOOKUP(C16,'Data Set'!D$8:E$55,2,FALSE)),\"\",(VLOOKUP(C16,'Data Set'!D$8:E$55,2,FALSE)))","v":""}]
[null,null,"Insert Key Learning"]
[null,null,null,null,null,null,null,null,null,null,"IDENTIFYING ASSESSMENT METHODS\n(Based on collaborative discussion)\nPrompt Questions\n\nHaving identified key learning we consider how students will be able to demonstrate this learning.\nHave I/we considered the use of both formative and summative assessment?\nHave I/we considered action verbs in developing assessments to allow students to demonstrate this key learning?"]
[null,null,null,{"$f":"IF(ISERROR(VLOOKUP(C19,'Data Set'!D$8:E$55,2,FALSE)),\"\",(VLOOKUP(C19,'Data Set'!D$8:E$55,2,FALSE)))","v":""}]
[null,null,null,{"$f":"IF(ISERROR(VLOOKUP(C20,'Data Set'!D$8:E$55,2,FALSE)),\"\",(VLOOKUP(C20,'Data Set'!D$8:E$55,2,FALSE)))","v":""}]
[null,null,"Insert Key Learning",null,"ONGOING ASSESSMENT:","RESOURCES"]
[null,null,null,{"$f":"IF(ISERROR(VLOOKUP(C22,'Data Set'!D$8:E$55,2,FALSE)),\"\",(VLOOKUP(C22,'Data Set'!D$8:E$55,2,FALSE)))","v":""}]
[null,null,null,{"$f":"IF(ISERROR(VLOOKUP(C23,'Data Set'!D$8:E$55,2,FALSE)),\"\",(VLOOKUP(C23,'Data Set'!D$8:E$55,2,FALSE)))","v":""}]
[null,null,"Insert Key Learning"]
[null,null,null,{"$f":"IF(ISERROR(VLOOKUP(C25,'Data Set'!D$8:E$55,2,FALSE)),\"\",(VLOOKUP(C25,'Data Set'!D$8:E$55,2,FALSE)))","v":""}]
[null,null,null,{"$f":"IF(ISERROR(VLOOKUP(C26,'Data Set'!D$8:E$55,2,FALSE)),\"\",(VLOOKUP(C26,'Data Set'!D$8:E$55,2,FALSE)))","v":""},null,"LEARNER EXPERIENCE",null,"REFLECTION / NEXT STEPS:"]
[null,null,"Insert Key Learning",null,null,null,null,null,null,null,"IDENTIFYING KEY LEARNING\n(Based on collaborative discussion)\nPrompt Questions\n\nIs there a particular area I/we want to explore with students?\nHow might this unit of learning progress prior learning?\nHave I/we considered the age and stage of students?\nHave I/we considered using learning outcomes across the strands/elements?\nHave I/we considered the action verbs in identifying key learning. "]
[]
[null,null,null,{"$f":"IF(ISERROR(VLOOKUP(C29,'Data Set'!D$8:E$55,2,FALSE)),\"\",(VLOOKUP(C29,'Data Set'!D$8:E$55,2,FALSE)))","v":""}]
[null,null,null,{"$f":"IF(ISERROR(VLOOKUP(C30,'Data Set'!D$8:E$55,2,FALSE)),\"\",(VLOOKUP(C30,'Data Set'!D$8:E$55,2,FALSE)))","v":""}]
[null,null,"Insert Key Learning"]
[null,null,null,{"$f":"IF(ISERROR(VLOOKUP(C32,'Data Set'!D$8:E$55,2,FALSE)),\"\",(VLOOKUP(C32,'Data Set'!D$8:E$55,2,FALSE)))","v":""}]
[null,null,null,{"$f":"IF(ISERROR(VLOOKUP(C33,'Data Set'!D$8:E$55,2,FALSE)),\"\",(VLOOKUP(C33,'Data Set'!D$8:E$55,2,FALSE)))","v":""}]
[null,null,"Insert key Learning"]
[null,null,"TEACHERS COLLABORATIVE PLANNING",null,null,"TEACHERS COLLABORATIVE/INDIVDUAL PLANNING"]
[null,null,null,null,null,null,null,"Designed by JCt4."]
[]
[null,null,"Notes/hyperlinks to resources/other:"]

{"sheet":"Unit 29","index":30,"n_rows":38,"n_cols":11,"rows_kept":38,"cut":false,"hidden":true,"merged":[[9,4,19,4],[9,5,19,5],[9,7,24,7],[16,2,17,3],[1,0,1,1],[1,6,1,7],[3,2,4,2],[4,3,4,4],[8,2,8,3],[34,2,34,4],[34,5,34,7],[37,2,37,3],[8,10,15,10],[9,2,10,3],[26,10,33,10],[33,2,33,3],[17,10,23,10],[20,2,20,3],[21,4,33,4],[21,5,24,5],[23,2,23,3],[26,2,27,3],[26,5,33,5],[26,7,30,7],[30,2,30,3]]}
[]
["Click:",null,"Index","Class Details","Plannning Tool, Rationale & Aim","Learning Outcomes Engagement","Instructions"]
[]
[null,null,{"$f":"'Data Set'!D4","v":"Engineering:"},"Unit Title:",null,"Include on Index sheet: Select Yes / No",null,"Teacher:"]
[null,null,null,{"$f":"MID(CELL(\"filename\",A1),FIND(\"]\",CELL(\"filename\",A1))+1,1000)","v":"Unit 29"},null,"No"]
[null,null,"Year Group:","Class Group:","Commencement Date:","Duration:",null,"School:"]
[null,null,null,{"$f":"IF('Class Details'!K21=\"\",\"\",'Class Details'!K21)","v":"Enter in Class Details sheet"},"dd/mm/yyyy","No. of weeks / classes",null,{"$f":"IF('Class Details'!J8=\"\",\"\",'Class Details'!J8)","v":"Enter in Class Details sheet"}]
[]
[null,null,"PRIOR LEARNING",null,"EVIDENCE OF LEARNING:","STRATEGIES / METHODOLOGIES",null,"CLASSROOM APPROACH\n(Collaborative and / or individual)",null,null,"IDENTIFYING KEY LEARNING\n(Based on collaborative discussion)\nPrompt Questions\n\nIs there a particular area I/we want to explore with students?\nHow might this unit of learning progress prior learning?\nHave I/we considered the age and stage of students?\nHave I/we considered using learning outcomes across the strands/elements?\nHave I/we considered the action verbs in identifying key learning. "]
[]
[]
[null,null,"FOCUS OF LEARNING","EXPLORING LEARNING OUTCOMES"]
[null,null,null,"Exploring Learning Outcomes' booklet."]
[null,null,"LEARNING OUTCOMES AND KEY LEARNING:","ACTION VERBS:"]
[null,null,null,{"$f":"IF(ISERROR(VLOOKUP(C15,'Data Set'!D$8:E$55,2,FALSE)),\"\",(VLOOKUP(C15,'Data Set'!D$8:E$55,2,FALSE)))","v":""}]
[null,null,null,{"$f":"IF(ISERROR(VLOOKUP(C16,'Data Set'!D$8:E$55,2,FALSE)),\"\",(VLOOKUP(C16,'Data Set'!D$8:E$55,2,FALSE)))","v":""}]
[null,null,"Insert Key Learning"]
[null,null,null,null,null,null,null,null,null,null,"IDENTIFYING ASSESSMENT METHODS\n(Based on collaborative discussion)\nPrompt Questions\n\nHaving identified key learning we consider how students will be able to demonstrate this learning.\nHave I/we considered the use of both formative and summative assessment?\nHave I/we considered action verbs in developing assessments to allow students to demonstrate this key learning?"]
[null,null,null,{"$f":"IF(ISERROR(VLOOKUP(C19,'Data Set'!D$8:E$55,2,FALSE)),\"\",(VLOOKUP(C19,'Data Set'!D$8:E$55,2,FALSE)))","v":""}]
[null,null,null,{"$f":"IF(ISERROR(VLOOKUP(C20,'Data Set'!D$8:E$55,2,FALSE)),\"\",(VLOOKUP(C20,'Data Set'!D$8:E$55,2,FALSE)))","v":""}]
[null,null,"Insert Key Learning",null,"ONGOING ASSESSMENT:","RESOURCES"]
[null,null,null,{"$f":"IF(ISERROR(VLOOKUP(C22,'Data Set'!D$8:E$55,2,FALSE)),\"\",(VLOOKUP(C22,'Data Set'!D$8:E$55,2,FALSE)))","v":""}]
[null,null,null,{"$f":"IF(ISERROR(VLOOKUP(C23,'Data Set'!D$8:E$55,2,FALSE)),\"\",(VLOOKUP(C23,'Data Set'!D$8:E$55,2,FALSE)))","v":""}]
[null,null,"Insert Key Learning"]
[null,null,null,{"$f":"IF(ISERROR(VLOOKUP(C25,'Data Set'!D$8:E$55,2,FALSE)),\"\",(VLOOKUP(C25,'Data Set'!D$8:E$55,2,FALSE)))","v":""}]
[null,null,null,{"$f":"IF(ISERROR(VLOOKUP(C26,'Data Set'!D$8:E$55,2,FALSE)),\"\",(VLOOKUP(C26,'Data Set'!D$8:E$55,2,FALSE)))","v":""},null,"LEARNER EXPERIENCE",null,"REFLECTION / NEXT STEPS:"]
[null,null,"Insert Key Learning",null,null,null,null,null,null,null,"IDENTIFYING KEY LEARNING\n(Based on collaborative discussion)\nPrompt Questions\n\nIs there a particular area I/we want to explore with students?\nHow might this unit of learning progress prior learning?\nHave I/we considered the age and stage of students?\nHave I/we considered using learning outcomes across the strands/elements?\nHave I/we considered the action verbs in identifying key learning. "]
[]
[null,null,null,{"$f":"IF(ISERROR(VLOOKUP(C29,'Data Set'!D$8:E$55,2,FALSE)),\"\",(VLOOKUP(C29,'Data Set'!D$8:E$55,2,FALSE)))","v":""}]
[null,null,null,{"$f":"IF(ISERROR(VLOOKUP(C30,'Data Set'!D$8:E$55,2,FALSE)),\"\",(VLOOKUP(C30,'Data Set'!D$8:E$55,2,FALSE)))","v":""}]
[null,null,"Insert Key Learning"]
[null,null,null,{"$f":"IF(ISERROR(VLOOKUP(C32,'Data Set'!D$8:E$55,2,FALSE)),\"\",(VLOOKUP(C32,'Data Set'!D$8:E$55,2,FALSE)))","v":""}]
[null,null,null,{"$f":"IF(ISERROR(VLOOKUP(C33,'Data Set'!D$8:E$55,2,FALSE)),\"\",(VLOOKUP(C33,'Data Set'!D$8:E$55,2,FALSE)))","v":""}]
[null,null,"Insert key Learning"]
[null,null,"TEACHERS COLLABORATIVE PLANNING",null,null,"TEACHERS COLLABORATIVE/INDIVDUAL PLANNING"]
[null,null,null,null,null,null,null,"Designed by JCt4."]
[]
[null,null,"Notes/hyperlinks to resources/other:"]

{"sheet":"Unit 30","index":31,"n_rows":38,"n_cols":11,"rows_kept":38,"cut":false,"hidden":true,"merged":[[9,4,19,4],[9,5,19,5],[9,7,24,7],[16,2,17,3],[1,0,1,1],[1,6,1,7],[3,2,4,2],[4,3,4,4],[8,2,8,3],[34,2,34,4],[34,5,34,7],[37,2,37,3],[8,10,15,10],[9,2,10,3],[26,10,33,10],[33,2,33,3],[17,10,23,10],[20,2,20,3],[21,4,33,4],[21,5,24,5],[23,2,23,3],[26,2,27,3],[26,5,33,5],[26,7,30,7],[30,2,30,3]]}
[]
["Click:",null,"Index","Class Details","Plannning Tool, Rationale & Aim","Learning Outcomes Engagement","Instructions"]
[]
[null,null,{"$f":"'Data Set'!D4","v":"Engineering:"},"Unit Title:",null,"Include on Index sheet: Select Yes / No",null,"Teacher:"]
[null,null,null,{"$f":"MID(CELL(\"filename\",A1),FIND(\"]\",CELL(\"filename\",A1))+1,1000)","v":"Unit 30"},null,"No"]
[null,null,"Year Group:","Class Group:","Commencement Date:","Duration:",null,"School:"]
[null,null,null,{"$f":"IF('Class Details'!K21=\"\",\"\",'Class Details'!K21)","v":"Enter in Class Details sheet"},"dd/mm/yyyy","No. of weeks / classes",null,{"$f":"IF('Class Details'!J8=\"\",\"\",'Class Details'!J8)","v":"Enter in Class Details sheet"}]
[]
[null,null,"PRIOR LEARNING",null,"EVIDENCE OF LEARNING:","STRATEGIES / METHODOLOGIES",null,"CLASSROOM APPROACH\n(Collaborative and / or individual)",null,null,"IDENTIFYING KEY LEARNING\n(Based on collaborative discussion)\nPrompt Questions\n\nIs there a particular area I/we want to explore with students?\nHow might this unit of learning progress prior learning?\nHave I/we considered the age and stage of students?\nHave I/we considered using learning outcomes across the strands/elements?\nHave I/we considered the action verbs in identifying key learning. "]
[]
[]
[null,null,"FOCUS OF LEARNING","EXPLORING LEARNING OUTCOMES"]
[null,null,null,"Exploring Learning Outcomes' booklet."]
[null,null,"LEARNING OUTCOMES AND KEY LEARNING:","ACTION VERBS:"]
[null,null,null,{"$f":"IF(ISERROR(VLOOKUP(C15,'Data Set'!D$8:E$55,2,FALSE)),\"\",(VLOOKUP(C15,'Data Set'!D$8:E$55,2,FALSE)))","v":""}]
[null,null,null,{"$f":"IF(ISERROR(VLOOKUP(C16,'Data Set'!D$8:E$55,2,FALSE)),\"\",(VLOOKUP(C16,'Data Set'!D$8:E$55,2,FALSE)))","v":""}]
[null,null,"Insert Key Learning"]
[null,null,null,null,null,null,null,null,null,null,"IDENTIFYING ASSESSMENT METHODS\n(Based on collaborative discussion)\nPrompt Questions\n\nHaving identified key learning we consider how students will be able to demonstrate this learning.\nHave I/we considered the use of both formative and summative assessment?\nHave I/we considered action verbs in developing assessments to allow students to demonstrate this key learning?"]
[null,null,null,{"$f":"IF(ISERROR(VLOOKUP(C19,'Data Set'!D$8:E$55,2,FALSE)),\"\",(VLOOKUP(C19,'Data Set'!D$8:E$55,2,FALSE)))","v":""}]
[null,null,null,{"$f":"IF(ISERROR(VLOOKUP(C20,'Data Set'!D$8:E$55,2,FALSE)),\"\",(VLOOKUP(C20,'Data Set'!D$8:E$55,2,FALSE)))","v":""}]
[null,null,"Insert Key Learning",null,"ONGOING ASSESSMENT:","RESOURCES"]
[null,null,null,{"$f":"IF(ISERROR(VLOOKUP(C22,'Data Set'!D$8:E$55,2,FALSE)),\"\",(VLOOKUP(C22,'Data Set'!D$8:E$55,2,FALSE)))","v":""}]
[null,null,null,{"$f":"IF(ISERROR(VLOOKUP(C23,'Data Set'!D$8:E$55,2,FALSE)),\"\",(VLOOKUP(C23,'Data Set'!D$8:E$55,2,FALSE)))","v":""}]
[null,null,"Insert Key Learning"]
[null,null,null,{"$f":"IF(ISERROR(VLOOKUP(C25,'Data Set'!D$8:E$55,2,FALSE)),\"\",(VLOOKUP(C25,'Data Set'!D$8:E$55,2,FALSE)))","v":""}]
[null,null,null,{"$f":"IF(ISERROR(VLOOKUP(C26,'Data Set'!D$8:E$55,2,FALSE)),\"\",(VLOOKUP(C26,'Data Set'!D$8:E$55,2,FALSE)))","v":""},null,"LEARNER EXPERIENCE",null,"REFLECTION / NEXT STEPS:"]
[null,null,"Insert Key Learning",null,null,null,null,null,null,null,"IDENTIFYING KEY LEARNING\n(Based on collaborative discussion)\nPrompt Questions\n\nIs there a particular area I/we want to explore with students?\nHow might this unit of learning progress prior learning?\nHave I/we considered the age and stage of students?\nHave I/we considered using learning outcomes across the strands/elements?\nHave I/we considered the action verbs in identifying key learning. "]
[]
[null,null,null,{"$f":"IF(ISERROR(VLOOKUP(C29,'Data Set'!D$8:E$55,2,FALSE)),\"\",(VLOOKUP(C29,'Data Set'!D$8:E$55,2,FALSE)))","v":""}]
[null,null,null,{"$f":"IF(ISERROR(VLOOKUP(C30,'Data Set'!D$8:E$55,2,FALSE)),\"\",(VLOOKUP(C30,'Data Set'!D$8:E$55,2,FALSE)))","v":""}]
[null,null,"Insert Key Learning"]
[null,null,null,{"$f":"IF(ISERROR(VLOOKUP(C32,'Data Set'!D$8:E$55,2,FALSE)),\"\",(VLOOKUP(C32,'Data Set'!D$8:E$55,2,FALSE)))","v":""}]
[null,null,null,{"$f":"IF(ISERROR(VLOOKUP(C33,'Data Set'!D$8:E$55,2,FALSE)),\"\",(VLOOKUP(C33,'Data Set'!D$8:E$55,2,FALSE)))","v":""}]
[null,null,"Insert key Learning"]
[null,null,"TEACHERS COLLABORATIVE PLANNING",null,null,"TEACHERS COLLABORATIVE/INDIVDUAL PLANNING"]
[null,null,null,null,null,null,null,"Designed by JCt4."]
[]
[null,null,"Notes/hyperlinks to resources/other:"]

{"sheet":"Unit 31","index":32,"n_rows":38,"n_cols":11,"rows_kept":38,"cut":false,"hidden":true,"merged":[[9,4,19,4],[9,5,19,5],[9,7,24,7],[16,2,17,3],[1,0,1,1],[1,6,1,7],[3,2,4,2],[4,3,4,4],[8,2,8,3],[34,2,34,4],[34,5,34,7],[37,2,37,3],[8,10,15,10],[9,2,10,3],[26,10,33,10],[33,2,33,3],[17,10,23,10],[20,2,20,3],[21,4,33,4],[21,5,24,5],[23,2,23,3],[26,2,27,3],[26,5,33,5],[26,7,30,7],[30,2,30,3]]}
[]
["Click:",null,"Index","Class Details","Plannning Tool, Rationale & Aim","Learning Outcomes Engagement","Instructions"]
[]
[null,null,{"$f":"'Data Set'!D4","v":"Engineering:"},"Unit Title:",null,"Include on Index sheet: Select Yes / No",null,"Teacher:"]
[null,null,null,{"$f":"MID(CELL(\"filename\",A1),FIND(\"]\",CELL(\"filename\",A1))+1,1000)","v":"Unit 31"},null,"No"]
[null,null,"Year Group:","Class Group:","Commencement Date:","Duration:",null,"School:"]
[null,null,null,{"$f":"IF('Class Details'!K21=\"\",\"\",'Class Details'!K21)","v":"Enter in Class Details sheet"},"dd/mm/yyyy","No. of weeks / classes",null,{"$f":"IF('Class Details'!J8=\"\",\"\",'Class Details'!J8)","v":"Enter in Class Details sheet"}]
[]
[null,null,"PRIOR LEARNING",null,"EVIDENCE OF LEARNING:","STRATEGIES / METHODOLOGIES",null,"CLASSROOM APPROACH\n(Collaborative and / or individual)",null,null,"IDENTIFYING KEY LEARNING\n(Based on collaborative discussion)\nPrompt Questions\n\nIs there a particular area I/we want to explore with students?\nHow might this unit of learning progress prior learning?\nHave I/we considered the age and stage of students?\nHave I/we considered using learning outcomes across the strands/elements?\nHave I/we considered the action verbs in identifying key learning. "]
[]
[]
[null,null,"FOCUS OF LEARNING","EXPLORING LEARNING OUTCOMES"]
[null,null,null,"Exploring Learning Outcomes' booklet."]
[null,null,"LEARNING OUTCOMES AND KEY LEARNING:","ACTION VERBS:"]
[null,null,null,{"$f":"IF(ISERROR(VLOOKUP(C15,'Data Set'!D$8:E$55,2,FALSE)),\"\",(VLOOKUP(C15,'Data Set'!D$8:E$55,2,FALSE)))","v":""}]
[null,null,null,{"$f":"IF(ISERROR(VLOOKUP(C16,'Data Set'!D$8:E$55,2,FALSE)),\"\",(VLOOKUP(C16,'Data Set'!D$8:E$55,2,FALSE)))","v":""}]
[null,null,"Insert Key Learning"]
[null,null,null,null,null,null,null,null,null,null,"IDENTIFYING ASSESSMENT METHODS\n(Based on collaborative discussion)\nPrompt Questions\n\nHaving identified key learning we consider how students will be able to demonstrate this learning.\nHave I/we considered the use of both formative and summative assessment?\nHave I/we considered action verbs in developing assessments to allow students to demonstrate this key learning?"]
[null,null,null,{"$f":"IF(ISERROR(VLOOKUP(C19,'Data Set'!D$8:E$55,2,FALSE)),\"\",(VLOOKUP(C19,'Data Set'!D$8:E$55,2,FALSE)))","v":""}]
[null,null,null,{"$f":"IF(ISERROR(VLOOKUP(C20,'Data Set'!D$8:E$55,2,FALSE)),\"\",(VLOOKUP(C20,'Data Set'!D$8:E$55,2,FALSE)))","v":""}]
[null,null,"Insert Key Learning",null,"ONGOING ASSESSMENT:","RESOURCES"]
[null,null,null,{"$f":"IF(ISERROR(VLOOKUP(C22,'Data Set'!D$8:E$55,2,FALSE)),\"\",(VLOOKUP(C22,'Data Set'!D$8:E$55,2,FALSE)))","v":""}]
[null,null,null,{"$f":"IF(ISERROR(VLOOKUP(C23,'Data Set'!D$8:E$55,2,FALSE)),\"\",(VLOOKUP(C23,'Data Set'!D$8:E$55,2,FALSE)))","v":""}]
[null,null,"Insert Key Learning"]
[null,null,null,{"$f":"IF(ISERROR(VLOOKUP(C25,'Data Set'!D$8:E$55,2,FALSE)),\"\",(VLOOKUP(C25,'Data Set'!D$8:E$55,2,FALSE)))","v":""}]
[null,null,null,{"$f":"IF(ISERROR(VLOOKUP(C26,'Data Set'!D$8:E$55,2,FALSE)),\"\",(VLOOKUP(C26,'Data Set'!D$8:E$55,2,FALSE)))","v":""},null,"LEARNER EXPERIENCE",null,"REFLECTION / NEXT STEPS:"]
[null,null,"Insert Key Learning",null,null,null,null,null,null,null,"IDENTIFYING KEY LEARNING\n(Based on collaborative discussion)\nPrompt Questions\n\nIs there a particular area I/we want to explore with students?\nHow might this unit of learning progress prior learning?\nHave I/we considered the age and stage of students?\nHave I/we considered using learning outcomes across the strands/elements?\nHave I/we considered the action verbs in identifying key learning. "]
[]
[null,null,null,{"$f":"IF(ISERROR(VLOOKUP(C29,'Data Set'!D$8:E$55,2,FALSE)),\"\",(VLOOKUP(C29,'Data Set'!D$8:E$55,2,FALSE)))","v":""}]
[null,null,null,{"$f":"IF(ISERROR(VLOOKUP(C30,'Data Set'!D$8:E$55,2,FALSE)),\"\",(VLOOKUP(C30,'Data Set'!D$8:E$55,2,FALSE)))","v":""}]
[null,null,"Insert Key Learning"]
[null,null,null,{"$f":"IF(ISERROR(VLOOKUP(C32,'Data Set'!D$8:E$55,2,FALSE)),\"\",(VLOOKUP(C32,'Data Set'!D$8:E$55,2,FALSE)))","v":""}]
[null,null,null,{"$f":"IF(ISERROR(VLOOKUP(C33,'Data Set'!D$8:E$55,2,FALSE)),\"\",(VLOOKUP(C33,'Data Set'!D$8:E$55,2,FALSE)))","v":""}]
[null,null,"Insert key Learning"]
[null,null,"TEACHERS COLLABORATIVE PLANNING",null,null,"TEACHERS COLLABORATIVE/INDIVDUAL PLANNING"]
[null,null,null,null,null,null,null,"Designed by JCt4."]
[]
[null,null,"Notes/hyperlinks to resources/other:"]

{"sheet":"Unit 32","index":33,"n_rows":38,"n_cols":11,"rows_kept":38,"cut":false,"hidden":true,"merged":[[9,4,19,4],[9,5,19,5],[9,7,24,7],[16,2,17,3],[1,0,1,1],[1,6,1,7],[3,2,4,2],[4,3,4,4],[8,2,8,3],[34,2,34,4],[34,5,34,7],[37,2,37,3],[8,10,15,10],[9,2,10,3],[26,10,33,10],[33,2,33,3],[17,10,23,10],[20,2,20,3],[21,4,33,4],[21,5,24,5],[23,2,23,3],[26,2,27,3],[26,5,33,5],[26,7,30,7],[30,2,30,3]]}
[]
["Click:",null,"Index","Class Details","Plannning Tool, Rationale & Aim","Learning Outcomes Engagement","Instructions"]
[]
[null,null,{"$f":"'Data Set'!D4","v":"Engineering:"},"Unit Title:",null,"Include on Index sheet: Select Yes / No",null,"Teacher:"]
[null,null,null,{"$f":"MID(CELL(\"filename\",A1),FIND(\"]\",CELL(\"filename\",A1))+1,1000)","v":"Unit 32"},null,"No"]
[null,null,"Year Group:","Class Group:","Commencement Date:","Duration:",null,"School:"]
[null,null,null,{"$f":"IF('Class Details'!K21=\"\",\"\",'Class Details'!K21)","v":"Enter in Class Details sheet"},"dd/mm/yyyy","No. of weeks / classes",null,{"$f":"IF('Class Details'!J8=\"\",\"\",'Class Details'!J8)","v":"Enter in Class Details sheet"}]
[]
[null,null,"PRIOR LEARNING",null,"EVIDENCE OF LEARNING:","STRATEGIES / METHODOLOGIES",null,"CLASSROOM APPROACH\n(Collaborative and / or individual)",null,null,"IDENTIFYING KEY LEARNING\n(Based on collaborative discussion)\nPrompt Questions\n\nIs there a particular area I/we want to explore with students?\nHow might this unit of learning progress prior learning?\nHave I/we considered the age and stage of students?\nHave I/we considered using learning outcomes across the strands/elements?\nHave I/we considered the action verbs in identifying key learning. "]
[]
[]
[null,null,"FOCUS OF LEARNING","EXPLORING LEARNING OUTCOMES"]
[null,null,null,"Exploring Learning Outcomes' booklet."]
[null,null,"LEARNING OUTCOMES AND KEY LEARNING:","ACTION VERBS:"]
[null,null,null,{"$f":"IF(ISERROR(VLOOKUP(C15,'Data Set'!D$8:E$55,2,FALSE)),\"\",(VLOOKUP(C15,'Data Set'!D$8:E$55,2,FALSE)))","v":""}]
[null,null,null,{"$f":"IF(ISERROR(VLOOKUP(C16,'Data Set'!D$8:E$55,2,FALSE)),\"\",(VLOOKUP(C16,'Data Set'!D$8:E$55,2,FALSE)))","v":""}]
[null,null,"Insert Key Learning"]
[null,null,null,null,null,null,null,null,null,null,"IDENTIFYING ASSESSMENT METHODS\n(Based on collaborative discussion)\nPrompt Questions\n\nHaving identified key learning we consider how students will be able to demonstrate this learning.\nHave I/we considered the use of both formative and summative assessment?\nHave I/we considered action verbs in developing assessments to allow students to demonstrate this key learning?"]
[null,null,null,{"$f":"IF(ISERROR(VLOOKUP(C19,'Data Set'!D$8:E$55,2,FALSE)),\"\",(VLOOKUP(C19,'Data Set'!D$8:E$55,2,FALSE)))","v":""}]
[null,null,null,{"$f":"IF(ISERROR(VLOOKUP(C20,'Data Set'!D$8:E$55,2,FALSE)),\"\",(VLOOKUP(C20,'Data Set'!D$8:E$55,2,FALSE)))","v":""}]
[null,null,"Insert Key Learning",null,"ONGOING ASSESSMENT:","RESOURCES"]
[null,null,null,{"$f":"IF(ISERROR(VLOOKUP(C22,'Data Set'!D$8:E$55,2,FALSE)),\"\",(VLOOKUP(C22,'Data Set'!D$8:E$55,2,FALSE)))","v":""}]
[null,null,null,{"$f":"IF(ISERROR(VLOOKUP(C23,'Data Set'!D$8:E$55,2,FALSE)),\"\",(VLOOKUP(C23,'Data Set'!D$8:E$55,2,FALSE)))","v":""}]
[null,null,"Insert Key Learning"]
[null,null,null,{"$f":"IF(ISERROR(VLOOKUP(C25,'Data Set'!D$8:E$55,2,FALSE)),\"\",(VLOOKUP(C25,'Data Set'!D$8:E$55,2,FALSE)))","v":""}]
[null,null,null,{"$f":"IF(ISERROR(VLOOKUP(C26,'Data Set'!D$8:E$55,2,FALSE)),\"\",(VLOOKUP(C26,'Data Set'!D$8:E$55,2,FALSE)))","v":""},null,"LEARNER EXPERIENCE",null,"REFLECTION / NEXT STEPS:"]
[null,null,"Insert Key Learning",null,null,null,null,null,null,null,"IDENTIFYING KEY LEARNING\n(Based on collaborative discussion)\nPrompt Questions\n\nIs there a particular area I/we want to explore with students?\nHow might this unit of learning progress prior learning?\nHave I/we considered the age and stage of students?\nHave I/we considered using learning outcomes across the strands/elements?\nHave I/we considered the action verbs in identifying key learning. "]
[]
[null,null,null,{"$f":"IF(ISERROR(VLOOKUP(C29,'Data Set'!D$8:E$55,2,FALSE)),\"\",(VLOOKUP(C29,'Data Set'!D$8:E$55,2,FALSE)))","v":""}]
[null,null,null,{"$f":"IF(ISERROR(VLOOKUP(C30,'Data Set'!D$8:E$55,2,FALSE)),\"\",(VLOOKUP(C30,'Data Set'!D$8:E$55,2,FALSE)))","v":""}]
[null,null,"Insert Key Learning"]
[null,null,null,{"$f":"IF(ISERROR(VLOOKUP(C32,'Data Set'!D$8:E$55,2,FALSE)),\"\",(VLOOKUP(C32,'Data Set'!D$8:E$55,2,FALSE)))","v":""}]
[null,null,null,{"$f":"IF(ISERROR(VLOOKUP(C33,'Data Set'!D$8:E$55,2,FALSE)),\"\",(VLOOKUP(C33,'Data Set'!D$8:E$55,2,FALSE)))","v":""}]
[null,null,"Insert key Learning"]
[null,null,"TEACHERS COLLABORATIVE PLANNING",null,null,"TEACHERS COLLABORATIVE/INDIVDUAL PLANNING"]
[null,null,null,null,null,null,null,"Designed by JCt4."]
[]
[null,null,"Notes/hyperlinks to resources/other:"]

{"sheet":"Unit 33","index":34,"n_rows":38,"n_cols":11,"rows_kept":38,"cut":false,"hidden":true,"merged":[[9,4,19,4],[9,5,19,5],[9,7,24,7],[16,2,17,3],[1,0,1,1],[1,6,1,7],[3,2,4,2],[4,3,4,4],[8,2,8,3],[34,2,34,4],[34,5,34,7],[37,2,37,3],[8,10,15,10],[9,2,10,3],[26,10,33,10],[33,2,33,3],[17,10,23,10],[20,2,20,3],[21,4,33,4],[21,5,24,5],[23,2,23,3],[26,2,27,3],[26,5,33,5],[26,7,30,7],[30,2,30,3]]}
[]
["Click:",null,"Index","Class Details","Plannning Tool, Rationale & Aim","Learning Outcomes Engagement","Instructions"]
[]
[null,null,{"$f":"'Data Set'!D4","v":"Engineering:"},"Unit Title:",null,"Include on Index sheet: Select Yes / No",null,"Teacher:"]
[null,null,null,{"$f":"MID(CELL(\"filename\",A1),FIND(\"]\",CELL(\"filename\",A1))+1,1000)","v":"Unit 33"},null,"No"]
[null,null,"Year Group:","Class Group:","Commencement Date:","Duration:",null,"School:"]
[null,null,null,{"$f":"IF('Class Details'!K21=\"\",\"\",'Class Details'!K21)","v":"Enter in Class Details sheet"},"dd/mm/yyyy","No. of weeks / classes",null,{"$f":"IF('Class Details'!J8=\"\",\"\",'Class Details'!J8)","v":"Enter in Class Details sheet"}]
[]
[null,null,"PRIOR LEARNING",null,"EVIDENCE OF LEARNING:","STRATEGIES / METHODOLOGIES",null,"CLASSROOM APPROACH\n(Collaborative and / or individual)",null,null,"IDENTIFYING KEY LEARNING\n(Based on collaborative discussion)\nPrompt Questions\n\nIs there a particular area I/we want to explore with students?\nHow might this unit of learning progress prior learning?\nHave I/we considered the age and stage of students?\nHave I/we considered using learning outcomes across the strands/elements?\nHave I/we considered the action verbs in identifying key learning. "]
[]
[]
[null,null,"FOCUS OF LEARNING","EXPLORING LEARNING OUTCOMES"]
[null,null,null,"Exploring Learning Outcomes' booklet."]
[null,null,"LEARNING OUTCOMES AND KEY LEARNING:","ACTION VERBS:"]
[null,null,null,{"$f":"IF(ISERROR(VLOOKUP(C15,'Data Set'!D$8:E$55,2,FALSE)),\"\",(VLOOKUP(C15,'Data Set'!D$8:E$55,2,FALSE)))","v":""}]
[null,null,null,{"$f":"IF(ISERROR(VLOOKUP(C16,'Data Set'!D$8:E$55,2,FALSE)),\"\",(VLOOKUP(C16,'Data Set'!D$8:E$55,2,FALSE)))","v":""}]
[null,null,"Insert Key Learning"]
[null,null,null,null,null,null,null,null,null,null,"IDENTIFYING ASSESSMENT METHODS\n(Based on collaborative discussion)\nPrompt Questions\n\nHaving identified key learning we consider how students will be able to demonstrate this learning.\nHave I/we considered the use of both formative and summative assessment?\nHave I/we considered action verbs in developing assessments to allow students to demonstrate this key learning?"]
[null,null,null,{"$f":"IF(ISERROR(VLOOKUP(C19,'Data Set'!D$8:E$55,2,FALSE)),\"\",(VLOOKUP(C19,'Data Set'!D$8:E$55,2,FALSE)))","v":""}]
[null,null,null,{"$f":"IF(ISERROR(VLOOKUP(C20,'Data Set'!D$8:E$55,2,FALSE)),\"\",(VLOOKUP(C20,'Data Set'!D$8:E$55,2,FALSE)))","v":""}]
[null,null,"Insert Key Learning",null,"ONGOING ASSESSMENT:","RESOURCES"]
[null,null,null,{"$f":"IF(ISERROR(VLOOKUP(C22,'Data Set'!D$8:E$55,2,FALSE)),\"\",(VLOOKUP(C22,'Data Set'!D$8:E$55,2,FALSE)))","v":""}]
[null,null,null,{"$f":"IF(ISERROR(VLOOKUP(C23,'Data Set'!D$8:E$55,2,FALSE)),\"\",(VLOOKUP(C23,'Data Set'!D$8:E$55,2,FALSE)))","v":""}]
[null,null,"Insert Key Learning"]
[null,null,null,{"$f":"IF(ISERROR(VLOOKUP(C25,'Data Set'!D$8:E$55,2,FALSE)),\"\",(VLOOKUP(C25,'Data Set'!D$8:E$55,2,FALSE)))","v":""}]
[null,null,null,{"$f":"IF(ISERROR(VLOOKUP(C26,'Data Set'!D$8:E$55,2,FALSE)),\"\",(VLOOKUP(C26,'Data Set'!D$8:E$55,2,FALSE)))","v":""},null,"LEARNER EXPERIENCE",null,"REFLECTION / NEXT STEPS:"]
[null,null,"Insert Key Learning",null,null,null,null,null,null,null,"IDENTIFYING KEY LEARNING\n(Based on collaborative discussion)\nPrompt Questions\n\nIs there a particular area I/we want to explore with students?\nHow might this unit of learning progress prior learning?\nHave I/we considered the age and stage of students?\nHave I/we considered using learning outcomes across the strands/elements?\nHave I/we considered the action verbs in identifying key learning. "]
[]
[null,null,null,{"$f":"IF(ISERROR(VLOOKUP(C29,'Data Set'!D$8:E$55,2,FALSE)),\"\",(VLOOKUP(C29,'Data Set'!D$8:E$55,2,FALSE)))","v":""}]
[null,null,null,{"$f":"IF(ISERROR(VLOOKUP(C30,'Data Set'!D$8:E$55,2,FALSE)),\"\",(VLOOKUP(C30,'Data Set'!D$8:E$55,2,FALSE)))","v":""}]
[null,null,"Insert Key Learning"]
[null,null,null,{"$f":"IF(ISERROR(VLOOKUP(C32,'Data Set'!D$8:E$55,2,FALSE)),\"\",(VLOOKUP(C32,'Data Set'!D$8:E$55,2,FALSE)))","v":""}]
[null,null,null,{"$f":"IF(ISERROR(VLOOKUP(C33,'Data Set'!D$8:E$55,2,FALSE)),\"\",(VLOOKUP(C33,'Data Set'!D$8:E$55,2,FALSE)))","v":""}]
[null,null,"Insert key Learning"]
[null,null,"TEACHERS COLLABORATIVE PLANNING",null,null,"TEACHERS COLLABORATIVE/INDIVDUAL PLANNING"]
[null,null,null,null,null,null,null,"Designed by JCt4."]
[]
[null,null,"Notes/hyperlinks to resources/other:"]

{"sheet":"Unit 34","index":35,"n_rows":38,"n_cols":11,"rows_kept":38,"cut":false,"hidden":true,"merged":[[9,4,19,4],[9,5,19,5],[9,7,24,7],[16,2,17,3],[1,0,1,1],[1,6,1,7],[3,2,4,2],[4,3,4,4],[8,2,8,3],[34,2,34,4],[34,5,34,7],[37,2,37,3],[8,10,15,10],[9,2,10,3],[26,10,33,10],[33,2,33,3],[17,10,23,10],[20,2,20,3],[21,4,33,4],[21,5,24,5],[23,2,23,3],[26,2,27,3],[26,5,33,5],[26,7,30,7],[30,2,30,3]]}
[]
["Click:",null,"Index","Class Details","Plannning Tool, Rationale & Aim","Learning Outcomes Engagement","Instructions"]
[]
[null,null,{"$f":"'Data Set'!D4","v":"Engineering:"},"Unit Title:",null,"Include on Index sheet: Select Yes / No",null,"Teacher:"]
[null,null,null,{"$f":"MID(CELL(\"filename\",A1),FIND(\"]\",CELL(\"filename\",A1))+1,1000)","v":"Unit 34"},null,"No"]
[null,null,"Year Group:","Class Group:","Commencement Date:","Duration:",null,"School:"]
[null,null,null,{"$f":"IF('Class Details'!K21=\"\",\"\",'Class Details'!K21)","v":"Enter in Class Details sheet"},"dd/mm/yyyy","No. of weeks / classes",null,{"$f":"IF('Class Details'!J8=\"\",\"\",'Class Details'!J8)","v":"Enter in Class Details sheet"}]
[]
[null,null,"PRIOR LEARNING",null,"EVIDENCE OF LEARNING:","STRATEGIES / METHODOLOGIES",null,"CLASSROOM APPROACH\n(Collaborative and / or individual)",null,null,"IDENTIFYING KEY LEARNING\n(Based on collaborative discussion)\nPrompt Questions\n\nIs there a particular area I/we want to explore with students?\nHow might this unit of learning progress prior learning?\nHave I/we considered the age and stage of students?\nHave I/we considered using learning outcomes across the strands/elements?\nHave I/we considered the action verbs in identifying key learning. "]
[]
[]
[null,null,"FOCUS OF LEARNING","EXPLORING LEARNING OUTCOMES"]
[null,null,null,"Exploring Learning Outcomes' booklet."]
[null,null,"LEARNING OUTCOMES AND KEY LEARNING:","ACTION VERBS:"]
[null,null,null,{"$f":"IF(ISERROR(VLOOKUP(C15,'Data Set'!D$8:E$55,2,FALSE)),\"\",(VLOOKUP(C15,'Data Set'!D$8:E$55,2,FALSE)))","v":""}]
[null,null,null,{"$f":"IF(ISERROR(VLOOKUP(C16,'Data Set'!D$8:E$55,2,FALSE)),\"\",(VLOOKUP(C16,'Data Set'!D$8:E$55,2,FALSE)))","v":""}]
[null,null,"Insert Key Learning"]
[null,null,null,null,null,null,null,null,null,null,"IDENTIFYING ASSESSMENT METHODS\n(Based on collaborative discussion)\nPrompt Questions\n\nHaving identified key learning we consider how students will be able to demonstrate this learning.\nHave I/we considered the use of both formative and summative assessment?\nHave I/we considered action verbs in developing assessments to allow students to demonstrate this key learning?"]
[null,null,null,{"$f":"IF(ISERROR(VLOOKUP(C19,'Data Set'!D$8:E$55,2,FALSE)),\"\",(VLOOKUP(C19,'Data Set'!D$8:E$55,2,FALSE)))","v":""}]
[null,null,null,{"$f":"IF(ISERROR(VLOOKUP(C20,'Data Set'!D$8:E$55,2,FALSE)),\"\",(VLOOKUP(C20,'Data Set'!D$8:E$55,2,FALSE)))","v":""}]
[null,null,"Insert Key Learning",null,"ONGOING ASSESSMENT:","RESOURCES"]
[null,null,null,{"$f":"IF(ISERROR(VLOOKUP(C22,'Data Set'!D$8:E$55,2,FALSE)),\"\",(VLOOKUP(C22,'Data Set'!D$8:E$55,2,FALSE)))","v":""}]
[null,null,null,{"$f":"IF(ISERROR(VLOOKUP(C23,'Data Set'!D$8:E$55,2,FALSE)),\"\",(VLOOKUP(C23,'Data Set'!D$8:E$55,2,FALSE)))","v":""}]
[null,null,"Insert Key Learning"]
[null,null,null,{"$f":"IF(ISERROR(VLOOKUP(C25,'Data Set'!D$8:E$55,2,FALSE)),\"\",(VLOOKUP(C25,'Data Set'!D$8:E$55,2,FALSE)))","v":""}]
[null,null,null,{"$f":"IF(ISERROR(VLOOKUP(C26,'Data Set'!D$8:E$55,2,FALSE)),\"\",(VLOOKUP(C26,'Data Set'!D$8:E$55,2,FALSE)))","v":""},null,"LEARNER EXPERIENCE",null,"REFLECTION / NEXT STEPS:"]
[null,null,"Insert Key Learning",null,null,null,null,null,null,null,"IDENTIFYING KEY LEARNING\n(Based on collaborative discussion)\nPrompt Questions\n\nIs there a particular area I/we want to explore with students?\nHow might this unit of learning progress prior learning?\nHave I/we considered the age and stage of students?\nHave I/we considered using learning outcomes across the strands/elements?\nHave I/we considered the action verbs in identifying key learning. "]
[]
[null,null,null,{"$f":"IF(ISERROR(VLOOKUP(C29,'Data Set'!D$8:E$55,2,FALSE)),\"\",(VLOOKUP(C29,'Data Set'!D$8:E$55,2,FALSE)))","v":""}]
[null,null,null,{"$f":"IF(ISERROR(VLOOKUP(C30,'Data Set'!D$8:E$55,2,FALSE)),\"\",(VLOOKUP(C30,'Data Set'!D$8:E$55,2,FALSE)))","v":""}]
[null,null,"Insert Key Learning"]
[null,null,null,{"$f":"IF(ISERROR(VLOOKUP(C32,'Data Set'!D$8:E$55,2,FALSE)),\"\",(VLOOKUP(C32,'Data Set'!D$8:E$55,2,FALSE)))","v":""}]
[null,null,null,{"$f":"IF(ISERROR(VLOOKUP(C33,'Data Set'!D$8:E$55,2,FALSE)),\"\",(VLOOKUP(C33,'Data Set'!D$8:E$55,2,FALSE)))","v":""}]
[null,null,"Insert key Learning"]
[null,null,"TEACHERS COLLABORATIVE PLANNING",null,null,"TEACHERS COLLABORATIVE/INDIVDUAL PLANNING"]
[null,null,null,null,null,null,null,"Designed by JCt4."]
[]
[null,null,"Notes/hyperlinks to resources/other:"]

{"sheet":"Unit 35","index":36,"n_rows":38,"n_cols":11,"rows_kept":38,"cut":false,"hidden":true,"merged":[[9,4,19,4],[9,5,19,5],[9,7,24,7],[16,2,17,3],[1,0,1,1],[1,6,1,7],[3,2,4,2],[4,3,4,4],[8,2,8,3],[34,2,34,4],[34,5,34,7],[37,2,37,3],[8,10,15,10],[9,2,10,3],[26,10,33,10],[33,2,33,3],[17,10,23,10],[20,2,20,3],[21,4,33,4],[21,5,24,5],[23,2,23,3],[26,2,27,3],[26,5,33,5],[26,7,30,7],[30,2,30,3]]}
[]
["Click:",null,"Index","Class Details","Plannning Tool, Rationale & Aim","Learning Outcomes Engagement","Instructions"]
[]
[null,null,{"$f":"'Data Set'!D4","v":"Engineering:"},"Unit Title:",null,"Include on Index sheet: Select Yes / No",null,"Teacher:"]
[null,null,null,{"$f":"MID(CELL(\"filename\",A1),FIND(\"]\",CELL(\"filename\",A1))+1,1000)","v":"Unit 35"},null,"No"]
[null,null,"Year Group:","Class Group:","Commencement Date:","Duration:",null,"School:"]
[null,null,null,{"$f":"IF('Class Details'!K21=\"\",\"\",'Class Details'!K21)","v":"Enter in Class Details sheet"},"dd/mm/yyyy","No. of weeks / classes",null,{"$f":"IF('Class Details'!J8=\"\",\"\",'Class Details'!J8)","v":"Enter in Class Details sheet"}]
[]
[null,null,"PRIOR LEARNING",null,"EVIDENCE OF LEARNING:","STRATEGIES / METHODOLOGIES",null,"CLASSROOM APPROACH\n(Collaborative and / or individual)",null,null,"IDENTIFYING KEY LEARNING\n(Based on collaborative discussion)\nPrompt Questions\n\nIs there a particular area I/we want to explore with students?\nHow might this unit of learning progress prior learning?\nHave I/we considered the age and stage of students?\nHave I/we considered using learning outcomes across the strands/elements?\nHave I/we considered the action verbs in identifying key learning. "]
[]
[]
[null,null,"FOCUS OF LEARNING","EXPLORING LEARNING OUTCOMES"]
[null,null,null,"Exploring Learning Outcomes' booklet."]
[null,null,"LEARNING OUTCOMES AND KEY LEARNING:","ACTION VERBS:"]
[null,null,null,{"$f":"IF(ISERROR(VLOOKUP(C15,'Data Set'!D$8:E$55,2,FALSE)),\"\",(VLOOKUP(C15,'Data Set'!D$8:E$55,2,FALSE)))","v":""}]
[null,null,null,{"$f":"IF(ISERROR(VLOOKUP(C16,'Data Set'!D$8:E$55,2,FALSE)),\"\",(VLOOKUP(C16,'Data Set'!D$8:E$55,2,FALSE)))","v":""}]
[null,null,"Insert Key Learning"]
[null,null,null,null,null,null,null,null,null,null,"IDENTIFYING ASSESSMENT METHODS\n(Based on collaborative discussion)\nPrompt Questions\n\nHaving identified key learning we consider how students will be able to demonstrate this learning.\nHave I/we considered the use of both formative and summative assessment?\nHave I/we considered action verbs in developing assessments to allow students to demonstrate this key learning?"]
[null,null,null,{"$f":"IF(ISERROR(VLOOKUP(C19,'Data Set'!D$8:E$55,2,FALSE)),\"\",(VLOOKUP(C19,'Data Set'!D$8:E$55,2,FALSE)))","v":""}]
[null,null,null,{"$f":"IF(ISERROR(VLOOKUP(C20,'Data Set'!D$8:E$55,2,FALSE)),\"\",(VLOOKUP(C20,'Data Set'!D$8:E$55,2,FALSE)))","v":""}]
[null,null,"Insert Key Learning",null,"ONGOING ASSESSMENT:","RESOURCES"]
[null,null,null,{"$f":"IF(ISERROR(VLOOKUP(C22,'Data Set'!D$8:E$55,2,FALSE)),\"\",(VLOOKUP(C22,'Data Set'!D$8:E$55,2,FALSE)))","v":""}]
[null,null,null,{"$f":"IF(ISERROR(VLOOKUP(C23,'Data Set'!D$8:E$55,2,FALSE)),\"\",(VLOOKUP(C23,'Data Set'!D$8:E$55,2,FALSE)))","v":""}]
[null,null,"Insert Key Learning"]
[null,null,null,{"$f":"IF(ISERROR(VLOOKUP(C25,'Data Set'!D$8:E$55,2,FALSE)),\"\",(VLOOKUP(C25,'Data Set'!D$8:E$55,2,FALSE)))","v":""}]
[null,null,null,{"$f":"IF(ISERROR(VLOOKUP(C26,'Data Set'!D$8:E$55,2,FALSE)),\"\",(VLOOKUP(C26,'Data Set'!D$8:E$55,2,FALSE)))","v":""},null,"LEARNER EXPERIENCE",null,"REFLECTION / NEXT STEPS:"]
[null,null,"Insert Key Learning",null,null,null,null,null,null,null,"IDENTIFYING KEY LEARNING\n(Based on collaborative discussion)\nPrompt Questions\n\nIs there a particular area I/we want to explore with students?\nHow might this unit of learning progress prior learning?\nHave I/we considered the age and stage of students?\nHave I/we considered using learning outcomes across the strands/elements?\nHave I/we considered the action verbs in identifying key learning. "]
[]
[null,null,null,{"$f":"IF(ISERROR(VLOOKUP(C29,'Data Set'!D$8:E$55,2,FALSE)),\"\",(VLOOKUP(C29,'Data Set'!D$8:E$55,2,FALSE)))","v":""}]
[null,null,null,{"$f":"IF(ISERROR(VLOOKUP(C30,'Data Set'!D$8:E$55,2,FALSE)),\"\",(VLOOKUP(C30,'Data Set'!D$8:E$55,2,FALSE)))","v":""}]
[null,null,"Insert Key Learning"]
[null,null,null,{"$f":"IF(ISERROR(VLOOKUP(C32,'Data Set'!D$8:E$55,2,FALSE)),\"\",(VLOOKUP(C32,'Data Set'!D$8:E$55,2,FALSE)))","v":""}]
[null,null,null,{"$f":"IF(ISERROR(VLOOKUP(C33,'Data Set'!D$8:E$55,2,FALSE)),\"\",(VLOOKUP(C33,'Data Set'!D$8:E$55,2,FALSE)))","v":""}]
[null,null,"Insert key Learning"]
[null,null,"TEACHERS COLLABORATIVE PLANNING",null,null,"TEACHERS COLLABORATIVE/INDIVDUAL PLANNING"]
[null,null,null,null,null,null,null,"Designed by JCt4."]
[]
[null,null,"Notes/hyperlinks to resources/other:"]

{"sheet":"Unit 36","index":37,"n_rows":38,"n_cols":11,"rows_kept":38,"cut":false,"hidden":true,"merged":[[9,4,19,4],[9,5,19,5],[9,7,24,7],[16,2,17,3],[1,0,1,1],[1,6,1,7],[3,2,4,2],[4,3,4,4],[8,2,8,3],[34,2,34,4],[34,5,34,7],[37,2,37,3],[8,10,15,10],[9,2,10,3],[26,10,33,10],[33,2,33,3],[17,10,23,10],[20,2,20,3],[21,4,33,4],[21,5,24,5],[23,2,23,3],[26,2,27,3],[26,5,33,5],[26,7,30,7],[30,2,30,3]]}
[]
["Click:",null,"Index","Class Details","Plannning Tool, Rationale & Aim","Learning Outcomes Engagement","Instructions"]
[]
[null,null,{"$f":"'Data Set'!D4","v":"Engineering:"},"Unit Title:",null,"Include on Index sheet: Select Yes / No",null,"Teacher:"]
[null,null,null,{"$f":"MID(CELL(\"filename\",A1),FIND(\"]\",CELL(\"filename\",A1))+1,1000)","v":"Unit 36"},null,"No"]
[null,null,"Year Group:","Class Group:","Commencement Date:","Duration:",null,"School:"]
[null,null,null,{"$f":"IF('Class Details'!K21=\"\",\"\",'Class Details'!K21)","v":"Enter in Class Details sheet"},"dd/mm/yyyy","No. of weeks / classes",null,{"$f":"IF('Class Details'!J8=\"\",\"\",'Class Details'!J8)","v":"Enter in Class Details sheet"}]
[]
[null,null,"PRIOR LEARNING",null,"EVIDENCE OF LEARNING:","STRATEGIES / METHODOLOGIES",null,"CLASSROOM APPROACH\n(Collaborative and / or individual)",null,null,"IDENTIFYING KEY LEARNING\n(Based on collaborative discussion)\nPrompt Questions\n\nIs there a particular area I/we want to explore with students?\nHow might this unit of learning progress prior learning?\nHave I/we considered the age and stage of students?\nHave I/we considered using learning outcomes across the strands/elements?\nHave I/we considered the action verbs in identifying key learning. "]
[]
[]
[null,null,"FOCUS OF LEARNING","EXPLORING LEARNING OUTCOMES"]
[null,null,null,"Exploring Learning Outcomes' booklet."]
[null,null,"LEARNING OUTCOMES AND KEY LEARNING:","ACTION VERBS:"]
[null,null,null,{"$f":"IF(ISERROR(VLOOKUP(C15,'Data Set'!D$8:E$55,2,FALSE)),\"\",(VLOOKUP(C15,'Data Set'!D$8:E$55,2,FALSE)))","v":""}]
[null,null,null,{"$f":"IF(ISERROR(VLOOKUP(C16,'Data Set'!D$8:E$55,2,FALSE)),\"\",(VLOOKUP(C16,'Data Set'!D$8:E$55,2,FALSE)))","v":""}]
[null,null,"Insert Key Learning"]
[null,null,null,null,null,null,null,null,null,null,"IDENTIFYING ASSESSMENT METHODS\n(Based on collaborative discussion)\nPrompt Questions\n\nHaving identified key learning we consider how students will be able to demonstrate this learning.\nHave I/we considered the use of both formative and summative assessment?\nHave I/we considered action verbs in developing assessments to allow students to demonstrate this key learning?"]
[null,null,null,{"$f":"IF(ISERROR(VLOOKUP(C19,'Data Set'!D$8:E$55,2,FALSE)),\"\",(VLOOKUP(C19,'Data Set'!D$8:E$55,2,FALSE)))","v":""}]
[null,null,null,{"$f":"IF(ISERROR(VLOOKUP(C20,'Data Set'!D$8:E$55,2,FALSE)),\"\",(VLOOKUP(C20,'Data Set'!D$8:E$55,2,FALSE)))","v":""}]
[null,null,"Insert Key Learning",null,"ONGOING ASSESSMENT:","RESOURCES"]
[null,null,null,{"$f":"IF(ISERROR(VLOOKUP(C22,'Data Set'!D$8:E$55,2,FALSE)),\"\",(VLOOKUP(C22,'Data Set'!D$8:E$55,2,FALSE)))","v":""}]
[null,null,null,{"$f":"IF(ISERROR(VLOOKUP(C23,'Data Set'!D$8:E$55,2,FALSE)),\"\",(VLOOKUP(C23,'Data Set'!D$8:E$55,2,FALSE)))","v":""}]
[null,null,"Insert Key Learning"]
[null,null,null,{"$f":"IF(ISERROR(VLOOKUP(C25,'Data Set'!D$8:E$55,2,FALSE)),\"\",(VLOOKUP(C25,'Data Set'!D$8:E$55,2,FALSE)))","v":""}]
[null,null,null,{"$f":"IF(ISERROR(VLOOKUP(C26,'Data Set'!D$8:E$55,2,FALSE)),\"\",(VLOOKUP(C26,'Data Set'!D$8:E$55,2,FALSE)))","v":""},null,"LEARNER EXPERIENCE",null,"REFLECTION / NEXT STEPS:"]
[null,null,"Insert Key Learning",null,null,null,null,null,null,null,"IDENTIFYING KEY LEARNING\n(Based on collaborative discussion)\nPrompt Questions\n\nIs there a particular area I/we want to explore with students?\nHow might this unit of learning progress prior learning?\nHave I/we considered the age and stage of students?\nHave I/we considered using learning outcomes across the strands/elements?\nHave I/we considered the action verbs in identifying key learning. "]
[]
[null,null,null,{"$f":"IF(ISERROR(VLOOKUP(C29,'Data Set'!D$8:E$55,2,FALSE)),\"\",(VLOOKUP(C29,'Data Set'!D$8:E$55,2,FALSE)))","v":""}]
[null,null,null,{"$f":"IF(ISERROR(VLOOKUP(C30,'Data Set'!D$8:E$55,2,FALSE)),\"\",(VLOOKUP(C30,'Data Set'!D$8:E$55,2,FALSE)))","v":""}]
[null,null,"Insert Key Learning"]
[null,null,null,{"$f":"IF(ISERROR(VLOOKUP(C32,'Data Set'!D$8:E$55,2,FALSE)),\"\",(VLOOKUP(C32,'Data Set'!D$8:E$55,2,FALSE)))","v":""}]
[null,null,null,{"$f":"IF(ISERROR(VLOOKUP(C33,'Data Set'!D$8:E$55,2,FALSE)),\"\",(VLOOKUP(C33,'Data Set'!D$8:E$55,2,FALSE)))","v":""}]
[null,null,"Insert key Learning"]
[null,null,"TEACHERS COLLABORATIVE PLANNING",null,null,"TEACHERS COLLABORATIVE/INDIVDUAL PLANNING"]
[null,null,null,null,null,null,null,"Designed by JCt4."]
[]
[null,null,"Notes/hyperlinks to resources/other:"]

{"sheet":"Unit 37","index":38,"n_rows":38,"n_cols":11,"rows_kept":38,"cut":false,"hidden":true,"merged":[[9,4,19,4],[9,5,19,5],[9,7,24,7],[16,2,17,3],[1,0,1,1],[1,6,1,7],[3,2,4,2],[4,3,4,4],[8,2,8,3],[34,2,34,4],[34,5,34,7],[37,2,37,3],[8,10,15,10],[9,2,10,3],[26,10,33,10],[33,2,33,3],[17,10,23,10],[20,2,20,3],[21,4,33,4],[21,5,24,5],[23,2,23,3],[26,2,27,3],[26,5,33,5],[26,7,30,7],[30,2,30,3]]}
[]
["Click:",null,"Index","Class Details","Plannning Tool, Rationale & Aim","Learning Outcomes Engagement","Instructions"]
[]
[null,null,{"$f":"'Data Set'!D4","v":"Engineering:"},"Unit Title:",null,"Include on Index sheet: Select Yes / No",null,"Teacher:"]
[null,null,null,{"$f":"MID(CELL(\"filename\",A1),FIND(\"]\",CELL(\"filename\",A1))+1,1000)","v":"Unit 37"},null,"No"]
[null,null,"Year Group:","Class Group:","Commencement Date:","Duration:",null,"School:"]
[null,null,null,{"$f":"IF('Class Details'!K21=\"\",\"\",'Class Details'!K21)","v":"Enter in Class Details sheet"},"dd/mm/yyyy","No. of weeks / classes",null,{"$f":"IF('Class Details'!J8=\"\",\"\",'Class Details'!J8)","v":"Enter in Class Details sheet"}]
[]
[null,null,"PRIOR LEARNING",null,"EVIDENCE OF LEARNING:","STRATEGIES / METHODOLOGIES",null,"CLASSROOM APPROACH\n(Collaborative and / or individual)",null,null,"IDENTIFYING KEY LEARNING\n(Based on collaborative discussion)\nPrompt Questions\n\nIs there a particular area I/we want to explore with students?\nHow might this unit of learning progress prior learning?\nHave I/we considered the age and stage of students?\nHave I/we considered using learning outcomes across the strands/elements?\nHave I/we considered the action verbs in identifying key learning. "]
[]
[]
[null,null,"FOCUS OF LEARNING","EXPLORING LEARNING OUTCOMES"]
[null,null,null,"Exploring Learning Outcomes' booklet."]
[null,null,"LEARNING OUTCOMES AND KEY LEARNING:","ACTION VERBS:"]
[null,null,null,{"$f":"IF(ISERROR(VLOOKUP(C15,'Data Set'!D$8:E$55,2,FALSE)),\"\",(VLOOKUP(C15,'Data Set'!D$8:E$55,2,FALSE)))","v":""}]
[null,null,null,{"$f":"IF(ISERROR(VLOOKUP(C16,'Data Set'!D$8:E$55,2,FALSE)),\"\",(VLOOKUP(C16,'Data Set'!D$8:E$55,2,FALSE)))","v":""}]
[null,null,"Insert Key Learning"]
[null,null,null,null,null,null,null,null,null,null,"IDENTIFYING ASSESSMENT METHODS\n(Based on collaborative discussion)\nPrompt Questions\n\nHaving identified key learning we consider how students will be able to demonstrate this learning.\nHave I/we considered the use of both formative and summative assessment?\nHave I/we considered action verbs in developing assessments to allow students to demonstrate this key learning?"]
[null,null,null,{"$f":"IF(ISERROR(VLOOKUP(C19,'Data Set'!D$8:E$55,2,FALSE)),\"\",(VLOOKUP(C19,'Data Set'!D$8:E$55,2,FALSE)))","v":""}]
[null,null,null,{"$f":"IF(ISERROR(VLOOKUP(C20,'Data Set'!D$8:E$55,2,FALSE)),\"\",(VLOOKUP(C20,'Data Set'!D$8:E$55,2,FALSE)))","v":""}]
[null,null,"Insert Key Learning",null,"ONGOING ASSESSMENT:","RESOURCES"]
[null,null,null,{"$f":"IF(ISERROR(VLOOKUP(C22,'Data Set'!D$8:E$55,2,FALSE)),\"\",(VLOOKUP(C22,'Data Set'!D$8:E$55,2,FALSE)))","v":""}]
[null,null,null,{"$f":"IF(ISERROR(VLOOKUP(C23,'Data Set'!D$8:E$55,2,FALSE)),\"\",(VLOOKUP(C23,'Data Set'!D$8:E$55,2,FALSE)))","v":""}]
[null,null,"Insert Key Learning"]
[null,null,null,{"$f":"IF(ISERROR(VLOOKUP(C25,'Data Set'!D$8:E$55,2,FALSE)),\"\",(VLOOKUP(C25,'Data Set'!D$8:E$55,2,FALSE)))","v":""}]
[null,null,null,{"$f":"IF(ISERROR(VLOOKUP(C26,'Data Set'!D$8:E$55,2,FALSE)),\"\",(VLOOKUP(C26,'Data Set'!D$8:E$55,2,FALSE)))","v":""},null,"LEARNER EXPERIENCE",null,"REFLECTION / NEXT STEPS:"]
[null,null,"Insert Key Learning",null,null,null,null,null,null,null,"IDENTIFYING KEY LEARNING\n(Based on collaborative discussion)\nPrompt Questions\n\nIs there a particular area I/we want to explore with students?\nHow might this unit of learning progress prior learning?\nHave I/we considered the age and stage of students?\nHave I/we considered using learning outcomes across the strands/elements?\nHave I/we considered the action verbs in identifying key learning. "]
[]
[null,null,null,{"$f":"IF(ISERROR(VLOOKUP(C29,'Data Set'!D$8:E$55,2,FALSE)),\"\",(VLOOKUP(C29,'Data Set'!D$8:E$55,2,FALSE)))","v":""}]
[null,null,null,{"$f":"IF(ISERROR(VLOOKUP(C30,'Data Set'!D$8:E$55,2,FALSE)),\"\",(VLOOKUP(C30,'Data Set'!D$8:E$55,2,FALSE)))","v":""}]
[null,null,"Insert Key Learning"]
[null,null,null,{"$f":"IF(ISERROR(VLOOKUP(C32,'Data Set'!D$8:E$55,2,FALSE)),\"\",(VLOOKUP(C32,'Data Set'!D$8:E$55,2,FALSE)))","v":""}]
[null,null,null,{"$f":"IF(ISERROR(VLOOKUP(C33,'Data Set'!D$8:E$55,2,FALSE)),\"\",(VLOOKUP(C33,'Data Set'!D$8:E$55,2,FALSE)))","v":""}]
[null,null,"Insert key Learning"]
[null,null,"TEACHERS COLLABORATIVE PLANNING",null,null,"TEACHERS COLLABORATIVE/INDIVDUAL PLANNING"]
[null,null,null,null,null,null,null,"Designed by JCt4."]
[]
[null,null,"Notes/hyperlinks to resources/other:"]

{"sheet":"Unit 38","index":39,"n_rows":38,"n_cols":11,"rows_kept":38,"cut":false,"hidden":true,"merged":[[37,2,37,3],[1,6,1,7],[3,2,4,2],[4,3,4,4],[9,4,19,4],[9,5,19,5],[9,7,24,7],[16,2,17,3],[20,2,20,3],[21,4,33,4],[21,5,24,5],[23,2,23,3],[26,2,27,3],[26,5,33,5],[26,7,30,7],[1,0,1,1],[8,2,8,3],[30,2,30,3],[34,2,34,4],[8,10,15,10],[9,2,10,3],[26,10,33,10],[33,2,33,3],[17,10,23,10],[34,5,34,7]]}
[]
["Click:",null,"Index","Class Details","Plannning Tool, Rationale & Aim","Learning Outcomes Engagement","Instructions"]
[]
[null,null,{"$f":"'Data Set'!D4","v":"Engineering:"},"Unit Title:",null,"Include on Index sheet: Select Yes / No",null,"Teacher:"]
[null,null,null,{"$f":"MID(CELL(\"filename\",A1),FIND(\"]\",CELL(\"filename\",A1))+1,1000)","v":"Unit 38"},null,"No"]
[null,null,"Year Group:","Class Group:","Commencement Date:","Duration:",null,"School:"]
[null,null,null,{"$f":"IF('Class Details'!K21=\"\",\"\",'Class Details'!K21)","v":"Enter in Class Details sheet"},"dd/mm/yyyy","No. of weeks / classes",null,{"$f":"IF('Class Details'!J8=\"\",\"\",'Class Details'!J8)","v":"Enter in Class Details sheet"}]
[]
[null,null,"PRIOR LEARNING",null,"EVIDENCE OF LEARNING:","STRATEGIES / METHODOLOGIES",null,"CLASSROOM APPROACH\n(Collaborative and / or individual)",null,null,"IDENTIFYING KEY LEARNING\n(Based on collaborative discussion)\nPrompt Questions\n\nIs there a particular area I/we want to explore with students?\nHow might this unit of learning progress prior learning?\nHave I/we considered the age and stage of students?\nHave I/we considered using learning outcomes across the strands/elements?\nHave I/we considered the action verbs in identifying key learning. "]
[]
[]
[null,null,"FOCUS OF LEARNING","EXPLORING LEARNING OUTCOMES"]
[null,null,null,"Exploring Learning Outcomes' booklet."]
[null,null,"LEARNING OUTCOMES AND KEY LEARNING:","ACTION VERBS:"]
[null,null,null,{"$f":"IF(ISERROR(VLOOKUP(C15,'Data Set'!D$8:E$55,2,FALSE)),\"\",(VLOOKUP(C15,'Data Set'!D$8:E$55,2,FALSE)))","v":""}]
[null,null,null,{"$f":"IF(ISERROR(VLOOKUP(C16,'Data Set'!D$8:E$55,2,FALSE)),\"\",(VLOOKUP(C16,'Data Set'!D$8:E$55,2,FALSE)))","v":""}]
[null,null,"Insert Key Learning"]
[null,null,null,null,null,null,null,null,null,null,"IDENTIFYING ASSESSMENT METHODS\n(Based on collaborative discussion)\nPrompt Questions\n\nHaving identified key learning we consider how students will be able to demonstrate this learning.\nHave I/we considered the use of both formative and summative assessment?\nHave I/we considered action verbs in developing assessments to allow students to demonstrate this key learning?"]
[null,null,null,{"$f":"IF(ISERROR(VLOOKUP(C19,'Data Set'!D$8:E$55,2,FALSE)),\"\",(VLOOKUP(C19,'Data Set'!D$8:E$55,2,FALSE)))","v":""}]
[null,null,null,{"$f":"IF(ISERROR(VLOOKUP(C20,'Data Set'!D$8:E$55,2,FALSE)),\"\",(VLOOKUP(C20,'Data Set'!D$8:E$55,2,FALSE)))","v":""}]
[null,null,"Insert Key Learning",null,"ONGOING ASSESSMENT:","RESOURCES"]
[null,null,null,{"$f":"IF(ISERROR(VLOOKUP(C22,'Data Set'!D$8:E$55,2,FALSE)),\"\",(VLOOKUP(C22,'Data Set'!D$8:E$55,2,FALSE)))","v":""}]
[null,null,null,{"$f":"IF(ISERROR(VLOOKUP(C23,'Data Set'!D$8:E$55,2,FALSE)),\"\",(VLOOKUP(C23,'Data Set'!D$8:E$55,2,FALSE)))","v":""}]
[null,null,"Insert Key Learning"]
[null,null,null,{"$f":"IF(ISERROR(VLOOKUP(C25,'Data Set'!D$8:E$55,2,FALSE)),\"\",(VLOOKUP(C25,'Data Set'!D$8:E$55,2,FALSE)))","v":""}]
[null,null,null,{"$f":"IF(ISERROR(VLOOKUP(C26,'Data Set'!D$8:E$55,2,FALSE)),\"\",(VLOOKUP(C26,'Data Set'!D$8:E$55,2,FALSE)))","v":""},null,"LEARNER EXPERIENCE",null,"REFLECTION / NEXT STEPS:"]
[null,null,"Insert Key Learning",null,null,null,null,null,null,null,"IDENTIFYING KEY LEARNING\n(Based on collaborative discussion)\nPrompt Questions\n\nIs there a particular area I/we want to explore with students?\nHow might this unit of learning progress prior learning?\nHave I/we considered the age and stage of students?\nHave I/we considered using learning outcomes across the strands/elements?\nHave I/we considered the action verbs in identifying key learning. "]
[]
[null,null,null,{"$f":"IF(ISERROR(VLOOKUP(C29,'Data Set'!D$8:E$55,2,FALSE)),\"\",(VLOOKUP(C29,'Data Set'!D$8:E$55,2,FALSE)))","v":""}]
[null,null,null,{"$f":"IF(ISERROR(VLOOKUP(C30,'Data Set'!D$8:E$55,2,FALSE)),\"\",(VLOOKUP(C30,'Data Set'!D$8:E$55,2,FALSE)))","v":""}]
[null,null,"Insert Key Learning"]
[null,null,null,{"$f":"IF(ISERROR(VLOOKUP(C32,'Data Set'!D$8:E$55,2,FALSE)),\"\",(VLOOKUP(C32,'Data Set'!D$8:E$55,2,FALSE)))","v":""}]
[null,null,null,{"$f":"IF(ISERROR(VLOOKUP(C33,'Data Set'!D$8:E$55,2,FALSE)),\"\",(VLOOKUP(C33,'Data Set'!D$8:E$55,2,FALSE)))","v":""}]
[null,null,"Insert key Learning"]
[null,null,"TEACHERS COLLABORATIVE PLANNING",null,null,"TEACHERS COLLABORATIVE/INDIVDUAL PLANNING"]
[null,null,null,null,null,null,null,"Designed by JCt4."]
[]
[null,null,"Notes/hyperlinks to resources/other:"]

{"sheet":"Planning Tool, Rationale & Aim","index":40,"n_rows":2,"n_cols":19,"rows_kept":2,"cut":false,"hidden":false,"merged":[[1,18,1,21],[1,0,1,1],[1,2,1,5],[1,6,1,9],[1,14,1,17],[1,10,2,13]]}
[]
["Click:",null,"Index",null,null,null,"Class Details",null,null,null,"Planning Tool, Rationale & Aim",null,null,null,"Learning Outcomes Engagement",null,null,null,"Instructions"]

{"sheet":"Learning Outcomes Engagement","index":41,"n_rows":66,"n_cols":18,"rows_kept":66,"cut":false,"hidden":false,"merged":[[1,1,1,2],[1,14,1,17],[50,10,65,10],[5,10,5,17],[50,11,53,11],[54,11,57,11],[58,11,61,11],[48,12,49,13],[48,14,49,15],[48,16,49,17],[28,14,29,15],[28,16,29,17],[30,11,33,11],[34,11,37,11],[5,1,5,7],[28,1,28,7],[8,16,9,17],[8,12,9,13],[8,14,9,15],[10,11,13,11],[14,11,17,11],[62,11,65,11],[22,11,25,11],[22,1,25,1],[8,1,9,1],[38,11,41,11],[30,10,45,10],[28,11,29,11],[48,11,49,11],[8,2,9,3],[8,4,9,5],[8,6,9,7],[10,1,13,1],[14,1,17,1],[18,1,21,1],[10,10,25,10],[18,11,21,11],[1,6,1,10],[1,3,1,5],[1,11,2,13],[8,11,9,11],[42,11,45,11],[28,12,29,13]]}
[]
["Click:","Index",null,"Class Details",null,null,"Planning Tool, Rationale & Aim",null,null,null,null,"Learning Outcomes Engagement",null,null,"Instructions"]
[]
[]
[]
[null," Learning outcomes engagement over the 3 years of Junior Cycle:\nThe table below gives a visual display of engagment across the learning outcomes and does not represent that the learning outcomes are completed but rather shows the level of engagement across the three years of Junior Cycle.",null,null,null,null,null,null,null,null,"Learning outcomes engagement in each year of Junior Cycle:\nThe tables below can be used to identify engagement with learning outcomes across each year of Junior Cycle. For the tables below to populate, ensure to select the year group at the top of each unit of learning plan."]
[]
[]
[null,{"$f":"'Data Set'!D4","v":"Engineering:"},{"$f":"'Data Set'!A8","v":"Processes and Principles"},null,{"$f":"'Data Set'!A24","v":"Design Application"},null,{"$f":"'Data Set'!A40","v":"Mechatronics"},null,null,null,null,{"$f":"'Data Set'!D4","v":"Engineering:"},{"$f":"C9","v":"Processes and Principles"},null,{"$f":"E9","v":"Design Application"},null,{"$f":"G9","v":"Mechatronics"}]
[]
[null,{"$f":"'Data Set'!B8","v":"Engineering Knowledge and Awareness"},{"$f":"IF('Data Set'!$C8=\"\",\"\", 'Data Set'!$C8)","v":"1.1"},{"$f":"IF(C11=\"\",\"\",IF('Data Set'!$AR8=0,\"\",'Data Set'!$AR8))","v":""},{"$f":"IF('Data Set'!$C24=\"\",\"\", 'Data Set'!$C24)","v":"2.1"},{"$f":"IF(E11=\"\",\"\",IF('Data Set'!$AR24=0,\"\",'Data Set'!$AR24))","v":""},{"$f":"IF('Data Set'!$C40=\"\",\"\", 'Data Set'!$C40)","v":"3.1"},{"$f":"IF(G11=\"\",\"\",IF('Data Set'!$AR40=0,\"\",'Data Set'!$AR40))","v":""},null,null,"YEAR 1",{"$f":"B11","v":"Engineering Knowledge and Awareness"},{"$f":"IF('Data Set'!$C8=\"\",\"\", 'Data Set'!$C8)","v":"1.1"},{"$f":"IF(M11=\"\",\"\",IF('Data Set'!$CF8=0,\"\",'Data Set'!$CF8))","v":""},{"$f":"IF('Data Set'!$C24=\"\",\"\", 'Data Set'!$C24)","v":"2.1"},{"$f":"IF(O11=\"\",\"\",IF('Data Set'!$CF24=0,\"\",'Data Set'!$CF24))","v":""},{"$f":"IF('Data Set'!$C40=\"\",\"\", 'Data Set'!$C40)","v":"3.1"},{"$f":"IF(Q11=\"\",\"\",IF('Data Set'!$CF40=0,\"\",'Data Set'!$CF40))","v":""}]
[null,null,{"$f":"IF('Data Set'!$C9=\"\",\"\", 'Data Set'!$C9)","v":"1.2"},{"$f":"IF(C12=\"\",\"\",IF('Data Set'!$AR9=0,\"\",'Data Set'!$AR9))","v":""},{"$f":"IF('Data Set'!$C25=\"\",\"\", 'Data Set'!$C25)","v":"2.2"},{"$f":"IF(E12=\"\",\"\",IF('Data Set'!$AR25=0,\"\",'Data Set'!$AR25))","v":""},{"$f":"IF('Data Set'!$C41=\"\",\"\", 'Data Set'!$C41)","v":"3.2"},{"$f":"IF(G12=\"\",\"\",IF('Data Set'!$AR41=0,\"\",'Data Set'!$AR41))","v":""},null,null,null,null,{"$f":"IF('Data Set'!$C9=\"\",\"\", 'Data Set'!$C9)","v":"1.2"},{"$f":"IF(M12=\"\",\"\",IF('Data Set'!$CF9=0,\"\",'Data Set'!$CF9))","v":""},{"$f":"IF('Data Set'!$C25=\"\",\"\", 'Data Set'!$C25)","v":"2.2"},{"$f":"IF(O12=\"\",\"\",IF('Data Set'!$CF25=0,\"\",'Data Set'!$CF25))","v":""},{"$f":"IF('Data Set'!$C41=\"\",\"\", 'Data Set'!$C41)","v":"3.2"},{"$f":"IF(Q12=\"\",\"\",IF('Data Set'!$CF41=0,\"\",'Data Set'!$CF41))","v":""}]
[null,null,{"$f":"IF('Data Set'!$C10=\"\",\"\", 'Data Set'!$C10)","v":"1.3"},{"$f":"IF(C13=\"\",\"\",IF('Data Set'!$AR10=0,\"\",'Data Set'!$AR10))","v":""},{"$f":"IF('Data Set'!$C26=\"\",\"\", 'Data Set'!$C26)","v":"2.3"},{"$f":"IF(E13=\"\",\"\",IF('Data Set'!$AR26=0,\"\",'Data Set'!$AR26))","v":""},{"$f":"IF('Data Set'!$C42=\"\",\"\", 'Data Set'!$C42)","v":"3.3"},{"$f":"IF(G13=\"\",\"\",IF('Data Set'!$AR42=0,\"\",'Data Set'!$AR42))","v":""},null,null,null,null,{"$f":"IF('Data Set'!$C10=\"\",\"\", 'Data Set'!$C10)","v":"1.3"},{"$f":"IF(M13=\"\",\"\",IF('Data Set'!$CF10=0,\"\",'Data Set'!$CF10))","v":""},{"$f":"IF('Data Set'!$C26=\"\",\"\", 'Data Set'!$C26)","v":"2.3"},{"$f":"IF(O13=\"\",\"\",IF('Data Set'!$CF26=0,\"\",'Data Set'!$CF26))","v":""},{"$f":"IF('Data Set'!$C42=\"\",\"\", 'Data Set'!$C42)","v":"3.3"},{"$f":"IF(Q13=\"\",\"\",IF('Data Set'!$CF42=0,\"\",'Data Set'!$CF42))","v":""}]
[null,null,{"$f":"IF('Data Set'!$C11=\"\",\"\", 'Data Set'!$C11)","v":"1.4"},{"$f":"IF(C14=\"\",\"\",IF('Data Set'!$AR11=0,\"\",'Data Set'!$AR11))","v":""},{"$f":"IF('Data Set'!$C27=\"\",\"\", 'Data Set'!$C27)","v":""},{"$f":"IF(E14=\"\",\"\",IF('Data Set'!$AR27=0,\"\",'Data Set'!$AR27))","v":""},{"$f":"IF('Data Set'!$C43=\"\",\"\", 'Data Set'!$C43)","v":""},{"$f":"IF(G14=\"\",\"\",IF('Data Set'!$AR43=0,\"\",'Data Set'!$AR43))","v":""},null,null,null,null,{"$f":"IF('Data Set'!$C11=\"\",\"\", 'Data Set'!$C11)","v":"1.4"},{"$f":"IF(M14=\"\",\"\",IF('Data Set'!$CF11=0,\"\",'Data Set'!$CF11))","v":""},{"$f":"IF('Data Set'!$C27=\"\",\"\", 'Data Set'!$C27)","v":""},{"$f":"IF(O14=\"\",\"\",IF('Data Set'!$CF27=0,\"\",'Data Set'!$CF27))","v":""},{"$f":"IF('Data Set'!$C43=\"\",\"\", 'Data Set'!$C43)","v":""},{"$f":"IF(Q14=\"\",\"\",IF('Data Set'!$CF43=0,\"\",'Data Set'!$CF43))","v":""}]
[null,{"$f":"'Data Set'!B12","v":"Innovation and Exploration"},{"$f":"IF('Data Set'!$C12=\"\",\"\", 'Data Set'!$C12)","v":"1.5"},{"$f":"IF(C15=\"\",\"\",IF('Data Set'!$AR12=0,\"\",'Data Set'!$AR12))","v":""},{"$f":"IF('Data Set'!$C28=\"\",\"\", 'Data Set'!$C28)","v":"2.4"},{"$f":"IF(E15=\"\",\"\",IF('Data Set'!$AR28=0,\"\",'Data Set'!$AR28))","v":""},{"$f":"IF('Data Set'!$C44=\"\",\"\", 'Data Set'!$C44)","v":"3.4"},{"$f":"IF(G15=\"\",\"\",IF('Data Set'!$AR44=0,\"\",'Data Set'!$AR44))","v":""},null,null,null,{"$f":"B15","v":"Innovation and Exploration"},{"$f":"IF('Data Set'!$C12=\"\",\"\", 'Data Set'!$C12)","v":"1.5"},{"$f":"IF(M15=\"\",\"\",IF('Data Set'!$CF12=0,\"\",'Data Set'!$CF12))","v":""},{"$f":"IF('Data Set'!$C28=\"\",\"\", 'Data Set'!$C28)","v":"2.4"},{"$f":"IF(O15=\"\",\"\",IF('Data Set'!$CF28=0,\"\",'Data Set'!$CF28))","v":""},{"$f":"IF('Data Set'!$C44=\"\",\"\", 'Data Set'!$C44)","v":"3.4"},{"$f":"IF(Q15=\"\",\"\",IF('Data Set'!$CF44=0,\"\",'Data Set'!$CF44))","v":""}]
[null,null,{"$f":"IF('Data Set'!$C13=\"\",\"\", 'Data Set'!$C13)","v":"1.6"},{"$f":"IF(C16=\"\",\"\",IF('Data Set'!$AR13=0,\"\",'Data Set'!$AR13))","v":""},{"$f":"IF('Data Set'!$C29=\"\",\"\", 'Data Set'!$C29)","v":"2.5"},{"$f":"IF(E16=\"\",\"\",IF('Data Set'!$AR29=0,\"\",'Data Set'!$AR29))","v":""},{"$f":"IF('Data Set'!$C45=\"\",\"\", 'Data Set'!$C45)","v":"3.5"},{"$f":"IF(G16=\"\",\"\",IF('Data Set'!$AR45=0,\"\",'Data Set'!$AR45))","v":""},null,null,null,null,{"$f":"IF('Data Set'!$C13=\"\",\"\", 'Data Set'!$C13)","v":"1.6"},{"$f":"IF(M16=\"\",\"\",IF('Data Set'!$CF13=0,\"\",'Data Set'!$CF13))","v":""},{"$f":"IF('Data Set'!$C29=\"\",\"\", 'Data Set'!$C29)","v":"2.5"},{"$f":"IF(O16=\"\",\"\",IF('Data Set'!$CF29=0,\"\",'Data Set'!$CF29))","v":""},{"$f":"IF('Data Set'!$C45=\"\",\"\", 'Data Set'!$C45)","v":"3.5"},{"$f":"IF(Q16=\"\",\"\",IF('Data Set'!$CF45=0,\"\",'Data Set'!$CF45))","v":""}]
[null,null,{"$f":"IF('Data Set'!$C14=\"\",\"\", 'Data Set'!$C14)","v":""},{"$f":"IF(C17=\"\",\"\",IF('Data Set'!$AR14=0,\"\",'Data Set'!$AR14))","v":""},{"$f":"IF('Data Set'!$C30=\"\",\"\", 'Data Set'!$C30)","v":"2.6"},{"$f":"IF(E17=\"\",\"\",IF('Data Set'!$AR30=0,\"\",'Data Set'!$AR30))","v":""},{"$f":"IF('Data Set'!$C46=\"\",\"\", 'Data Set'!$C46)","v":"3.6"},{"$f":"IF(G17=\"\",\"\",IF('Data Set'!$AR46=0,\"\",'Data Set'!$AR46))","v":""},null,null,null,null,{"$f":"IF('Data Set'!$C14=\"\",\"\", 'Data Set'!$C14)","v":""},{"$f":"IF(M17=\"\",\"\",IF('Data Set'!$CF14=0,\"\",'Data Set'!$CF14))","v":""},{"$f":"IF('Data Set'!$C30=\"\",\"\", 'Data Set'!$C30)","v":"2.6"},{"$f":"IF(O17=\"\",\"\",IF('Data Set'!$CF30=0,\"\",'Data Set'!$CF30))","v":""},{"$f":"IF('Data Set'!$C46=\"\",\"\", 'Data Set'!$C46)","v":"3.6"},{"$f":"IF(Q17=\"\",\"\",IF('Data Set'!$CF46=0,\"\",'Data Set'!$CF46))","v":""}]
[null,null,{"$f":"IF('Data Set'!$C15=\"\",\"\", 'Data Set'!$C15)","v":""},{"$f":"IF(C18=\"\",\"\",IF('Data Set'!$AR15=0,\"\",'Data Set'!$AR15))","v":""},{"$f":"IF('Data Set'!$C31=\"\",\"\", 'Data Set'!$C31)","v":""},{"$f":"IF(E18=\"\",\"\",IF('Data Set'!$AR31=0,\"\",'Data Set'!$AR31))","v":""},{"$f":"IF('Data Set'!$C47=\"\",\"\", 'Data Set'!$C47)","v":"3.7"},{"$f":"IF(G18=\"\",\"\",IF('Data Set'!$AR47=0,\"\",'Data Set'!$AR47))","v":""},null,null,null,null,{"$f":"IF('Data Set'!$C15=\"\",\"\", 'Data Set'!$C15)","v":""},{"$f":"IF(M18=\"\",\"\",IF('Data Set'!$CF15=0,\"\",'Data Set'!$CF15))","v":""},{"$f":"IF('Data Set'!$C31=\"\",\"\", 'Data Set'!$C31)","v":""},{"$f":"IF(O18=\"\",\"\",IF('Data Set'!$CF31=0,\"\",'Data Set'!$CF31))","v":""},{"$f":"IF('Data Set'!$C47=\"\",\"\", 'Data Set'!$C47)","v":"3.7"},{"$f":"IF(Q18=\"\",\"\",IF('Data Set'!$CF47=0,\"\",'Data Set'!$CF47))","v":""}]
[null,{"$f":"'Data Set'!B16","v":"Developing and Manufacturing"},{"$f":"IF('Data Set'!$C16=\"\",\"\", 'Data Set'!$C16)","v":"1.7"},{"$f":"IF(C19=\"\",\"\",IF('Data Set'!$AR16=0,\"\",'Data Set'!$AR16))","v":""},{"$f":"IF('Data Set'!$C32=\"\",\"\", 'Data Set'!$C32)","v":"2.7"},{"$f":"IF(E19=\"\",\"\",IF('Data Set'!$AR32=0,\"\",'Data Set'!$AR32))","v":""},{"$f":"IF('Data Set'!$C48=\"\",\"\", 'Data Set'!$C48)","v":"3.8"},{"$f":"IF(G19=\"\",\"\",IF('Data Set'!$AR48=0,\"\",'Data Set'!$AR48))","v":""},null,null,null,{"$f":"B19","v":"Developing and Manufacturing"},{"$f":"IF('Data Set'!$C16=\"\",\"\", 'Data Set'!$C16)","v":"1.7"},{"$f":"IF(M19=\"\",\"\",IF('Data Set'!$CF16=0,\"\",'Data Set'!$CF16))","v":""},{"$f":"IF('Data Set'!$C32=\"\",\"\", 'Data Set'!$C32)","v":"2.7"},{"$f":"IF(O19=\"\",\"\",IF('Data Set'!$CF32=0,\"\",'Data Set'!$CF32))","v":""},{"$f":"IF('Data Set'!$C48=\"\",\"\", 'Data Set'!$C48)","v":"3.8"},{"$f":"IF(Q19=\"\",\"\",IF('Data Set'!$CF48=0,\"\",'Data Set'!$CF48))","v":""}]
[null,null,{"$f":"IF('Data Set'!$C17=\"\",\"\", 'Data Set'!$C17)","v":"1.8"},{"$f":"IF(C20=\"\",\"\",IF('Data Set'!$AR17=0,\"\",'Data Set'!$AR17))","v":""},{"$f":"IF('Data Set'!$C33=\"\",\"\", 'Data Set'!$C33)","v":"2.8"},{"$f":"IF(E20=\"\",\"\",IF('Data Set'!$AR33=0,\"\",'Data Set'!$AR33))","v":""},{"$f":"IF('Data Set'!$C49=\"\",\"\", 'Data Set'!$C49)","v":"3.9"},{"$f":"IF(G20=\"\",\"\",IF('Data Set'!$AR49=0,\"\",'Data Set'!$AR49))","v":""},null,null,null,null,{"$f":"IF('Data Set'!$C17=\"\",\"\", 'Data Set'!$C17)","v":"1.8"},{"$f":"IF(M20=\"\",\"\",IF('Data Set'!$CF17=0,\"\",'Data Set'!$CF17))","v":""},{"$f":"IF('Data Set'!$C33=\"\",\"\", 'Data Set'!$C33)","v":"2.8"},{"$f":"IF(O20=\"\",\"\",IF('Data Set'!$CF33=0,\"\",'Data Set'!$CF33))","v":""},{"$f":"IF('Data Set'!$C49=\"\",\"\", 'Data Set'!$C49)","v":"3.9"},{"$f":"IF(Q20=\"\",\"\",IF('Data Set'!$CF49=0,\"\",'Data Set'!$CF49))","v":""}]
[null,null,{"$f":"IF('Data Set'!$C18=\"\",\"\", 'Data Set'!$C18)","v":"1.9"},{"$f":"IF(C21=\"\",\"\",IF('Data Set'!$AR18=0,\"\",'Data Set'!$AR18))","v":""},{"$f":"IF('Data Set'!$C34=\"\",\"\", 'Data Set'!$C34)","v":"2.9"},{"$f":"IF(E21=\"\",\"\",IF('Data Set'!$AR34=0,\"\",'Data Set'!$AR34))","v":""},{"$f":"IF('Data Set'!$C50=\"\",\"\", 'Data Set'!$C50)","v":""},{"$f":"IF(G21=\"\",\"\",IF('Data Set'!$AR50=0,\"\",'Data Set'!$AR50))","v":""},null,null,null,null,{"$f":"IF('Data Set'!$C18=\"\",\"\", 'Data Set'!$C18)","v":"1.9"},{"$f":"IF(M21=\"\",\"\",IF('Data Set'!$CF18=0,\"\",'Data Set'!$CF18))","v":""},{"$f":"IF('Data Set'!$C34=\"\",\"\", 'Data Set'!$C34)","v":"2.9"},{"$f":"IF(O21=\"\",\"\",IF('Data Set'!$CF34=0,\"\",'Data Set'!$CF34))","v":""},{"$f":"IF('Data Set'!$C50=\"\",\"\", 'Data Set'!$C50)","v":""},{"$f":"IF(Q21=\"\",\"\",IF('Data Set'!$CF50=0,\"\",'Data Set'!$CF50))","v":""}]
[null,null,{"$f":"IF('Data Set'!$C19=\"\",\"\", 'Data Set'!$C19)","v":"1.10"},{"$f":"IF(C22=\"\",\"\",IF('Data Set'!$AR19=0,\"\",'Data Set'!$AR19))","v":""},{"$f":"IF('Data Set'!$C35=\"\",\"\", 'Data Set'!$C35)","v":"2.10"},{"$f":"IF(E22=\"\",\"\",IF('Data Set'!$AR35=0,\"\",'Data Set'!$AR35))","v":""},{"$f":"IF('Data Set'!$C51=\"\",\"\", 'Data Set'!$C51)","v":""},{"$f":"IF(G22=\"\",\"\",IF('Data Set'!$AR51=0,\"\",'Data Set'!$AR51))","v":""},null,null,null,null,{"$f":"IF('Data Set'!$C19=\"\",\"\", 'Data Set'!$C19)","v":"1.10"},{"$f":"IF(M22=\"\",\"\",IF('Data Set'!$CF19=0,\"\",'Data Set'!$CF19))","v":""},{"$f":"IF('Data Set'!$C35=\"\",\"\", 'Data Set'!$C35)","v":"2.10"},{"$f":"IF(O22=\"\",\"\",IF('Data Set'!$CF35=0,\"\",'Data Set'!$CF35))","v":""},{"$f":"IF('Data Set'!$C51=\"\",\"\", 'Data Set'!$C51)","v":""},{"$f":"IF(Q22=\"\",\"\",IF('Data Set'!$CF51=0,\"\",'Data Set'!$CF51))","v":""}]
[null,{"$f":"'Data Set'!B20","v":"Communicating"},{"$f":"IF('Data Set'!$C20=\"\",\"\", 'Data Set'!$C20)","v":"1.11"},{"$f":"IF(C23=\"\",\"\",IF('Data Set'!$AR20=0,\"\",'Data Set'!$AR20))","v":""},{"$f":"IF('Data Set'!$C36=\"\",\"\", 'Data Set'!$C36)","v":"2.11"},{"$f":"IF(E23=\"\",\"\",IF('Data Set'!$AR36=0,\"\",'Data Set'!$AR36))","v":""},{"$f":"IF('Data Set'!$C52=\"\",\"\", 'Data Set'!$C52)","v":"3.10"},{"$f":"IF(G23=\"\",\"\",IF('Data Set'!$AR52=0,\"\",'Data Set'!$AR52))","v":""},null,null,null,{"$f":"B23","v":"Communicating"},{"$f":"IF('Data Set'!$C20=\"\",\"\", 'Data Set'!$C20)","v":"1.11"},{"$f":"IF(M23=\"\",\"\",IF('Data Set'!$CF20=0,\"\",'Data Set'!$CF20))","v":""},{"$f":"IF('Data Set'!$C36=\"\",\"\", 'Data Set'!$C36)","v":"2.11"},{"$f":"IF(O23=\"\",\"\",IF('Data Set'!$CF36=0,\"\",'Data Set'!$CF36))","v":""},{"$f":"IF('Data Set'!$C52=\"\",\"\", 'Data Set'!$C52)","v":"3.10"},{"$f":"IF(Q23=\"\",\"\",IF('Data Set'!$CF52=0,\"\",'Data Set'!$CF52))","v":""}]
[null,null,{"$f":"IF('Data Set'!$C21=\"\",\"\", 'Data Set'!$C21)","v":"1.12"},{"$f":"IF(C24=\"\",\"\",IF('Data Set'!$AR21=0,\"\",'Data Set'!$AR21))","v":""},{"$f":"IF('Data Set'!$C37=\"\",\"\", 'Data Set'!$C37)","v":"2.12"},{"$f":"IF(E24=\"\",\"\",IF('Data Set'!$AR37=0,\"\",'Data Set'!$AR37))","v":""},{"$f":"IF('Data Set'!$C53=\"\",\"\", 'Data Set'!$C53)","v":"3.11"},{"$f":"IF(G24=\"\",\"\",IF('Data Set'!$AR53=0,\"\",'Data Set'!$AR53))","v":""},null,null,null,null,{"$f":"IF('Data Set'!$C21=\"\",\"\", 'Data Set'!$C21)","v":"1.12"},{"$f":"IF(M24=\"\",\"\",IF('Data Set'!$CF21=0,\"\",'Data Set'!$CF21))","v":""},{"$f":"IF('Data Set'!$C37=\"\",\"\", 'Data Set'!$C37)","v":"2.12"},{"$f":"IF(O24=\"\",\"\",IF('Data Set'!$CF37=0,\"\",'Data Set'!$CF37))","v":""},{"$f":"IF('Data Set'!$C53=\"\",\"\", 'Data Set'!$C53)","v":"3.11"},{"$f":"IF(Q24=\"\",\"\",IF('Data Set'!$CF53=0,\"\",'Data Set'!$CF53))","v":""}]
[null,null,{"$f":"IF('Data Set'!$C22=\"\",\"\", 'Data Set'!$C22)","v":"1.13"},{"$f":"IF(C25=\"\",\"\",IF('Data Set'!$AR22=0,\"\",'Data Set'!$AR22))","v":""},{"$f":"IF('Data Set'!$C38=\"\",\"\", 'Data Set'!$C38)","v":""},{"$f":"IF(E25=\"\",\"\",IF('Data Set'!$AR38=0,\"\",'Data Set'!$AR38))","v":""},{"$f":"IF('Data Set'!$C54=\"\",\"\", 'Data Set'!$C54)","v":""},{"$f":"IF(G25=\"\",\"\",IF('Data Set'!$AR54=0,\"\",'Data Set'!$AR54))","v":""},null,null,null,null,{"$f":"IF('Data Set'!$C22=\"\",\"\", 'Data Set'!$C22)","v":"1.13"},{"$f":"IF(M25=\"\",\"\",IF('Data Set'!$CF22=0,\"\",'Data Set'!$CF22))","v":""},{"$f":"IF('Data Set'!$C38=\"\",\"\", 'Data Set'!$C38)","v":""},{"$f":"IF(O25=\"\",\"\",IF('Data Set'!$CF38=0,\"\",'Data Set'!$CF38))","v":""},{"$f":"IF('Data Set'!$C54=\"\",\"\", 'Data Set'!$C54)","v":""},{"$f":"IF(Q25=\"\",\"\",IF('Data Set'!$CF54=0,\"\",'Data Set'!$CF54))","v":""}]
[null,null,{"$f":"IF('Data Set'!$C23=\"\",\"\", 'Data Set'!$C23)","v":""},{"$f":"IF(C26=\"\",\"\",IF('Data Set'!$AR23=0,\"\",'Data Set'!$AR23))","v":""},{"$f":"IF('Data Set'!$C39=\"\",\"\", 'Data Set'!$C39)","v":""},{"$f":"IF(E26=\"\",\"\",IF('Data Set'!$AR39=0,\"\",'Data Set'!$AR39))","v":""},{"$f":"IF('Data Set'!$C55=\"\",\"\", 'Data Set'!$C55)","v":""},{"$f":"IF(G26=\"\",\"\",IF('Data Set'!$AR55=0,\"\",'Data Set'!$AR55))","v":""},null,null,null,null,{"$f":"IF('Data Set'!$C23=\"\",\"\", 'Data Set'!$C23)","v":""},{"$f":"IF(M26=\"\",\"\",IF('Data Set'!$CF23=0,\"\",'Data Set'!$CF23))","v":""},{"$f":"IF('Data Set'!$C39=\"\",\"\", 'Data Set'!$C39)","v":""},{"$f":"IF(O26=\"\",\"\",IF('Data Set'!$CF39=0,\"\",'Data Set'!$CF39))","v":""},{"$f":"IF('Data Set'!$C55=\"\",\"\", 'Data Set'!$C55)","v":""},{"$f":"IF(Q26=\"\",\"\",IF('Data Set'!$CF55=0,\"\",'Data Set'!$CF55))","v":""}]
[]
[]
[null,"Learning Outcomes are to be experienced over the 3 years of Junior Cycle. ",null,null,null,null,null,null,null,null,null,{"$f":"'Data Set'!D4","v":"Engineering:"},{"$f":"C9","v":"Processes and Principles"},null,{"$f":"E9","v":"Design Application"},null,{"$f":"G9","v":"Mechatronics"}]
[]
[null,null,null,null,null,null,null,null,null,null,"YEAR 2 ",{"$f":"B11","v":"Engineering Knowledge and Awareness"},{"$f":"IF('Data Set'!$C8=\"\",\"\", 'Data Set'!$C8)","v":"1.1"},{"$f":"IF(M31=\"\",\"\",IF('Data Set'!$DT8=0,\"\",'Data Set'!$DT8))","v":""},{"$f":"IF('Data Set'!$C24=\"\",\"\", 'Data Set'!$C24)","v":"2.1"},{"$f":"IF(O31=\"\",\"\",IF('Data Set'!$DT24=0,\"\",'Data Set'!$DT24))","v":""},{"$f":"IF('Data Set'!$C40=\"\",\"\", 'Data Set'!$C40)","v":"3.1"},{"$f":"IF(Q31=\"\",\"\",IF('Data Set'!$DT40=0,\"\",'Data Set'!$DT40))","v":""}]
[null,null,null,null,null,null,null,null,null,null,null,null,{"$f":"IF('Data Set'!$C9=\"\",\"\", 'Data Set'!$C9)","v":"1.2"},{"$f":"IF(M32=\"\",\"\",IF('Data Set'!$DT9=0,\"\",'Data Set'!$DT9))","v":""},{"$f":"IF('Data Set'!$C25=\"\",\"\", 'Data Set'!$C25)","v":"2.2"},{"$f":"IF(O32=\"\",\"\",IF('Data Set'!$DT25=0,\"\",'Data Set'!$DT25))","v":""},{"$f":"IF('Data Set'!$C41=\"\",\"\", 'Data Set'!$C41)","v":"3.2"},{"$f":"IF(Q32=\"\",\"\",IF('Data Set'!$DT41=0,\"\",'Data Set'!$DT41))","v":""}]
[null,null,null,null,null,null,null,null,null,null,null,null,{"$f":"IF('Data Set'!$C10=\"\",\"\", 'Data Set'!$C10)","v":"1.3"},{"$f":"IF(M33=\"\",\"\",IF('Data Set'!$DT10=0,\"\",'Data Set'!$DT10))","v":""},{"$f":"IF('Data Set'!$C26=\"\",\"\", 'Data Set'!$C26)","v":"2.3"},{"$f":"IF(O33=\"\",\"\",IF('Data Set'!$DT26=0,\"\",'Data Set'!$DT26))","v":""},{"$f":"IF('Data Set'!$C42=\"\",\"\", 'Data Set'!$C42)","v":"3.3"},{"$f":"IF(Q33=\"\",\"\",IF('Data Set'!$DT42=0,\"\",'Data Set'!$DT42))","v":""}]
[null,null,null,null,null,null,null,null,null,null,null,null,{"$f":"IF('Data Set'!$C11=\"\",\"\", 'Data Set'!$C11)","v":"1.4"},{"$f":"IF(M34=\"\",\"\",IF('Data Set'!$DT11=0,\"\",'Data Set'!$DT11))","v":""},{"$f":"IF('Data Set'!$C27=\"\",\"\", 'Data Set'!$C27)","v":""},{"$f":"IF(O34=\"\",\"\",IF('Data Set'!$DT27=0,\"\",'Data Set'!$DT27))","v":""},{"$f":"IF('Data Set'!$C43=\"\",\"\", 'Data Set'!$C43)","v":""},{"$f":"IF(Q34=\"\",\"\",IF('Data Set'!$DT43=0,\"\",'Data Set'!$DT43))","v":""}]
[null,null,null,null,null,null,null,null,null,null,null,{"$f":"B15","v":"Innovation and Exploration"},{"$f":"IF('Data Set'!$C12=\"\",\"\", 'Data Set'!$C12)","v":"1.5"},{"$f":"IF(M35=\"\",\"\",IF('Data Set'!$DT12=0,\"\",'Data Set'!$DT12))","v":""},{"$f":"IF('Data Set'!$C28=\"\",\"\", 'Data Set'!$C28)","v":"2.4"},{"$f":"IF(O35=\"\",\"\",IF('Data Set'!$DT28=0,\"\",'Data Set'!$DT28))","v":""},{"$f":"IF('Data Set'!$C44=\"\",\"\", 'Data Set'!$C44)","v":"3.4"},{"$f":"IF(Q35=\"\",\"\",IF('Data Set'!$DT44=0,\"\",'Data Set'!$DT44))","v":""}]
[null,null,null,null,null,null,null,null,null,null,null,null,{"$f":"IF('Data Set'!$C13=\"\",\"\", 'Data Set'!$C13)","v":"1.6"},{"$f":"IF(M36=\"\",\"\",IF('Data Set'!$DT13=0,\"\",'Data Set'!$DT13))","v":""},{"$f":"IF('Data Set'!$C29=\"\",\"\", 'Data Set'!$C29)","v":"2.5"},{"$f":"IF(O36=\"\",\"\",IF('Data Set'!$DT29=0,\"\",'Data Set'!$DT29))","v":""},{"$f":"IF('Data Set'!$C45=\"\",\"\", 'Data Set'!$C45)","v":"3.5"},{"$f":"IF(Q36=\"\",\"\",IF('Data Set'!$DT45=0,\"\",'Data Set'!$DT45))","v":""}]
[null,null,null,null,null,null,null,null,null,null,null,null,{"$f":"IF('Data Set'!$C14=\"\",\"\", 'Data Set'!$C14)","v":""},{"$f":"IF(M37=\"\",\"\",IF('Data Set'!$DT14=0,\"\",'Data Set'!$DT14))","v":""},{"$f":"IF('Data Set'!$C30=\"\",\"\", 'Data Set'!$C30)","v":"2.6"},{"$f":"IF(O37=\"\",\"\",IF('Data Set'!$DT30=0,\"\",'Data Set'!$DT30))","v":""},{"$f":"IF('Data Set'!$C46=\"\",\"\", 'Data Set'!$C46)","v":"3.6"},{"$f":"IF(Q37=\"\",\"\",IF('Data Set'!$DT46=0,\"\",'Data Set'!$DT46))","v":""}]
[null,null,null,null,null,null,null,null,null,null,null,null,{"$f":"IF('Data Set'!$C15=\"\",\"\", 'Data Set'!$C15)","v":""},{"$f":"IF(M38=\"\",\"\",IF('Data Set'!$DT15=0,\"\",'Data Set'!$DT15))","v":""},{"$f":"IF('Data Set'!$C31=\"\",\"\", 'Data Set'!$C31)","v":""},{"$f":"IF(O38=\"\",\"\",IF('Data Set'!$DT31=0,\"\",'Data Set'!$DT31))","v":""},{"$f":"IF('Data Set'!$C47=\"\",\"\", 'Data Set'!$C47)","v":"3.7"},{"$f":"IF(Q38=\"\",\"\",IF('Data Set'!$DT47=0,\"\",'Data Set'!$DT47))","v":""}]
[null,null,null,null,null,null,null,null,null,null,null,{"$f":"B19","v":"Developing and Manufacturing"},{"$f":"IF('Data Set'!$C16=\"\",\"\", 'Data Set'!$C16)","v":"1.7"},{"$f":"IF(M39=\"\",\"\",IF('Data Set'!$DT16=0,\"\",'Data Set'!$DT16))","v":""},{"$f":"IF('Data Set'!$C32=\"\",\"\", 'Data Set'!$C32)","v":"2.7"},{"$f":"IF(O39=\"\",\"\",IF('Data Set'!$DT32=0,\"\",'Data Set'!$DT32))","v":""},{"$f":"IF('Data Set'!$C48=\"\",\"\", 'Data Set'!$C48)","v":"3.8"},{"$f":"IF(Q39=\"\",\"\",IF('Data Set'!$DT48=0,\"\",'Data Set'!$DT48))","v":""}]
[null,null,null,null,null,null,null,null,null,null,null,null,{"$f":"IF('Data Set'!$C17=\"\",\"\", 'Data Set'!$C17)","v":"1.8"},{"$f":"IF(M40=\"\",\"\",IF('Data Set'!$DT17=0,\"\",'Data Set'!$DT17))","v":""},{"$f":"IF('Data Set'!$C33=\"\",\"\", 'Data Set'!$C33)","v":"2.8"},{"$f":"IF(O40=\"\",\"\",IF('Data Set'!$DT33=0,\"\",'Data Set'!$DT33))","v":""},{"$f":"IF('Data Set'!$C49=\"\",\"\", 'Data Set'!$C49)","v":"3.9"},{"$f":"IF(Q40=\"\",\"\",IF('Data Set'!$DT49=0,\"\",'Data Set'!$DT49))","v":""}]
[null,null,null,null,null,null,null,null,null,null,null,null,{"$f":"IF('Data Set'!$C18=\"\",\"\", 'Data Set'!$C18)","v":"1.9"},{"$f":"IF(M41=\"\",\"\",IF('Data Set'!$DT18=0,\"\",'Data Set'!$DT18))","v":""},{"$f":"IF('Data Set'!$C34=\"\",\"\", 'Data Set'!$C34)","v":"2.9"},{"$f":"IF(O41=\"\",\"\",IF('Data Set'!$DT34=0,\"\",'Data Set'!$DT34))","v":""},{"$f":"IF('Data Set'!$C50=\"\",\"\", 'Data Set'!$C50)","v":""},{"$f":"IF(Q41=\"\",\"\",IF('Data Set'!$DT50=0,\"\",'Data Set'!$DT50))","v":""}]
[null,null,null,null,null,null,null,null,null,null,null,null,{"$f":"IF('Data Set'!$C19=\"\",\"\", 'Data Set'!$C19)","v":"1.10"},{"$f":"IF(M42=\"\",\"\",IF('Data Set'!$DT19=0,\"\",'Data Set'!$DT19))","v":""},{"$f":"IF('Data Set'!$C35=\"\",\"\", 'Data Set'!$C35)","v":"2.10"},{"$f":"IF(O42=\"\",\"\",IF('Data Set'!$DT35=0,\"\",'Data Set'!$DT35))","v":""},{"$f":"IF('Data Set'!$C51=\"\",\"\", 'Data Set'!$C51)","v":""},{"$f":"IF(Q42=\"\",\"\",IF('Data Set'!$DT51=0,\"\",'Data Set'!$DT51))","v":""}]
[null,null,null,null,null,null,null,null,null,null,null,{"$f":"B23","v":"Communicating"},{"$f":"IF('Data Set'!$C20=\"\",\"\", 'Data Set'!$C20)","v":"1.11"},{"$f":"IF(M43=\"\",\"\",IF('Data Set'!$DT20=0,\"\",'Data Set'!$DT20))","v":""},{"$f":"IF('Data Set'!$C36=\"\",\"\", 'Data Set'!$C36)","v":"2.11"},{"$f":"IF(O43=\"\",\"\",IF('Data Set'!$DT36=0,\"\",'Data Set'!$DT36))","v":""},{"$f":"IF('Data Set'!$C52=\"\",\"\", 'Data Set'!$C52)","v":"3.10"},{"$f":"IF(Q43=\"\",\"\",IF('Data Set'!$DT52=0,\"\",'Data Set'!$DT52))","v":""}]
[null,null,null,null,null,null,null,null,null,null,null,null,{"$f":"IF('Data Set'!$C21=\"\",\"\", 'Data Set'!$C21)","v":"1.12"},{"$f":"IF(M44=\"\",\"\",IF('Data Set'!$DT21=0,\"\",'Data Set'!$DT21))","v":""},{"$f":"IF('Data Set'!$C37=\"\",\"\", 'Data Set'!$C37)","v":"2.12"},{"$f":"IF(O44=\"\",\"\",IF('Data Set'!$DT37=0,\"\",'Data Set'!$DT37))","v":""},{"$f":"IF('Data Set'!$C53=\"\",\"\", 'Data Set'!$C53)","v":"3.11"},{"$f":"IF(Q44=\"\",\"\",IF('Data Set'!$DT53=0,\"\",'Data Set'!$DT53))","v":""}]
[null,null,null,null,null,null,null,null,null,null,null,null,{"$f":"IF('Data Set'!$C22=\"\",\"\", 'Data Set'!$C22)","v":"1.13"},{"$f":"IF(M45=\"\",\"\",IF('Data Set'!$DT22=0,\"\",'Data Set'!$DT22))","v":""},{"$f":"IF('Data Set'!$C38=\"\",\"\", 'Data Set'!$C38)","v":""},{"$f":"IF(O45=\"\",\"\",IF('Data Set'!$DT38=0,\"\",'Data Set'!$DT38))","v":""},{"$f":"IF('Data Set'!$C54=\"\",\"\", 'Data Set'!$C54)","v":""},{"$f":"IF(Q45=\"\",\"\",IF('Data Set'!$DT54=0,\"\",'Data Set'!$DT54))","v":""}]
[null,null,null,null,null,null,null,null,null,null,null,null,{"$f":"IF('Data Set'!$C23=\"\",\"\", 'Data Set'!$C23)","v":""},{"$f":"IF(M46=\"\",\"\",IF('Data Set'!$DT23=0,\"\",'Data Set'!$DT23))","v":""},{"$f":"IF('Data Set'!$C39=\"\",\"\", 'Data Set'!$C39)","v":""},{"$f":"IF(O46=\"\",\"\",IF('Data Set'!$DT39=0,\"\",'Data Set'!$DT39))","v":""},{"$f":"IF('Data Set'!$C55=\"\",\"\", 'Data Set'!$C55)","v":""},{"$f":"IF(Q46=\"\",\"\",IF('Data Set'!$DT55=0,\"\",'Data Set'!$DT55))","v":""}]
[]
[]
[null,null,null,null,null,null,null,null,null,null,null,{"$f":"'Data Set'!D4","v":"Engineering:"},{"$f":"C9","v":"Processes and Principles"},null,{"$f":"E9","v":"Design Application"},null,{"$f":"G9","v":"Mechatronics"}]
[]
[null,null,null,null,null,null,null,null,null,null,"YEAR 3",{"$f":"B11","v":"Engineering Knowledge and Awareness"},{"$f":"IF('Data Set'!$C8=\"\",\"\", 'Data Set'!$C8)","v":"1.1"},{"$f":"IF(M51=\"\",\"\",IF('Data Set'!$FH8=0,\"\",'Data Set'!$FH8))","v":""},{"$f":"IF('Data Set'!$C24=\"\",\"\", 'Data Set'!$C24)","v":"2.1"},{"$f":"IF(O51=\"\",\"\",IF('Data Set'!$FH24=0,\"\",'Data Set'!$FH24))","v":""},{"$f":"IF('Data Set'!$C40=\"\",\"\", 'Data Set'!$C40)","v":"3.1"},{"$f":"IF(Q51=\"\",\"\",IF('Data Set'!$FH40=0,\"\",'Data Set'!$FH40))","v":""}]
[null,null,null,null,null,null,null,null,null,null,null,null,{"$f":"IF('Data Set'!$C9=\"\",\"\", 'Data Set'!$C9)","v":"1.2"},{"$f":"IF(M52=\"\",\"\",IF('Data Set'!$FH9=0,\"\",'Data Set'!$FH9))","v":""},{"$f":"IF('Data Set'!$C25=\"\",\"\", 'Data Set'!$C25)","v":"2.2"},{"$f":"IF(O52=\"\",\"\",IF('Data Set'!$FH25=0,\"\",'Data Set'!$FH25))","v":""},{"$f":"IF('Data Set'!$C41=\"\",\"\", 'Data Set'!$C41)","v":"3.2"},{"$f":"IF(Q52=\"\",\"\",IF('Data Set'!$FH41=0,\"\",'Data Set'!$FH41))","v":""}]
[null,null,null,null,null,null,null,null,null,null,null,null,{"$f":"IF('Data Set'!$C10=\"\",\"\", 'Data Set'!$C10)","v":"1.3"},{"$f":"IF(M53=\"\",\"\",IF('Data Set'!$FH10=0,\"\",'Data Set'!$FH10))","v":""},{"$f":"IF('Data Set'!$C26=\"\",\"\", 'Data Set'!$C26)","v":"2.3"},{"$f":"IF(O53=\"\",\"\",IF('Data Set'!$FH26=0,\"\",'Data Set'!$FH26))","v":""},{"$f":"IF('Data Set'!$C42=\"\",\"\", 'Data Set'!$C42)","v":"3.3"},{"$f":"IF(Q53=\"\",\"\",IF('Data Set'!$FH42=0,\"\",'Data Set'!$FH42))","v":""}]
[null,null,null,null,null,null,null,null,null,null,null,null,{"$f":"IF('Data Set'!$C11=\"\",\"\", 'Data Set'!$C11)","v":"1.4"},{"$f":"IF(M54=\"\",\"\",IF('Data Set'!$FH11=0,\"\",'Data Set'!$FH11))","v":""},{"$f":"IF('Data Set'!$C27=\"\",\"\", 'Data Set'!$C27)","v":""},{"$f":"IF(O54=\"\",\"\",IF('Data Set'!$FH27=0,\"\",'Data Set'!$FH27))","v":""},{"$f":"IF('Data Set'!$C43=\"\",\"\", 'Data Set'!$C43)","v":""},{"$f":"IF(Q54=\"\",\"\",IF('Data Set'!$FH43=0,\"\",'Data Set'!$FH43))","v":""}]
[null,null,null,null,null,null,null,null,null,null,null,{"$f":"B15","v":"Innovation and Exploration"},{"$f":"IF('Data Set'!$C12=\"\",\"\", 'Data Set'!$C12)","v":"1.5"},{"$f":"IF(M55=\"\",\"\",IF('Data Set'!$FH12=0,\"\",'Data Set'!$FH12))","v":""},{"$f":"IF('Data Set'!$C28=\"\",\"\", 'Data Set'!$C28)","v":"2.4"},{"$f":"IF(O55=\"\",\"\",IF('Data Set'!$FH28=0,\"\",'Data Set'!$FH28))","v":""},{"$f":"IF('Data Set'!$C44=\"\",\"\", 'Data Set'!$C44)","v":"3.4"},{"$f":"IF(Q55=\"\",\"\",IF('Data Set'!$FH44=0,\"\",'Data Set'!$FH44))","v":""}]
[null,null,null,null,null,null,null,null,null,null,null,null,{"$f":"IF('Data Set'!$C13=\"\",\"\", 'Data Set'!$C13)","v":"1.6"},{"$f":"IF(M56=\"\",\"\",IF('Data Set'!$FH13=0,\"\",'Data Set'!$FH13))","v":""},{"$f":"IF('Data Set'!$C29=\"\",\"\", 'Data Set'!$C29)","v":"2.5"},{"$f":"IF(O56=\"\",\"\",IF('Data Set'!$FH29=0,\"\",'Data Set'!$FH29))","v":""},{"$f":"IF('Data Set'!$C45=\"\",\"\", 'Data Set'!$C45)","v":"3.5"},{"$f":"IF(Q56=\"\",\"\",IF('Data Set'!$FH45=0,\"\",'Data Set'!$FH45))","v":""}]
[null,null,null,null,null,null,null,null,null,null,null,null,{"$f":"IF('Data Set'!$C14=\"\",\"\", 'Data Set'!$C14)","v":""},{"$f":"IF(M57=\"\",\"\",IF('Data Set'!$FH14=0,\"\",'Data Set'!$FH14))","v":""},{"$f":"IF('Data Set'!$C30=\"\",\"\", 'Data Set'!$C30)","v":"2.6"},{"$f":"IF(O57=\"\",\"\",IF('Data Set'!$FH30=0,\"\",'Data Set'!$FH30))","v":""},{"$f":"IF('Data Set'!$C46=\"\",\"\", 'Data Set'!$C46)","v":"3.6"},{"$f":"IF(Q57=\"\",\"\",IF('Data Set'!$FH46=0,\"\",'Data Set'!$FH46))","v":""}]
[null,null,null,null,null,null,null,null,null,null,null,null,{"$f":"IF('Data Set'!$C15=\"\",\"\", 'Data Set'!$C15)","v":""},{"$f":"IF(M58=\"\",\"\",IF('Data Set'!$FH15=0,\"\",'Data Set'!$FH15))","v":""},{"$f":"IF('Data Set'!$C31=\"\",\"\", 'Data Set'!$C31)","v":""},{"$f":"IF(O58=\"\",\"\",IF('Data Set'!$FH31=0,\"\",'Data Set'!$FH31))","v":""},{"$f":"IF('Data Set'!$C47=\"\",\"\", 'Data Set'!$C47)","v":"3.7"},{"$f":"IF(Q58=\"\",\"\",IF('Data Set'!$FH47=0,\"\",'Data Set'!$FH47))","v":""}]
[null,null,null,null,null,null,null,null,null,null,null,{"$f":"B19","v":"Developing and Manufacturing"},{"$f":"IF('Data Set'!$C16=\"\",\"\", 'Data Set'!$C16)","v":"1.7"},{"$f":"IF(M59=\"\",\"\",IF('Data Set'!$FH16=0,\"\",'Data Set'!$FH16))","v":""},{"$f":"IF('Data Set'!$C32=\"\",\"\", 'Data Set'!$C32)","v":"2.7"},{"$f":"IF(O59=\"\",\"\",IF('Data Set'!$FH32=0,\"\",'Data Set'!$FH32))","v":""},{"$f":"IF('Data Set'!$C48=\"\",\"\", 'Data Set'!$C48)","v":"3.8"},{"$f":"IF(Q59=\"\",\"\",IF('Data Set'!$FH48=0,\"\",'Data Set'!$FH48))","v":""}]
[null,null,null,null,null,null,null,null,null,null,null,null,{"$f":"IF('Data Set'!$C17=\"\",\"\", 'Data Set'!$C17)","v":"1.8"},{"$f":"IF(M60=\"\",\"\",IF('Data Set'!$FH17=0,\"\",'Data Set'!$FH17))","v":""},{"$f":"IF('Data Set'!$C33=\"\",\"\", 'Data Set'!$C33)","v":"2.8"},{"$f":"IF(O60=\"\",\"\",IF('Data Set'!$FH33=0,\"\",'Data Set'!$FH33))","v":""},{"$f":"IF('Data Set'!$C49=\"\",\"\", 'Data Set'!$C49)","v":"3.9"},{"$f":"IF(Q60=\"\",\"\",IF('Data Set'!$FH49=0,\"\",'Data Set'!$FH49))","v":""}]
[null,null,null,null,null,null,null,null,null,null,null,null,{"$f":"IF('Data Set'!$C18=\"\",\"\", 'Data Set'!$C18)","v":"1.9"},{"$f":"IF(M61=\"\",\"\",IF('Data Set'!$FH18=0,\"\",'Data Set'!$FH18))","v":""},{"$f":"IF('Data Set'!$C34=\"\",\"\", 'Data Set'!$C34)","v":"2.9"},{"$f":"IF(O61=\"\",\"\",IF('Data Set'!$FH34=0,\"\",'Data Set'!$FH34))","v":""},{"$f":"IF('Data Set'!$C50=\"\",\"\", 'Data Set'!$C50)","v":""},{"$f":"IF(Q61=\"\",\"\",IF('Data Set'!$FH50=0,\"\",'Data Set'!$FH50))","v":""}]
[null,null,null,null,null,null,null,null,null,null,null,null,{"$f":"IF('Data Set'!$C19=\"\",\"\", 'Data Set'!$C19)","v":"1.10"},{"$f":"IF(M62=\"\",\"\",IF('Data Set'!$FH19=0,\"\",'Data Set'!$FH19))","v":""},{"$f":"IF('Data Set'!$C35=\"\",\"\", 'Data Set'!$C35)","v":"2.10"},{"$f":"IF(O62=\"\",\"\",IF('Data Set'!$FH35=0,\"\",'Data Set'!$FH35))","v":""},{"$f":"IF('Data Set'!$C51=\"\",\"\", 'Data Set'!$C51)","v":""},{"$f":"IF(Q62=\"\",\"\",IF('Data Set'!$FH51=0,\"\",'Data Set'!$FH51))","v":""}]
[null,null,null,null,null,null,null,null,null,null,null,{"$f":"B23","v":"Communicating"},{"$f":"IF('Data Set'!$C20=\"\",\"\", 'Data Set'!$C20)","v":"1.11"},{"$f":"IF(M63=\"\",\"\",IF('Data Set'!$FH20=0,\"\",'Data Set'!$FH20))","v":""},{"$f":"IF('Data Set'!$C36=\"\",\"\", 'Data Set'!$C36)","v":"2.11"},{"$f":"IF(O63=\"\",\"\",IF('Data Set'!$FH36=0,\"\",'Data Set'!$FH36))","v":""},{"$f":"IF('Data Set'!$C52=\"\",\"\", 'Data Set'!$C52)","v":"3.10"},{"$f":"IF(Q63=\"\",\"\",IF('Data Set'!$FH52=0,\"\",'Data Set'!$FH52))","v":""}]
[null,null,null,null,null,null,null,null,null,null,null,null,{"$f":"IF('Data Set'!$C21=\"\",\"\", 'Data Set'!$C21)","v":"1.12"},{"$f":"IF(M64=\"\",\"\",IF('Data Set'!$FH21=0,\"\",'Data Set'!$FH21))","v":""},{"$f":"IF('Data Set'!$C37=\"\",\"\", 'Data Set'!$C37)","v":"2.12"},{"$f":"IF(O64=\"\",\"\",IF('Data Set'!$FH37=0,\"\",'Data Set'!$FH37))","v":""},{"$f":"IF('Data Set'!$C53=\"\",\"\", 'Data Set'!$C53)","v":"3.11"},{"$f":"IF(Q64=\"\",\"\",IF('Data Set'!$FH53=0,\"\",'Data Set'!$FH53))","v":""}]
[null,null,null,null,null,null,null,null,null,null,null,null,{"$f":"IF('Data Set'!$C22=\"\",\"\", 'Data Set'!$C22)","v":"1.13"},{"$f":"IF(M65=\"\",\"\",IF('Data Set'!$FH22=0,\"\",'Data Set'!$FH22))","v":""},{"$f":"IF('Data Set'!$C38=\"\",\"\", 'Data Set'!$C38)","v":""},{"$f":"IF(O65=\"\",\"\",IF('Data Set'!$FH38=0,\"\",'Data Set'!$FH38))","v":""},{"$f":"IF('Data Set'!$C54=\"\",\"\", 'Data Set'!$C54)","v":""},{"$f":"IF(Q65=\"\",\"\",IF('Data Set'!$FH54=0,\"\",'Data Set'!$FH54))","v":""}]
[null,null,null,null,null,null,null,null,null,null,null,null,{"$f":"IF('Data Set'!$C23=\"\",\"\", 'Data Set'!$C23)","v":""},{"$f":"IF(M66=\"\",\"\",IF('Data Set'!$FH23=0,\"\",'Data Set'!$FH23))","v":""},{"$f":"IF('Data Set'!$C39=\"\",\"\", 'Data Set'!$C39)","v":""},{"$f":"IF(O66=\"\",\"\",IF('Data Set'!$FH39=0,\"\",'Data Set'!$FH39))","v":""},{"$f":"IF('Data Set'!$C55=\"\",\"\", 'Data Set'!$C55)","v":""},{"$f":"IF(Q66=\"\",\"\",IF('Data Set'!$FH55=0,\"\",'Data Set'!$FH55))","v":""}]

{"sheet":"Instructions page","index":42,"n_rows":27,"n_cols":22,"rows_kept":27,"cut":false,"hidden":false,"merged":[[22,7,22,10],[22,1,22,6],[26,1,26,10],[23,1,23,10],[25,7,25,10],[25,1,25,6],[20,1,20,10],[16,7,16,10],[16,1,16,6],[19,7,19,10],[14,1,14,10],[19,1,19,6],[1,11,1,15],[1,16,1,20],[1,21,2,25],[17,1,17,10],[6,1,6,10],[13,7,13,10],[13,1,13,6],[7,1,7,10],[11,1,11,10],[10,7,10,10],[10,1,10,6],[5,1,5,10],[1,1,1,5],[1,6,1,10]]}
[]
["Click:","Index",null,null,null,null,"Class Details",null,null,null,null,"Planning Tool, Rationale & Aim",null,null,null,null,"Learning Outcomes Engagement",null,null,null,null,"Instructions"]
[]
[]
[]
[null,"Note: "]
[null,"The purpose of this page is to highlight the main functionality of the document. "]
[null,"All funtions below are shown in a screencast which can be found here."]
[]
[]
[null,"Wrap text",null,null,null,null,null,"Reference 1"]
[null,"Wrap text is another useful feature. By default wrap text is selected in all cells within the units. Wrap text confines your typing within the coloumn width you are typing in. As you type in the box it starts to fill the box down. \n"]
[]
[null,"Autofit row height",null,null,null,null,null,"Reference 2"]
[null,"You can manually fit the row height by dragging the height of the cells up and down.\nA more straight forward method is to select cell/s and select the drop down menu format as seen on image across and select Autofit row height. By deafult this function is selected. Note: As you delete cell contents you may have to reselect this funtion. "]
[]
[null,"Getting a carraige return in excel",null,null,null,null,null,"ALT+Enter."]
[null,"Sometimes when in a cell you might want to leave a space between sentences. To get a carraige return in the same cell as you are typing in, you need to press ALT+Enter.\nThe cursor will stay within the cell being edited but will drop to the next line. "]
[]
[null,"Adjusting alignment within cells",null,null,null,null,null,"Reference 3"]
[null,"By default the alignment for the cells are set to top of box. There are a number of features here that can be selected from the alignment tab. "]
[]
[null,"Renaming a page",null,null,null,null,null,"Double left-click"]
[null,"To rename the page title  double left-click on the page and rename accordingly. "]
[]
[null,"Unhiding a page",null,null,null,null,null,"Right-click and select unhide"]
[null,"If you need to add an additional page you need to unhide a tab by right-clicking the bottom tabs bar and select the unhide option. "]

{"sheet":"Data Set","index":43,"n_rows":108,"n_cols":164,"rows_kept":108,"cut":false,"hidden":true,"merged":[[5,85,5,123],[5,0,6,1],[5,125,5,163],[39,0,54,0],[39,1,42,1],[43,1,46,1],[47,1,50,1],[51,1,54,1],[5,45,5,83],[23,0,38,0],[35,1,38,1],[31,1,34,1],[27,1,30,1],[1,0,1,2],[3,0,3,2],[5,2,6,2],[23,1,26,1],[5,5,5,43],[5,3,6,3],[5,4,6,4],[7,0,22,0],[7,1,10,1],[11,1,14,1],[15,1,18,1],[19,1,22,1]]}
[]
["Click Link:",null,null," INDEX","Click the link on the left to return to Index sheet containing list of units of learning."]
[]
["Subject:",null,null,"Engineering:","NOTE: This sheet contains text and data that are referenced in other sheets. Do NOT delete this sheet or its contents."]
[]
["Strands & Elements:",null,"L.O. No.:","Learning Outcomes:","Action Verbs:","Junior Cycle: (Engagement with learning outcomes across Junior Cycle)",null,null,null,null,null,null,null,null,null,null,null,null,null,null,null,null,null,null,null,null,null,null,null,null,null,null,null,null,null,null,null,null,null,null,null,null,null,null,null,"Year 1: (Engagement with learning outcomes in Year 1)",null,null,null,null,null,null,null,null,null,null,null,null,null,null,null,null,null,null,null,null,null,null,null,null,null,null,null,null,null,null,null,null,null,null,null,null,null,null,null,"Year 2: (Engagement with learning outcomes in Year 2)",null,null,null,null,null,null,null,null,null,null,null,null,null,null,null,null,null,null,null,null,null,null,null,null,null,null,null,null,null,null,null,null,null,null,null,null,null,null,null,"Year 3: (Engagement with learning outcomes in Year 3)"]
[null,null,null,null,null,"Unit 1","Unit 2","Unit 3","Unit 4","Unit 5","Unit 6","Unit 7","Unit 8","Unit 9","Unit 10","Unit 11","Unit 12","Unit 13","Unit 14","Unit 15","Unit 16","Unit 17","Unit 18","Unit 19","Unit 20","Unit 21","Unit 22","Unit 23","Unit 24","Unit 25","Unit 26","Unit 27","Unit 28","Unit 29","Unit 30","Unit 31","Unit 32","Unit 33","Unit 34","Unit 35","Unit 36","Unit 37","Unit 38","Total",null,"Unit 1 ","Unit 2","Unit 3","Unit 4","Unit 5","Unit 6","Unit 7","Unit 8","Unit 9","Unit 10","Unit 11","Unit 12","Unit 13","Unit 14","Unit 15","Unit 16","Unit 17","Unit 18","Unit 19","Unit 20","Unit 21","Unit 22","Unit 23","Unit 24","Unit 25","Unit 26","Unit 27","Unit 28","Unit 29","Unit 30","Unit 31","Unit 32","Unit 33","Unit 34","Unit 35","Unit 36","Unit 37","Unit 38","Total",null,"Unit 1 ","Unit 2","Unit 3","Unit 4","Unit 5","Unit 6","Unit 7","Unit 8","Unit 9","Unit 10","Unit 11","Unit 12","Unit 13","Unit 14","Unit 15","Unit 16","Unit 17","Unit 18","Unit 19","Unit 20","Unit 21","Unit 22","Unit 23","Unit 24","Unit 25","Unit 26","Unit 27","Unit 28","Unit 29","Unit 30","Unit 31","Unit 32","Unit 33","Unit 34","Unit 35","Unit 36","Unit 37","Unit 38","Total",null,"Unit 1 ","Unit 2","Unit 3","Unit 4","Unit 5","Unit 6","Unit 7","Unit 8","Unit 9","Unit 10","Unit 11","Unit 12","Unit 13","Unit 14","Unit 15","Unit 16","Unit 17","Unit 18","Unit 19","Unit 20","Unit 21","Unit 22","Unit 23","Unit 24","Unit 25","Unit 26","Unit 27","Unit 28","Unit 29","Unit 30","Unit 31","Unit 32","Unit 33","Unit 34","Unit 35","Unit 36","Unit 37","Unit 38","Total"]
["Processes and Principles","Engineering Knowledge and Awareness","1.1","1.1 understand the concepts and approaches that are required when solving an engineering problem ","Understand: have and apply a well-organised body of knowledge",{"$f":"COUNTIF('Unit 1'!C:C,$D8)","v":0},{"$f":"COUNTIF('Unit 2'!C:C,D8)","v":0},{"$f":"COUNTIF('Unit 3'!C:C,D8)","v":0},{"$f":"COUNTIF('Unit 4'!C:C,D8)","v":0},{"$f":"COUNTIF('Unit 5'!C:C,D8)","v":0},{"$f":"COUNTIF('Unit 6'!C:C,D8)","v":0},{"$f":"COUNTIF('Unit 7'!C:C,D8)","v":0},{"$f":"COUNTIF('Unit 8'!C:C,D8)","v":0},{"$f":"COUNTIF('Unit 9'!C:C,D8)","v":0},{"$f":"COUNTIF('Unit 10'!C:C,D8)","v":0},{"$f":"COUNTIF('Unit 11'!C:C,D8)","v":0},{"$f":"COUNTIF('Unit 12'!C:C,D8)","v":0},{"$f":"COUNTIF('Unit 13'!C:C,D8)","v":0},{"$f":"COUNTIF('Unit 14'!C:C,D8)","v":0},{"$f":"COUNTIF('Unit 15'!C:C,D8)","v":0},{"$f":"COUNTIF('Unit 16'!C:C,D8)","v":0},{"$f":"COUNTIF('Unit 17'!C:C,D8)","v":0},{"$f":"COUNTIF('Unit 18'!C:C,D8)","v":0},{"$f":"COUNTIF('Unit 19'!C:C,D8)","v":0},{"$f":"COUNTIF('Unit 20'!C:C,D8)","v":0},{"$f":"COUNTIF('Unit 21'!C:C,D8)","v":0},{"$f":"COUNTIF('Unit 22'!C:C,D8)","v":0},{"$f":"COUNTIF('Unit 23'!C:C,D8)","v":0},{"$f":"COUNTIF('Unit 24'!C:C,D8)","v":0},{"$f":"COUNTIF('Unit 25'!C:C,D8)","v":0},{"$f":"COUNTIF('Unit 26'!C:C,D8)","v":0},{"$f":"COUNTIF('Unit 27'!C:C,D8)","v":0},{"$f":"COUNTIF('Unit 28'!C:C,D8)","v":0},{"$f":"COUNTIF('Unit 29'!C:C,D8)","v":0},{"$f":"COUNTIF('Unit 30'!C:C,D8)","v":0},{"$f":"COUNTIF('Unit 31'!C:C,D8)","v":0},{"$f":"COUNTIF('Unit 32'!C:C,D8)","v":0},{"$f":"COUNTIF('Unit 33'!C:C,D8)","v":0},{"$f":"COUNTIF('Unit 34'!C:C,D8)","v":0},{"$f":"COUNTIF('Unit 35'!C:C,D8)","v":0},{"$f":"COUNTIF('Unit 36'!C:C,D8)","v":0},{"$f":"COUNTIF('Unit 37'!C:C,D8)","v":0},{"$f":"COUNTIF('Unit 38'!C:C,D8)","v":0},{"$f":"SUM(F8:AQ8)","v":0},null,{"$f":"IF('Unit 1'!$C$7=$D$58,COUNTIF('Unit 1'!$C:$C,$D8),\"0\")","v":"0"},{"$f":"IF('Unit 2'!$C$7=$D$58,COUNTIF('Unit 2'!$C:$C,$D8),\"0\")","v":"0"},{"$f":"IF('Unit 3'!$C$7=$D$58,COUNTIF('Unit 3'!$C:$C,$D8),\"0\")","v":"0"},{"$f":"IF('Unit 4'!$C$7=$D$58,COUNTIF('Unit 4'!$C:$C,$D8),\"0\")","v":"0"},{"$f":"IF('Unit 5'!$C$7=$D$58,COUNTIF('Unit 5'!$C:$C,$D8),\"0\")","v":"0"},{"$f":"IF('Unit 6'!$C$7=$D$58,COUNTIF('Unit 6'!$C:$C,$D8),\"0\")","v":"0"},{"$f":"IF('Unit 7'!$C$7=$D$58,COUNTIF('Unit 7'!$C:$C,$D8),\"0\")","v":"0"},{"$f":"IF('Unit 8'!$C$7=$D$58,COUNTIF('Unit 8'!$C:$C,$D8),\"0\")","v":"0"},{"$f":"IF('Unit 9'!$C$7=$D$58,COUNTIF('Unit 9'!$C:$C,$D8),\"0\")","v":"0"},{"$f":"IF('Unit 10'!$C$7=$D$58,COUNTIF('Unit 10'!$C:$C,$D8),\"0\")","v":"0"},{"$f":"IF('Unit 11'!$C$7=$D$58,COUNTIF('Unit 11'!$C:$C,$D8),\"0\")","v":"0"},{"$f":"IF('Unit 12'!$C$7=$D$58,COUNTIF('Unit 12'!$C:$C,$D8),\"0\")","v":"0"},{"$f":"IF('Unit 13'!$C$7=$D$58,COUNTIF('Unit 13'!$C:$C,$D8),\"0\")","v":"0"},{"$f":"IF('Unit 14'!$C$7=$D$58,COUNTIF('Unit 14'!$C:$C,$D8),\"0\")","v":"0"},{"$f":"IF('Unit 15'!$C$7=$D$58,COUNTIF('Unit 15'!$C:$C,$D8),\"0\")","v":"0"},{"$f":"IF('Unit 16'!$C$7=$D$58,COUNTIF('Unit 16'!$C:$C,$D8),\"0\")","v":"0"},{"$f":"IF('Unit 17'!$C$7=$D$58,COUNTIF('Unit 17'!$C:$C,$D8),\"0\")","v":"0"},{"$f":"IF('Unit 18'!$C$7=$D$58,COUNTIF('Unit 18'!$C:$C,$D8),\"0\")","v":"0"},{"$f":"IF('Unit 19'!$C$7=$D$58,COUNTIF('Unit 19'!$C:$C,$D8),\"0\")","v":"0"},{"$f":"IF('Unit 20'!$C$7=$D$58,COUNTIF('Unit 20'!$C:$C,$D8),\"0\")","v":"0"},{"$f":"IF('Unit 21'!$C$7=$D$58,COUNTIF('Unit 21'!$C:$C,$D8),\"0\")","v":"0"},{"$f":"IF('Unit 22'!$C$7=$D$58,COUNTIF('Unit 22'!$C:$C,$D8),\"0\")","v":"0"},{"$f":"IF('Unit 23'!$C$7=$D$58,COUNTIF('Unit 23'!$C:$C,$D8),\"0\")","v":"0"},{"$f":"IF('Unit 24'!$C$7=$D$58,COUNTIF('Unit 24'!$C:$C,$D8),\"0\")","v":"0"},{"$f":"IF('Unit 25'!$C$7=$D$58,COUNTIF('Unit 25'!$C:$C,$D8),\"0\")","v":"0"},{"$f":"IF('Unit 26'!$C$7=$D$58,COUNTIF('Unit 26'!$C:$C,$D8),\"0\")","v":"0"},{"$f":"IF('Unit 27'!$C$7=$D$58,COUNTIF('Unit 27'!$C:$C,$D8),\"0\")","v":"0"},{"$f":"IF('Unit 28'!$C$7=$D$58,COUNTIF('Unit 28'!$C:$C,$D8),\"0\")","v":"0"},{"$f":"IF('Unit 29'!$C$7=$D$58,COUNTIF('Unit 29'!$C:$C,$D8),\"0\")","v":"0"},{"$f":"IF('Unit 30'!$C$7=$D$58,COUNTIF('Unit 30'!$C:$C,$D8),\"0\")","v":"0"},{"$f":"IF('Unit 31'!$C$7=$D$58,COUNTIF('Unit 31'!$C:$C,$D8),\"0\")","v":"0"},{"$f":"IF('Unit 32'!$C$7=$D$58,COUNTIF('Unit 32'!$C:$C,$D8),\"0\")","v":"0"},{"$f":"IF('Unit 33'!$C$7=$D$58,COUNTIF('Unit 33'!$C:$C,$D8),\"0\")","v":"0"},{"$f":"IF('Unit 34'!$C$7=$D$58,COUNTIF('Unit 34'!$C:$C,$D8),\"0\")","v":"0"},{"$f":"IF('Unit 35'!$C$7=$D$58,COUNTIF('Unit 35'!$C:$C,$D8),\"0\")","v":"0"},{"$f":"IF('Unit 36'!$C$7=$D$58,COUNTIF('Unit 36'!$C:$C,$D8),\"0\")","v":"0"},{"$f":"IF('Unit 37'!$C$7=$D$58,COUNTIF('Unit 37'!$C:$C,$D8),\"0\")","v":"0"},{"$f":"IF('Unit 38'!$C$7=$D$58,COUNTIF('Unit 38'!$C:$C,$D8),\"0\")","v":"0"},{"$f":"SUM(AT8:CE8)","v":0},null,{"$f":"IF('Unit 1'!$C$7=$D$59,COUNTIF('Unit 1'!$C:$C,$D8),\"0\")","v":"0"},{"$f":"IF('Unit 2'!$C$7=$D$59,COUNTIF('Unit 2'!$C:$C,$D8),\"0\")","v":"0"},{"$f":"IF('Unit 3'!$C$7=$D$59,COUNTIF('Unit 3'!$C:$C,$D8),\"0\")","v":"0"},{"$f":"IF('Unit 4'!$C$7=$D$59,COUNTIF('Unit 4'!$C:$C,$D8),\"0\")","v":"0"},{"$f":"IF('Unit 5'!$C$7=$D$59,COUNTIF('Unit 5'!$C:$C,$D8),\"0\")","v":"0"},{"$f":"IF('Unit 6'!$C$7=$D$59,COUNTIF('Unit 6'!$C:$C,$D8),\"0\")","v":"0"},{"$f":"IF('Unit 7'!$C$7=$D$59,COUNTIF('Unit 7'!$C:$C,$D8),\"0\")","v":"0"},{"$f":"IF('Unit 8'!$C$7=$D$59,COUNTIF('Unit 8'!$C:$C,$D8),\"0\")","v":"0"},{"$f":"IF('Unit 9'!$C$7=$D$59,COUNTIF('Unit 9'!$C:$C,$D8),\"0\")","v":"0"},{"$f":"IF('Unit 10'!$C$7=$D$59,COUNTIF('Unit 10'!$C:$C,$D8),\"0\")","v":"0"},{"$f":"IF('Unit 11'!$C$7=$D$59,COUNTIF('Unit 11'!$C:$C,$D8),\"0\")","v":"0"},{"$f":"IF('Unit 12'!$C$7=$D$59,COUNTIF('Unit 12'!$C:$C,$D8),\"0\")","v":"0"},{"$f":"IF('Unit 13'!$C$7=$D$59,COUNTIF('Unit 13'!$C:$C,$D8),\"0\")","v":"0"},{"$f":"IF('Unit 14'!$C$7=$D$59,COUNTIF('Unit 14'!$C:$C,$D8),\"0\")","v":"0"},{"$f":"IF('Unit 15'!$C$7=$D$59,COUNTIF('Unit 15'!$C:$C,$D8),\"0\")","v":"0"},{"$f":"IF('Unit 16'!$C$7=$D$59,COUNTIF('Unit 16'!$C:$C,$D8),\"0\")","v":"0"},{"$f":"IF('Unit 17'!$C$7=$D$59,COUNTIF('Unit 17'!$C:$C,$D8),\"0\")","v":"0"},{"$f":"IF('Unit 18'!$C$7=$D$59,COUNTIF('Unit 18'!$C:$C,$D8),\"0\")","v":"0"},{"$f":"IF('Unit 19'!$C$7=$D$59,COUNTIF('Unit 19'!$C:$C,$D8),\"0\")","v":"0"},{"$f":"IF('Unit 20'!$C$7=$D$59,COUNTIF('Unit 20'!$C:$C,$D8),\"0\")","v":"0"},{"$f":"IF('Unit 21'!$C$7=$D$59,COUNTIF('Unit 21'!$C:$C,$D8),\"0\")","v":"0"},{"$f":"IF('Unit 22'!$C$7=$D$59,COUNTIF('Unit 22'!$C:$C,$D8),\"0\")","v":"0"},{"$f":"IF('Unit 23'!$C$7=$D$59,COUNTIF('Unit 23'!$C:$C,$D8),\"0\")","v":"0"},{"$f":"IF('Unit 24'!$C$7=$D$59,COUNTIF('Unit 24'!$C:$C,$D8),\"0\")","v":"0"},{"$f":"IF('Unit 25'!$C$7=$D$59,COUNTIF('Unit 25'!$C:$C,$D8),\"0\")","v":"0"},{"$f":"IF('Unit 26'!$C$7=$D$59,COUNTIF('Unit 26'!$C:$C,$D8),\"0\")","v":"0"},{"$f":"IF('Unit 27'!$C$7=$D$59,COUNTIF('Unit 27'!$C:$C,$D8),\"0\")","v":"0"},{"$f":"IF('Unit 28'!$C$7=$D$59,COUNTIF('Unit 28'!$C:$C,$D8),\"0\")","v":"0"},{"$f":"IF('Unit 29'!$C$7=$D$59,COUNTIF('Unit 29'!$C:$C,$D8),\"0\")","v":"0"},{"$f":"IF('Unit 30'!$C$7=$D$59,COUNTIF('Unit 30'!$C:$C,$D8),\"0\")","v":"0"},{"$f":"IF('Unit 31'!$C$7=$D$59,COUNTIF('Unit 31'!$C:$C,$D8),\"0\")","v":"0"},{"$f":"IF('Unit 32'!$C$7=$D$59,COUNTIF('Unit 32'!$C:$C,$D8),\"0\")","v":"0"},{"$f":"IF('Unit 33'!$C$7=$D$59,COUNTIF('Unit 33'!$C:$C,$D8),\"0\")","v":"0"},{"$f":"IF('Unit 34'!$C$7=$D$59,COUNTIF('Unit 34'!$C:$C,$D8),\"0\")","v":"0"},{"$f":"IF('Unit 35'!$C$7=$D$59,COUNTIF('Unit 35'!$C:$C,$D8),\"0\")","v":"0"},{"$f":"IF('Unit 36'!$C$7=$D$59,COUNTIF('Unit 36'!$C:$C,$D8),\"0\")","v":"0"},{"$f":"IF('Unit 37'!$C$7=$D$59,COUNTIF('Unit 37'!$C:$C,$D8),\"0\")","v":"0"},{"$f":"IF('Unit 38'!$C$7=$D$59,COUNTIF('Unit 38'!$C:$C,$D8),\"0\")","v":"0"},{"$f":"SUM(CH8:DS8)","v":0},null,{"$f":"IF('Unit 1'!$C$7=$D$60,COUNTIF('Unit 1'!$C:$C,$D8),\"0\")","v":"0"},{"$f":"IF('Unit 2'!$C$7=$D$60,COUNTIF('Unit 2'!$C:$C,$D8),\"0\")","v":"0"},{"$f":"IF('Unit 3'!$C$7=$D$60,COUNTIF('Unit 3'!$C:$C,$D8),\"0\")","v":"0"},{"$f":"IF('Unit 4'!$C$7=$D$60,COUNTIF('Unit 4'!$C:$C,$D8),\"0\")","v":"0"},{"$f":"IF('Unit 5'!$C$7=$D$60,COUNTIF('Unit 5'!$C:$C,$D8),\"0\")","v":"0"},{"$f":"IF('Unit 6'!$C$7=$D$60,COUNTIF('Unit 6'!$C:$C,$D8),\"0\")","v":"0"},{"$f":"IF('Unit 7'!$C$7=$D$60,COUNTIF('Unit 7'!$C:$C,$D8),\"0\")","v":"0"},{"$f":"IF('Unit 8'!$C$7=$D$60,COUNTIF('Unit 8'!$C:$C,$D8),\"0\")","v":"0"},{"$f":"IF('Unit 9'!$C$7=$D$60,COUNTIF('Unit 9'!$C:$C,$D8),\"0\")","v":"0"},{"$f":"IF('Unit 10'!$C$7=$D$60,COUNTIF('Unit 10'!$C:$C,$D8),\"0\")","v":"0"},{"$f":"IF('Unit 11'!$C$7=$D$60,COUNTIF('Unit 11'!$C:$C,$D8),\"0\")","v":"0"},{"$f":"IF('Unit 12'!$C$7=$D$60,COUNTIF('Unit 12'!$C:$C,$D8),\"0\")","v":"0"},{"$f":"IF('Unit 13'!$C$7=$D$60,COUNTIF('Unit 13'!$C:$C,$D8),\"0\")","v":"0"},{"$f":"IF('Unit 14'!$C$7=$D$60,COUNTIF('Unit 14'!$C:$C,$D8),\"0\")","v":"0"},{"$f":"IF('Unit 15'!$C$7=$D$60,COUNTIF('Unit 15'!$C:$C,$D8),\"0\")","v":"0"},{"$f":"IF('Unit 16'!$C$7=$D$60,COUNTIF('Unit 16'!$C:$C,$D8),\"0\")","v":"0"},{"$f":"IF('Unit 17'!$C$7=$D$60,COUNTIF('Unit 17'!$C:$C,$D8),\"0\")","v":"0"},{"$f":"IF('Unit 18'!$C$7=$D$60,COUNTIF('Unit 18'!$C:$C,$D8),\"0\")","v":"0"},{"$f":"IF('Unit 19'!$C$7=$D$60,COUNTIF('Unit 19'!$C:$C,$D8),\"0\")","v":"0"},{"$f":"IF('Unit 20'!$C$7=$D$60,COUNTIF('Unit 20'!$C:$C,$D8),\"0\")","v":"0"},{"$f":"IF('Unit 21'!$C$7=$D$60,COUNTIF('Unit 21'!$C:$C,$D8),\"0\")","v":"0"},{"$f":"IF('Unit 22'!$C$7=$D$60,COUNTIF('Unit 22'!$C:$C,$D8),\"0\")","v":"0"},{"$f":"IF('Unit 23'!$C$7=$D$60,COUNTIF('Unit 23'!$C:$C,$D8),\"0\")","v":"0"},{"$f":"IF('Unit 24'!$C$7=$D$60,COUNTIF('Unit 24'!$C:$C,$D8),\"0\")","v":"0"},{"$f":"IF('Unit 25'!$C$7=$D$60,COUNTIF('Unit 25'!$C:$C,$D8),\"0\")","v":"0"},{"$f":"IF('Unit 26'!$C$7=$D$60,COUNTIF('Unit 26'!$C:$C,$D8),\"0\")","v":"0"},{"$f":"IF('Unit 27'!$C$7=$D$60,COUNTIF('Unit 27'!$C:$C,$D8),\"0\")","v":"0"},{"$f":"IF('Unit 28'!$C$7=$D$60,COUNTIF('Unit 28'!$C:$C,$D8),\"0\")","v":"0"},{"$f":"IF('Unit 29'!$C$7=$D$60,COUNTIF('Unit 29'!$C:$C,$D8),\"0\")","v":"0"},{"$f":"IF('Unit 30'!$C$7=$D$60,COUNTIF('Unit 30'!$C:$C,$D8),\"0\")","v":"0"},{"$f":"IF('Unit 31'!$C$7=$D$60,COUNTIF('Unit 31'!$C:$C,$D8),\"0\")","v":"0"},{"$f":"IF('Unit 32'!$C$7=$D$60,COUNTIF('Unit 32'!$C:$C,$D8),\"0\")","v":"0"},{"$f":"IF('Unit 33'!$C$7=$D$60,COUNTIF('Unit 33'!$C:$C,$D8),\"0\")","v":"0"},{"$f":"IF('Unit 34'!$C$7=$D$60,COUNTIF('Unit 34'!$C:$C,$D8),\"0\")","v":"0"},{"$f":"IF('Unit 35'!$C$7=$D$60,COUNTIF('Unit 35'!$C:$C,$D8),\"0\")","v":"0"},{"$f":"IF('Unit 36'!$C$7=$D$60,COUNTIF('Unit 36'!$C:$C,$D8),\"0\")","v":"0"},{"$f":"IF('Unit 37'!$C$7=$D$60,COUNTIF('Unit 37'!$C:$C,$D8),\"0\")","v":"0"},{"$f":"IF('Unit 38'!$C$7=$D$60,COUNTIF('Unit 38'!$C:$C,$D8),\"0\")","v":"0"},{"$f":"SUM(DV8:FG8)","v":0}]
[null,null,"1.2","1.2 demonstrate a range of manufacturing processes ","Demonstrate: prove or make clear by reasoning or evidence, illustrating with examples or practical application",{"$f":"COUNTIF('Unit 1'!C:C,$D9)","v":0},{"$f":"COUNTIF('Unit 2'!C:C,D9)","v":0},{"$f":"COUNTIF('Unit 3'!C:C,D9)","v":0},{"$f":"COUNTIF('Unit 4'!C:C,D9)","v":0},{"$f":"COUNTIF('Unit 5'!C:C,D9)","v":0},{"$f":"COUNTIF('Unit 6'!C:C,D9)","v":0},{"$f":"COUNTIF('Unit 7'!C:C,D9)","v":0},{"$f":"COUNTIF('Unit 8'!C:C,D9)","v":0},{"$f":"COUNTIF('Unit 9'!C:C,D9)","v":0},{"$f":"COUNTIF('Unit 10'!C:C,D9)","v":0},{"$f":"COUNTIF('Unit 11'!C:C,D9)","v":0},{"$f":"COUNTIF('Unit 12'!C:C,D9)","v":0},{"$f":"COUNTIF('Unit 13'!C:C,D9)","v":0},{"$f":"COUNTIF('Unit 14'!C:C,D9)","v":0},{"$f":"COUNTIF('Unit 15'!C:C,D9)","v":0},{"$f":"COUNTIF('Unit 16'!C:C,D9)","v":0},{"$f":"COUNTIF('Unit 17'!C:C,D9)","v":0},{"$f":"COUNTIF('Unit 18'!C:C,D9)","v":0},{"$f":"COUNTIF('Unit 19'!C:C,D9)","v":0},{"$f":"COUNTIF('Unit 20'!C:C,D9)","v":0},{"$f":"COUNTIF('Unit 21'!C:C,D9)","v":0},{"$f":"COUNTIF('Unit 22'!C:C,D9)","v":0},{"$f":"COUNTIF('Unit 23'!C:C,D9)","v":0},{"$f":"COUNTIF('Unit 24'!C:C,D9)","v":0},{"$f":"COUNTIF('Unit 25'!C:C,D9)","v":0},{"$f":"COUNTIF('Unit 26'!C:C,D9)","v":0},{"$f":"COUNTIF('Unit 27'!C:C,D9)","v":0},{"$f":"COUNTIF('Unit 28'!C:C,D9)","v":0},{"$f":"COUNTIF('Unit 29'!C:C,D9)","v":0},{"$f":"COUNTIF('Unit 30'!C:C,D9)","v":0},{"$f":"COUNTIF('Unit 31'!C:C,D9)","v":0},{"$f":"COUNTIF('Unit 32'!C:C,D9)","v":0},{"$f":"COUNTIF('Unit 33'!C:C,D9)","v":0},{"$f":"COUNTIF('Unit 34'!C:C,D9)","v":0},{"$f":"COUNTIF('Unit 35'!C:C,D9)","v":0},{"$f":"COUNTIF('Unit 36'!C:C,D9)","v":0},{"$f":"COUNTIF('Unit 37'!C:C,D9)","v":0},{"$f":"COUNTIF('Unit 38'!C:C,D9)","v":0},{"$f":"SUM(F9:AQ9)","v":0},null,{"$f":"IF('Unit 1'!$C$7=$D$58,COUNTIF('Unit 1'!$C:$C,$D9),\"0\")","v":"0"},{"$f":"IF('Unit 2'!$C$7=$D$58,COUNTIF('Unit 2'!$C:$C,$D9),\"0\")","v":"0"},{"$f":"IF('Unit 3'!$C$7=$D$58,COUNTIF('Unit 3'!$C:$C,$D9),\"0\")","v":"0"},{"$f":"IF('Unit 4'!$C$7=$D$58,COUNTIF('Unit 4'!$C:$C,$D9),\"0\")","v":"0"},{"$f":"IF('Unit 5'!$C$7=$D$58,COUNTIF('Unit 5'!$C:$C,$D9),\"0\")","v":"0"},{"$f":"IF('Unit 6'!$C$7=$D$58,COUNTIF('Unit 6'!$C:$C,$D9),\"0\")","v":"0"},{"$f":"IF('Unit 7'!$C$7=$D$58,COUNTIF('Unit 7'!$C:$C,$D9),\"0\")","v":"0"},{"$f":"IF('Unit 8'!$C$7=$D$58,COUNTIF('Unit 8'!$C:$C,$D9),\"0\")","v":"0"},{"$f":"IF('Unit 9'!$C$7=$D$58,COUNTIF('Unit 9'!$C:$C,$D9),\"0\")","v":"0"},{"$f":"IF('Unit 10'!$C$7=$D$58,COUNTIF('Unit 10'!$C:$C,$D9),\"0\")","v":"0"},{"$f":"IF('Unit 11'!$C$7=$D$58,COUNTIF('Unit 11'!$C:$C,$D9),\"0\")","v":"0"},{"$f":"IF('Unit 12'!$C$7=$D$58,COUNTIF('Unit 12'!$C:$C,$D9),\"0\")","v":"0"},{"$f":"IF('Unit 13'!$C$7=$D$58,COUNTIF('Unit 13'!$C:$C,$D9),\"0\")","v":"0"},{"$f":"IF('Unit 14'!$C$7=$D$58,COUNTIF('Unit 14'!$C:$C,$D9),\"0\")","v":"0"},{"$f":"IF('Unit 15'!$C$7=$D$58,COUNTIF('Unit 15'!$C:$C,$D9),\"0\")","v":"0"},{"$f":"IF('Unit 16'!$C$7=$D$58,COUNTIF('Unit 16'!$C:$C,$D9),\"0\")","v":"0"},{"$f":"IF('Unit 17'!$C$7=$D$58,COUNTIF('Unit 17'!$C:$C,$D9),\"0\")","v":"0"},{"$f":"IF('Unit 18'!$C$7=$D$58,COUNTIF('Unit 18'!$C:$C,$D9),\"0\")","v":"0"},{"$f":"IF('Unit 19'!$C$7=$D$58,COUNTIF('Unit 19'!$C:$C,$D9),\"0\")","v":"0"},{"$f":"IF('Unit 20'!$C$7=$D$58,COUNTIF('Unit 20'!$C:$C,$D9),\"0\")","v":"0"},{"$f":"IF('Unit 21'!$C$7=$D$58,COUNTIF('Unit 21'!$C:$C,$D9),\"0\")","v":"0"},{"$f":"IF('Unit 22'!$C$7=$D$58,COUNTIF('Unit 22'!$C:$C,$D9),\"0\")","v":"0"},{"$f":"IF('Unit 23'!$C$7=$D$58,COUNTIF('Unit 23'!$C:$C,$D9),\"0\")","v":"0"},{"$f":"IF('Unit 24'!$C$7=$D$58,COUNTIF('Unit 24'!$C:$C,$D9),\"0\")","v":"0"},{"$f":"IF('Unit 25'!$C$7=$D$58,COUNTIF('Unit 25'!$C:$C,$D9),\"0\")","v":"0"},{"$f":"IF('Unit 26'!$C$7=$D$58,COUNTIF('Unit 26'!$C:$C,$D9),\"0\")","v":"0"},{"$f":"IF('Unit 27'!$C$7=$D$58,COUNTIF('Unit 27'!$C:$C,$D9),\"0\")","v":"0"},{"$f":"IF('Unit 28'!$C$7=$D$58,COUNTIF('Unit 28'!$C:$C,$D9),\"0\")","v":"0"},{"$f":"IF('Unit 29'!$C$7=$D$58,COUNTIF('Unit 29'!$C:$C,$D9),\"0\")","v":"0"},{"$f":"IF('Unit 30'!$C$7=$D$58,COUNTIF('Unit 30'!$C:$C,$D9),\"0\")","v":"0"},{"$f":"IF('Unit 31'!$C$7=$D$58,COUNTIF('Unit 31'!$C:$C,$D9),\"0\")","v":"0"},{"$f":"IF('Unit 32'!$C$7=$D$58,COUNTIF('Unit 32'!$C:$C,$D9),\"0\")","v":"0"},{"$f":"IF('Unit 33'!$C$7=$D$58,COUNTIF('Unit 33'!$C:$C,$D9),\"0\")","v":"0"},{"$f":"IF('Unit 34'!$C$7=$D$58,COUNTIF('Unit 34'!$C:$C,$D9),\"0\")","v":"0"},{"$f":"IF('Unit 35'!$C$7=$D$58,COUNTIF('Unit 35'!$C:$C,$D9),\"0\")","v":"0"},{"$f":"IF('Unit 36'!$C$7=$D$58,COUNTIF('Unit 36'!$C:$C,$D9),\"0\")","v":"0"},{"$f":"IF('Unit 37'!$C$7=$D$58,COUNTIF('Unit 37'!$C:$C,$D9),\"0\")","v":"0"},{"$f":"IF('Unit 38'!$C$7=$D$58,COUNTIF('Unit 38'!$C:$C,$D9),\"0\")","v":"0"},{"$f":"SUM(AT9:CE9)","v":0},null,{"$f":"IF('Unit 1'!$C$7=$D$59,COUNTIF('Unit 1'!$C:$C,$D9),\"0\")","v":"0"},{"$f":"IF('Unit 2'!$C$7=$D$59,COUNTIF('Unit 2'!$C:$C,$D9),\"0\")","v":"0"},{"$f":"IF('Unit 3'!$C$7=$D$59,COUNTIF('Unit 3'!$C:$C,$D9),\"0\")","v":"0"},{"$f":"IF('Unit 4'!$C$7=$D$59,COUNTIF('Unit 4'!$C:$C,$D9),\"0\")","v":"0"},{"$f":"IF('Unit 5'!$C$7=$D$59,COUNTIF('Unit 5'!$C:$C,$D9),\"0\")","v":"0"},{"$f":"IF('Unit 6'!$C$7=$D$59,COUNTIF('Unit 6'!$C:$C,$D9),\"0\")","v":"0"},{"$f":"IF('Unit 7'!$C$7=$D$59,COUNTIF('Unit 7'!$C:$C,$D9),\"0\")","v":"0"},{"$f":"IF('Unit 8'!$C$7=$D$59,COUNTIF('Unit 8'!$C:$C,$D9),\"0\")","v":"0"},{"$f":"IF('Unit 9'!$C$7=$D$59,COUNTIF('Unit 9'!$C:$C,$D9),\"0\")","v":"0"},{"$f":"IF('Unit 10'!$C$7=$D$59,COUNTIF('Unit 10'!$C:$C,$D9),\"0\")","v":"0"},{"$f":"IF('Unit 11'!$C$7=$D$59,COUNTIF('Unit 11'!$C:$C,$D9),\"0\")","v":"0"},{"$f":"IF('Unit 12'!$C$7=$D$59,COUNTIF('Unit 12'!$C:$C,$D9),\"0\")","v":"0"},{"$f":"IF('Unit 13'!$C$7=$D$59,COUNTIF('Unit 13'!$C:$C,$D9),\"0\")","v":"0"},{"$f":"IF('Unit 14'!$C$7=$D$59,COUNTIF('Unit 14'!$C:$C,$D9),\"0\")","v":"0"},{"$f":"IF('Unit 15'!$C$7=$D$59,COUNTIF('Unit 15'!$C:$C,$D9),\"0\")","v":"0"},{"$f":"IF('Unit 16'!$C$7=$D$59,COUNTIF('Unit 16'!$C:$C,$D9),\"0\")","v":"0"},{"$f":"IF('Unit 17'!$C$7=$D$59,COUNTIF('Unit 17'!$C:$C,$D9),\"0\")","v":"0"},{"$f":"IF('Unit 18'!$C$7=$D$59,COUNTIF('Unit 18'!$C:$C,$D9),\"0\")","v":"0"},{"$f":"IF('Unit 19'!$C$7=$D$59,COUNTIF('Unit 19'!$C:$C,$D9),\"0\")","v":"0"},{"$f":"IF('Unit 20'!$C$7=$D$59,COUNTIF('Unit 20'!$C:$C,$D9),\"0\")","v":"0"},{"$f":"IF('Unit 21'!$C$7=$D$59,COUNTIF('Unit 21'!$C:$C,$D9),\"0\")","v":"0"},{"$f":"IF('Unit 22'!$C$7=$D$59,COUNTIF('Unit 22'!$C:$C,$D9),\"0\")","v":"0"},{"$f":"IF('Unit 23'!$C$7=$D$59,COUNTIF('Unit 23'!$C:$C,$D9),\"0\")","v":"0"},{"$f":"IF('Unit 24'!$C$7=$D$59,COUNTIF('Unit 24'!$C:$C,$D9),\"0\")","v":"0"},{"$f":"IF('Unit 25'!$C$7=$D$59,COUNTIF('Unit 25'!$C:$C,$D9),\"0\")","v":"0"},{"$f":"IF('Unit 26'!$C$7=$D$59,COUNTIF('Unit 26'!$C:$C,$D9),\"0\")","v":"0"},{"$f":"IF('Unit 27'!$C$7=$D$59,COUNTIF('Unit 27'!$C:$C,$D9),\"0\")","v":"0"},{"$f":"IF('Unit 28'!$C$7=$D$59,COUNTIF('Unit 28'!$C:$C,$D9),\"0\")","v":"0"},{"$f":"IF('Unit 29'!$C$7=$D$59,COUNTIF('Unit 29'!$C:$C,$D9),\"0\")","v":"0"},{"$f":"IF('Unit 30'!$C$7=$D$59,COUNTIF('Unit 30'!$C:$C,$D9),\"0\")","v":"0"},{"$f":"IF('Unit 31'!$C$7=$D$59,COUNTIF('Unit 31'!$C:$C,$D9),\"0\")","v":"0"},{"$f":"IF('Unit 32'!$C$7=$D$59,COUNTIF('Unit 32'!$C:$C,$D9),\"0\")","v":"0"},{"$f":"IF('Unit 33'!$C$7=$D$59,COUNTIF('Unit 33'!$C:$C,$D9),\"0\")","v":"0"},{"$f":"IF('Unit 34'!$C$7=$D$59,COUNTIF('Unit 34'!$C:$C,$D9),\"0\")","v":"0"},{"$f":"IF('Unit 35'!$C$7=$D$59,COUNTIF('Unit 35'!$C:$C,$D9),\"0\")","v":"0"},{"$f":"IF('Unit 36'!$C$7=$D$59,COUNTIF('Unit 36'!$C:$C,$D9),\"0\")","v":"0"},{"$f":"IF('Unit 37'!$C$7=$D$59,COUNTIF('Unit 37'!$C:$C,$D9),\"0\")","v":"0"},{"$f":"IF('Unit 38'!$C$7=$D$59,COUNTIF('Unit 38'!$C:$C,$D9),\"0\")","v":"0"},{"$f":"SUM(CH9:DS9)","v":0},null,{"$f":"IF('Unit 1'!$C$7=$D$60,COUNTIF('Unit 1'!$C:$C,$D9),\"0\")","v":"0"},{"$f":"IF('Unit 2'!$C$7=$D$60,COUNTIF('Unit 2'!$C:$C,$D9),\"0\")","v":"0"},{"$f":"IF('Unit 3'!$C$7=$D$60,COUNTIF('Unit 3'!$C:$C,$D9),\"0\")","v":"0"},{"$f":"IF('Unit 4'!$C$7=$D$60,COUNTIF('Unit 4'!$C:$C,$D9),\"0\")","v":"0"},{"$f":"IF('Unit 5'!$C$7=$D$60,COUNTIF('Unit 5'!$C:$C,$D9),\"0\")","v":"0"},{"$f":"IF('Unit 6'!$C$7=$D$60,COUNTIF('Unit 6'!$C:$C,$D9),\"0\")","v":"0"},{"$f":"IF('Unit 7'!$C$7=$D$60,COUNTIF('Unit 7'!$C:$C,$D9),\"0\")","v":"0"},{"$f":"IF('Unit 8'!$C$7=$D$60,COUNTIF('Unit 8'!$C:$C,$D9),\"0\")","v":"0"},{"$f":"IF('Unit 9'!$C$7=$D$60,COUNTIF('Unit 9'!$C:$C,$D9),\"0\")","v":"0"},{"$f":"IF('Unit 10'!$C$7=$D$60,COUNTIF('Unit 10'!$C:$C,$D9),\"0\")","v":"0"},{"$f":"IF('Unit 11'!$C$7=$D$60,COUNTIF('Unit 11'!$C:$C,$D9),\"0\")","v":"0"},{"$f":"IF('Unit 12'!$C$7=$D$60,COUNTIF('Unit 12'!$C:$C,$D9),\"0\")","v":"0"},{"$f":"IF('Unit 13'!$C$7=$D$60,COUNTIF('Unit 13'!$C:$C,$D9),\"0\")","v":"0"},{"$f":"IF('Unit 14'!$C$7=$D$60,COUNTIF('Unit 14'!$C:$C,$D9),\"0\")","v":"0"},{"$f":"IF('Unit 15'!$C$7=$D$60,COUNTIF('Unit 15'!$C:$C,$D9),\"0\")","v":"0"},{"$f":"IF('Unit 16'!$C$7=$D$60,COUNTIF('Unit 16'!$C:$C,$D9),\"0\")","v":"0"},{"$f":"IF('Unit 17'!$C$7=$D$60,COUNTIF('Unit 17'!$C:$C,$D9),\"0\")","v":"0"},{"$f":"IF('Unit 18'!$C$7=$D$60,COUNTIF('Unit 18'!$C:$C,$D9),\"0\")","v":"0"},{"$f":"IF('Unit 19'!$C$7=$D$60,COUNTIF('Unit 19'!$C:$C,$D9),\"0\")","v":"0"},{"$f":"IF('Unit 20'!$C$7=$D$60,COUNTIF('Unit 20'!$C:$C,$D9),\"0\")","v":"0"},{"$f":"IF('Unit 21'!$C$7=$D$60,COUNTIF('Unit 21'!$C:$C,$D9),\"0\")","v":"0"},{"$f":"IF('Unit 22'!$C$7=$D$60,COUNTIF('Unit 22'!$C:$C,$D9),\"0\")","v":"0"},{"$f":"IF('Unit 23'!$C$7=$D$60,COUNTIF('Unit 23'!$C:$C,$D9),\"0\")","v":"0"},{"$f":"IF('Unit 24'!$C$7=$D$60,COUNTIF('Unit 24'!$C:$C,$D9),\"0\")","v":"0"},{"$f":"IF('Unit 25'!$C$7=$D$60,COUNTIF('Unit 25'!$C:$C,$D9),\"0\")","v":"0"},{"$f":"IF('Unit 26'!$C$7=$D$60,COUNTIF('Unit 26'!$C:$C,$D9),\"0\")","v":"0"},{"$f":"IF('Unit 27'!$C$7=$D$60,COUNTIF('Unit 27'!$C:$C,$D9),\"0\")","v":"0"},{"$f":"IF('Unit 28'!$C$7=$D$60,COUNTIF('Unit 28'!$C:$C,$D9),\"0\")","v":"0"},{"$f":"IF('Unit 29'!$C$7=$D$60,COUNTIF('Unit 29'!$C:$C,$D9),\"0\")","v":"0"},{"$f":"IF('Unit 30'!$C$7=$D$60,COUNTIF('Unit 30'!$C:$C,$D9),\"0\")","v":"0"},{"$f":"IF('Unit 31'!$C$7=$D$60,COUNTIF('Unit 31'!$C:$C,$D9),\"0\")","v":"0"},{"$f":"IF('Unit 32'!$C$7=$D$60,COUNTIF('Unit 32'!$C:$C,$D9),\"0\")","v":"0"},{"$f":"IF('Unit 33'!$C$7=$D$60,COUNTIF('Unit 33'!$C:$C,$D9),\"0\")","v":"0"},{"$f":"IF('Unit 34'!$C$7=$D$60,COUNTIF('Unit 34'!$C:$C,$D9),\"0\")","v":"0"},{"$f":"IF('Unit 35'!$C$7=$D$60,COUNTIF('Unit 35'!$C:$C,$D9),\"0\")","v":"0"},{"$f":"IF('Unit 36'!$C$7=$D$60,COUNTIF('Unit 36'!$C:$C,$D9),\"0\")","v":"0"},{"$f":"IF('Unit 37'!$C$7=$D$60,COUNTIF('Unit 37'!$C:$C,$D9),\"0\")","v":"0"},{"$f":"IF('Unit 38'!$C$7=$D$60,COUNTIF('Unit 38'!$C:$C,$D9),\"0\")","v":"0"},{"$f":"SUM(DV9:FG9)","v":0}]
[null,null,"1.3","1.3 recognise and adhere to health and safety standards ","Recognise: identify facts, characteristics or concepts that are critical (relevant/ appropriate) to the understanding of a situation, event, process or phenomenon",{"$f":"COUNTIF('Unit 1'!C:C,$D10)","v":0},{"$f":"COUNTIF('Unit 2'!C:C,D10)","v":0},{"$f":"COUNTIF('Unit 3'!C:C,D10)","v":0},{"$f":"COUNTIF('Unit 4'!C:C,D10)","v":0},{"$f":"COUNTIF('Unit 5'!C:C,D10)","v":0},{"$f":"COUNTIF('Unit 6'!C:C,D10)","v":0},{"$f":"COUNTIF('Unit 7'!C:C,D10)","v":0},{"$f":"COUNTIF('Unit 8'!C:C,D10)","v":0},{"$f":"COUNTIF('Unit 9'!C:C,D10)","v":0},{"$f":"COUNTIF('Unit 10'!C:C,D10)","v":0},{"$f":"COUNTIF('Unit 11'!C:C,D10)","v":0},{"$f":"COUNTIF('Unit 12'!C:C,D10)","v":0},{"$f":"COUNTIF('Unit 13'!C:C,D10)","v":0},{"$f":"COUNTIF('Unit 14'!C:C,D10)","v":0},{"$f":"COUNTIF('Unit 15'!C:C,D10)","v":0},{"$f":"COUNTIF('Unit 16'!C:C,D10)","v":0},{"$f":"COUNTIF('Unit 17'!C:C,D10)","v":0},{"$f":"COUNTIF('Unit 18'!C:C,D10)","v":0},{"$f":"COUNTIF('Unit 19'!C:C,D10)","v":0},{"$f":"COUNTIF('Unit 20'!C:C,D10)","v":0},{"$f":"COUNTIF('Unit 21'!C:C,D10)","v":0},{"$f":"COUNTIF('Unit 22'!C:C,D10)","v":0},{"$f":"COUNTIF('Unit 23'!C:C,D10)","v":0},{"$f":"COUNTIF('Unit 24'!C:C,D10)","v":0},{"$f":"COUNTIF('Unit 25'!C:C,D10)","v":0},{"$f":"COUNTIF('Unit 26'!C:C,D10)","v":0},{"$f":"COUNTIF('Unit 27'!C:C,D10)","v":0},{"$f":"COUNTIF('Unit 28'!C:C,D10)","v":0},{"$f":"COUNTIF('Unit 29'!C:C,D10)","v":0},{"$f":"COUNTIF('Unit 30'!C:C,D10)","v":0},{"$f":"COUNTIF('Unit 31'!C:C,D10)","v":0},{"$f":"COUNTIF('Unit 32'!C:C,D10)","v":0},{"$f":"COUNTIF('Unit 33'!C:C,D10)","v":0},{"$f":"COUNTIF('Unit 34'!C:C,D10)","v":0},{"$f":"COUNTIF('Unit 35'!C:C,D10)","v":0},{"$f":"COUNTIF('Unit 36'!C:C,D10)","v":0},{"$f":"COUNTIF('Unit 37'!C:C,D10)","v":0},{"$f":"COUNTIF('Unit 38'!C:C,D10)","v":0},0,null,{"$f":"IF('Unit 1'!$C$7=$D$58,COUNTIF('Unit 1'!$C:$C,$D10),\"0\")","v":"0"},{"$f":"IF('Unit 2'!$C$7=$D$58,COUNTIF('Unit 2'!$C:$C,$D10),\"0\")","v":"0"},{"$f":"IF('Unit 3'!$C$7=$D$58,COUNTIF('Unit 3'!$C:$C,$D10),\"0\")","v":"0"},{"$f":"IF('Unit 4'!$C$7=$D$58,COUNTIF('Unit 4'!$C:$C,$D10),\"0\")","v":"0"},{"$f":"IF('Unit 5'!$C$7=$D$58,COUNTIF('Unit 5'!$C:$C,$D10),\"0\")","v":"0"},{"$f":"IF('Unit 6'!$C$7=$D$58,COUNTIF('Unit 6'!$C:$C,$D10),\"0\")","v":"0"},{"$f":"IF('Unit 7'!$C$7=$D$58,COUNTIF('Unit 7'!$C:$C,$D10),\"0\")","v":"0"},{"$f":"IF('Unit 8'!$C$7=$D$58,COUNTIF('Unit 8'!$C:$C,$D10),\"0\")","v":"0"},{"$f":"IF('Unit 9'!$C$7=$D$58,COUNTIF('Unit 9'!$C:$C,$D10),\"0\")","v":"0"},{"$f":"IF('Unit 10'!$C$7=$D$58,COUNTIF('Unit 10'!$C:$C,$D10),\"0\")","v":"0"},{"$f":"IF('Unit 11'!$C$7=$D$58,COUNTIF('Unit 11'!$C:$C,$D10),\"0\")","v":"0"},{"$f":"IF('Unit 12'!$C$7=$D$58,COUNTIF('Unit 12'!$C:$C,$D10),\"0\")","v":"0"},{"$f":"IF('Unit 13'!$C$7=$D$58,COUNTIF('Unit 13'!$C:$C,$D10),\"0\")","v":"0"},{"$f":"IF('Unit 14'!$C$7=$D$58,COUNTIF('Unit 14'!$C:$C,$D10),\"0\")","v":"0"},{"$f":"IF('Unit 15'!$C$7=$D$58,COUNTIF('Unit 15'!$C:$C,$D10),\"0\")","v":"0"},{"$f":"IF('Unit 16'!$C$7=$D$58,COUNTIF('Unit 16'!$C:$C,$D10),\"0\")","v":"0"},{"$f":"IF('Unit 17'!$C$7=$D$58,COUNTIF('Unit 17'!$C:$C,$D10),\"0\")","v":"0"},{"$f":"IF('Unit 18'!$C$7=$D$58,COUNTIF('Unit 18'!$C:$C,$D10),\"0\")","v":"0"},{"$f":"IF('Unit 19'!$C$7=$D$58,COUNTIF('Unit 19'!$C:$C,$D10),\"0\")","v":"0"},{"$f":"IF('Unit 20'!$C$7=$D$58,COUNTIF('Unit 20'!$C:$C,$D10),\"0\")","v":"0"},{"$f":"IF('Unit 21'!$C$7=$D$58,COUNTIF('Unit 21'!$C:$C,$D10),\"0\")","v":"0"},{"$f":"IF('Unit 22'!$C$7=$D$58,COUNTIF('Unit 22'!$C:$C,$D10),\"0\")","v":"0"},{"$f":"IF('Unit 23'!$C$7=$D$58,COUNTIF('Unit 23'!$C:$C,$D10),\"0\")","v":"0"},{"$f":"IF('Unit 24'!$C$7=$D$58,COUNTIF('Unit 24'!$C:$C,$D10),\"0\")","v":"0"},{"$f":"IF('Unit 25'!$C$7=$D$58,COUNTIF('Unit 25'!$C:$C,$D10),\"0\")","v":"0"},{"$f":"IF('Unit 26'!$C$7=$D$58,COUNTIF('Unit 26'!$C:$C,$D10),\"0\")","v":"0"},{"$f":"IF('Unit 27'!$C$7=$D$58,COUNTIF('Unit 27'!$C:$C,$D10),\"0\")","v":"0"},{"$f":"IF('Unit 28'!$C$7=$D$58,COUNTIF('Unit 28'!$C:$C,$D10),\"0\")","v":"0"},{"$f":"IF('Unit 29'!$C$7=$D$58,COUNTIF('Unit 29'!$C:$C,$D10),\"0\")","v":"0"},{"$f":"IF('Unit 30'!$C$7=$D$58,COUNTIF('Unit 30'!$C:$C,$D10),\"0\")","v":"0"},{"$f":"IF('Unit 31'!$C$7=$D$58,COUNTIF('Unit 31'!$C:$C,$D10),\"0\")","v":"0"},{"$f":"IF('Unit 32'!$C$7=$D$58,COUNTIF('Unit 32'!$C:$C,$D10),\"0\")","v":"0"},{"$f":"IF('Unit 33'!$C$7=$D$58,COUNTIF('Unit 33'!$C:$C,$D10),\"0\")","v":"0"},{"$f":"IF('Unit 34'!$C$7=$D$58,COUNTIF('Unit 34'!$C:$C,$D10),\"0\")","v":"0"},{"$f":"IF('Unit 35'!$C$7=$D$58,COUNTIF('Unit 35'!$C:$C,$D10),\"0\")","v":"0"},{"$f":"IF('Unit 36'!$C$7=$D$58,COUNTIF('Unit 36'!$C:$C,$D10),\"0\")","v":"0"},{"$f":"IF('Unit 37'!$C$7=$D$58,COUNTIF('Unit 37'!$C:$C,$D10),\"0\")","v":"0"},{"$f":"IF('Unit 38'!$C$7=$D$58,COUNTIF('Unit 38'!$C:$C,$D10),\"0\")","v":"0"},0,null,{"$f":"IF('Unit 1'!$C$7=$D$59,COUNTIF('Unit 1'!$C:$C,$D10),\"0\")","v":"0"},{"$f":"IF('Unit 2'!$C$7=$D$59,COUNTIF('Unit 2'!$C:$C,$D10),\"0\")","v":"0"},{"$f":"IF('Unit 3'!$C$7=$D$59,COUNTIF('Unit 3'!$C:$C,$D10),\"0\")","v":"0"},{"$f":"IF('Unit 4'!$C$7=$D$59,COUNTIF('Unit 4'!$C:$C,$D10),\"0\")","v":"0"},{"$f":"IF('Unit 5'!$C$7=$D$59,COUNTIF('Unit 5'!$C:$C,$D10),\"0\")","v":"0"},{"$f":"IF('Unit 6'!$C$7=$D$59,COUNTIF('Unit 6'!$C:$C,$D10),\"0\")","v":"0"},{"$f":"IF('Unit 7'!$C$7=$D$59,COUNTIF('Unit 7'!$C:$C,$D10),\"0\")","v":"0"},{"$f":"IF('Unit 8'!$C$7=$D$59,COUNTIF('Unit 8'!$C:$C,$D10),\"0\")","v":"0"},{"$f":"IF('Unit 9'!$C$7=$D$59,COUNTIF('Unit 9'!$C:$C,$D10),\"0\")","v":"0"},{"$f":"IF('Unit 10'!$C$7=$D$59,COUNTIF('Unit 10'!$C:$C,$D10),\"0\")","v":"0"},{"$f":"IF('Unit 11'!$C$7=$D$59,COUNTIF('Unit 11'!$C:$C,$D10),\"0\")","v":"0"},{"$f":"IF('Unit 12'!$C$7=$D$59,COUNTIF('Unit 12'!$C:$C,$D10),\"0\")","v":"0"},{"$f":"IF('Unit 13'!$C$7=$D$59,COUNTIF('Unit 13'!$C:$C,$D10),\"0\")","v":"0"},{"$f":"IF('Unit 14'!$C$7=$D$59,COUNTIF('Unit 14'!$C:$C,$D10),\"0\")","v":"0"},{"$f":"IF('Unit 15'!$C$7=$D$59,COUNTIF('Unit 15'!$C:$C,$D10),\"0\")","v":"0"},{"$f":"IF('Unit 16'!$C$7=$D$59,COUNTIF('Unit 16'!$C:$C,$D10),\"0\")","v":"0"},{"$f":"IF('Unit 17'!$C$7=$D$59,COUNTIF('Unit 17'!$C:$C,$D10),\"0\")","v":"0"},{"$f":"IF('Unit 18'!$C$7=$D$59,COUNTIF('Unit 18'!$C:$C,$D10),\"0\")","v":"0"},{"$f":"IF('Unit 19'!$C$7=$D$59,COUNTIF('Unit 19'!$C:$C,$D10),\"0\")","v":"0"},{"$f":"IF('Unit 20'!$C$7=$D$59,COUNTIF('Unit 20'!$C:$C,$D10),\"0\")","v":"0"},{"$f":"IF('Unit 21'!$C$7=$D$59,COUNTIF('Unit 21'!$C:$C,$D10),\"0\")","v":"0"},{"$f":"IF('Unit 22'!$C$7=$D$59,COUNTIF('Unit 22'!$C:$C,$D10),\"0\")","v":"0"},{"$f":"IF('Unit 23'!$C$7=$D$59,COUNTIF('Unit 23'!$C:$C,$D10),\"0\")","v":"0"},{"$f":"IF('Unit 24'!$C$7=$D$59,COUNTIF('Unit 24'!$C:$C,$D10),\"0\")","v":"0"},{"$f":"IF('Unit 25'!$C$7=$D$59,COUNTIF('Unit 25'!$C:$C,$D10),\"0\")","v":"0"},{"$f":"IF('Unit 26'!$C$7=$D$59,COUNTIF('Unit 26'!$C:$C,$D10),\"0\")","v":"0"},{"$f":"IF('Unit 27'!$C$7=$D$59,COUNTIF('Unit 27'!$C:$C,$D10),\"0\")","v":"0"},{"$f":"IF('Unit 28'!$C$7=$D$59,COUNTIF('Unit 28'!$C:$C,$D10),\"0\")","v":"0"},{"$f":"IF('Unit 29'!$C$7=$D$59,COUNTIF('Unit 29'!$C:$C,$D10),\"0\")","v":"0"},{"$f":"IF('Unit 30'!$C$7=$D$59,COUNTIF('Unit 30'!$C:$C,$D10),\"0\")","v":"0"},{"$f":"IF('Unit 31'!$C$7=$D$59,COUNTIF('Unit 31'!$C:$C,$D10),\"0\")","v":"0"},{"$f":"IF('Unit 32'!$C$7=$D$59,COUNTIF('Unit 32'!$C:$C,$D10),\"0\")","v":"0"},{"$f":"IF('Unit 33'!$C$7=$D$59,COUNTIF('Unit 33'!$C:$C,$D10),\"0\")","v":"0"},{"$f":"IF('Unit 34'!$C$7=$D$59,COUNTIF('Unit 34'!$C:$C,$D10),\"0\")","v":"0"},{"$f":"IF('Unit 35'!$C$7=$D$59,COUNTIF('Unit 35'!$C:$C,$D10),\"0\")","v":"0"},{"$f":"IF('Unit 36'!$C$7=$D$59,COUNTIF('Unit 36'!$C:$C,$D10),\"0\")","v":"0"},{"$f":"IF('Unit 37'!$C$7=$D$59,COUNTIF('Unit 37'!$C:$C,$D10),\"0\")","v":"0"},{"$f":"IF('Unit 38'!$C$7=$D$59,COUNTIF('Unit 38'!$C:$C,$D10),\"0\")","v":"0"},0,null,{"$f":"IF('Unit 1'!$C$7=$D$60,COUNTIF('Unit 1'!$C:$C,$D10),\"0\")","v":"0"},{"$f":"IF('Unit 2'!$C$7=$D$60,COUNTIF('Unit 2'!$C:$C,$D10),\"0\")","v":"0"},{"$f":"IF('Unit 3'!$C$7=$D$60,COUNTIF('Unit 3'!$C:$C,$D10),\"0\")","v":"0"},{"$f":"IF('Unit 4'!$C$7=$D$60,COUNTIF('Unit 4'!$C:$C,$D10),\"0\")","v":"0"},{"$f":"IF('Unit 5'!$C$7=$D$60,COUNTIF('Unit 5'!$C:$C,$D10),\"0\")","v":"0"},{"$f":"IF('Unit 6'!$C$7=$D$60,COUNTIF('Unit 6'!$C:$C,$D10),\"0\")","v":"0"},{"$f":"IF('Unit 7'!$C$7=$D$60,COUNTIF('Unit 7'!$C:$C,$D10),\"0\")","v":"0"},{"$f":"IF('Unit 8'!$C$7=$D$60,COUNTIF('Unit 8'!$C:$C,$D10),\"0\")","v":"0"},{"$f":"IF('Unit 9'!$C$7=$D$60,COUNTIF('Unit 9'!$C:$C,$D10),\"0\")","v":"0"},{"$f":"IF('Unit 10'!$C$7=$D$60,COUNTIF('Unit 10'!$C:$C,$D10),\"0\")","v":"0"},{"$f":"IF('Unit 11'!$C$7=$D$60,COUNTIF('Unit 11'!$C:$C,$D10),\"0\")","v":"0"},{"$f":"IF('Unit 12'!$C$7=$D$60,COUNTIF('Unit 12'!$C:$C,$D10),\"0\")","v":"0"},{"$f":"IF('Unit 13'!$C$7=$D$60,COUNTIF('Unit 13'!$C:$C,$D10),\"0\")","v":"0"},{"$f":"IF('Unit 14'!$C$7=$D$60,COUNTIF('Unit 14'!$C:$C,$D10),\"0\")","v":"0"},{"$f":"IF('Unit 15'!$C$7=$D$60,COUNTIF('Unit 15'!$C:$C,$D10),\"0\")","v":"0"},{"$f":"IF('Unit 16'!$C$7=$D$60,COUNTIF('Unit 16'!$C:$C,$D10),\"0\")","v":"0"},{"$f":"IF('Unit 17'!$C$7=$D$60,COUNTIF('Unit 17'!$C:$C,$D10),\"0\")","v":"0"},{"$f":"IF('Unit 18'!$C$7=$D$60,COUNTIF('Unit 18'!$C:$C,$D10),\"0\")","v":"0"},{"$f":"IF('Unit 19'!$C$7=$D$60,COUNTIF('Unit 19'!$C:$C,$D10),\"0\")","v":"0"},{"$f":"IF('Unit 20'!$C$7=$D$60,COUNTIF('Unit 20'!$C:$C,$D10),\"0\")","v":"0"},{"$f":"IF('Unit 21'!$C$7=$D$60,COUNTIF('Unit 21'!$C:$C,$D10),\"0\")","v":"0"},{"$f":"IF('Unit 22'!$C$7=$D$60,COUNTIF('Unit 22'!$C:$C,$D10),\"0\")","v":"0"},{"$f":"IF('Unit 23'!$C$7=$D$60,COUNTIF('Unit 23'!$C:$C,$D10),\"0\")","v":"0"},{"$f":"IF('Unit 24'!$C$7=$D$60,COUNTIF('Unit 24'!$C:$C,$D10),\"0\")","v":"0"},{"$f":"IF('Unit 25'!$C$7=$D$60,COUNTIF('Unit 25'!$C:$C,$D10),\"0\")","v":"0"},{"$f":"IF('Unit 26'!$C$7=$D$60,COUNTIF('Unit 26'!$C:$C,$D10),\"0\")","v":"0"},{"$f":"IF('Unit 27'!$C$7=$D$60,COUNTIF('Unit 27'!$C:$C,$D10),\"0\")","v":"0"},{"$f":"IF('Unit 28'!$C$7=$D$60,COUNTIF('Unit 28'!$C:$C,$D10),\"0\")","v":"0"},{"$f":"IF('Unit 29'!$C$7=$D$60,COUNTIF('Unit 29'!$C:$C,$D10),\"0\")","v":"0"},{"$f":"IF('Unit 30'!$C$7=$D$60,COUNTIF('Unit 30'!$C:$C,$D10),\"0\")","v":"0"},{"$f":"IF('Unit 31'!$C$7=$D$60,COUNTIF('Unit 31'!$C:$C,$D10),\"0\")","v":"0"},{"$f":"IF('Unit 32'!$C$7=$D$60,COUNTIF('Unit 32'!$C:$C,$D10),\"0\")","v":"0"},{"$f":"IF('Unit 33'!$C$7=$D$60,COUNTIF('Unit 33'!$C:$C,$D10),\"0\")","v":"0"},{"$f":"IF('Unit 34'!$C$7=$D$60,COUNTIF('Unit 34'!$C:$C,$D10),\"0\")","v":"0"},{"$f":"IF('Unit 35'!$C$7=$D$60,COUNTIF('Unit 35'!$C:$C,$D10),\"0\")","v":"0"},{"$f":"IF('Unit 36'!$C$7=$D$60,COUNTIF('Unit 36'!$C:$C,$D10),\"0\")","v":"0"},{"$f":"IF('Unit 37'!$C$7=$D$60,COUNTIF('Unit 37'!$C:$C,$D10),\"0\")","v":"0"},{"$f":"IF('Unit 38'!$C$7=$D$60,COUNTIF('Unit 38'!$C:$C,$D10),\"0\")","v":"0"},0]
[null,null,"1.4","1.4 understand the properties associated with a range of engineered materials","Understand: have and apply a well-organised body of knowledge",{"$f":"COUNTIF('Unit 1'!C:C,$D11)","v":0},{"$f":"COUNTIF('Unit 2'!C:C,D11)","v":0},{"$f":"COUNTIF('Unit 3'!C:C,D11)","v":0},{"$f":"COUNTIF('Unit 4'!C:C,D11)","v":0},{"$f":"COUNTIF('Unit 5'!C:C,D11)","v":0},{"$f":"COUNTIF('Unit 6'!C:C,D11)","v":0},{"$f":"COUNTIF('Unit 7'!C:C,D11)","v":0},{"$f":"COUNTIF('Unit 8'!C:C,D11)","v":0},{"$f":"COUNTIF('Unit 9'!C:C,D11)","v":0},{"$f":"COUNTIF('Unit 10'!C:C,D11)","v":0},{"$f":"COUNTIF('Unit 11'!C:C,D11)","v":0},{"$f":"COUNTIF('Unit 12'!C:C,D11)","v":0},{"$f":"COUNTIF('Unit 13'!C:C,D11)","v":0},{"$f":"COUNTIF('Unit 14'!C:C,D11)","v":0},{"$f":"COUNTIF('Unit 15'!C:C,D11)","v":0},{"$f":"COUNTIF('Unit 16'!C:C,D11)","v":0},{"$f":"COUNTIF('Unit 17'!C:C,D11)","v":0},{"$f":"COUNTIF('Unit 18'!C:C,D11)","v":0},{"$f":"COUNTIF('Unit 19'!C:C,D11)","v":0},{"$f":"COUNTIF('Unit 20'!C:C,D11)","v":0},{"$f":"COUNTIF('Unit 21'!C:C,D11)","v":0},{"$f":"COUNTIF('Unit 22'!C:C,D11)","v":0},{"$f":"COUNTIF('Unit 23'!C:C,D11)","v":0},{"$f":"COUNTIF('Unit 24'!C:C,D11)","v":0},{"$f":"COUNTIF('Unit 25'!C:C,D11)","v":0},{"$f":"COUNTIF('Unit 26'!C:C,D11)","v":0},{"$f":"COUNTIF('Unit 27'!C:C,D11)","v":0},{"$f":"COUNTIF('Unit 28'!C:C,D11)","v":0},{"$f":"COUNTIF('Unit 29'!C:C,D11)","v":0},{"$f":"COUNTIF('Unit 30'!C:C,D11)","v":0},{"$f":"COUNTIF('Unit 31'!C:C,D11)","v":0},{"$f":"COUNTIF('Unit 32'!C:C,D11)","v":0},{"$f":"COUNTIF('Unit 33'!C:C,D11)","v":0},{"$f":"COUNTIF('Unit 34'!C:C,D11)","v":0},{"$f":"COUNTIF('Unit 35'!C:C,D11)","v":0},{"$f":"COUNTIF('Unit 36'!C:C,D11)","v":0},{"$f":"COUNTIF('Unit 37'!C:C,D11)","v":0},{"$f":"COUNTIF('Unit 38'!C:C,D11)","v":0},0,null,{"$f":"IF('Unit 1'!$C$7=$D$58,COUNTIF('Unit 1'!$C:$C,$D11),\"0\")","v":"0"},{"$f":"IF('Unit 2'!$C$7=$D$58,COUNTIF('Unit 2'!$C:$C,$D11),\"0\")","v":"0"},{"$f":"IF('Unit 3'!$C$7=$D$58,COUNTIF('Unit 3'!$C:$C,$D11),\"0\")","v":"0"},{"$f":"IF('Unit 4'!$C$7=$D$58,COUNTIF('Unit 4'!$C:$C,$D11),\"0\")","v":"0"},{"$f":"IF('Unit 5'!$C$7=$D$58,COUNTIF('Unit 5'!$C:$C,$D11),\"0\")","v":"0"},{"$f":"IF('Unit 6'!$C$7=$D$58,COUNTIF('Unit 6'!$C:$C,$D11),\"0\")","v":"0"},{"$f":"IF('Unit 7'!$C$7=$D$58,COUNTIF('Unit 7'!$C:$C,$D11),\"0\")","v":"0"},{"$f":"IF('Unit 8'!$C$7=$D$58,COUNTIF('Unit 8'!$C:$C,$D11),\"0\")","v":"0"},{"$f":"IF('Unit 9'!$C$7=$D$58,COUNTIF('Unit 9'!$C:$C,$D11),\"0\")","v":"0"},{"$f":"IF('Unit 10'!$C$7=$D$58,COUNTIF('Unit 10'!$C:$C,$D11),\"0\")","v":"0"},{"$f":"IF('Unit 11'!$C$7=$D$58,COUNTIF('Unit 11'!$C:$C,$D11),\"0\")","v":"0"},{"$f":"IF('Unit 12'!$C$7=$D$58,COUNTIF('Unit 12'!$C:$C,$D11),\"0\")","v":"0"},{"$f":"IF('Unit 13'!$C$7=$D$58,COUNTIF('Unit 13'!$C:$C,$D11),\"0\")","v":"0"},{"$f":"IF('Unit 14'!$C$7=$D$58,COUNTIF('Unit 14'!$C:$C,$D11),\"0\")","v":"0"},{"$f":"IF('Unit 15'!$C$7=$D$58,COUNTIF('Unit 15'!$C:$C,$D11),\"0\")","v":"0"},{"$f":"IF('Unit 16'!$C$7=$D$58,COUNTIF('Unit 16'!$C:$C,$D11),\"0\")","v":"0"},{"$f":"IF('Unit 17'!$C$7=$D$58,COUNTIF('Unit 17'!$C:$C,$D11),\"0\")","v":"0"},{"$f":"IF('Unit 18'!$C$7=$D$58,COUNTIF('Unit 18'!$C:$C,$D11),\"0\")","v":"0"},{"$f":"IF('Unit 19'!$C$7=$D$58,COUNTIF('Unit 19'!$C:$C,$D11),\"0\")","v":"0"},{"$f":"IF('Unit 20'!$C$7=$D$58,COUNTIF('Unit 20'!$C:$C,$D11),\"0\")","v":"0"},{"$f":"IF('Unit 21'!$C$7=$D$58,COUNTIF('Unit 21'!$C:$C,$D11),\"0\")","v":"0"},{"$f":"IF('Unit 22'!$C$7=$D$58,COUNTIF('Unit 22'!$C:$C,$D11),\"0\")","v":"0"},{"$f":"IF('Unit 23'!$C$7=$D$58,COUNTIF('Unit 23'!$C:$C,$D11),\"0\")","v":"0"},{"$f":"IF('Unit 24'!$C$7=$D$58,COUNTIF('Unit 24'!$C:$C,$D11),\"0\")","v":"0"},{"$f":"IF('Unit 25'!$C$7=$D$58,COUNTIF('Unit 25'!$C:$C,$D11),\"0\")","v":"0"},{"$f":"IF('Unit 26'!$C$7=$D$58,COUNTIF('Unit 26'!$C:$C,$D11),\"0\")","v":"0"},{"$f":"IF('Unit 27'!$C$7=$D$58,COUNTIF('Unit 27'!$C:$C,$D11),\"0\")","v":"0"},{"$f":"IF('Unit 28'!$C$7=$D$58,COUNTIF('Unit 28'!$C:$C,$D11),\"0\")","v":"0"},{"$f":"IF('Unit 29'!$C$7=$D$58,COUNTIF('Unit 29'!$C:$C,$D11),\"0\")","v":"0"},{"$f":"IF('Unit 30'!$C$7=$D$58,COUNTIF('Unit 30'!$C:$C,$D11),\"0\")","v":"0"},{"$f":"IF('Unit 31'!$C$7=$D$58,COUNTIF('Unit 31'!$C:$C,$D11),\"0\")","v":"0"},{"$f":"IF('Unit 32'!$C$7=$D$58,COUNTIF('Unit 32'!$C:$C,$D11),\"0\")","v":"0"},{"$f":"IF('Unit 33'!$C$7=$D$58,COUNTIF('Unit 33'!$C:$C,$D11),\"0\")","v":"0"},{"$f":"IF('Unit 34'!$C$7=$D$58,COUNTIF('Unit 34'!$C:$C,$D11),\"0\")","v":"0"},{"$f":"IF('Unit 35'!$C$7=$D$58,COUNTIF('Unit 35'!$C:$C,$D11),\"0\")","v":"0"},{"$f":"IF('Unit 36'!$C$7=$D$58,COUNTIF('Unit 36'!$C:$C,$D11),\"0\")","v":"0"},{"$f":"IF('Unit 37'!$C$7=$D$58,COUNTIF('Unit 37'!$C:$C,$D11),\"0\")","v":"0"},{"$f":"IF('Unit 38'!$C$7=$D$58,COUNTIF('Unit 38'!$C:$C,$D11),\"0\")","v":"0"},0,null,{"$f":"IF('Unit 1'!$C$7=$D$59,COUNTIF('Unit 1'!$C:$C,$D11),\"0\")","v":"0"},{"$f":"IF('Unit 2'!$C$7=$D$59,COUNTIF('Unit 2'!$C:$C,$D11),\"0\")","v":"0"},{"$f":"IF('Unit 3'!$C$7=$D$59,COUNTIF('Unit 3'!$C:$C,$D11),\"0\")","v":"0"},{"$f":"IF('Unit 4'!$C$7=$D$59,COUNTIF('Unit 4'!$C:$C,$D11),\"0\")","v":"0"},{"$f":"IF('Unit 5'!$C$7=$D$59,COUNTIF('Unit 5'!$C:$C,$D11),\"0\")","v":"0"},{"$f":"IF('Unit 6'!$C$7=$D$59,COUNTIF('Unit 6'!$C:$C,$D11),\"0\")","v":"0"},{"$f":"IF('Unit 7'!$C$7=$D$59,COUNTIF('Unit 7'!$C:$C,$D11),\"0\")","v":"0"},{"$f":"IF('Unit 8'!$C$7=$D$59,COUNTIF('Unit 8'!$C:$C,$D11),\"0\")","v":"0"},{"$f":"IF('Unit 9'!$C$7=$D$59,COUNTIF('Unit 9'!$C:$C,$D11),\"0\")","v":"0"},{"$f":"IF('Unit 10'!$C$7=$D$59,COUNTIF('Unit 10'!$C:$C,$D11),\"0\")","v":"0"},{"$f":"IF('Unit 11'!$C$7=$D$59,COUNTIF('Unit 11'!$C:$C,$D11),\"0\")","v":"0"},{"$f":"IF('Unit 12'!$C$7=$D$59,COUNTIF('Unit 12'!$C:$C,$D11),\"0\")","v":"0"},{"$f":"IF('Unit 13'!$C$7=$D$59,COUNTIF('Unit 13'!$C:$C,$D11),\"0\")","v":"0"},{"$f":"IF('Unit 14'!$C$7=$D$59,COUNTIF('Unit 14'!$C:$C,$D11),\"0\")","v":"0"},{"$f":"IF('Unit 15'!$C$7=$D$59,COUNTIF('Unit 15'!$C:$C,$D11),\"0\")","v":"0"},{"$f":"IF('Unit 16'!$C$7=$D$59,COUNTIF('Unit 16'!$C:$C,$D11),\"0\")","v":"0"},{"$f":"IF('Unit 17'!$C$7=$D$59,COUNTIF('Unit 17'!$C:$C,$D11),\"0\")","v":"0"},{"$f":"IF('Unit 18'!$C$7=$D$59,COUNTIF('Unit 18'!$C:$C,$D11),\"0\")","v":"0"},{"$f":"IF('Unit 19'!$C$7=$D$59,COUNTIF('Unit 19'!$C:$C,$D11),\"0\")","v":"0"},{"$f":"IF('Unit 20'!$C$7=$D$59,COUNTIF('Unit 20'!$C:$C,$D11),\"0\")","v":"0"},{"$f":"IF('Unit 21'!$C$7=$D$59,COUNTIF('Unit 21'!$C:$C,$D11),\"0\")","v":"0"},{"$f":"IF('Unit 22'!$C$7=$D$59,COUNTIF('Unit 22'!$C:$C,$D11),\"0\")","v":"0"},{"$f":"IF('Unit 23'!$C$7=$D$59,COUNTIF('Unit 23'!$C:$C,$D11),\"0\")","v":"0"},{"$f":"IF('Unit 24'!$C$7=$D$59,COUNTIF('Unit 24'!$C:$C,$D11),\"0\")","v":"0"},{"$f":"IF('Unit 25'!$C$7=$D$59,COUNTIF('Unit 25'!$C:$C,$D11),\"0\")","v":"0"},{"$f":"IF('Unit 26'!$C$7=$D$59,COUNTIF('Unit 26'!$C:$C,$D11),\"0\")","v":"0"},{"$f":"IF('Unit 27'!$C$7=$D$59,COUNTIF('Unit 27'!$C:$C,$D11),\"0\")","v":"0"},{"$f":"IF('Unit 28'!$C$7=$D$59,COUNTIF('Unit 28'!$C:$C,$D11),\"0\")","v":"0"},{"$f":"IF('Unit 29'!$C$7=$D$59,COUNTIF('Unit 29'!$C:$C,$D11),\"0\")","v":"0"},{"$f":"IF('Unit 30'!$C$7=$D$59,COUNTIF('Unit 30'!$C:$C,$D11),\"0\")","v":"0"},{"$f":"IF('Unit 31'!$C$7=$D$59,COUNTIF('Unit 31'!$C:$C,$D11),\"0\")","v":"0"},{"$f":"IF('Unit 32'!$C$7=$D$59,COUNTIF('Unit 32'!$C:$C,$D11),\"0\")","v":"0"},{"$f":"IF('Unit 33'!$C$7=$D$59,COUNTIF('Unit 33'!$C:$C,$D11),\"0\")","v":"0"},{"$f":"IF('Unit 34'!$C$7=$D$59,COUNTIF('Unit 34'!$C:$C,$D11),\"0\")","v":"0"},{"$f":"IF('Unit 35'!$C$7=$D$59,COUNTIF('Unit 35'!$C:$C,$D11),\"0\")","v":"0"},{"$f":"IF('Unit 36'!$C$7=$D$59,COUNTIF('Unit 36'!$C:$C,$D11),\"0\")","v":"0"},{"$f":"IF('Unit 37'!$C$7=$D$59,COUNTIF('Unit 37'!$C:$C,$D11),\"0\")","v":"0"},{"$f":"IF('Unit 38'!$C$7=$D$59,COUNTIF('Unit 38'!$C:$C,$D11),\"0\")","v":"0"},0,null,{"$f":"IF('Unit 1'!$C$7=$D$60,COUNTIF('Unit 1'!$C:$C,$D11),\"0\")","v":"0"},{"$f":"IF('Unit 2'!$C$7=$D$60,COUNTIF('Unit 2'!$C:$C,$D11),\"0\")","v":"0"},{"$f":"IF('Unit 3'!$C$7=$D$60,COUNTIF('Unit 3'!$C:$C,$D11),\"0\")","v":"0"},{"$f":"IF('Unit 4'!$C$7=$D$60,COUNTIF('Unit 4'!$C:$C,$D11),\"0\")","v":"0"},{"$f":"IF('Unit 5'!$C$7=$D$60,COUNTIF('Unit 5'!$C:$C,$D11),\"0\")","v":"0"},{"$f":"IF('Unit 6'!$C$7=$D$60,COUNTIF('Unit 6'!$C:$C,$D11),\"0\")","v":"0"},{"$f":"IF('Unit 7'!$C$7=$D$60,COUNTIF('Unit 7'!$C:$C,$D11),\"0\")","v":"0"},{"$f":"IF('Unit 8'!$C$7=$D$60,COUNTIF('Unit 8'!$C:$C,$D11),\"0\")","v":"0"},{"$f":"IF('Unit 9'!$C$7=$D$60,COUNTIF('Unit 9'!$C:$C,$D11),\"0\")","v":"0"},{"$f":"IF('Unit 10'!$C$7=$D$60,COUNTIF('Unit 10'!$C:$C,$D11),\"0\")","v":"0"},{"$f":"IF('Unit 11'!$C$7=$D$60,COUNTIF('Unit 11'!$C:$C,$D11),\"0\")","v":"0"},{"$f":"IF('Unit 12'!$C$7=$D$60,COUNTIF('Unit 12'!$C:$C,$D11),\"0\")","v":"0"},{"$f":"IF('Unit 13'!$C$7=$D$60,COUNTIF('Unit 13'!$C:$C,$D11),\"0\")","v":"0"},{"$f":"IF('Unit 14'!$C$7=$D$60,COUNTIF('Unit 14'!$C:$C,$D11),\"0\")","v":"0"},{"$f":"IF('Unit 15'!$C$7=$D$60,COUNTIF('Unit 15'!$C:$C,$D11),\"0\")","v":"0"},{"$f":"IF('Unit 16'!$C$7=$D$60,COUNTIF('Unit 16'!$C:$C,$D11),\"0\")","v":"0"},{"$f":"IF('Unit 17'!$C$7=$D$60,COUNTIF('Unit 17'!$C:$C,$D11),\"0\")","v":"0"},{"$f":"IF('Unit 18'!$C$7=$D$60,COUNTIF('Unit 18'!$C:$C,$D11),\"0\")","v":"0"},{"$f":"IF('Unit 19'!$C$7=$D$60,COUNTIF('Unit 19'!$C:$C,$D11),\"0\")","v":"0"},{"$f":"IF('Unit 20'!$C$7=$D$60,COUNTIF('Unit 20'!$C:$C,$D11),\"0\")","v":"0"},{"$f":"IF('Unit 21'!$C$7=$D$60,COUNTIF('Unit 21'!$C:$C,$D11),\"0\")","v":"0"},{"$f":"IF('Unit 22'!$C$7=$D$60,COUNTIF('Unit 22'!$C:$C,$D11),\"0\")","v":"0"},{"$f":"IF('Unit 23'!$C$7=$D$60,COUNTIF('Unit 23'!$C:$C,$D11),\"0\")","v":"0"},{"$f":"IF('Unit 24'!$C$7=$D$60,COUNTIF('Unit 24'!$C:$C,$D11),\"0\")","v":"0"},{"$f":"IF('Unit 25'!$C$7=$D$60,COUNTIF('Unit 25'!$C:$C,$D11),\"0\")","v":"0"},{"$f":"IF('Unit 26'!$C$7=$D$60,COUNTIF('Unit 26'!$C:$C,$D11),\"0\")","v":"0"},{"$f":"IF('Unit 27'!$C$7=$D$60,COUNTIF('Unit 27'!$C:$C,$D11),\"0\")","v":"0"},{"$f":"IF('Unit 28'!$C$7=$D$60,COUNTIF('Unit 28'!$C:$C,$D11),\"0\")","v":"0"},{"$f":"IF('Unit 29'!$C$7=$D$60,COUNTIF('Unit 29'!$C:$C,$D11),\"0\")","v":"0"},{"$f":"IF('Unit 30'!$C$7=$D$60,COUNTIF('Unit 30'!$C:$C,$D11),\"0\")","v":"0"},{"$f":"IF('Unit 31'!$C$7=$D$60,COUNTIF('Unit 31'!$C:$C,$D11),\"0\")","v":"0"},{"$f":"IF('Unit 32'!$C$7=$D$60,COUNTIF('Unit 32'!$C:$C,$D11),\"0\")","v":"0"},{"$f":"IF('Unit 33'!$C$7=$D$60,COUNTIF('Unit 33'!$C:$C,$D11),\"0\")","v":"0"},{"$f":"IF('Unit 34'!$C$7=$D$60,COUNTIF('Unit 34'!$C:$C,$D11),\"0\")","v":"0"},{"$f":"IF('Unit 35'!$C$7=$D$60,COUNTIF('Unit 35'!$C:$C,$D11),\"0\")","v":"0"},{"$f":"IF('Unit 36'!$C$7=$D$60,COUNTIF('Unit 36'!$C:$C,$D11),\"0\")","v":"0"},{"$f":"IF('Unit 37'!$C$7=$D$60,COUNTIF('Unit 37'!$C:$C,$D11),\"0\")","v":"0"},{"$f":"IF('Unit 38'!$C$7=$D$60,COUNTIF('Unit 38'!$C:$C,$D11),\"0\")","v":"0"},0]
[null,"Innovation and Exploration","1.5","1.5 research applications of existing and emerging technological developments ","Research: the study of materials and sources in order to establish facts and reach new conclusions; revision of accepted theories or laws in the light of new facts",{"$f":"COUNTIF('Unit 1'!C:C,$D12)","v":0},{"$f":"COUNTIF('Unit 2'!C:C,D12)","v":0},{"$f":"COUNTIF('Unit 3'!C:C,D12)","v":0},{"$f":"COUNTIF('Unit 4'!C:C,D12)","v":0},{"$f":"COUNTIF('Unit 5'!C:C,D12)","v":0},{"$f":"COUNTIF('Unit 6'!C:C,D12)","v":0},{"$f":"COUNTIF('Unit 7'!C:C,D12)","v":0},{"$f":"COUNTIF('Unit 8'!C:C,D12)","v":0},{"$f":"COUNTIF('Unit 9'!C:C,D12)","v":0},{"$f":"COUNTIF('Unit 10'!C:C,D12)","v":0},{"$f":"COUNTIF('Unit 11'!C:C,D12)","v":0},{"$f":"COUNTIF('Unit 12'!C:C,D12)","v":0},{"$f":"COUNTIF('Unit 13'!C:C,D12)","v":0},{"$f":"COUNTIF('Unit 14'!C:C,D12)","v":0},{"$f":"COUNTIF('Unit 15'!C:C,D12)","v":0},{"$f":"COUNTIF('Unit 16'!C:C,D12)","v":0},{"$f":"COUNTIF('Unit 17'!C:C,D12)","v":0},{"$f":"COUNTIF('Unit 18'!C:C,D12)","v":0},{"$f":"COUNTIF('Unit 19'!C:C,D12)","v":0},{"$f":"COUNTIF('Unit 20'!C:C,D12)","v":0},{"$f":"COUNTIF('Unit 21'!C:C,D12)","v":0},{"$f":"COUNTIF('Unit 22'!C:C,D12)","v":0},{"$f":"COUNTIF('Unit 23'!C:C,D12)","v":0},{"$f":"COUNTIF('Unit 24'!C:C,D12)","v":0},{"$f":"COUNTIF('Unit 25'!C:C,D12)","v":0},{"$f":"COUNTIF('Unit 26'!C:C,D12)","v":0},{"$f":"COUNTIF('Unit 27'!C:C,D12)","v":0},{"$f":"COUNTIF('Unit 28'!C:C,D12)","v":0},{"$f":"COUNTIF('Unit 29'!C:C,D12)","v":0},{"$f":"COUNTIF('Unit 30'!C:C,D12)","v":0},{"$f":"COUNTIF('Unit 31'!C:C,D12)","v":0},{"$f":"COUNTIF('Unit 32'!C:C,D12)","v":0},{"$f":"COUNTIF('Unit 33'!C:C,D12)","v":0},{"$f":"COUNTIF('Unit 34'!C:C,D12)","v":0},{"$f":"COUNTIF('Unit 35'!C:C,D12)","v":0},{"$f":"COUNTIF('Unit 36'!C:C,D12)","v":0},{"$f":"COUNTIF('Unit 37'!C:C,D12)","v":0},{"$f":"COUNTIF('Unit 38'!C:C,D12)","v":0},0,null,{"$f":"IF('Unit 1'!$C$7=$D$58,COUNTIF('Unit 1'!$C:$C,$D12),\"0\")","v":"0"},{"$f":"IF('Unit 2'!$C$7=$D$58,COUNTIF('Unit 2'!$C:$C,$D12),\"0\")","v":"0"},{"$f":"IF('Unit 3'!$C$7=$D$58,COUNTIF('Unit 3'!$C:$C,$D12),\"0\")","v":"0"},{"$f":"IF('Unit 4'!$C$7=$D$58,COUNTIF('Unit 4'!$C:$C,$D12),\"0\")","v":"0"},{"$f":"IF('Unit 5'!$C$7=$D$58,COUNTIF('Unit 5'!$C:$C,$D12),\"0\")","v":"0"},{"$f":"IF('Unit 6'!$C$7=$D$58,COUNTIF('Unit 6'!$C:$C,$D12),\"0\")","v":"0"},{"$f":"IF('Unit 7'!$C$7=$D$58,COUNTIF('Unit 7'!$C:$C,$D12),\"0\")","v":"0"},{"$f":"IF('Unit 8'!$C$7=$D$58,COUNTIF('Unit 8'!$C:$C,$D12),\"0\")","v":"0"},{"$f":"IF('Unit 9'!$C$7=$D$58,COUNTIF('Unit 9'!$C:$C,$D12),\"0\")","v":"0"},{"$f":"IF('Unit 10'!$C$7=$D$58,COUNTIF('Unit 10'!$C:$C,$D12),\"0\")","v":"0"},{"$f":"IF('Unit 11'!$C$7=$D$58,COUNTIF('Unit 11'!$C:$C,$D12),\"0\")","v":"0"},{"$f":"IF('Unit 12'!$C$7=$D$58,COUNTIF('Unit 12'!$C:$C,$D12),\"0\")","v":"0"},{"$f":"IF('Unit 13'!$C$7=$D$58,COUNTIF('Unit 13'!$C:$C,$D12),\"0\")","v":"0"},{"$f":"IF('Unit 14'!$C$7=$D$58,COUNTIF('Unit 14'!$C:$C,$D12),\"0\")","v":"0"},{"$f":"IF('Unit 15'!$C$7=$D$58,COUNTIF('Unit 15'!$C:$C,$D12),\"0\")","v":"0"},{"$f":"IF('Unit 16'!$C$7=$D$58,COUNTIF('Unit 16'!$C:$C,$D12),\"0\")","v":"0"},{"$f":"IF('Unit 17'!$C$7=$D$58,COUNTIF('Unit 17'!$C:$C,$D12),\"0\")","v":"0"},{"$f":"IF('Unit 18'!$C$7=$D$58,COUNTIF('Unit 18'!$C:$C,$D12),\"0\")","v":"0"},{"$f":"IF('Unit 19'!$C$7=$D$58,COUNTIF('Unit 19'!$C:$C,$D12),\"0\")","v":"0"},{"$f":"IF('Unit 20'!$C$7=$D$58,COUNTIF('Unit 20'!$C:$C,$D12),\"0\")","v":"0"},{"$f":"IF('Unit 21'!$C$7=$D$58,COUNTIF('Unit 21'!$C:$C,$D12),\"0\")","v":"0"},{"$f":"IF('Unit 22'!$C$7=$D$58,COUNTIF('Unit 22'!$C:$C,$D12),\"0\")","v":"0"},{"$f":"IF('Unit 23'!$C$7=$D$58,COUNTIF('Unit 23'!$C:$C,$D12),\"0\")","v":"0"},{"$f":"IF('Unit 24'!$C$7=$D$58,COUNTIF('Unit 24'!$C:$C,$D12),\"0\")","v":"0"},{"$f":"IF('Unit 25'!$C$7=$D$58,COUNTIF('Unit 25'!$C:$C,$D12),\"0\")","v":"0"},{"$f":"IF('Unit 26'!$C$7=$D$58,COUNTIF('Unit 26'!$C:$C,$D12),\"0\")","v":"0"},{"$f":"IF('Unit 27'!$C$7=$D$58,COUNTIF('Unit 27'!$C:$C,$D12),\"0\")","v":"0"},{"$f":"IF('Unit 28'!$C$7=$D$58,COUNTIF('Unit 28'!$C:$C,$D12),\"0\")","v":"0"},{"$f":"IF('Unit 29'!$C$7=$D$58,COUNTIF('Unit 29'!$C:$C,$D12),\"0\")","v":"0"},{"$f":"IF('Unit 30'!$C$7=$D$58,COUNTIF('Unit 30'!$C:$C,$D12),\"0\")","v":"0"},{"$f":"IF('Unit 31'!$C$7=$D$58,COUNTIF('Unit 31'!$C:$C,$D12),\"0\")","v":"0"},{"$f":"IF('Unit 32'!$C$7=$D$58,COUNTIF('Unit 32'!$C:$C,$D12),\"0\")","v":"0"},{"$f":"IF('Unit 33'!$C$7=$D$58,COUNTIF('Unit 33'!$C:$C,$D12),\"0\")","v":"0"},{"$f":"IF('Unit 34'!$C$7=$D$58,COUNTIF('Unit 34'!$C:$C,$D12),\"0\")","v":"0"},{"$f":"IF('Unit 35'!$C$7=$D$58,COUNTIF('Unit 35'!$C:$C,$D12),\"0\")","v":"0"},{"$f":"IF('Unit 36'!$C$7=$D$58,COUNTIF('Unit 36'!$C:$C,$D12),\"0\")","v":"0"},{"$f":"IF('Unit 37'!$C$7=$D$58,COUNTIF('Unit 37'!$C:$C,$D12),\"0\")","v":"0"},{"$f":"IF('Unit 38'!$C$7=$D$58,COUNTIF('Unit 38'!$C:$C,$D12),\"0\")","v":"0"},0,null,{"$f":"IF('Unit 1'!$C$7=$D$59,COUNTIF('Unit 1'!$C:$C,$D12),\"0\")","v":"0"},{"$f":"IF('Unit 2'!$C$7=$D$59,COUNTIF('Unit 2'!$C:$C,$D12),\"0\")","v":"0"},{"$f":"IF('Unit 3'!$C$7=$D$59,COUNTIF('Unit 3'!$C:$C,$D12),\"0\")","v":"0"},{"$f":"IF('Unit 4'!$C$7=$D$59,COUNTIF('Unit 4'!$C:$C,$D12),\"0\")","v":"0"},{"$f":"IF('Unit 5'!$C$7=$D$59,COUNTIF('Unit 5'!$C:$C,$D12),\"0\")","v":"0"},{"$f":"IF('Unit 6'!$C$7=$D$59,COUNTIF('Unit 6'!$C:$C,$D12),\"0\")","v":"0"},{"$f":"IF('Unit 7'!$C$7=$D$59,COUNTIF('Unit 7'!$C:$C,$D12),\"0\")","v":"0"},{"$f":"IF('Unit 8'!$C$7=$D$59,COUNTIF('Unit 8'!$C:$C,$D12),\"0\")","v":"0"},{"$f":"IF('Unit 9'!$C$7=$D$59,COUNTIF('Unit 9'!$C:$C,$D12),\"0\")","v":"0"},{"$f":"IF('Unit 10'!$C$7=$D$59,COUNTIF('Unit 10'!$C:$C,$D12),\"0\")","v":"0"},{"$f":"IF('Unit 11'!$C$7=$D$59,COUNTIF('Unit 11'!$C:$C,$D12),\"0\")","v":"0"},{"$f":"IF('Unit 12'!$C$7=$D$59,COUNTIF('Unit 12'!$C:$C,$D12),\"0\")","v":"0"},{"$f":"IF('Unit 13'!$C$7=$D$59,COUNTIF('Unit 13'!$C:$C,$D12),\"0\")","v":"0"},{"$f":"IF('Unit 14'!$C$7=$D$59,COUNTIF('Unit 14'!$C:$C,$D12),\"0\")","v":"0"},{"$f":"IF('Unit 15'!$C$7=$D$59,COUNTIF('Unit 15'!$C:$C,$D12),\"0\")","v":"0"},{"$f":"IF('Unit 16'!$C$7=$D$59,COUNTIF('Unit 16'!$C:$C,$D12),\"0\")","v":"0"},{"$f":"IF('Unit 17'!$C$7=$D$59,COUNTIF('Unit 17'!$C:$C,$D12),\"0\")","v":"0"},{"$f":"IF('Unit 18'!$C$7=$D$59,COUNTIF('Unit 18'!$C:$C,$D12),\"0\")","v":"0"},{"$f":"IF('Unit 19'!$C$7=$D$59,COUNTIF('Unit 19'!$C:$C,$D12),\"0\")","v":"0"},{"$f":"IF('Unit 20'!$C$7=$D$59,COUNTIF('Unit 20'!$C:$C,$D12),\"0\")","v":"0"},{"$f":"IF('Unit 21'!$C$7=$D$59,COUNTIF('Unit 21'!$C:$C,$D12),\"0\")","v":"0"},{"$f":"IF('Unit 22'!$C$7=$D$59,COUNTIF('Unit 22'!$C:$C,$D12),\"0\")","v":"0"},{"$f":"IF('Unit 23'!$C$7=$D$59,COUNTIF('Unit 23'!$C:$C,$D12),\"0\")","v":"0"},{"$f":"IF('Unit 24'!$C$7=$D$59,COUNTIF('Unit 24'!$C:$C,$D12),\"0\")","v":"0"},{"$f":"IF('Unit 25'!$C$7=$D$59,COUNTIF('Unit 25'!$C:$C,$D12),\"0\")","v":"0"},{"$f":"IF('Unit 26'!$C$7=$D$59,COUNTIF('Unit 26'!$C:$C,$D12),\"0\")","v":"0"},{"$f":"IF('Unit 27'!$C$7=$D$59,COUNTIF('Unit 27'!$C:$C,$D12),\"0\")","v":"0"},{"$f":"IF('Unit 28'!$C$7=$D$59,COUNTIF('Unit 28'!$C:$C,$D12),\"0\")","v":"0"},{"$f":"IF('Unit 29'!$C$7=$D$59,COUNTIF('Unit 29'!$C:$C,$D12),\"0\")","v":"0"},{"$f":"IF('Unit 30'!$C$7=$D$59,COUNTIF('Unit 30'!$C:$C,$D12),\"0\")","v":"0"},{"$f":"IF('Unit 31'!$C$7=$D$59,COUNTIF('Unit 31'!$C:$C,$D12),\"0\")","v":"0"},{"$f":"IF('Unit 32'!$C$7=$D$59,COUNTIF('Unit 32'!$C:$C,$D12),\"0\")","v":"0"},{"$f":"IF('Unit 33'!$C$7=$D$59,COUNTIF('Unit 33'!$C:$C,$D12),\"0\")","v":"0"},{"$f":"IF('Unit 34'!$C$7=$D$59,COUNTIF('Unit 34'!$C:$C,$D12),\"0\")","v":"0"},{"$f":"IF('Unit 35'!$C$7=$D$59,COUNTIF('Unit 35'!$C:$C,$D12),\"0\")","v":"0"},{"$f":"IF('Unit 36'!$C$7=$D$59,COUNTIF('Unit 36'!$C:$C,$D12),\"0\")","v":"0"},{"$f":"IF('Unit 37'!$C$7=$D$59,COUNTIF('Unit 37'!$C:$C,$D12),\"0\")","v":"0"},{"$f":"IF('Unit 38'!$C$7=$D$59,COUNTIF('Unit 38'!$C:$C,$D12),\"0\")","v":"0"},0,null,{"$f":"IF('Unit 1'!$C$7=$D$60,COUNTIF('Unit 1'!$C:$C,$D12),\"0\")","v":"0"},{"$f":"IF('Unit 2'!$C$7=$D$60,COUNTIF('Unit 2'!$C:$C,$D12),\"0\")","v":"0"},{"$f":"IF('Unit 3'!$C$7=$D$60,COUNTIF('Unit 3'!$C:$C,$D12),\"0\")","v":"0"},{"$f":"IF('Unit 4'!$C$7=$D$60,COUNTIF('Unit 4'!$C:$C,$D12),\"0\")","v":"0"},{"$f":"IF('Unit 5'!$C$7=$D$60,COUNTIF('Unit 5'!$C:$C,$D12),\"0\")","v":"0"},{"$f":"IF('Unit 6'!$C$7=$D$60,COUNTIF('Unit 6'!$C:$C,$D12),\"0\")","v":"0"},{"$f":"IF('Unit 7'!$C$7=$D$60,COUNTIF('Unit 7'!$C:$C,$D12),\"0\")","v":"0"},{"$f":"IF('Unit 8'!$C$7=$D$60,COUNTIF('Unit 8'!$C:$C,$D12),\"0\")","v":"0"},{"$f":"IF('Unit 9'!$C$7=$D$60,COUNTIF('Unit 9'!$C:$C,$D12),\"0\")","v":"0"},{"$f":"IF('Unit 10'!$C$7=$D$60,COUNTIF('Unit 10'!$C:$C,$D12),\"0\")","v":"0"},{"$f":"IF('Unit 11'!$C$7=$D$60,COUNTIF('Unit 11'!$C:$C,$D12),\"0\")","v":"0"},{"$f":"IF('Unit 12'!$C$7=$D$60,COUNTIF('Unit 12'!$C:$C,$D12),\"0\")","v":"0"},{"$f":"IF('Unit 13'!$C$7=$D$60,COUNTIF('Unit 13'!$C:$C,$D12),\"0\")","v":"0"},{"$f":"IF('Unit 14'!$C$7=$D$60,COUNTIF('Unit 14'!$C:$C,$D12),\"0\")","v":"0"},{"$f":"IF('Unit 15'!$C$7=$D$60,COUNTIF('Unit 15'!$C:$C,$D12),\"0\")","v":"0"},{"$f":"IF('Unit 16'!$C$7=$D$60,COUNTIF('Unit 16'!$C:$C,$D12),\"0\")","v":"0"},{"$f":"IF('Unit 17'!$C$7=$D$60,COUNTIF('Unit 17'!$C:$C,$D12),\"0\")","v":"0"},{"$f":"IF('Unit 18'!$C$7=$D$60,COUNTIF('Unit 18'!$C:$C,$D12),\"0\")","v":"0"},{"$f":"IF('Unit 19'!$C$7=$D$60,COUNTIF('Unit 19'!$C:$C,$D12),\"0\")","v":"0"},{"$f":"IF('Unit 20'!$C$7=$D$60,COUNTIF('Unit 20'!$C:$C,$D12),\"0\")","v":"0"},{"$f":"IF('Unit 21'!$C$7=$D$60,COUNTIF('Unit 21'!$C:$C,$D12),\"0\")","v":"0"},{"$f":"IF('Unit 22'!$C$7=$D$60,COUNTIF('Unit 22'!$C:$C,$D12),\"0\")","v":"0"},{"$f":"IF('Unit 23'!$C$7=$D$60,COUNTIF('Unit 23'!$C:$C,$D12),\"0\")","v":"0"},{"$f":"IF('Unit 24'!$C$7=$D$60,COUNTIF('Unit 24'!$C:$C,$D12),\"0\")","v":"0"},{"$f":"IF('Unit 25'!$C$7=$D$60,COUNTIF('Unit 25'!$C:$C,$D12),\"0\")","v":"0"},{"$f":"IF('Unit 26'!$C$7=$D$60,COUNTIF('Unit 26'!$C:$C,$D12),\"0\")","v":"0"},{"$f":"IF('Unit 27'!$C$7=$D$60,COUNTIF('Unit 27'!$C:$C,$D12),\"0\")","v":"0"},{"$f":"IF('Unit 28'!$C$7=$D$60,COUNTIF('Unit 28'!$C:$C,$D12),\"0\")","v":"0"},{"$f":"IF('Unit 29'!$C$7=$D$60,COUNTIF('Unit 29'!$C:$C,$D12),\"0\")","v":"0"},{"$f":"IF('Unit 30'!$C$7=$D$60,COUNTIF('Unit 30'!$C:$C,$D12),\"0\")","v":"0"},{"$f":"IF('Unit 31'!$C$7=$D$60,COUNTIF('Unit 31'!$C:$C,$D12),\"0\")","v":"0"},{"$f":"IF('Unit 32'!$C$7=$D$60,COUNTIF('Unit 32'!$C:$C,$D12),\"0\")","v":"0"},{"$f":"IF('Unit 33'!$C$7=$D$60,COUNTIF('Unit 33'!$C:$C,$D12),\"0\")","v":"0"},{"$f":"IF('Unit 34'!$C$7=$D$60,COUNTIF('Unit 34'!$C:$C,$D12),\"0\")","v":"0"},{"$f":"IF('Unit 35'!$C$7=$D$60,COUNTIF('Unit 35'!$C:$C,$D12),\"0\")","v":"0"},{"$f":"IF('Unit 36'!$C$7=$D$60,COUNTIF('Unit 36'!$C:$C,$D12),\"0\")","v":"0"},{"$f":"IF('Unit 37'!$C$7=$D$60,COUNTIF('Unit 37'!$C:$C,$D12),\"0\")","v":"0"},{"$f":"IF('Unit 38'!$C$7=$D$60,COUNTIF('Unit 38'!$C:$C,$D12),\"0\")","v":"0"},0]
[null,null,"1.6","1.6 engage with the various engineering disciplines by relating them to everyday application","Engage: enter into or become occupied by an activity or interest; to attract or hold interest and attention",{"$f":"COUNTIF('Unit 1'!C:C,$D13)","v":0},{"$f":"COUNTIF('Unit 2'!C:C,D13)","v":0},{"$f":"COUNTIF('Unit 3'!C:C,D13)","v":0},{"$f":"COUNTIF('Unit 4'!C:C,D13)","v":0},{"$f":"COUNTIF('Unit 5'!C:C,D13)","v":0},{"$f":"COUNTIF('Unit 6'!C:C,D13)","v":0},{"$f":"COUNTIF('Unit 7'!C:C,D13)","v":0},{"$f":"COUNTIF('Unit 8'!C:C,D13)","v":0},{"$f":"COUNTIF('Unit 9'!C:C,D13)","v":0},{"$f":"COUNTIF('Unit 10'!C:C,D13)","v":0},{"$f":"COUNTIF('Unit 11'!C:C,D13)","v":0},{"$f":"COUNTIF('Unit 12'!C:C,D13)","v":0},{"$f":"COUNTIF('Unit 13'!C:C,D13)","v":0},{"$f":"COUNTIF('Unit 14'!C:C,D13)","v":0},{"$f":"COUNTIF('Unit 15'!C:C,D13)","v":0},{"$f":"COUNTIF('Unit 16'!C:C,D13)","v":0},{"$f":"COUNTIF('Unit 17'!C:C,D13)","v":0},{"$f":"COUNTIF('Unit 18'!C:C,D13)","v":0},{"$f":"COUNTIF('Unit 19'!C:C,D13)","v":0},{"$f":"COUNTIF('Unit 20'!C:C,D13)","v":0},{"$f":"COUNTIF('Unit 21'!C:C,D13)","v":0},{"$f":"COUNTIF('Unit 22'!C:C,D13)","v":0},{"$f":"COUNTIF('Unit 23'!C:C,D13)","v":0},{"$f":"COUNTIF('Unit 24'!C:C,D13)","v":0},{"$f":"COUNTIF('Unit 25'!C:C,D13)","v":0},{"$f":"COUNTIF('Unit 26'!C:C,D13)","v":0},{"$f":"COUNTIF('Unit 27'!C:C,D13)","v":0},{"$f":"COUNTIF('Unit 28'!C:C,D13)","v":0},{"$f":"COUNTIF('Unit 29'!C:C,D13)","v":0},{"$f":"COUNTIF('Unit 30'!C:C,D13)","v":0},{"$f":"COUNTIF('Unit 31'!C:C,D13)","v":0},{"$f":"COUNTIF('Unit 32'!C:C,D13)","v":0},{"$f":"COUNTIF('Unit 33'!C:C,D13)","v":0},{"$f":"COUNTIF('Unit 34'!C:C,D13)","v":0},{"$f":"COUNTIF('Unit 35'!C:C,D13)","v":0},{"$f":"COUNTIF('Unit 36'!C:C,D13)","v":0},{"$f":"COUNTIF('Unit 37'!C:C,D13)","v":0},{"$f":"COUNTIF('Unit 38'!C:C,D13)","v":0},0,null,{"$f":"IF('Unit 1'!$C$7=$D$58,COUNTIF('Unit 1'!$C:$C,$D13),\"0\")","v":"0"},{"$f":"IF('Unit 2'!$C$7=$D$58,COUNTIF('Unit 2'!$C:$C,$D13),\"0\")","v":"0"},{"$f":"IF('Unit 3'!$C$7=$D$58,COUNTIF('Unit 3'!$C:$C,$D13),\"0\")","v":"0"},{"$f":"IF('Unit 4'!$C$7=$D$58,COUNTIF('Unit 4'!$C:$C,$D13),\"0\")","v":"0"},{"$f":"IF('Unit 5'!$C$7=$D$58,COUNTIF('Unit 5'!$C:$C,$D13),\"0\")","v":"0"},{"$f":"IF('Unit 6'!$C$7=$D$58,COUNTIF('Unit 6'!$C:$C,$D13),\"0\")","v":"0"},{"$f":"IF('Unit 7'!$C$7=$D$58,COUNTIF('Unit 7'!$C:$C,$D13),\"0\")","v":"0"},{"$f":"IF('Unit 8'!$C$7=$D$58,COUNTIF('Unit 8'!$C:$C,$D13),\"0\")","v":"0"},{"$f":"IF('Unit 9'!$C$7=$D$58,COUNTIF('Unit 9'!$C:$C,$D13),\"0\")","v":"0"},{"$f":"IF('Unit 10'!$C$7=$D$58,COUNTIF('Unit 10'!$C:$C,$D13),\"0\")","v":"0"},{"$f":"IF('Unit 11'!$C$7=$D$58,COUNTIF('Unit 11'!$C:$C,$D13),\"0\")","v":"0"},{"$f":"IF('Unit 12'!$C$7=$D$58,COUNTIF('Unit 12'!$C:$C,$D13),\"0\")","v":"0"},{"$f":"IF('Unit 13'!$C$7=$D$58,COUNTIF('Unit 13'!$C:$C,$D13),\"0\")","v":"0"},{"$f":"IF('Unit 14'!$C$7=$D$58,COUNTIF('Unit 14'!$C:$C,$D13),\"0\")","v":"0"},{"$f":"IF('Unit 15'!$C$7=$D$58,COUNTIF('Unit 15'!$C:$C,$D13),\"0\")","v":"0"},{"$f":"IF('Unit 16'!$C$7=$D$58,COUNTIF('Unit 16'!$C:$C,$D13),\"0\")","v":"0"},{"$f":"IF('Unit 17'!$C$7=$D$58,COUNTIF('Unit 17'!$C:$C,$D13),\"0\")","v":"0"},{"$f":"IF('Unit 18'!$C$7=$D$58,COUNTIF('Unit 18'!$C:$C,$D13),\"0\")","v":"0"},{"$f":"IF('Unit 19'!$C$7=$D$58,COUNTIF('Unit 19'!$C:$C,$D13),\"0\")","v":"0"},{"$f":"IF('Unit 20'!$C$7=$D$58,COUNTIF('Unit 20'!$C:$C,$D13),\"0\")","v":"0"},{"$f":"IF('Unit 21'!$C$7=$D$58,COUNTIF('Unit 21'!$C:$C,$D13),\"0\")","v":"0"},{"$f":"IF('Unit 22'!$C$7=$D$58,COUNTIF('Unit 22'!$C:$C,$D13),\"0\")","v":"0"},{"$f":"IF('Unit 23'!$C$7=$D$58,COUNTIF('Unit 23'!$C:$C,$D13),\"0\")","v":"0"},{"$f":"IF('Unit 24'!$C$7=$D$58,COUNTIF('Unit 24'!$C:$C,$D13),\"0\")","v":"0"},{"$f":"IF('Unit 25'!$C$7=$D$58,COUNTIF('Unit 25'!$C:$C,$D13),\"0\")","v":"0"},{"$f":"IF('Unit 26'!$C$7=$D$58,COUNTIF('Unit 26'!$C:$C,$D13),\"0\")","v":"0"},{"$f":"IF('Unit 27'!$C$7=$D$58,COUNTIF('Unit 27'!$C:$C,$D13),\"0\")","v":"0"},{"$f":"IF('Unit 28'!$C$7=$D$58,COUNTIF('Unit 28'!$C:$C,$D13),\"0\")","v":"0"},{"$f":"IF('Unit 29'!$C$7=$D$58,COUNTIF('Unit 29'!$C:$C,$D13),\"0\")","v":"0"},{"$f":"IF('Unit 30'!$C$7=$D$58,COUNTIF('Unit 30'!$C:$C,$D13),\"0\")","v":"0"},{"$f":"IF('Unit 31'!$C$7=$D$58,COUNTIF('Unit 31'!$C:$C,$D13),\"0\")","v":"0"},{"$f":"IF('Unit 32'!$C$7=$D$58,COUNTIF('Unit 32'!$C:$C,$D13),\"0\")","v":"0"},{"$f":"IF('Unit 33'!$C$7=$D$58,COUNTIF('Unit 33'!$C:$C,$D13),\"0\")","v":"0"},{"$f":"IF('Unit 34'!$C$7=$D$58,COUNTIF('Unit 34'!$C:$C,$D13),\"0\")","v":"0"},{"$f":"IF('Unit 35'!$C$7=$D$58,COUNTIF('Unit 35'!$C:$C,$D13),\"0\")","v":"0"},{"$f":"IF('Unit 36'!$C$7=$D$58,COUNTIF('Unit 36'!$C:$C,$D13),\"0\")","v":"0"},{"$f":"IF('Unit 37'!$C$7=$D$58,COUNTIF('Unit 37'!$C:$C,$D13),\"0\")","v":"0"},{"$f":"IF('Unit 38'!$C$7=$D$58,COUNTIF('Unit 38'!$C:$C,$D13),\"0\")","v":"0"},0,null,{"$f":"IF('Unit 1'!$C$7=$D$59,COUNTIF('Unit 1'!$C:$C,$D13),\"0\")","v":"0"},{"$f":"IF('Unit 2'!$C$7=$D$59,COUNTIF('Unit 2'!$C:$C,$D13),\"0\")","v":"0"},{"$f":"IF('Unit 3'!$C$7=$D$59,COUNTIF('Unit 3'!$C:$C,$D13),\"0\")","v":"0"},{"$f":"IF('Unit 4'!$C$7=$D$59,COUNTIF('Unit 4'!$C:$C,$D13),\"0\")","v":"0"},{"$f":"IF('Unit 5'!$C$7=$D$59,COUNTIF('Unit 5'!$C:$C,$D13),\"0\")","v":"0"},{"$f":"IF('Unit 6'!$C$7=$D$59,COUNTIF('Unit 6'!$C:$C,$D13),\"0\")","v":"0"},{"$f":"IF('Unit 7'!$C$7=$D$59,COUNTIF('Unit 7'!$C:$C,$D13),\"0\")","v":"0"},{"$f":"IF('Unit 8'!$C$7=$D$59,COUNTIF('Unit 8'!$C:$C,$D13),\"0\")","v":"0"},{"$f":"IF('Unit 9'!$C$7=$D$59,COUNTIF('Unit 9'!$C:$C,$D13),\"0\")","v":"0"},{"$f":"IF('Unit 10'!$C$7=$D$59,COUNTIF('Unit 10'!$C:$C,$D13),\"0\")","v":"0"},{"$f":"IF('Unit 11'!$C$7=$D$59,COUNTIF('Unit 11'!$C:$C,$D13),\"0\")","v":"0"},{"$f":"IF('Unit 12'!$C$7=$D$59,COUNTIF('Unit 12'!$C:$C,$D13),\"0\")","v":"0"},{"$f":"IF('Unit 13'!$C$7=$D$59,COUNTIF('Unit 13'!$C:$C,$D13),\"0\")","v":"0"},{"$f":"IF('Unit 14'!$C$7=$D$59,COUNTIF('Unit 14'!$C:$C,$D13),\"0\")","v":"0"},{"$f":"IF('Unit 15'!$C$7=$D$59,COUNTIF('Unit 15'!$C:$C,$D13),\"0\")","v":"0"},{"$f":"IF('Unit 16'!$C$7=$D$59,COUNTIF('Unit 16'!$C:$C,$D13),\"0\")","v":"0"},{"$f":"IF('Unit 17'!$C$7=$D$59,COUNTIF('Unit 17'!$C:$C,$D13),\"0\")","v":"0"},{"$f":"IF('Unit 18'!$C$7=$D$59,COUNTIF('Unit 18'!$C:$C,$D13),\"0\")","v":"0"},{"$f":"IF('Unit 19'!$C$7=$D$59,COUNTIF('Unit 19'!$C:$C,$D13),\"0\")","v":"0"},{"$f":"IF('Unit 20'!$C$7=$D$59,COUNTIF('Unit 20'!$C:$C,$D13),\"0\")","v":"0"},{"$f":"IF('Unit 21'!$C$7=$D$59,COUNTIF('Unit 21'!$C:$C,$D13),\"0\")","v":"0"},{"$f":"IF('Unit 22'!$C$7=$D$59,COUNTIF('Unit 22'!$C:$C,$D13),\"0\")","v":"0"},{"$f":"IF('Unit 23'!$C$7=$D$59,COUNTIF('Unit 23'!$C:$C,$D13),\"0\")","v":"0"},{"$f":"IF('Unit 24'!$C$7=$D$59,COUNTIF('Unit 24'!$C:$C,$D13),\"0\")","v":"0"},{"$f":"IF('Unit 25'!$C$7=$D$59,COUNTIF('Unit 25'!$C:$C,$D13),\"0\")","v":"0"},{"$f":"IF('Unit 26'!$C$7=$D$59,COUNTIF('Unit 26'!$C:$C,$D13),\"0\")","v":"0"},{"$f":"IF('Unit 27'!$C$7=$D$59,COUNTIF('Unit 27'!$C:$C,$D13),\"0\")","v":"0"},{"$f":"IF('Unit 28'!$C$7=$D$59,COUNTIF('Unit 28'!$C:$C,$D13),\"0\")","v":"0"},{"$f":"IF('Unit 29'!$C$7=$D$59,COUNTIF('Unit 29'!$C:$C,$D13),\"0\")","v":"0"},{"$f":"IF('Unit 30'!$C$7=$D$59,COUNTIF('Unit 30'!$C:$C,$D13),\"0\")","v":"0"},{"$f":"IF('Unit 31'!$C$7=$D$59,COUNTIF('Unit 31'!$C:$C,$D13),\"0\")","v":"0"},{"$f":"IF('Unit 32'!$C$7=$D$59,COUNTIF('Unit 32'!$C:$C,$D13),\"0\")","v":"0"},{"$f":"IF('Unit 33'!$C$7=$D$59,COUNTIF('Unit 33'!$C:$C,$D13),\"0\")","v":"0"},{"$f":"IF('Unit 34'!$C$7=$D$59,COUNTIF('Unit 34'!$C:$C,$D13),\"0\")","v":"0"},{"$f":"IF('Unit 35'!$C$7=$D$59,COUNTIF('Unit 35'!$C:$C,$D13),\"0\")","v":"0"},{"$f":"IF('Unit 36'!$C$7=$D$59,COUNTIF('Unit 36'!$C:$C,$D13),\"0\")","v":"0"},{"$f":"IF('Unit 37'!$C$7=$D$59,COUNTIF('Unit 37'!$C:$C,$D13),\"0\")","v":"0"},{"$f":"IF('Unit 38'!$C$7=$D$59,COUNTIF('Unit 38'!$C:$C,$D13),\"0\")","v":"0"},0,null,{"$f":"IF('Unit 1'!$C$7=$D$60,COUNTIF('Unit 1'!$C:$C,$D13),\"0\")","v":"0"},{"$f":"IF('Unit 2'!$C$7=$D$60,COUNTIF('Unit 2'!$C:$C,$D13),\"0\")","v":"0"},{"$f":"IF('Unit 3'!$C$7=$D$60,COUNTIF('Unit 3'!$C:$C,$D13),\"0\")","v":"0"},{"$f":"IF('Unit 4'!$C$7=$D$60,COUNTIF('Unit 4'!$C:$C,$D13),\"0\")","v":"0"},{"$f":"IF('Unit 5'!$C$7=$D$60,COUNTIF('Unit 5'!$C:$C,$D13),\"0\")","v":"0"},{"$f":"IF('Unit 6'!$C$7=$D$60,COUNTIF('Unit 6'!$C:$C,$D13),\"0\")","v":"0"},{"$f":"IF('Unit 7'!$C$7=$D$60,COUNTIF('Unit 7'!$C:$C,$D13),\"0\")","v":"0"},{"$f":"IF('Unit 8'!$C$7=$D$60,COUNTIF('Unit 8'!$C:$C,$D13),\"0\")","v":"0"},{"$f":"IF('Unit 9'!$C$7=$D$60,COUNTIF('Unit 9'!$C:$C,$D13),\"0\")","v":"0"},{"$f":"IF('Unit 10'!$C$7=$D$60,COUNTIF('Unit 10'!$C:$C,$D13),\"0\")","v":"0"},{"$f":"IF('Unit 11'!$C$7=$D$60,COUNTIF('Unit 11'!$C:$C,$D13),\"0\")","v":"0"},{"$f":"IF('Unit 12'!$C$7=$D$60,COUNTIF('Unit 12'!$C:$C,$D13),\"0\")","v":"0"},{"$f":"IF('Unit 13'!$C$7=$D$60,COUNTIF('Unit 13'!$C:$C,$D13),\"0\")","v":"0"},{"$f":"IF('Unit 14'!$C$7=$D$60,COUNTIF('Unit 14'!$C:$C,$D13),\"0\")","v":"0"},{"$f":"IF('Unit 15'!$C$7=$D$60,COUNTIF('Unit 15'!$C:$C,$D13),\"0\")","v":"0"},{"$f":"IF('Unit 16'!$C$7=$D$60,COUNTIF('Unit 16'!$C:$C,$D13),\"0\")","v":"0"},{"$f":"IF('Unit 17'!$C$7=$D$60,COUNTIF('Unit 17'!$C:$C,$D13),\"0\")","v":"0"},{"$f":"IF('Unit 18'!$C$7=$D$60,COUNTIF('Unit 18'!$C:$C,$D13),\"0\")","v":"0"},{"$f":"IF('Unit 19'!$C$7=$D$60,COUNTIF('Unit 19'!$C:$C,$D13),\"0\")","v":"0"},{"$f":"IF('Unit 20'!$C$7=$D$60,COUNTIF('Unit 20'!$C:$C,$D13),\"0\")","v":"0"},{"$f":"IF('Unit 21'!$C$7=$D$60,COUNTIF('Unit 21'!$C:$C,$D13),\"0\")","v":"0"},{"$f":"IF('Unit 22'!$C$7=$D$60,COUNTIF('Unit 22'!$C:$C,$D13),\"0\")","v":"0"},{"$f":"IF('Unit 23'!$C$7=$D$60,COUNTIF('Unit 23'!$C:$C,$D13),\"0\")","v":"0"},{"$f":"IF('Unit 24'!$C$7=$D$60,COUNTIF('Unit 24'!$C:$C,$D13),\"0\")","v":"0"},{"$f":"IF('Unit 25'!$C$7=$D$60,COUNTIF('Unit 25'!$C:$C,$D13),\"0\")","v":"0"},{"$f":"IF('Unit 26'!$C$7=$D$60,COUNTIF('Unit 26'!$C:$C,$D13),\"0\")","v":"0"},{"$f":"IF('Unit 27'!$C$7=$D$60,COUNTIF('Unit 27'!$C:$C,$D13),\"0\")","v":"0"},{"$f":"IF('Unit 28'!$C$7=$D$60,COUNTIF('Unit 28'!$C:$C,$D13),\"0\")","v":"0"},{"$f":"IF('Unit 29'!$C$7=$D$60,COUNTIF('Unit 29'!$C:$C,$D13),\"0\")","v":"0"},{"$f":"IF('Unit 30'!$C$7=$D$60,COUNTIF('Unit 30'!$C:$C,$D13),\"0\")","v":"0"},{"$f":"IF('Unit 31'!$C$7=$D$60,COUNTIF('Unit 31'!$C:$C,$D13),\"0\")","v":"0"},{"$f":"IF('Unit 32'!$C$7=$D$60,COUNTIF('Unit 32'!$C:$C,$D13),\"0\")","v":"0"},{"$f":"IF('Unit 33'!$C$7=$D$60,COUNTIF('Unit 33'!$C:$C,$D13),\"0\")","v":"0"},{"$f":"IF('Unit 34'!$C$7=$D$60,COUNTIF('Unit 34'!$C:$C,$D13),\"0\")","v":"0"},{"$f":"IF('Unit 35'!$C$7=$D$60,COUNTIF('Unit 35'!$C:$C,$D13),\"0\")","v":"0"},{"$f":"IF('Unit 36'!$C$7=$D$60,COUNTIF('Unit 36'!$C:$C,$D13),\"0\")","v":"0"},{"$f":"IF('Unit 37'!$C$7=$D$60,COUNTIF('Unit 37'!$C:$C,$D13),\"0\")","v":"0"},{"$f":"IF('Unit 38'!$C$7=$D$60,COUNTIF('Unit 38'!$C:$C,$D13),\"0\")","v":"0"},0]
[null,null,null,null,null,{"$f":"COUNTIF('Unit 1'!C:C,$D14)","v":0},{"$f":"COUNTIF('Unit 2'!C:C,D14)","v":0},{"$f":"COUNTIF('Unit 3'!C:C,D14)","v":0},{"$f":"COUNTIF('Unit 4'!C:C,D14)","v":0},{"$f":"COUNTIF('Unit 5'!C:C,D14)","v":0},{"$f":"COUNTIF('Unit 6'!C:C,D14)","v":0},{"$f":"COUNTIF('Unit 7'!C:C,D14)","v":0},{"$f":"COUNTIF('Unit 8'!C:C,D14)","v":0},{"$f":"COUNTIF('Unit 9'!C:C,D14)","v":0},{"$f":"COUNTIF('Unit 10'!C:C,D14)","v":0},{"$f":"COUNTIF('Unit 11'!C:C,D14)","v":0},{"$f":"COUNTIF('Unit 12'!C:C,D14)","v":0},{"$f":"COUNTIF('Unit 13'!C:C,D14)","v":0},{"$f":"COUNTIF('Unit 14'!C:C,D14)","v":0},{"$f":"COUNTIF('Unit 15'!C:C,D14)","v":0},{"$f":"COUNTIF('Unit 16'!C:C,D14)","v":0},{"$f":"COUNTIF('Unit 17'!C:C,D14)","v":0},{"$f":"COUNTIF('Unit 18'!C:C,D14)","v":0},{"$f":"COUNTIF('Unit 19'!C:C,D14)","v":0},{"$f":"COUNTIF('Unit 20'!C:C,D14)","v":0},{"$f":"COUNTIF('Unit 21'!C:C,D14)","v":0},{"$f":"COUNTIF('Unit 22'!C:C,D14)","v":0},{"$f":"COUNTIF('Unit 23'!C:C,D14)","v":0},{"$f":"COUNTIF('Unit 24'!C:C,D14)","v":0},{"$f":"COUNTIF('Unit 25'!C:C,D14)","v":0},{"$f":"COUNTIF('Unit 26'!C:C,D14)","v":0},{"$f":"COUNTIF('Unit 27'!C:C,D14)","v":0},{"$f":"COUNTIF('Unit 28'!C:C,D14)","v":0},{"$f":"COUNTIF('Unit 29'!C:C,D14)","v":0},{"$f":"COUNTIF('Unit 30'!C:C,D14)","v":0},{"$f":"COUNTIF('Unit 31'!C:C,D14)","v":0},{"$f":"COUNTIF('Unit 32'!C:C,D14)","v":0},{"$f":"COUNTIF('Unit 33'!C:C,D14)","v":0},{"$f":"COUNTIF('Unit 34'!C:C,D14)","v":0},{"$f":"COUNTIF('Unit 35'!C:C,D14)","v":0},{"$f":"COUNTIF('Unit 36'!C:C,D14)","v":0},{"$f":"COUNTIF('Unit 37'!C:C,D14)","v":0},{"$f":"COUNTIF('Unit 38'!C:C,D14)","v":0},0,null,{"$f":"IF('Unit 1'!$C$7=$D$58,COUNTIF('Unit 1'!$C:$C,$D14),\"0\")","v":"0"},{"$f":"IF('Unit 2'!$C$7=$D$58,COUNTIF('Unit 2'!$C:$C,$D14),\"0\")","v":"0"},{"$f":"IF('Unit 3'!$C$7=$D$58,COUNTIF('Unit 3'!$C:$C,$D14),\"0\")","v":"0"},{"$f":"IF('Unit 4'!$C$7=$D$58,COUNTIF('Unit 4'!$C:$C,$D14),\"0\")","v":"0"},{"$f":"IF('Unit 5'!$C$7=$D$58,COUNTIF('Unit 5'!$C:$C,$D14),\"0\")","v":"0"},{"$f":"IF('Unit 6'!$C$7=$D$58,COUNTIF('Unit 6'!$C:$C,$D14),\"0\")","v":"0"},{"$f":"IF('Unit 7'!$C$7=$D$58,COUNTIF('Unit 7'!$C:$C,$D14),\"0\")","v":"0"},{"$f":"IF('Unit 8'!$C$7=$D$58,COUNTIF('Unit 8'!$C:$C,$D14),\"0\")","v":"0"},{"$f":"IF('Unit 9'!$C$7=$D$58,COUNTIF('Unit 9'!$C:$C,$D14),\"0\")","v":"0"},{"$f":"IF('Unit 10'!$C$7=$D$58,COUNTIF('Unit 10'!$C:$C,$D14),\"0\")","v":"0"},{"$f":"IF('Unit 11'!$C$7=$D$58,COUNTIF('Unit 11'!$C:$C,$D14),\"0\")","v":"0"},{"$f":"IF('Unit 12'!$C$7=$D$58,COUNTIF('Unit 12'!$C:$C,$D14),\"0\")","v":"0"},{"$f":"IF('Unit 13'!$C$7=$D$58,COUNTIF('Unit 13'!$C:$C,$D14),\"0\")","v":"0"},{"$f":"IF('Unit 14'!$C$7=$D$58,COUNTIF('Unit 14'!$C:$C,$D14),\"0\")","v":"0"},{"$f":"IF('Unit 15'!$C$7=$D$58,COUNTIF('Unit 15'!$C:$C,$D14),\"0\")","v":"0"},{"$f":"IF('Unit 16'!$C$7=$D$58,COUNTIF('Unit 16'!$C:$C,$D14),\"0\")","v":"0"},{"$f":"IF('Unit 17'!$C$7=$D$58,COUNTIF('Unit 17'!$C:$C,$D14),\"0\")","v":"0"},{"$f":"IF('Unit 18'!$C$7=$D$58,COUNTIF('Unit 18'!$C:$C,$D14),\"0\")","v":"0"},{"$f":"IF('Unit 19'!$C$7=$D$58,COUNTIF('Unit 19'!$C:$C,$D14),\"0\")","v":"0"},{"$f":"IF('Unit 20'!$C$7=$D$58,COUNTIF('Unit 20'!$C:$C,$D14),\"0\")","v":"0"},{"$f":"IF('Unit 21'!$C$7=$D$58,COUNTIF('Unit 21'!$C:$C,$D14),\"0\")","v":"0"},{"$f":"IF('Unit 22'!$C$7=$D$58,COUNTIF('Unit 22'!$C:$C,$D14),\"0\")","v":"0"},{"$f":"IF('Unit 23'!$C$7=$D$58,COUNTIF('Unit 23'!$C:$C,$D14),\"0\")","v":"0"},{"$f":"IF('Unit 24'!$C$7=$D$58,COUNTIF('Unit 24'!$C:$C,$D14),\"0\")","v":"0"},{"$f":"IF('Unit 25'!$C$7=$D$58,COUNTIF('Unit 25'!$C:$C,$D14),\"0\")","v":"0"},{"$f":"IF('Unit 26'!$C$7=$D$58,COUNTIF('Unit 26'!$C:$C,$D14),\"0\")","v":"0"},{"$f":"IF('Unit 27'!$C$7=$D$58,COUNTIF('Unit 27'!$C:$C,$D14),\"0\")","v":"0"},{"$f":"IF('Unit 28'!$C$7=$D$58,COUNTIF('Unit 28'!$C:$C,$D14),\"0\")","v":"0"},{"$f":"IF('Unit 29'!$C$7=$D$58,COUNTIF('Unit 29'!$C:$C,$D14),\"0\")","v":"0"},{"$f":"IF('Unit 30'!$C$7=$D$58,COUNTIF('Unit 30'!$C:$C,$D14),\"0\")","v":"0"},{"$f":"IF('Unit 31'!$C$7=$D$58,COUNTIF('Unit 31'!$C:$C,$D14),\"0\")","v":"0"},{"$f":"IF('Unit 32'!$C$7=$D$58,COUNTIF('Unit 32'!$C:$C,$D14),\"0\")","v":"0"},{"$f":"IF('Unit 33'!$C$7=$D$58,COUNTIF('Unit 33'!$C:$C,$D14),\"0\")","v":"0"},{"$f":"IF('Unit 34'!$C$7=$D$58,COUNTIF('Unit 34'!$C:$C,$D14),\"0\")","v":"0"},{"$f":"IF('Unit 35'!$C$7=$D$58,COUNTIF('Unit 35'!$C:$C,$D14),\"0\")","v":"0"},{"$f":"IF('Unit 36'!$C$7=$D$58,COUNTIF('Unit 36'!$C:$C,$D14),\"0\")","v":"0"},{"$f":"IF('Unit 37'!$C$7=$D$58,COUNTIF('Unit 37'!$C:$C,$D14),\"0\")","v":"0"},{"$f":"IF('Unit 38'!$C$7=$D$58,COUNTIF('Unit 38'!$C:$C,$D14),\"0\")","v":"0"},0,null,{"$f":"IF('Unit 1'!$C$7=$D$59,COUNTIF('Unit 1'!$C:$C,$D14),\"0\")","v":"0"},{"$f":"IF('Unit 2'!$C$7=$D$59,COUNTIF('Unit 2'!$C:$C,$D14),\"0\")","v":"0"},{"$f":"IF('Unit 3'!$C$7=$D$59,COUNTIF('Unit 3'!$C:$C,$D14),\"0\")","v":"0"},{"$f":"IF('Unit 4'!$C$7=$D$59,COUNTIF('Unit 4'!$C:$C,$D14),\"0\")","v":"0"},{"$f":"IF('Unit 5'!$C$7=$D$59,COUNTIF('Unit 5'!$C:$C,$D14),\"0\")","v":"0"},{"$f":"IF('Unit 6'!$C$7=$D$59,COUNTIF('Unit 6'!$C:$C,$D14),\"0\")","v":"0"},{"$f":"IF('Unit 7'!$C$7=$D$59,COUNTIF('Unit 7'!$C:$C,$D14),\"0\")","v":"0"},{"$f":"IF('Unit 8'!$C$7=$D$59,COUNTIF('Unit 8'!$C:$C,$D14),\"0\")","v":"0"},{"$f":"IF('Unit 9'!$C$7=$D$59,COUNTIF('Unit 9'!$C:$C,$D14),\"0\")","v":"0"},{"$f":"IF('Unit 10'!$C$7=$D$59,COUNTIF('Unit 10'!$C:$C,$D14),\"0\")","v":"0"},{"$f":"IF('Unit 11'!$C$7=$D$59,COUNTIF('Unit 11'!$C:$C,$D14),\"0\")","v":"0"},{"$f":"IF('Unit 12'!$C$7=$D$59,COUNTIF('Unit 12'!$C:$C,$D14),\"0\")","v":"0"},{"$f":"IF('Unit 13'!$C$7=$D$59,COUNTIF('Unit 13'!$C:$C,$D14),\"0\")","v":"0"},{"$f":"IF('Unit 14'!$C$7=$D$59,COUNTIF('Unit 14'!$C:$C,$D14),\"0\")","v":"0"},{"$f":"IF('Unit 15'!$C$7=$D$59,COUNTIF('Unit 15'!$C:$C,$D14),\"0\")","v":"0"},{"$f":"IF('Unit 16'!$C$7=$D$59,COUNTIF('Unit 16'!$C:$C,$D14),\"0\")","v":"0"},{"$f":"IF('Unit 17'!$C$7=$D$59,COUNTIF('Unit 17'!$C:$C,$D14),\"0\")","v":"0"},{"$f":"IF('Unit 18'!$C$7=$D$59,COUNTIF('Unit 18'!$C:$C,$D14),\"0\")","v":"0"},{"$f":"IF('Unit 19'!$C$7=$D$59,COUNTIF('Unit 19'!$C:$C,$D14),\"0\")","v":"0"},{"$f":"IF('Unit 20'!$C$7=$D$59,COUNTIF('Unit 20'!$C:$C,$D14),\"0\")","v":"0"},{"$f":"IF('Unit 21'!$C$7=$D$59,COUNTIF('Unit 21'!$C:$C,$D14),\"0\")","v":"0"},{"$f":"IF('Unit 22'!$C$7=$D$59,COUNTIF('Unit 22'!$C:$C,$D14),\"0\")","v":"0"},{"$f":"IF('Unit 23'!$C$7=$D$59,COUNTIF('Unit 23'!$C:$C,$D14),\"0\")","v":"0"},{"$f":"IF('Unit 24'!$C$7=$D$59,COUNTIF('Unit 24'!$C:$C,$D14),\"0\")","v":"0"},{"$f":"IF('Unit 25'!$C$7=$D$59,COUNTIF('Unit 25'!$C:$C,$D14),\"0\")","v":"0"},{"$f":"IF('Unit 26'!$C$7=$D$59,COUNTIF('Unit 26'!$C:$C,$D14),\"0\")","v":"0"},{"$f":"IF('Unit 27'!$C$7=$D$59,COUNTIF('Unit 27'!$C:$C,$D14),\"0\")","v":"0"},{"$f":"IF('Unit 28'!$C$7=$D$59,COUNTIF('Unit 28'!$C:$C,$D14),\"0\")","v":"0"},{"$f":"IF('Unit 29'!$C$7=$D$59,COUNTIF('Unit 29'!$C:$C,$D14),\"0\")","v":"0"},{"$f":"IF('Unit 30'!$C$7=$D$59,COUNTIF('Unit 30'!$C:$C,$D14),\"0\")","v":"0"},{"$f":"IF('Unit 31'!$C$7=$D$59,COUNTIF('Unit 31'!$C:$C,$D14),\"0\")","v":"0"},{"$f":"IF('Unit 32'!$C$7=$D$59,COUNTIF('Unit 32'!$C:$C,$D14),\"0\")","v":"0"},{"$f":"IF('Unit 33'!$C$7=$D$59,COUNTIF('Unit 33'!$C:$C,$D14),\"0\")","v":"0"},{"$f":"IF('Unit 34'!$C$7=$D$59,COUNTIF('Unit 34'!$C:$C,$D14),\"0\")","v":"0"},{"$f":"IF('Unit 35'!$C$7=$D$59,COUNTIF('Unit 35'!$C:$C,$D14),\"0\")","v":"0"},{"$f":"IF('Unit 36'!$C$7=$D$59,COUNTIF('Unit 36'!$C:$C,$D14),\"0\")","v":"0"},{"$f":"IF('Unit 37'!$C$7=$D$59,COUNTIF('Unit 37'!$C:$C,$D14),\"0\")","v":"0"},{"$f":"IF('Unit 38'!$C$7=$D$59,COUNTIF('Unit 38'!$C:$C,$D14),\"0\")","v":"0"},0,null,{"$f":"IF('Unit 1'!$C$7=$D$60,COUNTIF('Unit 1'!$C:$C,$D14),\"0\")","v":"0"},{"$f":"IF('Unit 2'!$C$7=$D$60,COUNTIF('Unit 2'!$C:$C,$D14),\"0\")","v":"0"},{"$f":"IF('Unit 3'!$C$7=$D$60,COUNTIF('Unit 3'!$C:$C,$D14),\"0\")","v":"0"},{"$f":"IF('Unit 4'!$C$7=$D$60,COUNTIF('Unit 4'!$C:$C,$D14),\"0\")","v":"0"},{"$f":"IF('Unit 5'!$C$7=$D$60,COUNTIF('Unit 5'!$C:$C,$D14),\"0\")","v":"0"},{"$f":"IF('Unit 6'!$C$7=$D$60,COUNTIF('Unit 6'!$C:$C,$D14),\"0\")","v":"0"},{"$f":"IF('Unit 7'!$C$7=$D$60,COUNTIF('Unit 7'!$C:$C,$D14),\"0\")","v":"0"},{"$f":"IF('Unit 8'!$C$7=$D$60,COUNTIF('Unit 8'!$C:$C,$D14),\"0\")","v":"0"},{"$f":"IF('Unit 9'!$C$7=$D$60,COUNTIF('Unit 9'!$C:$C,$D14),\"0\")","v":"0"},{"$f":"IF('Unit 10'!$C$7=$D$60,COUNTIF('Unit 10'!$C:$C,$D14),\"0\")","v":"0"},{"$f":"IF('Unit 11'!$C$7=$D$60,COUNTIF('Unit 11'!$C:$C,$D14),\"0\")","v":"0"},{"$f":"IF('Unit 12'!$C$7=$D$60,COUNTIF('Unit 12'!$C:$C,$D14),\"0\")","v":"0"},{"$f":"IF('Unit 13'!$C$7=$D$60,COUNTIF('Unit 13'!$C:$C,$D14),\"0\")","v":"0"},{"$f":"IF('Unit 14'!$C$7=$D$60,COUNTIF('Unit 14'!$C:$C,$D14),\"0\")","v":"0"},{"$f":"IF('Unit 15'!$C$7=$D$60,COUNTIF('Unit 15'!$C:$C,$D14),\"0\")","v":"0"},{"$f":"IF('Unit 16'!$C$7=$D$60,COUNTIF('Unit 16'!$C:$C,$D14),\"0\")","v":"0"},{"$f":"IF('Unit 17'!$C$7=$D$60,COUNTIF('Unit 17'!$C:$C,$D14),\"0\")","v":"0"},{"$f":"IF('Unit 18'!$C$7=$D$60,COUNTIF('Unit 18'!$C:$C,$D14),\"0\")","v":"0"},{"$f":"IF('Unit 19'!$C$7=$D$60,COUNTIF('Unit 19'!$C:$C,$D14),\"0\")","v":"0"},{"$f":"IF('Unit 20'!$C$7=$D$60,COUNTIF('Unit 20'!$C:$C,$D14),\"0\")","v":"0"},{"$f":"IF('Unit 21'!$C$7=$D$60,COUNTIF('Unit 21'!$C:$C,$D14),\"0\")","v":"0"},{"$f":"IF('Unit 22'!$C$7=$D$60,COUNTIF('Unit 22'!$C:$C,$D14),\"0\")","v":"0"},{"$f":"IF('Unit 23'!$C$7=$D$60,COUNTIF('Unit 23'!$C:$C,$D14),\"0\")","v":"0"},{"$f":"IF('Unit 24'!$C$7=$D$60,COUNTIF('Unit 24'!$C:$C,$D14),\"0\")","v":"0"},{"$f":"IF('Unit 25'!$C$7=$D$60,COUNTIF('Unit 25'!$C:$C,$D14),\"0\")","v":"0"},{"$f":"IF('Unit 26'!$C$7=$D$60,COUNTIF('Unit 26'!$C:$C,$D14),\"0\")","v":"0"},{"$f":"IF('Unit 27'!$C$7=$D$60,COUNTIF('Unit 27'!$C:$C,$D14),\"0\")","v":"0"},{"$f":"IF('Unit 28'!$C$7=$D$60,COUNTIF('Unit 28'!$C:$C,$D14),\"0\")","v":"0"},{"$f":"IF('Unit 29'!$C$7=$D$60,COUNTIF('Unit 29'!$C:$C,$D14),\"0\")","v":"0"},{"$f":"IF('Unit 30'!$C$7=$D$60,COUNTIF('Unit 30'!$C:$C,$D14),\"0\")","v":"0"},{"$f":"IF('Unit 31'!$C$7=$D$60,COUNTIF('Unit 31'!$C:$C,$D14),\"0\")","v":"0"},{"$f":"IF('Unit 32'!$C$7=$D$60,COUNTIF('Unit 32'!$C:$C,$D14),\"0\")","v":"0"},{"$f":"IF('Unit 33'!$C$7=$D$60,COUNTIF('Unit 33'!$C:$C,$D14),\"0\")","v":"0"},{"$f":"IF('Unit 34'!$C$7=$D$60,COUNTIF('Unit 34'!$C:$C,$D14),\"0\")","v":"0"},{"$f":"IF('Unit 35'!$C$7=$D$60,COUNTIF('Unit 35'!$C:$C,$D14),\"0\")","v":"0"},{"$f":"IF('Unit 36'!$C$7=$D$60,COUNTIF('Unit 36'!$C:$C,$D14),\"0\")","v":"0"},{"$f":"IF('Unit 37'!$C$7=$D$60,COUNTIF('Unit 37'!$C:$C,$D14),\"0\")","v":"0"},{"$f":"IF('Unit 38'!$C$7=$D$60,COUNTIF('Unit 38'!$C:$C,$D14),\"0\")","v":"0"},0]
[null,null,null,null,null,{"$f":"COUNTIF('Unit 1'!C:C,$D15)","v":0},{"$f":"COUNTIF('Unit 2'!C:C,D15)","v":0},{"$f":"COUNTIF('Unit 3'!C:C,D15)","v":0},{"$f":"COUNTIF('Unit 4'!C:C,D15)","v":0},{"$f":"COUNTIF('Unit 5'!C:C,D15)","v":0},{"$f":"COUNTIF('Unit 6'!C:C,D15)","v":0},{"$f":"COUNTIF('Unit 7'!C:C,D15)","v":0},{"$f":"COUNTIF('Unit 8'!C:C,D15)","v":0},{"$f":"COUNTIF('Unit 9'!C:C,D15)","v":0},{"$f":"COUNTIF('Unit 10'!C:C,D15)","v":0},{"$f":"COUNTIF('Unit 11'!C:C,D15)","v":0},{"$f":"COUNTIF('Unit 12'!C:C,D15)","v":0},{"$f":"COUNTIF('Unit 13'!C:C,D15)","v":0},{"$f":"COUNTIF('Unit 14'!C:C,D15)","v":0},{"$f":"COUNTIF('Unit 15'!C:C,D15)","v":0},{"$f":"COUNTIF('Unit 16'!C:C,D15)","v":0},{"$f":"COUNTIF('Unit 17'!C:C,D15)","v":0},{"$f":"COUNTIF('Unit 18'!C:C,D15)","v":0},{"$f":"COUNTIF('Unit 19'!C:C,D15)","v":0},{"$f":"COUNTIF('Unit 20'!C:C,D15)","v":0},{"$f":"COUNTIF('Unit 21'!C:C,D15)","v":0},{"$f":"COUNTIF('Unit 22'!C:C,D15)","v":0},{"$f":"COUNTIF('Unit 23'!C:C,D15)","v":0},{"$f":"COUNTIF('Unit 24'!C:C,D15)","v":0},{"$f":"COUNTIF('Unit 25'!C:C,D15)","v":0},{"$f":"COUNTIF('Unit 26'!C:C,D15)","v":0},{"$f":"COUNTIF('Unit 27'!C:C,D15)","v":0},{"$f":"COUNTIF('Unit 28'!C:C,D15)","v":0},{"$f":"COUNTIF('Unit 29'!C:C,D15)","v":0},{"$f":"COUNTIF('Unit 30'!C:C,D15)","v":0},{"$f":"COUNTIF('Unit 31'!C:C,D15)","v":0},{"$f":"COUNTIF('Unit 32'!C:C,D15)","v":0},{"$f":"COUNTIF('Unit 33'!C:C,D15)","v":0},{"$f":"COUNTIF('Unit 34'!C:C,D15)","v":0},{"$f":"COUNTIF('Unit 35'!C:C,D15)","v":0},{"$f":"COUNTIF('Unit 36'!C:C,D15)","v":0},{"$f":"COUNTIF('Unit 37'!C:C,D15)","v":0},{"$f":"COUNTIF('Unit 38'!C:C,D15)","v":0},0,null,{"$f":"IF('Unit 1'!$C$7=$D$58,COUNTIF('Unit 1'!$C:$C,$D15),\"0\")","v":"0"},{"$f":"IF('Unit 2'!$C$7=$D$58,COUNTIF('Unit 2'!$C:$C,$D15),\"0\")","v":"0"},{"$f":"IF('Unit 3'!$C$7=$D$58,COUNTIF('Unit 3'!$C:$C,$D15),\"0\")","v":"0"},{"$f":"IF('Unit 4'!$C$7=$D$58,COUNTIF('Unit 4'!$C:$C,$D15),\"0\")","v":"0"},{"$f":"IF('Unit 5'!$C$7=$D$58,COUNTIF('Unit 5'!$C:$C,$D15),\"0\")","v":"0"},{"$f":"IF('Unit 6'!$C$7=$D$58,COUNTIF('Unit 6'!$C:$C,$D15),\"0\")","v":"0"},{"$f":"IF('Unit 7'!$C$7=$D$58,COUNTIF('Unit 7'!$C:$C,$D15),\"0\")","v":"0"},{"$f":"IF('Unit 8'!$C$7=$D$58,COUNTIF('Unit 8'!$C:$C,$D15),\"0\")","v":"0"},{"$f":"IF('Unit 9'!$C$7=$D$58,COUNTIF('Unit 9'!$C:$C,$D15),\"0\")","v":"0"},{"$f":"IF('Unit 10'!$C$7=$D$58,COUNTIF('Unit 10'!$C:$C,$D15),\"0\")","v":"0"},{"$f":"IF('Unit 11'!$C$7=$D$58,COUNTIF('Unit 11'!$C:$C,$D15),\"0\")","v":"0"},{"$f":"IF('Unit 12'!$C$7=$D$58,COUNTIF('Unit 12'!$C:$C,$D15),\"0\")","v":"0"},{"$f":"IF('Unit 13'!$C$7=$D$58,COUNTIF('Unit 13'!$C:$C,$D15),\"0\")","v":"0"},{"$f":"IF('Unit 14'!$C$7=$D$58,COUNTIF('Unit 14'!$C:$C,$D15),\"0\")","v":"0"},{"$f":"IF('Unit 15'!$C$7=$D$58,COUNTIF('Unit 15'!$C:$C,$D15),\"0\")","v":"0"},{"$f":"IF('Unit 16'!$C$7=$D$58,COUNTIF('Unit 16'!$C:$C,$D15),\"0\")","v":"0"},{"$f":"IF('Unit 17'!$C$7=$D$58,COUNTIF('Unit 17'!$C:$C,$D15),\"0\")","v":"0"},{"$f":"IF('Unit 18'!$C$7=$D$58,COUNTIF('Unit 18'!$C:$C,$D15),\"0\")","v":"0"},{"$f":"IF('Unit 19'!$C$7=$D$58,COUNTIF('Unit 19'!$C:$C,$D15),\"0\")","v":"0"},{"$f":"IF('Unit 20'!$C$7=$D$58,COUNTIF('Unit 20'!$C:$C,$D15),\"0\")","v":"0"},{"$f":"IF('Unit 21'!$C$7=$D$58,COUNTIF('Unit 21'!$C:$C,$D15),\"0\")","v":"0"},{"$f":"IF('Unit 22'!$C$7=$D$58,COUNTIF('Unit 22'!$C:$C,$D15),\"0\")","v":"0"},{"$f":"IF('Unit 23'!$C$7=$D$58,COUNTIF('Unit 23'!$C:$C,$D15),\"0\")","v":"0"},{"$f":"IF('Unit 24'!$C$7=$D$58,COUNTIF('Unit 24'!$C:$C,$D15),\"0\")","v":"0"},{"$f":"IF('Unit 25'!$C$7=$D$58,COUNTIF('Unit 25'!$C:$C,$D15),\"0\")","v":"0"},{"$f":"IF('Unit 26'!$C$7=$D$58,COUNTIF('Unit 26'!$C:$C,$D15),\"0\")","v":"0"},{"$f":"IF('Unit 27'!$C$7=$D$58,COUNTIF('Unit 27'!$C:$C,$D15),\"0\")","v":"0"},{"$f":"IF('Unit 28'!$C$7=$D$58,COUNTIF('Unit 28'!$C:$C,$D15),\"0\")","v":"0"},{"$f":"IF('Unit 29'!$C$7=$D$58,COUNTIF('Unit 29'!$C:$C,$D15),\"0\")","v":"0"},{"$f":"IF('Unit 30'!$C$7=$D$58,COUNTIF('Unit 30'!$C:$C,$D15),\"0\")","v":"0"},{"$f":"IF('Unit 31'!$C$7=$D$58,COUNTIF('Unit 31'!$C:$C,$D15),\"0\")","v":"0"},{"$f":"IF('Unit 32'!$C$7=$D$58,COUNTIF('Unit 32'!$C:$C,$D15),\"0\")","v":"0"},{"$f":"IF('Unit 33'!$C$7=$D$58,COUNTIF('Unit 33'!$C:$C,$D15),\"0\")","v":"0"},{"$f":"IF('Unit 34'!$C$7=$D$58,COUNTIF('Unit 34'!$C:$C,$D15),\"0\")","v":"0"},{"$f":"IF('Unit 35'!$C$7=$D$58,COUNTIF('Unit 35'!$C:$C,$D15),\"0\")","v":"0"},{"$f":"IF('Unit 36'!$C$7=$D$58,COUNTIF('Unit 36'!$C:$C,$D15),\"0\")","v":"0"},{"$f":"IF('Unit 37'!$C$7=$D$58,COUNTIF('Unit 37'!$C:$C,$D15),\"0\")","v":"0"},{"$f":"IF('Unit 38'!$C$7=$D$58,COUNTIF('Unit 38'!$C:$C,$D15),\"0\")","v":"0"},0,null,{"$f":"IF('Unit 1'!$C$7=$D$59,COUNTIF('Unit 1'!$C:$C,$D15),\"0\")","v":"0"},{"$f":"IF('Unit 2'!$C$7=$D$59,COUNTIF('Unit 2'!$C:$C,$D15),\"0\")","v":"0"},{"$f":"IF('Unit 3'!$C$7=$D$59,COUNTIF('Unit 3'!$C:$C,$D15),\"0\")","v":"0"},{"$f":"IF('Unit 4'!$C$7=$D$59,COUNTIF('Unit 4'!$C:$C,$D15),\"0\")","v":"0"},{"$f":"IF('Unit 5'!$C$7=$D$59,COUNTIF('Unit 5'!$C:$C,$D15),\"0\")","v":"0"},{"$f":"IF('Unit 6'!$C$7=$D$59,COUNTIF('Unit 6'!$C:$C,$D15),\"0\")","v":"0"},{"$f":"IF('Unit 7'!$C$7=$D$59,COUNTIF('Unit 7'!$C:$C,$D15),\"0\")","v":"0"},{"$f":"IF('Unit 8'!$C$7=$D$59,COUNTIF('Unit 8'!$C:$C,$D15),\"0\")","v":"0"},{"$f":"IF('Unit 9'!$C$7=$D$59,COUNTIF('Unit 9'!$C:$C,$D15),\"0\")","v":"0"},{"$f":"IF('Unit 10'!$C$7=$D$59,COUNTIF('Unit 10'!$C:$C,$D15),\"0\")","v":"0"},{"$f":"IF('Unit 11'!$C$7=$D$59,COUNTIF('Unit 11'!$C:$C,$D15),\"0\")","v":"0"},{"$f":"IF('Unit 12'!$C$7=$D$59,COUNTIF('Unit 12'!$C:$C,$D15),\"0\")","v":"0"},{"$f":"IF('Unit 13'!$C$7=$D$59,COUNTIF('Unit 13'!$C:$C,$D15),\"0\")","v":"0"},{"$f":"IF('Unit 14'!$C$7=$D$59,COUNTIF('Unit 14'!$C:$C,$D15),\"0\")","v":"0"},{"$f":"IF('Unit 15'!$C$7=$D$59,COUNTIF('Unit 15'!$C:$C,$D15),\"0\")","v":"0"},{"$f":"IF('Unit 16'!$C$7=$D$59,COUNTIF('Unit 16'!$C:$C,$D15),\"0\")","v":"0"},{"$f":"IF('Unit 17'!$C$7=$D$59,COUNTIF('Unit 17'!$C:$C,$D15),\"0\")","v":"0"},{"$f":"IF('Unit 18'!$C$7=$D$59,COUNTIF('Unit 18'!$C:$C,$D15),\"0\")","v":"0"},{"$f":"IF('Unit 19'!$C$7=$D$59,COUNTIF('Unit 19'!$C:$C,$D15),\"0\")","v":"0"},{"$f":"IF('Unit 20'!$C$7=$D$59,COUNTIF('Unit 20'!$C:$C,$D15),\"0\")","v":"0"},{"$f":"IF('Unit 21'!$C$7=$D$59,COUNTIF('Unit 21'!$C:$C,$D15),\"0\")","v":"0"},{"$f":"IF('Unit 22'!$C$7=$D$59,COUNTIF('Unit 22'!$C:$C,$D15),\"0\")","v":"0"},{"$f":"IF('Unit 23'!$C$7=$D$59,COUNTIF('Unit 23'!$C:$C,$D15),\"0\")","v":"0"},{"$f":"IF('Unit 24'!$C$7=$D$59,COUNTIF('Unit 24'!$C:$C,$D15),\"0\")","v":"0"},{"$f":"IF('Unit 25'!$C$7=$D$59,COUNTIF('Unit 25'!$C:$C,$D15),\"0\")","v":"0"},{"$f":"IF('Unit 26'!$C$7=$D$59,COUNTIF('Unit 26'!$C:$C,$D15),\"0\")","v":"0"},{"$f":"IF('Unit 27'!$C$7=$D$59,COUNTIF('Unit 27'!$C:$C,$D15),\"0\")","v":"0"},{"$f":"IF('Unit 28'!$C$7=$D$59,COUNTIF('Unit 28'!$C:$C,$D15),\"0\")","v":"0"},{"$f":"IF('Unit 29'!$C$7=$D$59,COUNTIF('Unit 29'!$C:$C,$D15),\"0\")","v":"0"},{"$f":"IF('Unit 30'!$C$7=$D$59,COUNTIF('Unit 30'!$C:$C,$D15),\"0\")","v":"0"},{"$f":"IF('Unit 31'!$C$7=$D$59,COUNTIF('Unit 31'!$C:$C,$D15),\"0\")","v":"0"},{"$f":"IF('Unit 32'!$C$7=$D$59,COUNTIF('Unit 32'!$C:$C,$D15),\"0\")","v":"0"},{"$f":"IF('Unit 33'!$C$7=$D$59,COUNTIF('Unit 33'!$C:$C,$D15),\"0\")","v":"0"},{"$f":"IF('Unit 34'!$C$7=$D$59,COUNTIF('Unit 34'!$C:$C,$D15),\"0\")","v":"0"},{"$f":"IF('Unit 35'!$C$7=$D$59,COUNTIF('Unit 35'!$C:$C,$D15),\"0\")","v":"0"},{"$f":"IF('Unit 36'!$C$7=$D$59,COUNTIF('Unit 36'!$C:$C,$D15),\"0\")","v":"0"},{"$f":"IF('Unit 37'!$C$7=$D$59,COUNTIF('Unit 37'!$C:$C,$D15),\"0\")","v":"0"},{"$f":"IF('Unit 38'!$C$7=$D$59,COUNTIF('Unit 38'!$C:$C,$D15),\"0\")","v":"0"},0,null,{"$f":"IF('Unit 1'!$C$7=$D$60,COUNTIF('Unit 1'!$C:$C,$D15),\"0\")","v":"0"},{"$f":"IF('Unit 2'!$C$7=$D$60,COUNTIF('Unit 2'!$C:$C,$D15),\"0\")","v":"0"},{"$f":"IF('Unit 3'!$C$7=$D$60,COUNTIF('Unit 3'!$C:$C,$D15),\"0\")","v":"0"},{"$f":"IF('Unit 4'!$C$7=$D$60,COUNTIF('Unit 4'!$C:$C,$D15),\"0\")","v":"0"},{"$f":"IF('Unit 5'!$C$7=$D$60,COUNTIF('Unit 5'!$C:$C,$D15),\"0\")","v":"0"},{"$f":"IF('Unit 6'!$C$7=$D$60,COUNTIF('Unit 6'!$C:$C,$D15),\"0\")","v":"0"},{"$f":"IF('Unit 7'!$C$7=$D$60,COUNTIF('Unit 7'!$C:$C,$D15),\"0\")","v":"0"},{"$f":"IF('Unit 8'!$C$7=$D$60,COUNTIF('Unit 8'!$C:$C,$D15),\"0\")","v":"0"},{"$f":"IF('Unit 9'!$C$7=$D$60,COUNTIF('Unit 9'!$C:$C,$D15),\"0\")","v":"0"},{"$f":"IF('Unit 10'!$C$7=$D$60,COUNTIF('Unit 10'!$C:$C,$D15),\"0\")","v":"0"},{"$f":"IF('Unit 11'!$C$7=$D$60,COUNTIF('Unit 11'!$C:$C,$D15),\"0\")","v":"0"},{"$f":"IF('Unit 12'!$C$7=$D$60,COUNTIF('Unit 12'!$C:$C,$D15),\"0\")","v":"0"},{"$f":"IF('Unit 13'!$C$7=$D$60,COUNTIF('Unit 13'!$C:$C,$D15),\"0\")","v":"0"},{"$f":"IF('Unit 14'!$C$7=$D$60,COUNTIF('Unit 14'!$C:$C,$D15),\"0\")","v":"0"},{"$f":"IF('Unit 15'!$C$7=$D$60,COUNTIF('Unit 15'!$C:$C,$D15),\"0\")","v":"0"},{"$f":"IF('Unit 16'!$C$7=$D$60,COUNTIF('Unit 16'!$C:$C,$D15),\"0\")","v":"0"},{"$f":"IF('Unit 17'!$C$7=$D$60,COUNTIF('Unit 17'!$C:$C,$D15),\"0\")","v":"0"},{"$f":"IF('Unit 18'!$C$7=$D$60,COUNTIF('Unit 18'!$C:$C,$D15),\"0\")","v":"0"},{"$f":"IF('Unit 19'!$C$7=$D$60,COUNTIF('Unit 19'!$C:$C,$D15),\"0\")","v":"0"},{"$f":"IF('Unit 20'!$C$7=$D$60,COUNTIF('Unit 20'!$C:$C,$D15),\"0\")","v":"0"},{"$f":"IF('Unit 21'!$C$7=$D$60,COUNTIF('Unit 21'!$C:$C,$D15),\"0\")","v":"0"},{"$f":"IF('Unit 22'!$C$7=$D$60,COUNTIF('Unit 22'!$C:$C,$D15),\"0\")","v":"0"},{"$f":"IF('Unit 23'!$C$7=$D$60,COUNTIF('Unit 23'!$C:$C,$D15),\"0\")","v":"0"},{"$f":"IF('Unit 24'!$C$7=$D$60,COUNTIF('Unit 24'!$C:$C,$D15),\"0\")","v":"0"},{"$f":"IF('Unit 25'!$C$7=$D$60,COUNTIF('Unit 25'!$C:$C,$D15),\"0\")","v":"0"},{"$f":"IF('Unit 26'!$C$7=$D$60,COUNTIF('Unit 26'!$C:$C,$D15),\"0\")","v":"0"},{"$f":"IF('Unit 27'!$C$7=$D$60,COUNTIF('Unit 27'!$C:$C,$D15),\"0\")","v":"0"},{"$f":"IF('Unit 28'!$C$7=$D$60,COUNTIF('Unit 28'!$C:$C,$D15),\"0\")","v":"0"},{"$f":"IF('Unit 29'!$C$7=$D$60,COUNTIF('Unit 29'!$C:$C,$D15),\"0\")","v":"0"},{"$f":"IF('Unit 30'!$C$7=$D$60,COUNTIF('Unit 30'!$C:$C,$D15),\"0\")","v":"0"},{"$f":"IF('Unit 31'!$C$7=$D$60,COUNTIF('Unit 31'!$C:$C,$D15),\"0\")","v":"0"},{"$f":"IF('Unit 32'!$C$7=$D$60,COUNTIF('Unit 32'!$C:$C,$D15),\"0\")","v":"0"},{"$f":"IF('Unit 33'!$C$7=$D$60,COUNTIF('Unit 33'!$C:$C,$D15),\"0\")","v":"0"},{"$f":"IF('Unit 34'!$C$7=$D$60,COUNTIF('Unit 34'!$C:$C,$D15),\"0\")","v":"0"},{"$f":"IF('Unit 35'!$C$7=$D$60,COUNTIF('Unit 35'!$C:$C,$D15),\"0\")","v":"0"},{"$f":"IF('Unit 36'!$C$7=$D$60,COUNTIF('Unit 36'!$C:$C,$D15),\"0\")","v":"0"},{"$f":"IF('Unit 37'!$C$7=$D$60,COUNTIF('Unit 37'!$C:$C,$D15),\"0\")","v":"0"},{"$f":"IF('Unit 38'!$C$7=$D$60,COUNTIF('Unit 38'!$C:$C,$D15),\"0\")","v":"0"},0]
[null,"Developing and Manufacturing","1.7","1.7 develop engineered solutions to various challenges ","Develop: advance a piece of work or an idea from an initial state to a more advanced state",{"$f":"COUNTIF('Unit 1'!C:C,$D16)","v":0},{"$f":"COUNTIF('Unit 2'!C:C,D16)","v":0},{"$f":"COUNTIF('Unit 3'!C:C,D16)","v":0},{"$f":"COUNTIF('Unit 4'!C:C,D16)","v":0},{"$f":"COUNTIF('Unit 5'!C:C,D16)","v":0},{"$f":"COUNTIF('Unit 6'!C:C,D16)","v":0},{"$f":"COUNTIF('Unit 7'!C:C,D16)","v":0},{"$f":"COUNTIF('Unit 8'!C:C,D16)","v":0},{"$f":"COUNTIF('Unit 9'!C:C,D16)","v":0},{"$f":"COUNTIF('Unit 10'!C:C,D16)","v":0},{"$f":"COUNTIF('Unit 11'!C:C,D16)","v":0},{"$f":"COUNTIF('Unit 12'!C:C,D16)","v":0},{"$f":"COUNTIF('Unit 13'!C:C,D16)","v":0},{"$f":"COUNTIF('Unit 14'!C:C,D16)","v":0},{"$f":"COUNTIF('Unit 15'!C:C,D16)","v":0},{"$f":"COUNTIF('Unit 16'!C:C,D16)","v":0},{"$f":"COUNTIF('Unit 17'!C:C,D16)","v":0},{"$f":"COUNTIF('Unit 18'!C:C,D16)","v":0},{"$f":"COUNTIF('Unit 19'!C:C,D16)","v":0},{"$f":"COUNTIF('Unit 20'!C:C,D16)","v":0},{"$f":"COUNTIF('Unit 21'!C:C,D16)","v":0},{"$f":"COUNTIF('Unit 22'!C:C,D16)","v":0},{"$f":"COUNTIF('Unit 23'!C:C,D16)","v":0},{"$f":"COUNTIF('Unit 24'!C:C,D16)","v":0},{"$f":"COUNTIF('Unit 25'!C:C,D16)","v":0},{"$f":"COUNTIF('Unit 26'!C:C,D16)","v":0},{"$f":"COUNTIF('Unit 27'!C:C,D16)","v":0},{"$f":"COUNTIF('Unit 28'!C:C,D16)","v":0},{"$f":"COUNTIF('Unit 29'!C:C,D16)","v":0},{"$f":"COUNTIF('Unit 30'!C:C,D16)","v":0},{"$f":"COUNTIF('Unit 31'!C:C,D16)","v":0},{"$f":"COUNTIF('Unit 32'!C:C,D16)","v":0},{"$f":"COUNTIF('Unit 33'!C:C,D16)","v":0},{"$f":"COUNTIF('Unit 34'!C:C,D16)","v":0},{"$f":"COUNTIF('Unit 35'!C:C,D16)","v":0},{"$f":"COUNTIF('Unit 36'!C:C,D16)","v":0},{"$f":"COUNTIF('Unit 37'!C:C,D16)","v":0},{"$f":"COUNTIF('Unit 38'!C:C,D16)","v":0},0,null,{"$f":"IF('Unit 1'!$C$7=$D$58,COUNTIF('Unit 1'!$C:$C,$D16),\"0\")","v":"0"},{"$f":"IF('Unit 2'!$C$7=$D$58,COUNTIF('Unit 2'!$C:$C,$D16),\"0\")","v":"0"},{"$f":"IF('Unit 3'!$C$7=$D$58,COUNTIF('Unit 3'!$C:$C,$D16),\"0\")","v":"0"},{"$f":"IF('Unit 4'!$C$7=$D$58,COUNTIF('Unit 4'!$C:$C,$D16),\"0\")","v":"0"},{"$f":"IF('Unit 5'!$C$7=$D$58,COUNTIF('Unit 5'!$C:$C,$D16),\"0\")","v":"0"},{"$f":"IF('Unit 6'!$C$7=$D$58,COUNTIF('Unit 6'!$C:$C,$D16),\"0\")","v":"0"},{"$f":"IF('Unit 7'!$C$7=$D$58,COUNTIF('Unit 7'!$C:$C,$D16),\"0\")","v":"0"},{"$f":"IF('Unit 8'!$C$7=$D$58,COUNTIF('Unit 8'!$C:$C,$D16),\"0\")","v":"0"},{"$f":"IF('Unit 9'!$C$7=$D$58,COUNTIF('Unit 9'!$C:$C,$D16),\"0\")","v":"0"},{"$f":"IF('Unit 10'!$C$7=$D$58,COUNTIF('Unit 10'!$C:$C,$D16),\"0\")","v":"0"},{"$f":"IF('Unit 11'!$C$7=$D$58,COUNTIF('Unit 11'!$C:$C,$D16),\"0\")","v":"0"},{"$f":"IF('Unit 12'!$C$7=$D$58,COUNTIF('Unit 12'!$C:$C,$D16),\"0\")","v":"0"},{"$f":"IF('Unit 13'!$C$7=$D$58,COUNTIF('Unit 13'!$C:$C,$D16),\"0\")","v":"0"},{"$f":"IF('Unit 14'!$C$7=$D$58,COUNTIF('Unit 14'!$C:$C,$D16),\"0\")","v":"0"},{"$f":"IF('Unit 15'!$C$7=$D$58,COUNTIF('Unit 15'!$C:$C,$D16),\"0\")","v":"0"},{"$f":"IF('Unit 16'!$C$7=$D$58,COUNTIF('Unit 16'!$C:$C,$D16),\"0\")","v":"0"},{"$f":"IF('Unit 17'!$C$7=$D$58,COUNTIF('Unit 17'!$C:$C,$D16),\"0\")","v":"0"},{"$f":"IF('Unit 18'!$C$7=$D$58,COUNTIF('Unit 18'!$C:$C,$D16),\"0\")","v":"0"},{"$f":"IF('Unit 19'!$C$7=$D$58,COUNTIF('Unit 19'!$C:$C,$D16),\"0\")","v":"0"},{"$f":"IF('Unit 20'!$C$7=$D$58,COUNTIF('Unit 20'!$C:$C,$D16),\"0\")","v":"0"},{"$f":"IF('Unit 21'!$C$7=$D$58,COUNTIF('Unit 21'!$C:$C,$D16),\"0\")","v":"0"},{"$f":"IF('Unit 22'!$C$7=$D$58,COUNTIF('Unit 22'!$C:$C,$D16),\"0\")","v":"0"},{"$f":"IF('Unit 23'!$C$7=$D$58,COUNTIF('Unit 23'!$C:$C,$D16),\"0\")","v":"0"},{"$f":"IF('Unit 24'!$C$7=$D$58,COUNTIF('Unit 24'!$C:$C,$D16),\"0\")","v":"0"},{"$f":"IF('Unit 25'!$C$7=$D$58,COUNTIF('Unit 25'!$C:$C,$D16),\"0\")","v":"0"},{"$f":"IF('Unit 26'!$C$7=$D$58,COUNTIF('Unit 26'!$C:$C,$D16),\"0\")","v":"0"},{"$f":"IF('Unit 27'!$C$7=$D$58,COUNTIF('Unit 27'!$C:$C,$D16),\"0\")","v":"0"},{"$f":"IF('Unit 28'!$C$7=$D$58,COUNTIF('Unit 28'!$C:$C,$D16),\"0\")","v":"0"},{"$f":"IF('Unit 29'!$C$7=$D$58,COUNTIF('Unit 29'!$C:$C,$D16),\"0\")","v":"0"},{"$f":"IF('Unit 30'!$C$7=$D$58,COUNTIF('Unit 30'!$C:$C,$D16),\"0\")","v":"0"},{"$f":"IF('Unit 31'!$C$7=$D$58,COUNTIF('Unit 31'!$C:$C,$D16),\"0\")","v":"0"},{"$f":"IF('Unit 32'!$C$7=$D$58,COUNTIF('Unit 32'!$C:$C,$D16),\"0\")","v":"0"},{"$f":"IF('Unit 33'!$C$7=$D$58,COUNTIF('Unit 33'!$C:$C,$D16),\"0\")","v":"0"},{"$f":"IF('Unit 34'!$C$7=$D$58,COUNTIF('Unit 34'!$C:$C,$D16),\"0\")","v":"0"},{"$f":"IF('Unit 35'!$C$7=$D$58,COUNTIF('Unit 35'!$C:$C,$D16),\"0\")","v":"0"},{"$f":"IF('Unit 36'!$C$7=$D$58,COUNTIF('Unit 36'!$C:$C,$D16),\"0\")","v":"0"},{"$f":"IF('Unit 37'!$C$7=$D$58,COUNTIF('Unit 37'!$C:$C,$D16),\"0\")","v":"0"},{"$f":"IF('Unit 38'!$C$7=$D$58,COUNTIF('Unit 38'!$C:$C,$D16),\"0\")","v":"0"},0,null,{"$f":"IF('Unit 1'!$C$7=$D$59,COUNTIF('Unit 1'!$C:$C,$D16),\"0\")","v":"0"},{"$f":"IF('Unit 2'!$C$7=$D$59,COUNTIF('Unit 2'!$C:$C,$D16),\"0\")","v":"0"},{"$f":"IF('Unit 3'!$C$7=$D$59,COUNTIF('Unit 3'!$C:$C,$D16),\"0\")","v":"0"},{"$f":"IF('Unit 4'!$C$7=$D$59,COUNTIF('Unit 4'!$C:$C,$D16),\"0\")","v":"0"},{"$f":"IF('Unit 5'!$C$7=$D$59,COUNTIF('Unit 5'!$C:$C,$D16),\"0\")","v":"0"},{"$f":"IF('Unit 6'!$C$7=$D$59,COUNTIF('Unit 6'!$C:$C,$D16),\"0\")","v":"0"},{"$f":"IF('Unit 7'!$C$7=$D$59,COUNTIF('Unit 7'!$C:$C,$D16),\"0\")","v":"0"},{"$f":"IF('Unit 8'!$C$7=$D$59,COUNTIF('Unit 8'!$C:$C,$D16),\"0\")","v":"0"},{"$f":"IF('Unit 9'!$C$7=$D$59,COUNTIF('Unit 9'!$C:$C,$D16),\"0\")","v":"0"},{"$f":"IF('Unit 10'!$C$7=$D$59,COUNTIF('Unit 10'!$C:$C,$D16),\"0\")","v":"0"},{"$f":"IF('Unit 11'!$C$7=$D$59,COUNTIF('Unit 11'!$C:$C,$D16),\"0\")","v":"0"},{"$f":"IF('Unit 12'!$C$7=$D$59,COUNTIF('Unit 12'!$C:$C,$D16),\"0\")","v":"0"},{"$f":"IF('Unit 13'!$C$7=$D$59,COUNTIF('Unit 13'!$C:$C,$D16),\"0\")","v":"0"},{"$f":"IF('Unit 14'!$C$7=$D$59,COUNTIF('Unit 14'!$C:$C,$D16),\"0\")","v":"0"},{"$f":"IF('Unit 15'!$C$7=$D$59,COUNTIF('Unit 15'!$C:$C,$D16),\"0\")","v":"0"},{"$f":"IF('Unit 16'!$C$7=$D$59,COUNTIF('Unit 16'!$C:$C,$D16),\"0\")","v":"0"},{"$f":"IF('Unit 17'!$C$7=$D$59,COUNTIF('Unit 17'!$C:$C,$D16),\"0\")","v":"0"},{"$f":"IF('Unit 18'!$C$7=$D$59,COUNTIF('Unit 18'!$C:$C,$D16),\"0\")","v":"0"},{"$f":"IF('Unit 19'!$C$7=$D$59,COUNTIF('Unit 19'!$C:$C,$D16),\"0\")","v":"0"},{"$f":"IF('Unit 20'!$C$7=$D$59,COUNTIF('Unit 20'!$C:$C,$D16),\"0\")","v":"0"},{"$f":"IF('Unit 21'!$C$7=$D$59,COUNTIF('Unit 21'!$C:$C,$D16),\"0\")","v":"0"},{"$f":"IF('Unit 22'!$C$7=$D$59,COUNTIF('Unit 22'!$C:$C,$D16),\"0\")","v":"0"},{"$f":"IF('Unit 23'!$C$7=$D$59,COUNTIF('Unit 23'!$C:$C,$D16),\"0\")","v":"0"},{"$f":"IF('Unit 24'!$C$7=$D$59,COUNTIF('Unit 24'!$C:$C,$D16),\"0\")","v":"0"},{"$f":"IF('Unit 25'!$C$7=$D$59,COUNTIF('Unit 25'!$C:$C,$D16),\"0\")","v":"0"},{"$f":"IF('Unit 26'!$C$7=$D$59,COUNTIF('Unit 26'!$C:$C,$D16),\"0\")","v":"0"},{"$f":"IF('Unit 27'!$C$7=$D$59,COUNTIF('Unit 27'!$C:$C,$D16),\"0\")","v":"0"},{"$f":"IF('Unit 28'!$C$7=$D$59,COUNTIF('Unit 28'!$C:$C,$D16),\"0\")","v":"0"},{"$f":"IF('Unit 29'!$C$7=$D$59,COUNTIF('Unit 29'!$C:$C,$D16),\"0\")","v":"0"},{"$f":"IF('Unit 30'!$C$7=$D$59,COUNTIF('Unit 30'!$C:$C,$D16),\"0\")","v":"0"},{"$f":"IF('Unit 31'!$C$7=$D$59,COUNTIF('Unit 31'!$C:$C,$D16),\"0\")","v":"0"},{"$f":"IF('Unit 32'!$C$7=$D$59,COUNTIF('Unit 32'!$C:$C,$D16),\"0\")","v":"0"},{"$f":"IF('Unit 33'!$C$7=$D$59,COUNTIF('Unit 33'!$C:$C,$D16),\"0\")","v":"0"},{"$f":"IF('Unit 34'!$C$7=$D$59,COUNTIF('Unit 34'!$C:$C,$D16),\"0\")","v":"0"},{"$f":"IF('Unit 35'!$C$7=$D$59,COUNTIF('Unit 35'!$C:$C,$D16),\"0\")","v":"0"},{"$f":"IF('Unit 36'!$C$7=$D$59,COUNTIF('Unit 36'!$C:$C,$D16),\"0\")","v":"0"},{"$f":"IF('Unit 37'!$C$7=$D$59,COUNTIF('Unit 37'!$C:$C,$D16),\"0\")","v":"0"},{"$f":"IF('Unit 38'!$C$7=$D$59,COUNTIF('Unit 38'!$C:$C,$D16),\"0\")","v":"0"},0,null,{"$f":"IF('Unit 1'!$C$7=$D$60,COUNTIF('Unit 1'!$C:$C,$D16),\"0\")","v":"0"},{"$f":"IF('Unit 2'!$C$7=$D$60,COUNTIF('Unit 2'!$C:$C,$D16),\"0\")","v":"0"},{"$f":"IF('Unit 3'!$C$7=$D$60,COUNTIF('Unit 3'!$C:$C,$D16),\"0\")","v":"0"},{"$f":"IF('Unit 4'!$C$7=$D$60,COUNTIF('Unit 4'!$C:$C,$D16),\"0\")","v":"0"},{"$f":"IF('Unit 5'!$C$7=$D$60,COUNTIF('Unit 5'!$C:$C,$D16),\"0\")","v":"0"},{"$f":"IF('Unit 6'!$C$7=$D$60,COUNTIF('Unit 6'!$C:$C,$D16),\"0\")","v":"0"},{"$f":"IF('Unit 7'!$C$7=$D$60,COUNTIF('Unit 7'!$C:$C,$D16),\"0\")","v":"0"},{"$f":"IF('Unit 8'!$C$7=$D$60,COUNTIF('Unit 8'!$C:$C,$D16),\"0\")","v":"0"},{"$f":"IF('Unit 9'!$C$7=$D$60,COUNTIF('Unit 9'!$C:$C,$D16),\"0\")","v":"0"},{"$f":"IF('Unit 10'!$C$7=$D$60,COUNTIF('Unit 10'!$C:$C,$D16),\"0\")","v":"0"},{"$f":"IF('Unit 11'!$C$7=$D$60,COUNTIF('Unit 11'!$C:$C,$D16),\"0\")","v":"0"},{"$f":"IF('Unit 12'!$C$7=$D$60,COUNTIF('Unit 12'!$C:$C,$D16),\"0\")","v":"0"},{"$f":"IF('Unit 13'!$C$7=$D$60,COUNTIF('Unit 13'!$C:$C,$D16),\"0\")","v":"0"},{"$f":"IF('Unit 14'!$C$7=$D$60,COUNTIF('Unit 14'!$C:$C,$D16),\"0\")","v":"0"},{"$f":"IF('Unit 15'!$C$7=$D$60,COUNTIF('Unit 15'!$C:$C,$D16),\"0\")","v":"0"},{"$f":"IF('Unit 16'!$C$7=$D$60,COUNTIF('Unit 16'!$C:$C,$D16),\"0\")","v":"0"},{"$f":"IF('Unit 17'!$C$7=$D$60,COUNTIF('Unit 17'!$C:$C,$D16),\"0\")","v":"0"},{"$f":"IF('Unit 18'!$C$7=$D$60,COUNTIF('Unit 18'!$C:$C,$D16),\"0\")","v":"0"},{"$f":"IF('Unit 19'!$C$7=$D$60,COUNTIF('Unit 19'!$C:$C,$D16),\"0\")","v":"0"},{"$f":"IF('Unit 20'!$C$7=$D$60,COUNTIF('Unit 20'!$C:$C,$D16),\"0\")","v":"0"},{"$f":"IF('Unit 21'!$C$7=$D$60,COUNTIF('Unit 21'!$C:$C,$D16),\"0\")","v":"0"},{"$f":"IF('Unit 22'!$C$7=$D$60,COUNTIF('Unit 22'!$C:$C,$D16),\"0\")","v":"0"},{"$f":"IF('Unit 23'!$C$7=$D$60,COUNTIF('Unit 23'!$C:$C,$D16),\"0\")","v":"0"},{"$f":"IF('Unit 24'!$C$7=$D$60,COUNTIF('Unit 24'!$C:$C,$D16),\"0\")","v":"0"},{"$f":"IF('Unit 25'!$C$7=$D$60,COUNTIF('Unit 25'!$C:$C,$D16),\"0\")","v":"0"},{"$f":"IF('Unit 26'!$C$7=$D$60,COUNTIF('Unit 26'!$C:$C,$D16),\"0\")","v":"0"},{"$f":"IF('Unit 27'!$C$7=$D$60,COUNTIF('Unit 27'!$C:$C,$D16),\"0\")","v":"0"},{"$f":"IF('Unit 28'!$C$7=$D$60,COUNTIF('Unit 28'!$C:$C,$D16),\"0\")","v":"0"},{"$f":"IF('Unit 29'!$C$7=$D$60,COUNTIF('Unit 29'!$C:$C,$D16),\"0\")","v":"0"},{"$f":"IF('Unit 30'!$C$7=$D$60,COUNTIF('Unit 30'!$C:$C,$D16),\"0\")","v":"0"},{"$f":"IF('Unit 31'!$C$7=$D$60,COUNTIF('Unit 31'!$C:$C,$D16),\"0\")","v":"0"},{"$f":"IF('Unit 32'!$C$7=$D$60,COUNTIF('Unit 32'!$C:$C,$D16),\"0\")","v":"0"},{"$f":"IF('Unit 33'!$C$7=$D$60,COUNTIF('Unit 33'!$C:$C,$D16),\"0\")","v":"0"},{"$f":"IF('Unit 34'!$C$7=$D$60,COUNTIF('Unit 34'!$C:$C,$D16),\"0\")","v":"0"},{"$f":"IF('Unit 35'!$C$7=$D$60,COUNTIF('Unit 35'!$C:$C,$D16),\"0\")","v":"0"},{"$f":"IF('Unit 36'!$C$7=$D$60,COUNTIF('Unit 36'!$C:$C,$D16),\"0\")","v":"0"},{"$f":"IF('Unit 37'!$C$7=$D$60,COUNTIF('Unit 37'!$C:$C,$D16),\"0\")","v":"0"},{"$f":"IF('Unit 38'!$C$7=$D$60,COUNTIF('Unit 38'!$C:$C,$D16),\"0\")","v":"0"},0]
[null,null,"1.8","1.8 identify appropriate tools and equipment specific to a task ","Identify: recognise patterns, facts, or details; provide an answer from a number of possibilities; recognise and state briefly a distinguishing fact or feature",{"$f":"COUNTIF('Unit 1'!C:C,$D17)","v":0},{"$f":"COUNTIF('Unit 2'!C:C,D17)","v":0},{"$f":"COUNTIF('Unit 3'!C:C,D17)","v":0},{"$f":"COUNTIF('Unit 4'!C:C,D17)","v":0},{"$f":"COUNTIF('Unit 5'!C:C,D17)","v":0},{"$f":"COUNTIF('Unit 6'!C:C,D17)","v":0},{"$f":"COUNTIF('Unit 7'!C:C,D17)","v":0},{"$f":"COUNTIF('Unit 8'!C:C,D17)","v":0},{"$f":"COUNTIF('Unit 9'!C:C,D17)","v":0},{"$f":"COUNTIF('Unit 10'!C:C,D17)","v":0},{"$f":"COUNTIF('Unit 11'!C:C,D17)","v":0},{"$f":"COUNTIF('Unit 12'!C:C,D17)","v":0},{"$f":"COUNTIF('Unit 13'!C:C,D17)","v":0},{"$f":"COUNTIF('Unit 14'!C:C,D17)","v":0},{"$f":"COUNTIF('Unit 15'!C:C,D17)","v":0},{"$f":"COUNTIF('Unit 16'!C:C,D17)","v":0},{"$f":"COUNTIF('Unit 17'!C:C,D17)","v":0},{"$f":"COUNTIF('Unit 18'!C:C,D17)","v":0},{"$f":"COUNTIF('Unit 19'!C:C,D17)","v":0},{"$f":"COUNTIF('Unit 20'!C:C,D17)","v":0},{"$f":"COUNTIF('Unit 21'!C:C,D17)","v":0},{"$f":"COUNTIF('Unit 22'!C:C,D17)","v":0},{"$f":"COUNTIF('Unit 23'!C:C,D17)","v":0},{"$f":"COUNTIF('Unit 24'!C:C,D17)","v":0},{"$f":"COUNTIF('Unit 25'!C:C,D17)","v":0},{"$f":"COUNTIF('Unit 26'!C:C,D17)","v":0},{"$f":"COUNTIF('Unit 27'!C:C,D17)","v":0},{"$f":"COUNTIF('Unit 28'!C:C,D17)","v":0},{"$f":"COUNTIF('Unit 29'!C:C,D17)","v":0},{"$f":"COUNTIF('Unit 30'!C:C,D17)","v":0},{"$f":"COUNTIF('Unit 31'!C:C,D17)","v":0},{"$f":"COUNTIF('Unit 32'!C:C,D17)","v":0},{"$f":"COUNTIF('Unit 33'!C:C,D17)","v":0},{"$f":"COUNTIF('Unit 34'!C:C,D17)","v":0},{"$f":"COUNTIF('Unit 35'!C:C,D17)","v":0},{"$f":"COUNTIF('Unit 36'!C:C,D17)","v":0},{"$f":"COUNTIF('Unit 37'!C:C,D17)","v":0},{"$f":"COUNTIF('Unit 38'!C:C,D17)","v":0},0,null,{"$f":"IF('Unit 1'!$C$7=$D$58,COUNTIF('Unit 1'!$C:$C,$D17),\"0\")","v":"0"},{"$f":"IF('Unit 2'!$C$7=$D$58,COUNTIF('Unit 2'!$C:$C,$D17),\"0\")","v":"0"},{"$f":"IF('Unit 3'!$C$7=$D$58,COUNTIF('Unit 3'!$C:$C,$D17),\"0\")","v":"0"},{"$f":"IF('Unit 4'!$C$7=$D$58,COUNTIF('Unit 4'!$C:$C,$D17),\"0\")","v":"0"},{"$f":"IF('Unit 5'!$C$7=$D$58,COUNTIF('Unit 5'!$C:$C,$D17),\"0\")","v":"0"},{"$f":"IF('Unit 6'!$C$7=$D$58,COUNTIF('Unit 6'!$C:$C,$D17),\"0\")","v":"0"},{"$f":"IF('Unit 7'!$C$7=$D$58,COUNTIF('Unit 7'!$C:$C,$D17),\"0\")","v":"0"},{"$f":"IF('Unit 8'!$C$7=$D$58,COUNTIF('Unit 8'!$C:$C,$D17),\"0\")","v":"0"},{"$f":"IF('Unit 9'!$C$7=$D$58,COUNTIF('Unit 9'!$C:$C,$D17),\"0\")","v":"0"},{"$f":"IF('Unit 10'!$C$7=$D$58,COUNTIF('Unit 10'!$C:$C,$D17),\"0\")","v":"0"},{"$f":"IF('Unit 11'!$C$7=$D$58,COUNTIF('Unit 11'!$C:$C,$D17),\"0\")","v":"0"},{"$f":"IF('Unit 12'!$C$7=$D$58,COUNTIF('Unit 12'!$C:$C,$D17),\"0\")","v":"0"},{"$f":"IF('Unit 13'!$C$7=$D$58,COUNTIF('Unit 13'!$C:$C,$D17),\"0\")","v":"0"},{"$f":"IF('Unit 14'!$C$7=$D$58,COUNTIF('Unit 14'!$C:$C,$D17),\"0\")","v":"0"},{"$f":"IF('Unit 15'!$C$7=$D$58,COUNTIF('Unit 15'!$C:$C,$D17),\"0\")","v":"0"},{"$f":"IF('Unit 16'!$C$7=$D$58,COUNTIF('Unit 16'!$C:$C,$D17),\"0\")","v":"0"},{"$f":"IF('Unit 17'!$C$7=$D$58,COUNTIF('Unit 17'!$C:$C,$D17),\"0\")","v":"0"},{"$f":"IF('Unit 18'!$C$7=$D$58,COUNTIF('Unit 18'!$C:$C,$D17),\"0\")","v":"0"},{"$f":"IF('Unit 19'!$C$7=$D$58,COUNTIF('Unit 19'!$C:$C,$D17),\"0\")","v":"0"},{"$f":"IF('Unit 20'!$C$7=$D$58,COUNTIF('Unit 20'!$C:$C,$D17),\"0\")","v":"0"},{"$f":"IF('Unit 21'!$C$7=$D$58,COUNTIF('Unit 21'!$C:$C,$D17),\"0\")","v":"0"},{"$f":"IF('Unit 22'!$C$7=$D$58,COUNTIF('Unit 22'!$C:$C,$D17),\"0\")","v":"0"},{"$f":"IF('Unit 23'!$C$7=$D$58,COUNTIF('Unit 23'!$C:$C,$D17),\"0\")","v":"0"},{"$f":"IF('Unit 24'!$C$7=$D$58,COUNTIF('Unit 24'!$C:$C,$D17),\"0\")","v":"0"},{"$f":"IF('Unit 25'!$C$7=$D$58,COUNTIF('Unit 25'!$C:$C,$D17),\"0\")","v":"0"},{"$f":"IF('Unit 26'!$C$7=$D$58,COUNTIF('Unit 26'!$C:$C,$D17),\"0\")","v":"0"},{"$f":"IF('Unit 27'!$C$7=$D$58,COUNTIF('Unit 27'!$C:$C,$D17),\"0\")","v":"0"},{"$f":"IF('Unit 28'!$C$7=$D$58,COUNTIF('Unit 28'!$C:$C,$D17),\"0\")","v":"0"},{"$f":"IF('Unit 29'!$C$7=$D$58,COUNTIF('Unit 29'!$C:$C,$D17),\"0\")","v":"0"},{"$f":"IF('Unit 30'!$C$7=$D$58,COUNTIF('Unit 30'!$C:$C,$D17),\"0\")","v":"0"},{"$f":"IF('Unit 31'!$C$7=$D$58,COUNTIF('Unit 31'!$C:$C,$D17),\"0\")","v":"0"},{"$f":"IF('Unit 32'!$C$7=$D$58,COUNTIF('Unit 32'!$C:$C,$D17),\"0\")","v":"0"},{"$f":"IF('Unit 33'!$C$7=$D$58,COUNTIF('Unit 33'!$C:$C,$D17),\"0\")","v":"0"},{"$f":"IF('Unit 34'!$C$7=$D$58,COUNTIF('Unit 34'!$C:$C,$D17),\"0\")","v":"0"},{"$f":"IF('Unit 35'!$C$7=$D$58,COUNTIF('Unit 35'!$C:$C,$D17),\"0\")","v":"0"},{"$f":"IF('Unit 36'!$C$7=$D$58,COUNTIF('Unit 36'!$C:$C,$D17),\"0\")","v":"0"},{"$f":"IF('Unit 37'!$C$7=$D$58,COUNTIF('Unit 37'!$C:$C,$D17),\"0\")","v":"0"},{"$f":"IF('Unit 38'!$C$7=$D$58,COUNTIF('Unit 38'!$C:$C,$D17),\"0\")","v":"0"},0,null,{"$f":"IF('Unit 1'!$C$7=$D$59,COUNTIF('Unit 1'!$C:$C,$D17),\"0\")","v":"0"},{"$f":"IF('Unit 2'!$C$7=$D$59,COUNTIF('Unit 2'!$C:$C,$D17),\"0\")","v":"0"},{"$f":"IF('Unit 3'!$C$7=$D$59,COUNTIF('Unit 3'!$C:$C,$D17),\"0\")","v":"0"},{"$f":"IF('Unit 4'!$C$7=$D$59,COUNTIF('Unit 4'!$C:$C,$D17),\"0\")","v":"0"},{"$f":"IF('Unit 5'!$C$7=$D$59,COUNTIF('Unit 5'!$C:$C,$D17),\"0\")","v":"0"},{"$f":"IF('Unit 6'!$C$7=$D$59,COUNTIF('Unit 6'!$C:$C,$D17),\"0\")","v":"0"},{"$f":"IF('Unit 7'!$C$7=$D$59,COUNTIF('Unit 7'!$C:$C,$D17),\"0\")","v":"0"},{"$f":"IF('Unit 8'!$C$7=$D$59,COUNTIF('Unit 8'!$C:$C,$D17),\"0\")","v":"0"},{"$f":"IF('Unit 9'!$C$7=$D$59,COUNTIF('Unit 9'!$C:$C,$D17),\"0\")","v":"0"},{"$f":"IF('Unit 10'!$C$7=$D$59,COUNTIF('Unit 10'!$C:$C,$D17),\"0\")","v":"0"},{"$f":"IF('Unit 11'!$C$7=$D$59,COUNTIF('Unit 11'!$C:$C,$D17),\"0\")","v":"0"},{"$f":"IF('Unit 12'!$C$7=$D$59,COUNTIF('Unit 12'!$C:$C,$D17),\"0\")","v":"0"},{"$f":"IF('Unit 13'!$C$7=$D$59,COUNTIF('Unit 13'!$C:$C,$D17),\"0\")","v":"0"},{"$f":"IF('Unit 14'!$C$7=$D$59,COUNTIF('Unit 14'!$C:$C,$D17),\"0\")","v":"0"},{"$f":"IF('Unit 15'!$C$7=$D$59,COUNTIF('Unit 15'!$C:$C,$D17),\"0\")","v":"0"},{"$f":"IF('Unit 16'!$C$7=$D$59,COUNTIF('Unit 16'!$C:$C,$D17),\"0\")","v":"0"},{"$f":"IF('Unit 17'!$C$7=$D$59,COUNTIF('Unit 17'!$C:$C,$D17),\"0\")","v":"0"},{"$f":"IF('Unit 18'!$C$7=$D$59,COUNTIF('Unit 18'!$C:$C,$D17),\"0\")","v":"0"},{"$f":"IF('Unit 19'!$C$7=$D$59,COUNTIF('Unit 19'!$C:$C,$D17),\"0\")","v":"0"},{"$f":"IF('Unit 20'!$C$7=$D$59,COUNTIF('Unit 20'!$C:$C,$D17),\"0\")","v":"0"},{"$f":"IF('Unit 21'!$C$7=$D$59,COUNTIF('Unit 21'!$C:$C,$D17),\"0\")","v":"0"},{"$f":"IF('Unit 22'!$C$7=$D$59,COUNTIF('Unit 22'!$C:$C,$D17),\"0\")","v":"0"},{"$f":"IF('Unit 23'!$C$7=$D$59,COUNTIF('Unit 23'!$C:$C,$D17),\"0\")","v":"0"},{"$f":"IF('Unit 24'!$C$7=$D$59,COUNTIF('Unit 24'!$C:$C,$D17),\"0\")","v":"0"},{"$f":"IF('Unit 25'!$C$7=$D$59,COUNTIF('Unit 25'!$C:$C,$D17),\"0\")","v":"0"},{"$f":"IF('Unit 26'!$C$7=$D$59,COUNTIF('Unit 26'!$C:$C,$D17),\"0\")","v":"0"},{"$f":"IF('Unit 27'!$C$7=$D$59,COUNTIF('Unit 27'!$C:$C,$D17),\"0\")","v":"0"},{"$f":"IF('Unit 28'!$C$7=$D$59,COUNTIF('Unit 28'!$C:$C,$D17),\"0\")","v":"0"},{"$f":"IF('Unit 29'!$C$7=$D$59,COUNTIF('Unit 29'!$C:$C,$D17),\"0\")","v":"0"},{"$f":"IF('Unit 30'!$C$7=$D$59,COUNTIF('Unit 30'!$C:$C,$D17),\"0\")","v":"0"},{"$f":"IF('Unit 31'!$C$7=$D$59,COUNTIF('Unit 31'!$C:$C,$D17),\"0\")","v":"0"},{"$f":"IF('Unit 32'!$C$7=$D$59,COUNTIF('Unit 32'!$C:$C,$D17),\"0\")","v":"0"},{"$f":"IF('Unit 33'!$C$7=$D$59,COUNTIF('Unit 33'!$C:$C,$D17),\"0\")","v":"0"},{"$f":"IF('Unit 34'!$C$7=$D$59,COUNTIF('Unit 34'!$C:$C,$D17),\"0\")","v":"0"},{"$f":"IF('Unit 35'!$C$7=$D$59,COUNTIF('Unit 35'!$C:$C,$D17),\"0\")","v":"0"},{"$f":"IF('Unit 36'!$C$7=$D$59,COUNTIF('Unit 36'!$C:$C,$D17),\"0\")","v":"0"},{"$f":"IF('Unit 37'!$C$7=$D$59,COUNTIF('Unit 37'!$C:$C,$D17),\"0\")","v":"0"},{"$f":"IF('Unit 38'!$C$7=$D$59,COUNTIF('Unit 38'!$C:$C,$D17),\"0\")","v":"0"},0,null,{"$f":"IF('Unit 1'!$C$7=$D$60,COUNTIF('Unit 1'!$C:$C,$D17),\"0\")","v":"0"},{"$f":"IF('Unit 2'!$C$7=$D$60,COUNTIF('Unit 2'!$C:$C,$D17),\"0\")","v":"0"},{"$f":"IF('Unit 3'!$C$7=$D$60,COUNTIF('Unit 3'!$C:$C,$D17),\"0\")","v":"0"},{"$f":"IF('Unit 4'!$C$7=$D$60,COUNTIF('Unit 4'!$C:$C,$D17),\"0\")","v":"0"},{"$f":"IF('Unit 5'!$C$7=$D$60,COUNTIF('Unit 5'!$C:$C,$D17),\"0\")","v":"0"},{"$f":"IF('Unit 6'!$C$7=$D$60,COUNTIF('Unit 6'!$C:$C,$D17),\"0\")","v":"0"},{"$f":"IF('Unit 7'!$C$7=$D$60,COUNTIF('Unit 7'!$C:$C,$D17),\"0\")","v":"0"},{"$f":"IF('Unit 8'!$C$7=$D$60,COUNTIF('Unit 8'!$C:$C,$D17),\"0\")","v":"0"},{"$f":"IF('Unit 9'!$C$7=$D$60,COUNTIF('Unit 9'!$C:$C,$D17),\"0\")","v":"0"},{"$f":"IF('Unit 10'!$C$7=$D$60,COUNTIF('Unit 10'!$C:$C,$D17),\"0\")","v":"0"},{"$f":"IF('Unit 11'!$C$7=$D$60,COUNTIF('Unit 11'!$C:$C,$D17),\"0\")","v":"0"},{"$f":"IF('Unit 12'!$C$7=$D$60,COUNTIF('Unit 12'!$C:$C,$D17),\"0\")","v":"0"},{"$f":"IF('Unit 13'!$C$7=$D$60,COUNTIF('Unit 13'!$C:$C,$D17),\"0\")","v":"0"},{"$f":"IF('Unit 14'!$C$7=$D$60,COUNTIF('Unit 14'!$C:$C,$D17),\"0\")","v":"0"},{"$f":"IF('Unit 15'!$C$7=$D$60,COUNTIF('Unit 15'!$C:$C,$D17),\"0\")","v":"0"},{"$f":"IF('Unit 16'!$C$7=$D$60,COUNTIF('Unit 16'!$C:$C,$D17),\"0\")","v":"0"},{"$f":"IF('Unit 17'!$C$7=$D$60,COUNTIF('Unit 17'!$C:$C,$D17),\"0\")","v":"0"},{"$f":"IF('Unit 18'!$C$7=$D$60,COUNTIF('Unit 18'!$C:$C,$D17),\"0\")","v":"0"},{"$f":"IF('Unit 19'!$C$7=$D$60,COUNTIF('Unit 19'!$C:$C,$D17),\"0\")","v":"0"},{"$f":"IF('Unit 20'!$C$7=$D$60,COUNTIF('Unit 20'!$C:$C,$D17),\"0\")","v":"0"},{"$f":"IF('Unit 21'!$C$7=$D$60,COUNTIF('Unit 21'!$C:$C,$D17),\"0\")","v":"0"},{"$f":"IF('Unit 22'!$C$7=$D$60,COUNTIF('Unit 22'!$C:$C,$D17),\"0\")","v":"0"},{"$f":"IF('Unit 23'!$C$7=$D$60,COUNTIF('Unit 23'!$C:$C,$D17),\"0\")","v":"0"},{"$f":"IF('Unit 24'!$C$7=$D$60,COUNTIF('Unit 24'!$C:$C,$D17),\"0\")","v":"0"},{"$f":"IF('Unit 25'!$C$7=$D$60,COUNTIF('Unit 25'!$C:$C,$D17),\"0\")","v":"0"},{"$f":"IF('Unit 26'!$C$7=$D$60,COUNTIF('Unit 26'!$C:$C,$D17),\"0\")","v":"0"},{"$f":"IF('Unit 27'!$C$7=$D$60,COUNTIF('Unit 27'!$C:$C,$D17),\"0\")","v":"0"},{"$f":"IF('Unit 28'!$C$7=$D$60,COUNTIF('Unit 28'!$C:$C,$D17),\"0\")","v":"0"},{"$f":"IF('Unit 29'!$C$7=$D$60,COUNTIF('Unit 29'!$C:$C,$D17),\"0\")","v":"0"},{"$f":"IF('Unit 30'!$C$7=$D$60,COUNTIF('Unit 30'!$C:$C,$D17),\"0\")","v":"0"},{"$f":"IF('Unit 31'!$C$7=$D$60,COUNTIF('Unit 31'!$C:$C,$D17),\"0\")","v":"0"},{"$f":"IF('Unit 32'!$C$7=$D$60,COUNTIF('Unit 32'!$C:$C,$D17),\"0\")","v":"0"},{"$f":"IF('Unit 33'!$C$7=$D$60,COUNTIF('Unit 33'!$C:$C,$D17),\"0\")","v":"0"},{"$f":"IF('Unit 34'!$C$7=$D$60,COUNTIF('Unit 34'!$C:$C,$D17),\"0\")","v":"0"},{"$f":"IF('Unit 35'!$C$7=$D$60,COUNTIF('Unit 35'!$C:$C,$D17),\"0\")","v":"0"},{"$f":"IF('Unit 36'!$C$7=$D$60,COUNTIF('Unit 36'!$C:$C,$D17),\"0\")","v":"0"},{"$f":"IF('Unit 37'!$C$7=$D$60,COUNTIF('Unit 37'!$C:$C,$D17),\"0\")","v":"0"},{"$f":"IF('Unit 38'!$C$7=$D$60,COUNTIF('Unit 38'!$C:$C,$D17),\"0\")","v":"0"},0]
[null,null,"1.9","1.9 apply suitable manufacturing processes to engineer a product ","Apply: select and use information and/or knowledge and understanding to explain a given situation or real circumstances",{"$f":"COUNTIF('Unit 1'!C:C,$D18)","v":0},{"$f":"COUNTIF('Unit 2'!C:C,D18)","v":0},{"$f":"COUNTIF('Unit 3'!C:C,D18)","v":0},{"$f":"COUNTIF('Unit 4'!C:C,D18)","v":0},{"$f":"COUNTIF('Unit 5'!C:C,D18)","v":0},{"$f":"COUNTIF('Unit 6'!C:C,D18)","v":0},{"$f":"COUNTIF('Unit 7'!C:C,D18)","v":0},{"$f":"COUNTIF('Unit 8'!C:C,D18)","v":0},{"$f":"COUNTIF('Unit 9'!C:C,D18)","v":0},{"$f":"COUNTIF('Unit 10'!C:C,D18)","v":0},{"$f":"COUNTIF('Unit 11'!C:C,D18)","v":0},{"$f":"COUNTIF('Unit 12'!C:C,D18)","v":0},{"$f":"COUNTIF('Unit 13'!C:C,D18)","v":0},{"$f":"COUNTIF('Unit 14'!C:C,D18)","v":0},{"$f":"COUNTIF('Unit 15'!C:C,D18)","v":0},{"$f":"COUNTIF('Unit 16'!C:C,D18)","v":0},{"$f":"COUNTIF('Unit 17'!C:C,D18)","v":0},{"$f":"COUNTIF('Unit 18'!C:C,D18)","v":0},{"$f":"COUNTIF('Unit 19'!C:C,D18)","v":0},{"$f":"COUNTIF('Unit 20'!C:C,D18)","v":0},{"$f":"COUNTIF('Unit 21'!C:C,D18)","v":0},{"$f":"COUNTIF('Unit 22'!C:C,D18)","v":0},{"$f":"COUNTIF('Unit 23'!C:C,D18)","v":0},{"$f":"COUNTIF('Unit 24'!C:C,D18)","v":0},{"$f":"COUNTIF('Unit 25'!C:C,D18)","v":0},{"$f":"COUNTIF('Unit 26'!C:C,D18)","v":0},{"$f":"COUNTIF('Unit 27'!C:C,D18)","v":0},{"$f":"COUNTIF('Unit 28'!C:C,D18)","v":0},{"$f":"COUNTIF('Unit 29'!C:C,D18)","v":0},{"$f":"COUNTIF('Unit 30'!C:C,D18)","v":0},{"$f":"COUNTIF('Unit 31'!C:C,D18)","v":0},{"$f":"COUNTIF('Unit 32'!C:C,D18)","v":0},{"$f":"COUNTIF('Unit 33'!C:C,D18)","v":0},{"$f":"COUNTIF('Unit 34'!C:C,D18)","v":0},{"$f":"COUNTIF('Unit 35'!C:C,D18)","v":0},{"$f":"COUNTIF('Unit 36'!C:C,D18)","v":0},{"$f":"COUNTIF('Unit 37'!C:C,D18)","v":0},{"$f":"COUNTIF('Unit 38'!C:C,D18)","v":0},0,null,{"$f":"IF('Unit 1'!$C$7=$D$58,COUNTIF('Unit 1'!$C:$C,$D18),\"0\")","v":"0"},{"$f":"IF('Unit 2'!$C$7=$D$58,COUNTIF('Unit 2'!$C:$C,$D18),\"0\")","v":"0"},{"$f":"IF('Unit 3'!$C$7=$D$58,COUNTIF('Unit 3'!$C:$C,$D18),\"0\")","v":"0"},{"$f":"IF('Unit 4'!$C$7=$D$58,COUNTIF('Unit 4'!$C:$C,$D18),\"0\")","v":"0"},{"$f":"IF('Unit 5'!$C$7=$D$58,COUNTIF('Unit 5'!$C:$C,$D18),\"0\")","v":"0"},{"$f":"IF('Unit 6'!$C$7=$D$58,COUNTIF('Unit 6'!$C:$C,$D18),\"0\")","v":"0"},{"$f":"IF('Unit 7'!$C$7=$D$58,COUNTIF('Unit 7'!$C:$C,$D18),\"0\")","v":"0"},{"$f":"IF('Unit 8'!$C$7=$D$58,COUNTIF('Unit 8'!$C:$C,$D18),\"0\")","v":"0"},{"$f":"IF('Unit 9'!$C$7=$D$58,COUNTIF('Unit 9'!$C:$C,$D18),\"0\")","v":"0"},{"$f":"IF('Unit 10'!$C$7=$D$58,COUNTIF('Unit 10'!$C:$C,$D18),\"0\")","v":"0"},{"$f":"IF('Unit 11'!$C$7=$D$58,COUNTIF('Unit 11'!$C:$C,$D18),\"0\")","v":"0"},{"$f":"IF('Unit 12'!$C$7=$D$58,COUNTIF('Unit 12'!$C:$C,$D18),\"0\")","v":"0"},{"$f":"IF('Unit 13'!$C$7=$D$58,COUNTIF('Unit 13'!$C:$C,$D18),\"0\")","v":"0"},{"$f":"IF('Unit 14'!$C$7=$D$58,COUNTIF('Unit 14'!$C:$C,$D18),\"0\")","v":"0"},{"$f":"IF('Unit 15'!$C$7=$D$58,COUNTIF('Unit 15'!$C:$C,$D18),\"0\")","v":"0"},{"$f":"IF('Unit 16'!$C$7=$D$58,COUNTIF('Unit 16'!$C:$C,$D18),\"0\")","v":"0"},{"$f":"IF('Unit 17'!$C$7=$D$58,COUNTIF('Unit 17'!$C:$C,$D18),\"0\")","v":"0"},{"$f":"IF('Unit 18'!$C$7=$D$58,COUNTIF('Unit 18'!$C:$C,$D18),\"0\")","v":"0"},{"$f":"IF('Unit 19'!$C$7=$D$58,COUNTIF('Unit 19'!$C:$C,$D18),\"0\")","v":"0"},{"$f":"IF('Unit 20'!$C$7=$D$58,COUNTIF('Unit 20'!$C:$C,$D18),\"0\")","v":"0"},{"$f":"IF('Unit 21'!$C$7=$D$58,COUNTIF('Unit 21'!$C:$C,$D18),\"0\")","v":"0"},{"$f":"IF('Unit 22'!$C$7=$D$58,COUNTIF('Unit 22'!$C:$C,$D18),\"0\")","v":"0"},{"$f":"IF('Unit 23'!$C$7=$D$58,COUNTIF('Unit 23'!$C:$C,$D18),\"0\")","v":"0"},{"$f":"IF('Unit 24'!$C$7=$D$58,COUNTIF('Unit 24'!$C:$C,$D18),\"0\")","v":"0"},{"$f":"IF('Unit 25'!$C$7=$D$58,COUNTIF('Unit 25'!$C:$C,$D18),\"0\")","v":"0"},{"$f":"IF('Unit 26'!$C$7=$D$58,COUNTIF('Unit 26'!$C:$C,$D18),\"0\")","v":"0"},{"$f":"IF('Unit 27'!$C$7=$D$58,COUNTIF('Unit 27'!$C:$C,$D18),\"0\")","v":"0"},{"$f":"IF('Unit 28'!$C$7=$D$58,COUNTIF('Unit 28'!$C:$C,$D18),\"0\")","v":"0"},{"$f":"IF('Unit 29'!$C$7=$D$58,COUNTIF('Unit 29'!$C:$C,$D18),\"0\")","v":"0"},{"$f":"IF('Unit 30'!$C$7=$D$58,COUNTIF('Unit 30'!$C:$C,$D18),\"0\")","v":"0"},{"$f":"IF('Unit 31'!$C$7=$D$58,COUNTIF('Unit 31'!$C:$C,$D18),\"0\")","v":"0"},{"$f":"IF('Unit 32'!$C$7=$D$58,COUNTIF('Unit 32'!$C:$C,$D18),\"0\")","v":"0"},{"$f":"IF('Unit 33'!$C$7=$D$58,COUNTIF('Unit 33'!$C:$C,$D18),\"0\")","v":"0"},{"$f":"IF('Unit 34'!$C$7=$D$58,COUNTIF('Unit 34'!$C:$C,$D18),\"0\")","v":"0"},{"$f":"IF('Unit 35'!$C$7=$D$58,COUNTIF('Unit 35'!$C:$C,$D18),\"0\")","v":"0"},{"$f":"IF('Unit 36'!$C$7=$D$58,COUNTIF('Unit 36'!$C:$C,$D18),\"0\")","v":"0"},{"$f":"IF('Unit 37'!$C$7=$D$58,COUNTIF('Unit 37'!$C:$C,$D18),\"0\")","v":"0"},{"$f":"IF('Unit 38'!$C$7=$D$58,COUNTIF('Unit 38'!$C:$C,$D18),\"0\")","v":"0"},0,null,{"$f":"IF('Unit 1'!$C$7=$D$59,COUNTIF('Unit 1'!$C:$C,$D18),\"0\")","v":"0"},{"$f":"IF('Unit 2'!$C$7=$D$59,COUNTIF('Unit 2'!$C:$C,$D18),\"0\")","v":"0"},{"$f":"IF('Unit 3'!$C$7=$D$59,COUNTIF('Unit 3'!$C:$C,$D18),\"0\")","v":"0"},{"$f":"IF('Unit 4'!$C$7=$D$59,COUNTIF('Unit 4'!$C:$C,$D18),\"0\")","v":"0"},{"$f":"IF('Unit 5'!$C$7=$D$59,COUNTIF('Unit 5'!$C:$C,$D18),\"0\")","v":"0"},{"$f":"IF('Unit 6'!$C$7=$D$59,COUNTIF('Unit 6'!$C:$C,$D18),\"0\")","v":"0"},{"$f":"IF('Unit 7'!$C$7=$D$59,COUNTIF('Unit 7'!$C:$C,$D18),\"0\")","v":"0"},{"$f":"IF('Unit 8'!$C$7=$D$59,COUNTIF('Unit 8'!$C:$C,$D18),\"0\")","v":"0"},{"$f":"IF('Unit 9'!$C$7=$D$59,COUNTIF('Unit 9'!$C:$C,$D18),\"0\")","v":"0"},{"$f":"IF('Unit 10'!$C$7=$D$59,COUNTIF('Unit 10'!$C:$C,$D18),\"0\")","v":"0"},{"$f":"IF('Unit 11'!$C$7=$D$59,COUNTIF('Unit 11'!$C:$C,$D18),\"0\")","v":"0"},{"$f":"IF('Unit 12'!$C$7=$D$59,COUNTIF('Unit 12'!$C:$C,$D18),\"0\")","v":"0"},{"$f":"IF('Unit 13'!$C$7=$D$59,COUNTIF('Unit 13'!$C:$C,$D18),\"0\")","v":"0"},{"$f":"IF('Unit 14'!$C$7=$D$59,COUNTIF('Unit 14'!$C:$C,$D18),\"0\")","v":"0"},{"$f":"IF('Unit 15'!$C$7=$D$59,COUNTIF('Unit 15'!$C:$C,$D18),\"0\")","v":"0"},{"$f":"IF('Unit 16'!$C$7=$D$59,COUNTIF('Unit 16'!$C:$C,$D18),\"0\")","v":"0"},{"$f":"IF('Unit 17'!$C$7=$D$59,COUNTIF('Unit 17'!$C:$C,$D18),\"0\")","v":"0"},{"$f":"IF('Unit 18'!$C$7=$D$59,COUNTIF('Unit 18'!$C:$C,$D18),\"0\")","v":"0"},{"$f":"IF('Unit 19'!$C$7=$D$59,COUNTIF('Unit 19'!$C:$C,$D18),\"0\")","v":"0"},{"$f":"IF('Unit 20'!$C$7=$D$59,COUNTIF('Unit 20'!$C:$C,$D18),\"0\")","v":"0"},{"$f":"IF('Unit 21'!$C$7=$D$59,COUNTIF('Unit 21'!$C:$C,$D18),\"0\")","v":"0"},{"$f":"IF('Unit 22'!$C$7=$D$59,COUNTIF('Unit 22'!$C:$C,$D18),\"0\")","v":"0"},{"$f":"IF('Unit 23'!$C$7=$D$59,COUNTIF('Unit 23'!$C:$C,$D18),\"0\")","v":"0"},{"$f":"IF('Unit 24'!$C$7=$D$59,COUNTIF('Unit 24'!$C:$C,$D18),\"0\")","v":"0"},{"$f":"IF('Unit 25'!$C$7=$D$59,COUNTIF('Unit 25'!$C:$C,$D18),\"0\")","v":"0"},{"$f":"IF('Unit 26'!$C$7=$D$59,COUNTIF('Unit 26'!$C:$C,$D18),\"0\")","v":"0"},{"$f":"IF('Unit 27'!$C$7=$D$59,COUNTIF('Unit 27'!$C:$C,$D18),\"0\")","v":"0"},{"$f":"IF('Unit 28'!$C$7=$D$59,COUNTIF('Unit 28'!$C:$C,$D18),\"0\")","v":"0"},{"$f":"IF('Unit 29'!$C$7=$D$59,COUNTIF('Unit 29'!$C:$C,$D18),\"0\")","v":"0"},{"$f":"IF('Unit 30'!$C$7=$D$59,COUNTIF('Unit 30'!$C:$C,$D18),\"0\")","v":"0"},{"$f":"IF('Unit 31'!$C$7=$D$59,COUNTIF('Unit 31'!$C:$C,$D18),\"0\")","v":"0"},{"$f":"IF('Unit 32'!$C$7=$D$59,COUNTIF('Unit 32'!$C:$C,$D18),\"0\")","v":"0"},{"$f":"IF('Unit 33'!$C$7=$D$59,COUNTIF('Unit 33'!$C:$C,$D18),\"0\")","v":"0"},{"$f":"IF('Unit 34'!$C$7=$D$59,COUNTIF('Unit 34'!$C:$C,$D18),\"0\")","v":"0"},{"$f":"IF('Unit 35'!$C$7=$D$59,COUNTIF('Unit 35'!$C:$C,$D18),\"0\")","v":"0"},{"$f":"IF('Unit 36'!$C$7=$D$59,COUNTIF('Unit 36'!$C:$C,$D18),\"0\")","v":"0"},{"$f":"IF('Unit 37'!$C$7=$D$59,COUNTIF('Unit 37'!$C:$C,$D18),\"0\")","v":"0"},{"$f":"IF('Unit 38'!$C$7=$D$59,COUNTIF('Unit 38'!$C:$C,$D18),\"0\")","v":"0"},0,null,{"$f":"IF('Unit 1'!$C$7=$D$60,COUNTIF('Unit 1'!$C:$C,$D18),\"0\")","v":"0"},{"$f":"IF('Unit 2'!$C$7=$D$60,COUNTIF('Unit 2'!$C:$C,$D18),\"0\")","v":"0"},{"$f":"IF('Unit 3'!$C$7=$D$60,COUNTIF('Unit 3'!$C:$C,$D18),\"0\")","v":"0"},{"$f":"IF('Unit 4'!$C$7=$D$60,COUNTIF('Unit 4'!$C:$C,$D18),\"0\")","v":"0"},{"$f":"IF('Unit 5'!$C$7=$D$60,COUNTIF('Unit 5'!$C:$C,$D18),\"0\")","v":"0"},{"$f":"IF('Unit 6'!$C$7=$D$60,COUNTIF('Unit 6'!$C:$C,$D18),\"0\")","v":"0"},{"$f":"IF('Unit 7'!$C$7=$D$60,COUNTIF('Unit 7'!$C:$C,$D18),\"0\")","v":"0"},{"$f":"IF('Unit 8'!$C$7=$D$60,COUNTIF('Unit 8'!$C:$C,$D18),\"0\")","v":"0"},{"$f":"IF('Unit 9'!$C$7=$D$60,COUNTIF('Unit 9'!$C:$C,$D18),\"0\")","v":"0"},{"$f":"IF('Unit 10'!$C$7=$D$60,COUNTIF('Unit 10'!$C:$C,$D18),\"0\")","v":"0"},{"$f":"IF('Unit 11'!$C$7=$D$60,COUNTIF('Unit 11'!$C:$C,$D18),\"0\")","v":"0"},{"$f":"IF('Unit 12'!$C$7=$D$60,COUNTIF('Unit 12'!$C:$C,$D18),\"0\")","v":"0"},{"$f":"IF('Unit 13'!$C$7=$D$60,COUNTIF('Unit 13'!$C:$C,$D18),\"0\")","v":"0"},{"$f":"IF('Unit 14'!$C$7=$D$60,COUNTIF('Unit 14'!$C:$C,$D18),\"0\")","v":"0"},{"$f":"IF('Unit 15'!$C$7=$D$60,COUNTIF('Unit 15'!$C:$C,$D18),\"0\")","v":"0"},{"$f":"IF('Unit 16'!$C$7=$D$60,COUNTIF('Unit 16'!$C:$C,$D18),\"0\")","v":"0"},{"$f":"IF('Unit 17'!$C$7=$D$60,COUNTIF('Unit 17'!$C:$C,$D18),\"0\")","v":"0"},{"$f":"IF('Unit 18'!$C$7=$D$60,COUNTIF('Unit 18'!$C:$C,$D18),\"0\")","v":"0"},{"$f":"IF('Unit 19'!$C$7=$D$60,COUNTIF('Unit 19'!$C:$C,$D18),\"0\")","v":"0"},{"$f":"IF('Unit 20'!$C$7=$D$60,COUNTIF('Unit 20'!$C:$C,$D18),\"0\")","v":"0"},{"$f":"IF('Unit 21'!$C$7=$D$60,COUNTIF('Unit 21'!$C:$C,$D18),\"0\")","v":"0"},{"$f":"IF('Unit 22'!$C$7=$D$60,COUNTIF('Unit 22'!$C:$C,$D18),\"0\")","v":"0"},{"$f":"IF('Unit 23'!$C$7=$D$60,COUNTIF('Unit 23'!$C:$C,$D18),\"0\")","v":"0"},{"$f":"IF('Unit 24'!$C$7=$D$60,COUNTIF('Unit 24'!$C:$C,$D18),\"0\")","v":"0"},{"$f":"IF('Unit 25'!$C$7=$D$60,COUNTIF('Unit 25'!$C:$C,$D18),\"0\")","v":"0"},{"$f":"IF('Unit 26'!$C$7=$D$60,COUNTIF('Unit 26'!$C:$C,$D18),\"0\")","v":"0"},{"$f":"IF('Unit 27'!$C$7=$D$60,COUNTIF('Unit 27'!$C:$C,$D18),\"0\")","v":"0"},{"$f":"IF('Unit 28'!$C$7=$D$60,COUNTIF('Unit 28'!$C:$C,$D18),\"0\")","v":"0"},{"$f":"IF('Unit 29'!$C$7=$D$60,COUNTIF('Unit 29'!$C:$C,$D18),\"0\")","v":"0"},{"$f":"IF('Unit 30'!$C$7=$D$60,COUNTIF('Unit 30'!$C:$C,$D18),\"0\")","v":"0"},{"$f":"IF('Unit 31'!$C$7=$D$60,COUNTIF('Unit 31'!$C:$C,$D18),\"0\")","v":"0"},{"$f":"IF('Unit 32'!$C$7=$D$60,COUNTIF('Unit 32'!$C:$C,$D18),\"0\")","v":"0"},{"$f":"IF('Unit 33'!$C$7=$D$60,COUNTIF('Unit 33'!$C:$C,$D18),\"0\")","v":"0"},{"$f":"IF('Unit 34'!$C$7=$D$60,COUNTIF('Unit 34'!$C:$C,$D18),\"0\")","v":"0"},{"$f":"IF('Unit 35'!$C$7=$D$60,COUNTIF('Unit 35'!$C:$C,$D18),\"0\")","v":"0"},{"$f":"IF('Unit 36'!$C$7=$D$60,COUNTIF('Unit 36'!$C:$C,$D18),\"0\")","v":"0"},{"$f":"IF('Unit 37'!$C$7=$D$60,COUNTIF('Unit 37'!$C:$C,$D18),\"0\")","v":"0"},{"$f":"IF('Unit 38'!$C$7=$D$60,COUNTIF('Unit 38'!$C:$C,$D18),\"0\")","v":"0"},0]
[null,null,"1.10","1.10 demonstrate high-quality work, to include accuracy and surface finish","Demonstrate: prove or make clear by reasoning or evidence, illustrating with examples or practical application",{"$f":"COUNTIF('Unit 1'!C:C,$D19)","v":0},{"$f":"COUNTIF('Unit 2'!C:C,D19)","v":0},{"$f":"COUNTIF('Unit 3'!C:C,D19)","v":0},{"$f":"COUNTIF('Unit 4'!C:C,D19)","v":0},{"$f":"COUNTIF('Unit 5'!C:C,D19)","v":0},{"$f":"COUNTIF('Unit 6'!C:C,D19)","v":0},{"$f":"COUNTIF('Unit 7'!C:C,D19)","v":0},{"$f":"COUNTIF('Unit 8'!C:C,D19)","v":0},{"$f":"COUNTIF('Unit 9'!C:C,D19)","v":0},{"$f":"COUNTIF('Unit 10'!C:C,D19)","v":0},{"$f":"COUNTIF('Unit 11'!C:C,D19)","v":0},{"$f":"COUNTIF('Unit 12'!C:C,D19)","v":0},{"$f":"COUNTIF('Unit 13'!C:C,D19)","v":0},{"$f":"COUNTIF('Unit 14'!C:C,D19)","v":0},{"$f":"COUNTIF('Unit 15'!C:C,D19)","v":0},{"$f":"COUNTIF('Unit 16'!C:C,D19)","v":0},{"$f":"COUNTIF('Unit 17'!C:C,D19)","v":0},{"$f":"COUNTIF('Unit 18'!C:C,D19)","v":0},{"$f":"COUNTIF('Unit 19'!C:C,D19)","v":0},{"$f":"COUNTIF('Unit 20'!C:C,D19)","v":0},{"$f":"COUNTIF('Unit 21'!C:C,D19)","v":0},{"$f":"COUNTIF('Unit 22'!C:C,D19)","v":0},{"$f":"COUNTIF('Unit 23'!C:C,D19)","v":0},{"$f":"COUNTIF('Unit 24'!C:C,D19)","v":0},{"$f":"COUNTIF('Unit 25'!C:C,D19)","v":0},{"$f":"COUNTIF('Unit 26'!C:C,D19)","v":0},{"$f":"COUNTIF('Unit 27'!C:C,D19)","v":0},{"$f":"COUNTIF('Unit 28'!C:C,D19)","v":0},{"$f":"COUNTIF('Unit 29'!C:C,D19)","v":0},{"$f":"COUNTIF('Unit 30'!C:C,D19)","v":0},{"$f":"COUNTIF('Unit 31'!C:C,D19)","v":0},{"$f":"COUNTIF('Unit 32'!C:C,D19)","v":0},{"$f":"COUNTIF('Unit 33'!C:C,D19)","v":0},{"$f":"COUNTIF('Unit 34'!C:C,D19)","v":0},{"$f":"COUNTIF('Unit 35'!C:C,D19)","v":0},{"$f":"COUNTIF('Unit 36'!C:C,D19)","v":0},{"$f":"COUNTIF('Unit 37'!C:C,D19)","v":0},{"$f":"COUNTIF('Unit 38'!C:C,D19)","v":0},0,null,{"$f":"IF('Unit 1'!$C$7=$D$58,COUNTIF('Unit 1'!$C:$C,$D19),\"0\")","v":"0"},{"$f":"IF('Unit 2'!$C$7=$D$58,COUNTIF('Unit 2'!$C:$C,$D19),\"0\")","v":"0"},{"$f":"IF('Unit 3'!$C$7=$D$58,COUNTIF('Unit 3'!$C:$C,$D19),\"0\")","v":"0"},{"$f":"IF('Unit 4'!$C$7=$D$58,COUNTIF('Unit 4'!$C:$C,$D19),\"0\")","v":"0"},{"$f":"IF('Unit 5'!$C$7=$D$58,COUNTIF('Unit 5'!$C:$C,$D19),\"0\")","v":"0"},{"$f":"IF('Unit 6'!$C$7=$D$58,COUNTIF('Unit 6'!$C:$C,$D19),\"0\")","v":"0"},{"$f":"IF('Unit 7'!$C$7=$D$58,COUNTIF('Unit 7'!$C:$C,$D19),\"0\")","v":"0"},{"$f":"IF('Unit 8'!$C$7=$D$58,COUNTIF('Unit 8'!$C:$C,$D19),\"0\")","v":"0"},{"$f":"IF('Unit 9'!$C$7=$D$58,COUNTIF('Unit 9'!$C:$C,$D19),\"0\")","v":"0"},{"$f":"IF('Unit 10'!$C$7=$D$58,COUNTIF('Unit 10'!$C:$C,$D19),\"0\")","v":"0"},{"$f":"IF('Unit 11'!$C$7=$D$58,COUNTIF('Unit 11'!$C:$C,$D19),\"0\")","v":"0"},{"$f":"IF('Unit 12'!$C$7=$D$58,COUNTIF('Unit 12'!$C:$C,$D19),\"0\")","v":"0"},{"$f":"IF('Unit 13'!$C$7=$D$58,COUNTIF('Unit 13'!$C:$C,$D19),\"0\")","v":"0"},{"$f":"IF('Unit 14'!$C$7=$D$58,COUNTIF('Unit 14'!$C:$C,$D19),\"0\")","v":"0"},{"$f":"IF('Unit 15'!$C$7=$D$58,COUNTIF('Unit 15'!$C:$C,$D19),\"0\")","v":"0"},{"$f":"IF('Unit 16'!$C$7=$D$58,COUNTIF('Unit 16'!$C:$C,$D19),\"0\")","v":"0"},{"$f":"IF('Unit 17'!$C$7=$D$58,COUNTIF('Unit 17'!$C:$C,$D19),\"0\")","v":"0"},{"$f":"IF('Unit 18'!$C$7=$D$58,COUNTIF('Unit 18'!$C:$C,$D19),\"0\")","v":"0"},{"$f":"IF('Unit 19'!$C$7=$D$58,COUNTIF('Unit 19'!$C:$C,$D19),\"0\")","v":"0"},{"$f":"IF('Unit 20'!$C$7=$D$58,COUNTIF('Unit 20'!$C:$C,$D19),\"0\")","v":"0"},{"$f":"IF('Unit 21'!$C$7=$D$58,COUNTIF('Unit 21'!$C:$C,$D19),\"0\")","v":"0"},{"$f":"IF('Unit 22'!$C$7=$D$58,COUNTIF('Unit 22'!$C:$C,$D19),\"0\")","v":"0"},{"$f":"IF('Unit 23'!$C$7=$D$58,COUNTIF('Unit 23'!$C:$C,$D19),\"0\")","v":"0"},{"$f":"IF('Unit 24'!$C$7=$D$58,COUNTIF('Unit 24'!$C:$C,$D19),\"0\")","v":"0"},{"$f":"IF('Unit 25'!$C$7=$D$58,COUNTIF('Unit 25'!$C:$C,$D19),\"0\")","v":"0"},{"$f":"IF('Unit 26'!$C$7=$D$58,COUNTIF('Unit 26'!$C:$C,$D19),\"0\")","v":"0"},{"$f":"IF('Unit 27'!$C$7=$D$58,COUNTIF('Unit 27'!$C:$C,$D19),\"0\")","v":"0"},{"$f":"IF('Unit 28'!$C$7=$D$58,COUNTIF('Unit 28'!$C:$C,$D19),\"0\")","v":"0"},{"$f":"IF('Unit 29'!$C$7=$D$58,COUNTIF('Unit 29'!$C:$C,$D19),\"0\")","v":"0"},{"$f":"IF('Unit 30'!$C$7=$D$58,COUNTIF('Unit 30'!$C:$C,$D19),\"0\")","v":"0"},{"$f":"IF('Unit 31'!$C$7=$D$58,COUNTIF('Unit 31'!$C:$C,$D19),\"0\")","v":"0"},{"$f":"IF('Unit 32'!$C$7=$D$58,COUNTIF('Unit 32'!$C:$C,$D19),\"0\")","v":"0"},{"$f":"IF('Unit 33'!$C$7=$D$58,COUNTIF('Unit 33'!$C:$C,$D19),\"0\")","v":"0"},{"$f":"IF('Unit 34'!$C$7=$D$58,COUNTIF('Unit 34'!$C:$C,$D19),\"0\")","v":"0"},{"$f":"IF('Unit 35'!$C$7=$D$58,COUNTIF('Unit 35'!$C:$C,$D19),\"0\")","v":"0"},{"$f":"IF('Unit 36'!$C$7=$D$58,COUNTIF('Unit 36'!$C:$C,$D19),\"0\")","v":"0"},{"$f":"IF('Unit 37'!$C$7=$D$58,COUNTIF('Unit 37'!$C:$C,$D19),\"0\")","v":"0"},{"$f":"IF('Unit 38'!$C$7=$D$58,COUNTIF('Unit 38'!$C:$C,$D19),\"0\")","v":"0"},0,null,{"$f":"IF('Unit 1'!$C$7=$D$59,COUNTIF('Unit 1'!$C:$C,$D19),\"0\")","v":"0"},{"$f":"IF('Unit 2'!$C$7=$D$59,COUNTIF('Unit 2'!$C:$C,$D19),\"0\")","v":"0"},{"$f":"IF('Unit 3'!$C$7=$D$59,COUNTIF('Unit 3'!$C:$C,$D19),\"0\")","v":"0"},{"$f":"IF('Unit 4'!$C$7=$D$59,COUNTIF('Unit 4'!$C:$C,$D19),\"0\")","v":"0"},{"$f":"IF('Unit 5'!$C$7=$D$59,COUNTIF('Unit 5'!$C:$C,$D19),\"0\")","v":"0"},{"$f":"IF('Unit 6'!$C$7=$D$59,COUNTIF('Unit 6'!$C:$C,$D19),\"0\")","v":"0"},{"$f":"IF('Unit 7'!$C$7=$D$59,COUNTIF('Unit 7'!$C:$C,$D19),\"0\")","v":"0"},{"$f":"IF('Unit 8'!$C$7=$D$59,COUNTIF('Unit 8'!$C:$C,$D19),\"0\")","v":"0"},{"$f":"IF('Unit 9'!$C$7=$D$59,COUNTIF('Unit 9'!$C:$C,$D19),\"0\")","v":"0"},{"$f":"IF('Unit 10'!$C$7=$D$59,COUNTIF('Unit 10'!$C:$C,$D19),\"0\")","v":"0"},{"$f":"IF('Unit 11'!$C$7=$D$59,COUNTIF('Unit 11'!$C:$C,$D19),\"0\")","v":"0"},{"$f":"IF('Unit 12'!$C$7=$D$59,COUNTIF('Unit 12'!$C:$C,$D19),\"0\")","v":"0"},{"$f":"IF('Unit 13'!$C$7=$D$59,COUNTIF('Unit 13'!$C:$C,$D19),\"0\")","v":"0"},{"$f":"IF('Unit 14'!$C$7=$D$59,COUNTIF('Unit 14'!$C:$C,$D19),\"0\")","v":"0"},{"$f":"IF('Unit 15'!$C$7=$D$59,COUNTIF('Unit 15'!$C:$C,$D19),\"0\")","v":"0"},{"$f":"IF('Unit 16'!$C$7=$D$59,COUNTIF('Unit 16'!$C:$C,$D19),\"0\")","v":"0"},{"$f":"IF('Unit 17'!$C$7=$D$59,COUNTIF('Unit 17'!$C:$C,$D19),\"0\")","v":"0"},{"$f":"IF('Unit 18'!$C$7=$D$59,COUNTIF('Unit 18'!$C:$C,$D19),\"0\")","v":"0"},{"$f":"IF('Unit 19'!$C$7=$D$59,COUNTIF('Unit 19'!$C:$C,$D19),\"0\")","v":"0"},{"$f":"IF('Unit 20'!$C$7=$D$59,COUNTIF('Unit 20'!$C:$C,$D19),\"0\")","v":"0"},{"$f":"IF('Unit 21'!$C$7=$D$59,COUNTIF('Unit 21'!$C:$C,$D19),\"0\")","v":"0"},{"$f":"IF('Unit 22'!$C$7=$D$59,COUNTIF('Unit 22'!$C:$C,$D19),\"0\")","v":"0"},{"$f":"IF('Unit 23'!$C$7=$D$59,COUNTIF('Unit 23'!$C:$C,$D19),\"0\")","v":"0"},{"$f":"IF('Unit 24'!$C$7=$D$59,COUNTIF('Unit 24'!$C:$C,$D19),\"0\")","v":"0"},{"$f":"IF('Unit 25'!$C$7=$D$59,COUNTIF('Unit 25'!$C:$C,$D19),\"0\")","v":"0"},{"$f":"IF('Unit 26'!$C$7=$D$59,COUNTIF('Unit 26'!$C:$C,$D19),\"0\")","v":"0"},{"$f":"IF('Unit 27'!$C$7=$D$59,COUNTIF('Unit 27'!$C:$C,$D19),\"0\")","v":"0"},{"$f":"IF('Unit 28'!$C$7=$D$59,COUNTIF('Unit 28'!$C:$C,$D19),\"0\")","v":"0"},{"$f":"IF('Unit 29'!$C$7=$D$59,COUNTIF('Unit 29'!$C:$C,$D19),\"0\")","v":"0"},{"$f":"IF('Unit 30'!$C$7=$D$59,COUNTIF('Unit 30'!$C:$C,$D19),\"0\")","v":"0"},{"$f":"IF('Unit 31'!$C$7=$D$59,COUNTIF('Unit 31'!$C:$C,$D19),\"0\")","v":"0"},{"$f":"IF('Unit 32'!$C$7=$D$59,COUNTIF('Unit 32'!$C:$C,$D19),\"0\")","v":"0"},{"$f":"IF('Unit 33'!$C$7=$D$59,COUNTIF('Unit 33'!$C:$C,$D19),\"0\")","v":"0"},{"$f":"IF('Unit 34'!$C$7=$D$59,COUNTIF('Unit 34'!$C:$C,$D19),\"0\")","v":"0"},{"$f":"IF('Unit 35'!$C$7=$D$59,COUNTIF('Unit 35'!$C:$C,$D19),\"0\")","v":"0"},{"$f":"IF('Unit 36'!$C$7=$D$59,COUNTIF('Unit 36'!$C:$C,$D19),\"0\")","v":"0"},{"$f":"IF('Unit 37'!$C$7=$D$59,COUNTIF('Unit 37'!$C:$C,$D19),\"0\")","v":"0"},{"$f":"IF('Unit 38'!$C$7=$D$59,COUNTIF('Unit 38'!$C:$C,$D19),\"0\")","v":"0"},0,null,{"$f":"IF('Unit 1'!$C$7=$D$60,COUNTIF('Unit 1'!$C:$C,$D19),\"0\")","v":"0"},{"$f":"IF('Unit 2'!$C$7=$D$60,COUNTIF('Unit 2'!$C:$C,$D19),\"0\")","v":"0"},{"$f":"IF('Unit 3'!$C$7=$D$60,COUNTIF('Unit 3'!$C:$C,$D19),\"0\")","v":"0"},{"$f":"IF('Unit 4'!$C$7=$D$60,COUNTIF('Unit 4'!$C:$C,$D19),\"0\")","v":"0"},{"$f":"IF('Unit 5'!$C$7=$D$60,COUNTIF('Unit 5'!$C:$C,$D19),\"0\")","v":"0"},{"$f":"IF('Unit 6'!$C$7=$D$60,COUNTIF('Unit 6'!$C:$C,$D19),\"0\")","v":"0"},{"$f":"IF('Unit 7'!$C$7=$D$60,COUNTIF('Unit 7'!$C:$C,$D19),\"0\")","v":"0"},{"$f":"IF('Unit 8'!$C$7=$D$60,COUNTIF('Unit 8'!$C:$C,$D19),\"0\")","v":"0"},{"$f":"IF('Unit 9'!$C$7=$D$60,COUNTIF('Unit 9'!$C:$C,$D19),\"0\")","v":"0"},{"$f":"IF('Unit 10'!$C$7=$D$60,COUNTIF('Unit 10'!$C:$C,$D19),\"0\")","v":"0"},{"$f":"IF('Unit 11'!$C$7=$D$60,COUNTIF('Unit 11'!$C:$C,$D19),\"0\")","v":"0"},{"$f":"IF('Unit 12'!$C$7=$D$60,COUNTIF('Unit 12'!$C:$C,$D19),\"0\")","v":"0"},{"$f":"IF('Unit 13'!$C$7=$D$60,COUNTIF('Unit 13'!$C:$C,$D19),\"0\")","v":"0"},{"$f":"IF('Unit 14'!$C$7=$D$60,COUNTIF('Unit 14'!$C:$C,$D19),\"0\")","v":"0"},{"$f":"IF('Unit 15'!$C$7=$D$60,COUNTIF('Unit 15'!$C:$C,$D19),\"0\")","v":"0"},{"$f":"IF('Unit 16'!$C$7=$D$60,COUNTIF('Unit 16'!$C:$C,$D19),\"0\")","v":"0"},{"$f":"IF('Unit 17'!$C$7=$D$60,COUNTIF('Unit 17'!$C:$C,$D19),\"0\")","v":"0"},{"$f":"IF('Unit 18'!$C$7=$D$60,COUNTIF('Unit 18'!$C:$C,$D19),\"0\")","v":"0"},{"$f":"IF('Unit 19'!$C$7=$D$60,COUNTIF('Unit 19'!$C:$C,$D19),\"0\")","v":"0"},{"$f":"IF('Unit 20'!$C$7=$D$60,COUNTIF('Unit 20'!$C:$C,$D19),\"0\")","v":"0"},{"$f":"IF('Unit 21'!$C$7=$D$60,COUNTIF('Unit 21'!$C:$C,$D19),\"0\")","v":"0"},{"$f":"IF('Unit 22'!$C$7=$D$60,COUNTIF('Unit 22'!$C:$C,$D19),\"0\")","v":"0"},{"$f":"IF('Unit 23'!$C$7=$D$60,COUNTIF('Unit 23'!$C:$C,$D19),\"0\")","v":"0"},{"$f":"IF('Unit 24'!$C$7=$D$60,COUNTIF('Unit 24'!$C:$C,$D19),\"0\")","v":"0"},{"$f":"IF('Unit 25'!$C$7=$D$60,COUNTIF('Unit 25'!$C:$C,$D19),\"0\")","v":"0"},{"$f":"IF('Unit 26'!$C$7=$D$60,COUNTIF('Unit 26'!$C:$C,$D19),\"0\")","v":"0"},{"$f":"IF('Unit 27'!$C$7=$D$60,COUNTIF('Unit 27'!$C:$C,$D19),\"0\")","v":"0"},{"$f":"IF('Unit 28'!$C$7=$D$60,COUNTIF('Unit 28'!$C:$C,$D19),\"0\")","v":"0"},{"$f":"IF('Unit 29'!$C$7=$D$60,COUNTIF('Unit 29'!$C:$C,$D19),\"0\")","v":"0"},{"$f":"IF('Unit 30'!$C$7=$D$60,COUNTIF('Unit 30'!$C:$C,$D19),\"0\")","v":"0"},{"$f":"IF('Unit 31'!$C$7=$D$60,COUNTIF('Unit 31'!$C:$C,$D19),\"0\")","v":"0"},{"$f":"IF('Unit 32'!$C$7=$D$60,COUNTIF('Unit 32'!$C:$C,$D19),\"0\")","v":"0"},{"$f":"IF('Unit 33'!$C$7=$D$60,COUNTIF('Unit 33'!$C:$C,$D19),\"0\")","v":"0"},{"$f":"IF('Unit 34'!$C$7=$D$60,COUNTIF('Unit 34'!$C:$C,$D19),\"0\")","v":"0"},{"$f":"IF('Unit 35'!$C$7=$D$60,COUNTIF('Unit 35'!$C:$C,$D19),\"0\")","v":"0"},{"$f":"IF('Unit 36'!$C$7=$D$60,COUNTIF('Unit 36'!$C:$C,$D19),\"0\")","v":"0"},{"$f":"IF('Unit 37'!$C$7=$D$60,COUNTIF('Unit 37'!$C:$C,$D19),\"0\")","v":"0"},{"$f":"IF('Unit 38'!$C$7=$D$60,COUNTIF('Unit 38'!$C:$C,$D19),\"0\")","v":"0"},0]
[null,"Communicating","1.11","1.11 create sketches, models and working drawings ","Create: process and give form to the topic that is to be created using selected methods and material and/or to give the material used a new form",{"$f":"COUNTIF('Unit 1'!C:C,$D20)","v":0},{"$f":"COUNTIF('Unit 2'!C:C,D20)","v":0},{"$f":"COUNTIF('Unit 3'!C:C,D20)","v":0},{"$f":"COUNTIF('Unit 4'!C:C,D20)","v":0},{"$f":"COUNTIF('Unit 5'!C:C,D20)","v":0},{"$f":"COUNTIF('Unit 6'!C:C,D20)","v":0},{"$f":"COUNTIF('Unit 7'!C:C,D20)","v":0},{"$f":"COUNTIF('Unit 8'!C:C,D20)","v":0},{"$f":"COUNTIF('Unit 9'!C:C,D20)","v":0},{"$f":"COUNTIF('Unit 10'!C:C,D20)","v":0},{"$f":"COUNTIF('Unit 11'!C:C,D20)","v":0},{"$f":"COUNTIF('Unit 12'!C:C,D20)","v":0},{"$f":"COUNTIF('Unit 13'!C:C,D20)","v":0},{"$f":"COUNTIF('Unit 14'!C:C,D20)","v":0},{"$f":"COUNTIF('Unit 15'!C:C,D20)","v":0},{"$f":"COUNTIF('Unit 16'!C:C,D20)","v":0},{"$f":"COUNTIF('Unit 17'!C:C,D20)","v":0},{"$f":"COUNTIF('Unit 18'!C:C,D20)","v":0},{"$f":"COUNTIF('Unit 19'!C:C,D20)","v":0},{"$f":"COUNTIF('Unit 20'!C:C,D20)","v":0},{"$f":"COUNTIF('Unit 21'!C:C,D20)","v":0},{"$f":"COUNTIF('Unit 22'!C:C,D20)","v":0},{"$f":"COUNTIF('Unit 23'!C:C,D20)","v":0},{"$f":"COUNTIF('Unit 24'!C:C,D20)","v":0},{"$f":"COUNTIF('Unit 25'!C:C,D20)","v":0},{"$f":"COUNTIF('Unit 26'!C:C,D20)","v":0},{"$f":"COUNTIF('Unit 27'!C:C,D20)","v":0},{"$f":"COUNTIF('Unit 28'!C:C,D20)","v":0},{"$f":"COUNTIF('Unit 29'!C:C,D20)","v":0},{"$f":"COUNTIF('Unit 30'!C:C,D20)","v":0},{"$f":"COUNTIF('Unit 31'!C:C,D20)","v":0},{"$f":"COUNTIF('Unit 32'!C:C,D20)","v":0},{"$f":"COUNTIF('Unit 33'!C:C,D20)","v":0},{"$f":"COUNTIF('Unit 34'!C:C,D20)","v":0},{"$f":"COUNTIF('Unit 35'!C:C,D20)","v":0},{"$f":"COUNTIF('Unit 36'!C:C,D20)","v":0},{"$f":"COUNTIF('Unit 37'!C:C,D20)","v":0},{"$f":"COUNTIF('Unit 38'!C:C,D20)","v":0},0,null,{"$f":"IF('Unit 1'!$C$7=$D$58,COUNTIF('Unit 1'!$C:$C,$D20),\"0\")","v":"0"},{"$f":"IF('Unit 2'!$C$7=$D$58,COUNTIF('Unit 2'!$C:$C,$D20),\"0\")","v":"0"},{"$f":"IF('Unit 3'!$C$7=$D$58,COUNTIF('Unit 3'!$C:$C,$D20),\"0\")","v":"0"},{"$f":"IF('Unit 4'!$C$7=$D$58,COUNTIF('Unit 4'!$C:$C,$D20),\"0\")","v":"0"},{"$f":"IF('Unit 5'!$C$7=$D$58,COUNTIF('Unit 5'!$C:$C,$D20),\"0\")","v":"0"},{"$f":"IF('Unit 6'!$C$7=$D$58,COUNTIF('Unit 6'!$C:$C,$D20),\"0\")","v":"0"},{"$f":"IF('Unit 7'!$C$7=$D$58,COUNTIF('Unit 7'!$C:$C,$D20),\"0\")","v":"0"},{"$f":"IF('Unit 8'!$C$7=$D$58,COUNTIF('Unit 8'!$C:$C,$D20),\"0\")","v":"0"},{"$f":"IF('Unit 9'!$C$7=$D$58,COUNTIF('Unit 9'!$C:$C,$D20),\"0\")","v":"0"},{"$f":"IF('Unit 10'!$C$7=$D$58,COUNTIF('Unit 10'!$C:$C,$D20),\"0\")","v":"0"},{"$f":"IF('Unit 11'!$C$7=$D$58,COUNTIF('Unit 11'!$C:$C,$D20),\"0\")","v":"0"},{"$f":"IF('Unit 12'!$C$7=$D$58,COUNTIF('Unit 12'!$C:$C,$D20),\"0\")","v":"0"},{"$f":"IF('Unit 13'!$C$7=$D$58,COUNTIF('Unit 13'!$C:$C,$D20),\"0\")","v":"0"},{"$f":"IF('Unit 14'!$C$7=$D$58,COUNTIF('Unit 14'!$C:$C,$D20),\"0\")","v":"0"},{"$f":"IF('Unit 15'!$C$7=$D$58,COUNTIF('Unit 15'!$C:$C,$D20),\"0\")","v":"0"},{"$f":"IF('Unit 16'!$C$7=$D$58,COUNTIF('Unit 16'!$C:$C,$D20),\"0\")","v":"0"},{"$f":"IF('Unit 17'!$C$7=$D$58,COUNTIF('Unit 17'!$C:$C,$D20),\"0\")","v":"0"},{"$f":"IF('Unit 18'!$C$7=$D$58,COUNTIF('Unit 18'!$C:$C,$D20),\"0\")","v":"0"},{"$f":"IF('Unit 19'!$C$7=$D$58,COUNTIF('Unit 19'!$C:$C,$D20),\"0\")","v":"0"},{"$f":"IF('Unit 20'!$C$7=$D$58,COUNTIF('Unit 20'!$C:$C,$D20),\"0\")","v":"0"},{"$f":"IF('Unit 21'!$C$7=$D$58,COUNTIF('Unit 21'!$C:$C,$D20),\"0\")","v":"0"},{"$f":"IF('Unit 22'!$C$7=$D$58,COUNTIF('Unit 22'!$C:$C,$D20),\"0\")","v":"0"},{"$f":"IF('Unit 23'!$C$7=$D$58,COUNTIF('Unit 23'!$C:$C,$D20),\"0\")","v":"0"},{"$f":"IF('Unit 24'!$C$7=$D$58,COUNTIF('Unit 24'!$C:$C,$D20),\"0\")","v":"0"},{"$f":"IF('Unit 25'!$C$7=$D$58,COUNTIF('Unit 25'!$C:$C,$D20),\"0\")","v":"0"},{"$f":"IF('Unit 26'!$C$7=$D$58,COUNTIF('Unit 26'!$C:$C,$D20),\"0\")","v":"0"},{"$f":"IF('Unit 27'!$C$7=$D$58,COUNTIF('Unit 27'!$C:$C,$D20),\"0\")","v":"0"},{"$f":"IF('Unit 28'!$C$7=$D$58,COUNTIF('Unit 28'!$C:$C,$D20),\"0\")","v":"0"},{"$f":"IF('Unit 29'!$C$7=$D$58,COUNTIF('Unit 29'!$C:$C,$D20),\"0\")","v":"0"},{"$f":"IF('Unit 30'!$C$7=$D$58,COUNTIF('Unit 30'!$C:$C,$D20),\"0\")","v":"0"},{"$f":"IF('Unit 31'!$C$7=$D$58,COUNTIF('Unit 31'!$C:$C,$D20),\"0\")","v":"0"},{"$f":"IF('Unit 32'!$C$7=$D$58,COUNTIF('Unit 32'!$C:$C,$D20),\"0\")","v":"0"},{"$f":"IF('Unit 33'!$C$7=$D$58,COUNTIF('Unit 33'!$C:$C,$D20),\"0\")","v":"0"},{"$f":"IF('Unit 34'!$C$7=$D$58,COUNTIF('Unit 34'!$C:$C,$D20),\"0\")","v":"0"},{"$f":"IF('Unit 35'!$C$7=$D$58,COUNTIF('Unit 35'!$C:$C,$D20),\"0\")","v":"0"},{"$f":"IF('Unit 36'!$C$7=$D$58,COUNTIF('Unit 36'!$C:$C,$D20),\"0\")","v":"0"},{"$f":"IF('Unit 37'!$C$7=$D$58,COUNTIF('Unit 37'!$C:$C,$D20),\"0\")","v":"0"},{"$f":"IF('Unit 38'!$C$7=$D$58,COUNTIF('Unit 38'!$C:$C,$D20),\"0\")","v":"0"},0,null,{"$f":"IF('Unit 1'!$C$7=$D$59,COUNTIF('Unit 1'!$C:$C,$D20),\"0\")","v":"0"},{"$f":"IF('Unit 2'!$C$7=$D$59,COUNTIF('Unit 2'!$C:$C,$D20),\"0\")","v":"0"},{"$f":"IF('Unit 3'!$C$7=$D$59,COUNTIF('Unit 3'!$C:$C,$D20),\"0\")","v":"0"},{"$f":"IF('Unit 4'!$C$7=$D$59,COUNTIF('Unit 4'!$C:$C,$D20),\"0\")","v":"0"},{"$f":"IF('Unit 5'!$C$7=$D$59,COUNTIF('Unit 5'!$C:$C,$D20),\"0\")","v":"0"},{"$f":"IF('Unit 6'!$C$7=$D$59,COUNTIF('Unit 6'!$C:$C,$D20),\"0\")","v":"0"},{"$f":"IF('Unit 7'!$C$7=$D$59,COUNTIF('Unit 7'!$C:$C,$D20),\"0\")","v":"0"},{"$f":"IF('Unit 8'!$C$7=$D$59,COUNTIF('Unit 8'!$C:$C,$D20),\"0\")","v":"0"},{"$f":"IF('Unit 9'!$C$7=$D$59,COUNTIF('Unit 9'!$C:$C,$D20),\"0\")","v":"0"},{"$f":"IF('Unit 10'!$C$7=$D$59,COUNTIF('Unit 10'!$C:$C,$D20),\"0\")","v":"0"},{"$f":"IF('Unit 11'!$C$7=$D$59,COUNTIF('Unit 11'!$C:$C,$D20),\"0\")","v":"0"},{"$f":"IF('Unit 12'!$C$7=$D$59,COUNTIF('Unit 12'!$C:$C,$D20),\"0\")","v":"0"},{"$f":"IF('Unit 13'!$C$7=$D$59,COUNTIF('Unit 13'!$C:$C,$D20),\"0\")","v":"0"},{"$f":"IF('Unit 14'!$C$7=$D$59,COUNTIF('Unit 14'!$C:$C,$D20),\"0\")","v":"0"},{"$f":"IF('Unit 15'!$C$7=$D$59,COUNTIF('Unit 15'!$C:$C,$D20),\"0\")","v":"0"},{"$f":"IF('Unit 16'!$C$7=$D$59,COUNTIF('Unit 16'!$C:$C,$D20),\"0\")","v":"0"},{"$f":"IF('Unit 17'!$C$7=$D$59,COUNTIF('Unit 17'!$C:$C,$D20),\"0\")","v":"0"},{"$f":"IF('Unit 18'!$C$7=$D$59,COUNTIF('Unit 18'!$C:$C,$D20),\"0\")","v":"0"},{"$f":"IF('Unit 19'!$C$7=$D$59,COUNTIF('Unit 19'!$C:$C,$D20),\"0\")","v":"0"},{"$f":"IF('Unit 20'!$C$7=$D$59,COUNTIF('Unit 20'!$C:$C,$D20),\"0\")","v":"0"},{"$f":"IF('Unit 21'!$C$7=$D$59,COUNTIF('Unit 21'!$C:$C,$D20),\"0\")","v":"0"},{"$f":"IF('Unit 22'!$C$7=$D$59,COUNTIF('Unit 22'!$C:$C,$D20),\"0\")","v":"0"},{"$f":"IF('Unit 23'!$C$7=$D$59,COUNTIF('Unit 23'!$C:$C,$D20),\"0\")","v":"0"},{"$f":"IF('Unit 24'!$C$7=$D$59,COUNTIF('Unit 24'!$C:$C,$D20),\"0\")","v":"0"},{"$f":"IF('Unit 25'!$C$7=$D$59,COUNTIF('Unit 25'!$C:$C,$D20),\"0\")","v":"0"},{"$f":"IF('Unit 26'!$C$7=$D$59,COUNTIF('Unit 26'!$C:$C,$D20),\"0\")","v":"0"},{"$f":"IF('Unit 27'!$C$7=$D$59,COUNTIF('Unit 27'!$C:$C,$D20),\"0\")","v":"0"},{"$f":"IF('Unit 28'!$C$7=$D$59,COUNTIF('Unit 28'!$C:$C,$D20),\"0\")","v":"0"},{"$f":"IF('Unit 29'!$C$7=$D$59,COUNTIF('Unit 29'!$C:$C,$D20),\"0\")","v":"0"},{"$f":"IF('Unit 30'!$C$7=$D$59,COUNTIF('Unit 30'!$C:$C,$D20),\"0\")","v":"0"},{"$f":"IF('Unit 31'!$C$7=$D$59,COUNTIF('Unit 31'!$C:$C,$D20),\"0\")","v":"0"},{"$f":"IF('Unit 32'!$C$7=$D$59,COUNTIF('Unit 32'!$C:$C,$D20),\"0\")","v":"0"},{"$f":"IF('Unit 33'!$C$7=$D$59,COUNTIF('Unit 33'!$C:$C,$D20),\"0\")","v":"0"},{"$f":"IF('Unit 34'!$C$7=$D$59,COUNTIF('Unit 34'!$C:$C,$D20),\"0\")","v":"0"},{"$f":"IF('Unit 35'!$C$7=$D$59,COUNTIF('Unit 35'!$C:$C,$D20),\"0\")","v":"0"},{"$f":"IF('Unit 36'!$C$7=$D$59,COUNTIF('Unit 36'!$C:$C,$D20),\"0\")","v":"0"},{"$f":"IF('Unit 37'!$C$7=$D$59,COUNTIF('Unit 37'!$C:$C,$D20),\"0\")","v":"0"},{"$f":"IF('Unit 38'!$C$7=$D$59,COUNTIF('Unit 38'!$C:$C,$D20),\"0\")","v":"0"},0,null,{"$f":"IF('Unit 1'!$C$7=$D$60,COUNTIF('Unit 1'!$C:$C,$D20),\"0\")","v":"0"},{"$f":"IF('Unit 2'!$C$7=$D$60,COUNTIF('Unit 2'!$C:$C,$D20),\"0\")","v":"0"},{"$f":"IF('Unit 3'!$C$7=$D$60,COUNTIF('Unit 3'!$C:$C,$D20),\"0\")","v":"0"},{"$f":"IF('Unit 4'!$C$7=$D$60,COUNTIF('Unit 4'!$C:$C,$D20),\"0\")","v":"0"},{"$f":"IF('Unit 5'!$C$7=$D$60,COUNTIF('Unit 5'!$C:$C,$D20),\"0\")","v":"0"},{"$f":"IF('Unit 6'!$C$7=$D$60,COUNTIF('Unit 6'!$C:$C,$D20),\"0\")","v":"0"},{"$f":"IF('Unit 7'!$C$7=$D$60,COUNTIF('Unit 7'!$C:$C,$D20),\"0\")","v":"0"},{"$f":"IF('Unit 8'!$C$7=$D$60,COUNTIF('Unit 8'!$C:$C,$D20),\"0\")","v":"0"},{"$f":"IF('Unit 9'!$C$7=$D$60,COUNTIF('Unit 9'!$C:$C,$D20),\"0\")","v":"0"},{"$f":"IF('Unit 10'!$C$7=$D$60,COUNTIF('Unit 10'!$C:$C,$D20),\"0\")","v":"0"},{"$f":"IF('Unit 11'!$C$7=$D$60,COUNTIF('Unit 11'!$C:$C,$D20),\"0\")","v":"0"},{"$f":"IF('Unit 12'!$C$7=$D$60,COUNTIF('Unit 12'!$C:$C,$D20),\"0\")","v":"0"},{"$f":"IF('Unit 13'!$C$7=$D$60,COUNTIF('Unit 13'!$C:$C,$D20),\"0\")","v":"0"},{"$f":"IF('Unit 14'!$C$7=$D$60,COUNTIF('Unit 14'!$C:$C,$D20),\"0\")","v":"0"},{"$f":"IF('Unit 15'!$C$7=$D$60,COUNTIF('Unit 15'!$C:$C,$D20),\"0\")","v":"0"},{"$f":"IF('Unit 16'!$C$7=$D$60,COUNTIF('Unit 16'!$C:$C,$D20),\"0\")","v":"0"},{"$f":"IF('Unit 17'!$C$7=$D$60,COUNTIF('Unit 17'!$C:$C,$D20),\"0\")","v":"0"},{"$f":"IF('Unit 18'!$C$7=$D$60,COUNTIF('Unit 18'!$C:$C,$D20),\"0\")","v":"0"},{"$f":"IF('Unit 19'!$C$7=$D$60,COUNTIF('Unit 19'!$C:$C,$D20),\"0\")","v":"0"},{"$f":"IF('Unit 20'!$C$7=$D$60,COUNTIF('Unit 20'!$C:$C,$D20),\"0\")","v":"0"},{"$f":"IF('Unit 21'!$C$7=$D$60,COUNTIF('Unit 21'!$C:$C,$D20),\"0\")","v":"0"},{"$f":"IF('Unit 22'!$C$7=$D$60,COUNTIF('Unit 22'!$C:$C,$D20),\"0\")","v":"0"},{"$f":"IF('Unit 23'!$C$7=$D$60,COUNTIF('Unit 23'!$C:$C,$D20),\"0\")","v":"0"},{"$f":"IF('Unit 24'!$C$7=$D$60,COUNTIF('Unit 24'!$C:$C,$D20),\"0\")","v":"0"},{"$f":"IF('Unit 25'!$C$7=$D$60,COUNTIF('Unit 25'!$C:$C,$D20),\"0\")","v":"0"},{"$f":"IF('Unit 26'!$C$7=$D$60,COUNTIF('Unit 26'!$C:$C,$D20),\"0\")","v":"0"},{"$f":"IF('Unit 27'!$C$7=$D$60,COUNTIF('Unit 27'!$C:$C,$D20),\"0\")","v":"0"},{"$f":"IF('Unit 28'!$C$7=$D$60,COUNTIF('Unit 28'!$C:$C,$D20),\"0\")","v":"0"},{"$f":"IF('Unit 29'!$C$7=$D$60,COUNTIF('Unit 29'!$C:$C,$D20),\"0\")","v":"0"},{"$f":"IF('Unit 30'!$C$7=$D$60,COUNTIF('Unit 30'!$C:$C,$D20),\"0\")","v":"0"},{"$f":"IF('Unit 31'!$C$7=$D$60,COUNTIF('Unit 31'!$C:$C,$D20),\"0\")","v":"0"},{"$f":"IF('Unit 32'!$C$7=$D$60,COUNTIF('Unit 32'!$C:$C,$D20),\"0\")","v":"0"},{"$f":"IF('Unit 33'!$C$7=$D$60,COUNTIF('Unit 33'!$C:$C,$D20),\"0\")","v":"0"},{"$f":"IF('Unit 34'!$C$7=$D$60,COUNTIF('Unit 34'!$C:$C,$D20),\"0\")","v":"0"},{"$f":"IF('Unit 35'!$C$7=$D$60,COUNTIF('Unit 35'!$C:$C,$D20),\"0\")","v":"0"},{"$f":"IF('Unit 36'!$C$7=$D$60,COUNTIF('Unit 36'!$C:$C,$D20),\"0\")","v":"0"},{"$f":"IF('Unit 37'!$C$7=$D$60,COUNTIF('Unit 37'!$C:$C,$D20),\"0\")","v":"0"},{"$f":"IF('Unit 38'!$C$7=$D$60,COUNTIF('Unit 38'!$C:$C,$D20),\"0\")","v":"0"},0]
[null,null,"1.12","1.12 interpret working drawings ","Interpret: use knowledge and understanding to recognise trends and draw conclusions from given information",{"$f":"COUNTIF('Unit 1'!C:C,$D21)","v":0},{"$f":"COUNTIF('Unit 2'!C:C,D21)","v":0},{"$f":"COUNTIF('Unit 3'!C:C,D21)","v":0},{"$f":"COUNTIF('Unit 4'!C:C,D21)","v":0},{"$f":"COUNTIF('Unit 5'!C:C,D21)","v":0},{"$f":"COUNTIF('Unit 6'!C:C,D21)","v":0},{"$f":"COUNTIF('Unit 7'!C:C,D21)","v":0},{"$f":"COUNTIF('Unit 8'!C:C,D21)","v":0},{"$f":"COUNTIF('Unit 9'!C:C,D21)","v":0},{"$f":"COUNTIF('Unit 10'!C:C,D21)","v":0},{"$f":"COUNTIF('Unit 11'!C:C,D21)","v":0},{"$f":"COUNTIF('Unit 12'!C:C,D21)","v":0},{"$f":"COUNTIF('Unit 13'!C:C,D21)","v":0},{"$f":"COUNTIF('Unit 14'!C:C,D21)","v":0},{"$f":"COUNTIF('Unit 15'!C:C,D21)","v":0},{"$f":"COUNTIF('Unit 16'!C:C,D21)","v":0},{"$f":"COUNTIF('Unit 17'!C:C,D21)","v":0},{"$f":"COUNTIF('Unit 18'!C:C,D21)","v":0},{"$f":"COUNTIF('Unit 19'!C:C,D21)","v":0},{"$f":"COUNTIF('Unit 20'!C:C,D21)","v":0},{"$f":"COUNTIF('Unit 21'!C:C,D21)","v":0},{"$f":"COUNTIF('Unit 22'!C:C,D21)","v":0},{"$f":"COUNTIF('Unit 23'!C:C,D21)","v":0},{"$f":"COUNTIF('Unit 24'!C:C,D21)","v":0},{"$f":"COUNTIF('Unit 25'!C:C,D21)","v":0},{"$f":"COUNTIF('Unit 26'!C:C,D21)","v":0},{"$f":"COUNTIF('Unit 27'!C:C,D21)","v":0},{"$f":"COUNTIF('Unit 28'!C:C,D21)","v":0},{"$f":"COUNTIF('Unit 29'!C:C,D21)","v":0},{"$f":"COUNTIF('Unit 30'!C:C,D21)","v":0},{"$f":"COUNTIF('Unit 31'!C:C,D21)","v":0},{"$f":"COUNTIF('Unit 32'!C:C,D21)","v":0},{"$f":"COUNTIF('Unit 33'!C:C,D21)","v":0},{"$f":"COUNTIF('Unit 34'!C:C,D21)","v":0},{"$f":"COUNTIF('Unit 35'!C:C,D21)","v":0},{"$f":"COUNTIF('Unit 36'!C:C,D21)","v":0},{"$f":"COUNTIF('Unit 37'!C:C,D21)","v":0},{"$f":"COUNTIF('Unit 38'!C:C,D21)","v":0},0,null,{"$f":"IF('Unit 1'!$C$7=$D$58,COUNTIF('Unit 1'!$C:$C,$D21),\"0\")","v":"0"},{"$f":"IF('Unit 2'!$C$7=$D$58,COUNTIF('Unit 2'!$C:$C,$D21),\"0\")","v":"0"},{"$f":"IF('Unit 3'!$C$7=$D$58,COUNTIF('Unit 3'!$C:$C,$D21),\"0\")","v":"0"},{"$f":"IF('Unit 4'!$C$7=$D$58,COUNTIF('Unit 4'!$C:$C,$D21),\"0\")","v":"0"},{"$f":"IF('Unit 5'!$C$7=$D$58,COUNTIF('Unit 5'!$C:$C,$D21),\"0\")","v":"0"},{"$f":"IF('Unit 6'!$C$7=$D$58,COUNTIF('Unit 6'!$C:$C,$D21),\"0\")","v":"0"},{"$f":"IF('Unit 7'!$C$7=$D$58,COUNTIF('Unit 7'!$C:$C,$D21),\"0\")","v":"0"},{"$f":"IF('Unit 8'!$C$7=$D$58,COUNTIF('Unit 8'!$C:$C,$D21),\"0\")","v":"0"},{"$f":"IF('Unit 9'!$C$7=$D$58,COUNTIF('Unit 9'!$C:$C,$D21),\"0\")","v":"0"},{"$f":"IF('Unit 10'!$C$7=$D$58,COUNTIF('Unit 10'!$C:$C,$D21),\"0\")","v":"0"},{"$f":"IF('Unit 11'!$C$7=$D$58,COUNTIF('Unit 11'!$C:$C,$D21),\"0\")","v":"0"},{"$f":"IF('Unit 12'!$C$7=$D$58,COUNTIF('Unit 12'!$C:$C,$D21),\"0\")","v":"0"},{"$f":"IF('Unit 13'!$C$7=$D$58,COUNTIF('Unit 13'!$C:$C,$D21),\"0\")","v":"0"},{"$f":"IF('Unit 14'!$C$7=$D$58,COUNTIF('Unit 14'!$C:$C,$D21),\"0\")","v":"0"},{"$f":"IF('Unit 15'!$C$7=$D$58,COUNTIF('Unit 15'!$C:$C,$D21),\"0\")","v":"0"},{"$f":"IF('Unit 16'!$C$7=$D$58,COUNTIF('Unit 16'!$C:$C,$D21),\"0\")","v":"0"},{"$f":"IF('Unit 17'!$C$7=$D$58,COUNTIF('Unit 17'!$C:$C,$D21),\"0\")","v":"0"},{"$f":"IF('Unit 18'!$C$7=$D$58,COUNTIF('Unit 18'!$C:$C,$D21),\"0\")","v":"0"},{"$f":"IF('Unit 19'!$C$7=$D$58,COUNTIF('Unit 19'!$C:$C,$D21),\"0\")","v":"0"},{"$f":"IF('Unit 20'!$C$7=$D$58,COUNTIF('Unit 20'!$C:$C,$D21),\"0\")","v":"0"},{"$f":"IF('Unit 21'!$C$7=$D$58,COUNTIF('Unit 21'!$C:$C,$D21),\"0\")","v":"0"},{"$f":"IF('Unit 22'!$C$7=$D$58,COUNTIF('Unit 22'!$C:$C,$D21),\"0\")","v":"0"},{"$f":"IF('Unit 23'!$C$7=$D$58,COUNTIF('Unit 23'!$C:$C,$D21),\"0\")","v":"0"},{"$f":"IF('Unit 24'!$C$7=$D$58,COUNTIF('Unit 24'!$C:$C,$D21),\"0\")","v":"0"},{"$f":"IF('Unit 25'!$C$7=$D$58,COUNTIF('Unit 25'!$C:$C,$D21),\"0\")","v":"0"},{"$f":"IF('Unit 26'!$C$7=$D$58,COUNTIF('Unit 26'!$C:$C,$D21),\"0\")","v":"0"},{"$f":"IF('Unit 27'!$C$7=$D$58,COUNTIF('Unit 27'!$C:$C,$D21),\"0\")","v":"0"},{"$f":"IF('Unit 28'!$C$7=$D$58,COUNTIF('Unit 28'!$C:$C,$D21),\"0\")","v":"0"},{"$f":"IF('Unit 29'!$C$7=$D$58,COUNTIF('Unit 29'!$C:$C,$D21),\"0\")","v":"0"},{"$f":"IF('Unit 30'!$C$7=$D$58,COUNTIF('Unit 30'!$C:$C,$D21),\"0\")","v":"0"},{"$f":"IF('Unit 31'!$C$7=$D$58,COUNTIF('Unit 31'!$C:$C,$D21),\"0\")","v":"0"},{"$f":"IF('Unit 32'!$C$7=$D$58,COUNTIF('Unit 32'!$C:$C,$D21),\"0\")","v":"0"},{"$f":"IF('Unit 33'!$C$7=$D$58,COUNTIF('Unit 33'!$C:$C,$D21),\"0\")","v":"0"},{"$f":"IF('Unit 34'!$C$7=$D$58,COUNTIF('Unit 34'!$C:$C,$D21),\"0\")","v":"0"},{"$f":"IF('Unit 35'!$C$7=$D$58,COUNTIF('Unit 35'!$C:$C,$D21),\"0\")","v":"0"},{"$f":"IF('Unit 36'!$C$7=$D$58,COUNTIF('Unit 36'!$C:$C,$D21),\"0\")","v":"0"},{"$f":"IF('Unit 37'!$C$7=$D$58,COUNTIF('Unit 37'!$C:$C,$D21),\"0\")","v":"0"},{"$f":"IF('Unit 38'!$C$7=$D$58,COUNTIF('Unit 38'!$C:$C,$D21),\"0\")","v":"0"},0,null,{"$f":"IF('Unit 1'!$C$7=$D$59,COUNTIF('Unit 1'!$C:$C,$D21),\"0\")","v":"0"},{"$f":"IF('Unit 2'!$C$7=$D$59,COUNTIF('Unit 2'!$C:$C,$D21),\"0\")","v":"0"},{"$f":"IF('Unit 3'!$C$7=$D$59,COUNTIF('Unit 3'!$C:$C,$D21),\"0\")","v":"0"},{"$f":"IF('Unit 4'!$C$7=$D$59,COUNTIF('Unit 4'!$C:$C,$D21),\"0\")","v":"0"},{"$f":"IF('Unit 5'!$C$7=$D$59,COUNTIF('Unit 5'!$C:$C,$D21),\"0\")","v":"0"},{"$f":"IF('Unit 6'!$C$7=$D$59,COUNTIF('Unit 6'!$C:$C,$D21),\"0\")","v":"0"},{"$f":"IF('Unit 7'!$C$7=$D$59,COUNTIF('Unit 7'!$C:$C,$D21),\"0\")","v":"0"},{"$f":"IF('Unit 8'!$C$7=$D$59,COUNTIF('Unit 8'!$C:$C,$D21),\"0\")","v":"0"},{"$f":"IF('Unit 9'!$C$7=$D$59,COUNTIF('Unit 9'!$C:$C,$D21),\"0\")","v":"0"},{"$f":"IF('Unit 10'!$C$7=$D$59,COUNTIF('Unit 10'!$C:$C,$D21),\"0\")","v":"0"},{"$f":"IF('Unit 11'!$C$7=$D$59,COUNTIF('Unit 11'!$C:$C,$D21),\"0\")","v":"0"},{"$f":"IF('Unit 12'!$C$7=$D$59,COUNTIF('Unit 12'!$C:$C,$D21),\"0\")","v":"0"},{"$f":"IF('Unit 13'!$C$7=$D$59,COUNTIF('Unit 13'!$C:$C,$D21),\"0\")","v":"0"},{"$f":"IF('Unit 14'!$C$7=$D$59,COUNTIF('Unit 14'!$C:$C,$D21),\"0\")","v":"0"},{"$f":"IF('Unit 15'!$C$7=$D$59,COUNTIF('Unit 15'!$C:$C,$D21),\"0\")","v":"0"},{"$f":"IF('Unit 16'!$C$7=$D$59,COUNTIF('Unit 16'!$C:$C,$D21),\"0\")","v":"0"},{"$f":"IF('Unit 17'!$C$7=$D$59,COUNTIF('Unit 17'!$C:$C,$D21),\"0\")","v":"0"},{"$f":"IF('Unit 18'!$C$7=$D$59,COUNTIF('Unit 18'!$C:$C,$D21),\"0\")","v":"0"},{"$f":"IF('Unit 19'!$C$7=$D$59,COUNTIF('Unit 19'!$C:$C,$D21),\"0\")","v":"0"},{"$f":"IF('Unit 20'!$C$7=$D$59,COUNTIF('Unit 20'!$C:$C,$D21),\"0\")","v":"0"},{"$f":"IF('Unit 21'!$C$7=$D$59,COUNTIF('Unit 21'!$C:$C,$D21),\"0\")","v":"0"},{"$f":"IF('Unit 22'!$C$7=$D$59,COUNTIF('Unit 22'!$C:$C,$D21),\"0\")","v":"0"},{"$f":"IF('Unit 23'!$C$7=$D$59,COUNTIF('Unit 23'!$C:$C,$D21),\"0\")","v":"0"},{"$f":"IF('Unit 24'!$C$7=$D$59,COUNTIF('Unit 24'!$C:$C,$D21),\"0\")","v":"0"},{"$f":"IF('Unit 25'!$C$7=$D$59,COUNTIF('Unit 25'!$C:$C,$D21),\"0\")","v":"0"},{"$f":"IF('Unit 26'!$C$7=$D$59,COUNTIF('Unit 26'!$C:$C,$D21),\"0\")","v":"0"},{"$f":"IF('Unit 27'!$C$7=$D$59,COUNTIF('Unit 27'!$C:$C,$D21),\"0\")","v":"0"},{"$f":"IF('Unit 28'!$C$7=$D$59,COUNTIF('Unit 28'!$C:$C,$D21),\"0\")","v":"0"},{"$f":"IF('Unit 29'!$C$7=$D$59,COUNTIF('Unit 29'!$C:$C,$D21),\"0\")","v":"0"},{"$f":"IF('Unit 30'!$C$7=$D$59,COUNTIF('Unit 30'!$C:$C,$D21),\"0\")","v":"0"},{"$f":"IF('Unit 31'!$C$7=$D$59,COUNTIF('Unit 31'!$C:$C,$D21),\"0\")","v":"0"},{"$f":"IF('Unit 32'!$C$7=$D$59,COUNTIF('Unit 32'!$C:$C,$D21),\"0\")","v":"0"},{"$f":"IF('Unit 33'!$C$7=$D$59,COUNTIF('Unit 33'!$C:$C,$D21),\"0\")","v":"0"},{"$f":"IF('Unit 34'!$C$7=$D$59,COUNTIF('Unit 34'!$C:$C,$D21),\"0\")","v":"0"},{"$f":"IF('Unit 35'!$C$7=$D$59,COUNTIF('Unit 35'!$C:$C,$D21),\"0\")","v":"0"},{"$f":"IF('Unit 36'!$C$7=$D$59,COUNTIF('Unit 36'!$C:$C,$D21),\"0\")","v":"0"},{"$f":"IF('Unit 37'!$C$7=$D$59,COUNTIF('Unit 37'!$C:$C,$D21),\"0\")","v":"0"},{"$f":"IF('Unit 38'!$C$7=$D$59,COUNTIF('Unit 38'!$C:$C,$D21),\"0\")","v":"0"},0,null,{"$f":"IF('Unit 1'!$C$7=$D$60,COUNTIF('Unit 1'!$C:$C,$D21),\"0\")","v":"0"},{"$f":"IF('Unit 2'!$C$7=$D$60,COUNTIF('Unit 2'!$C:$C,$D21),\"0\")","v":"0"},{"$f":"IF('Unit 3'!$C$7=$D$60,COUNTIF('Unit 3'!$C:$C,$D21),\"0\")","v":"0"},{"$f":"IF('Unit 4'!$C$7=$D$60,COUNTIF('Unit 4'!$C:$C,$D21),\"0\")","v":"0"},{"$f":"IF('Unit 5'!$C$7=$D$60,COUNTIF('Unit 5'!$C:$C,$D21),\"0\")","v":"0"},{"$f":"IF('Unit 6'!$C$7=$D$60,COUNTIF('Unit 6'!$C:$C,$D21),\"0\")","v":"0"},{"$f":"IF('Unit 7'!$C$7=$D$60,COUNTIF('Unit 7'!$C:$C,$D21),\"0\")","v":"0"},{"$f":"IF('Unit 8'!$C$7=$D$60,COUNTIF('Unit 8'!$C:$C,$D21),\"0\")","v":"0"},{"$f":"IF('Unit 9'!$C$7=$D$60,COUNTIF('Unit 9'!$C:$C,$D21),\"0\")","v":"0"},{"$f":"IF('Unit 10'!$C$7=$D$60,COUNTIF('Unit 10'!$C:$C,$D21),\"0\")","v":"0"},{"$f":"IF('Unit 11'!$C$7=$D$60,COUNTIF('Unit 11'!$C:$C,$D21),\"0\")","v":"0"},{"$f":"IF('Unit 12'!$C$7=$D$60,COUNTIF('Unit 12'!$C:$C,$D21),\"0\")","v":"0"},{"$f":"IF('Unit 13'!$C$7=$D$60,COUNTIF('Unit 13'!$C:$C,$D21),\"0\")","v":"0"},{"$f":"IF('Unit 14'!$C$7=$D$60,COUNTIF('Unit 14'!$C:$C,$D21),\"0\")","v":"0"},{"$f":"IF('Unit 15'!$C$7=$D$60,COUNTIF('Unit 15'!$C:$C,$D21),\"0\")","v":"0"},{"$f":"IF('Unit 16'!$C$7=$D$60,COUNTIF('Unit 16'!$C:$C,$D21),\"0\")","v":"0"},{"$f":"IF('Unit 17'!$C$7=$D$60,COUNTIF('Unit 17'!$C:$C,$D21),\"0\")","v":"0"},{"$f":"IF('Unit 18'!$C$7=$D$60,COUNTIF('Unit 18'!$C:$C,$D21),\"0\")","v":"0"},{"$f":"IF('Unit 19'!$C$7=$D$60,COUNTIF('Unit 19'!$C:$C,$D21),\"0\")","v":"0"},{"$f":"IF('Unit 20'!$C$7=$D$60,COUNTIF('Unit 20'!$C:$C,$D21),\"0\")","v":"0"},{"$f":"IF('Unit 21'!$C$7=$D$60,COUNTIF('Unit 21'!$C:$C,$D21),\"0\")","v":"0"},{"$f":"IF('Unit 22'!$C$7=$D$60,COUNTIF('Unit 22'!$C:$C,$D21),\"0\")","v":"0"},{"$f":"IF('Unit 23'!$C$7=$D$60,COUNTIF('Unit 23'!$C:$C,$D21),\"0\")","v":"0"},{"$f":"IF('Unit 24'!$C$7=$D$60,COUNTIF('Unit 24'!$C:$C,$D21),\"0\")","v":"0"},{"$f":"IF('Unit 25'!$C$7=$D$60,COUNTIF('Unit 25'!$C:$C,$D21),\"0\")","v":"0"},{"$f":"IF('Unit 26'!$C$7=$D$60,COUNTIF('Unit 26'!$C:$C,$D21),\"0\")","v":"0"},{"$f":"IF('Unit 27'!$C$7=$D$60,COUNTIF('Unit 27'!$C:$C,$D21),\"0\")","v":"0"},{"$f":"IF('Unit 28'!$C$7=$D$60,COUNTIF('Unit 28'!$C:$C,$D21),\"0\")","v":"0"},{"$f":"IF('Unit 29'!$C$7=$D$60,COUNTIF('Unit 29'!$C:$C,$D21),\"0\")","v":"0"},{"$f":"IF('Unit 30'!$C$7=$D$60,COUNTIF('Unit 30'!$C:$C,$D21),\"0\")","v":"0"},{"$f":"IF('Unit 31'!$C$7=$D$60,COUNTIF('Unit 31'!$C:$C,$D21),\"0\")","v":"0"},{"$f":"IF('Unit 32'!$C$7=$D$60,COUNTIF('Unit 32'!$C:$C,$D21),\"0\")","v":"0"},{"$f":"IF('Unit 33'!$C$7=$D$60,COUNTIF('Unit 33'!$C:$C,$D21),\"0\")","v":"0"},{"$f":"IF('Unit 34'!$C$7=$D$60,COUNTIF('Unit 34'!$C:$C,$D21),\"0\")","v":"0"},{"$f":"IF('Unit 35'!$C$7=$D$60,COUNTIF('Unit 35'!$C:$C,$D21),\"0\")","v":"0"},{"$f":"IF('Unit 36'!$C$7=$D$60,COUNTIF('Unit 36'!$C:$C,$D21),\"0\")","v":"0"},{"$f":"IF('Unit 37'!$C$7=$D$60,COUNTIF('Unit 37'!$C:$C,$D21),\"0\")","v":"0"},{"$f":"IF('Unit 38'!$C$7=$D$60,COUNTIF('Unit 38'!$C:$C,$D21),\"0\")","v":"0"},0]
[null,null,"1.13","1.13 use appropriate technical language and notations","Use: apply knowledge or rules to put theory into practice; employ something in a targeted way",{"$f":"COUNTIF('Unit 1'!C:C,$D22)","v":0},{"$f":"COUNTIF('Unit 2'!C:C,D22)","v":0},{"$f":"COUNTIF('Unit 3'!C:C,D22)","v":0},{"$f":"COUNTIF('Unit 4'!C:C,D22)","v":0},{"$f":"COUNTIF('Unit 5'!C:C,D22)","v":0},{"$f":"COUNTIF('Unit 6'!C:C,D22)","v":0},{"$f":"COUNTIF('Unit 7'!C:C,D22)","v":0},{"$f":"COUNTIF('Unit 8'!C:C,D22)","v":0},{"$f":"COUNTIF('Unit 9'!C:C,D22)","v":0},{"$f":"COUNTIF('Unit 10'!C:C,D22)","v":0},{"$f":"COUNTIF('Unit 11'!C:C,D22)","v":0},{"$f":"COUNTIF('Unit 12'!C:C,D22)","v":0},{"$f":"COUNTIF('Unit 13'!C:C,D22)","v":0},{"$f":"COUNTIF('Unit 14'!C:C,D22)","v":0},{"$f":"COUNTIF('Unit 15'!C:C,D22)","v":0},{"$f":"COUNTIF('Unit 16'!C:C,D22)","v":0},{"$f":"COUNTIF('Unit 17'!C:C,D22)","v":0},{"$f":"COUNTIF('Unit 18'!C:C,D22)","v":0},{"$f":"COUNTIF('Unit 19'!C:C,D22)","v":0},{"$f":"COUNTIF('Unit 20'!C:C,D22)","v":0},{"$f":"COUNTIF('Unit 21'!C:C,D22)","v":0},{"$f":"COUNTIF('Unit 22'!C:C,D22)","v":0},{"$f":"COUNTIF('Unit 23'!C:C,D22)","v":0},{"$f":"COUNTIF('Unit 24'!C:C,D22)","v":0},{"$f":"COUNTIF('Unit 25'!C:C,D22)","v":0},{"$f":"COUNTIF('Unit 26'!C:C,D22)","v":0},{"$f":"COUNTIF('Unit 27'!C:C,D22)","v":0},{"$f":"COUNTIF('Unit 28'!C:C,D22)","v":0},{"$f":"COUNTIF('Unit 29'!C:C,D22)","v":0},{"$f":"COUNTIF('Unit 30'!C:C,D22)","v":0},{"$f":"COUNTIF('Unit 31'!C:C,D22)","v":0},{"$f":"COUNTIF('Unit 32'!C:C,D22)","v":0},{"$f":"COUNTIF('Unit 33'!C:C,D22)","v":0},{"$f":"COUNTIF('Unit 34'!C:C,D22)","v":0},{"$f":"COUNTIF('Unit 35'!C:C,D22)","v":0},{"$f":"COUNTIF('Unit 36'!C:C,D22)","v":0},{"$f":"COUNTIF('Unit 37'!C:C,D22)","v":0},{"$f":"COUNTIF('Unit 38'!C:C,D22)","v":0},0,null,{"$f":"IF('Unit 1'!$C$7=$D$58,COUNTIF('Unit 1'!$C:$C,$D22),\"0\")","v":"0"},{"$f":"IF('Unit 2'!$C$7=$D$58,COUNTIF('Unit 2'!$C:$C,$D22),\"0\")","v":"0"},{"$f":"IF('Unit 3'!$C$7=$D$58,COUNTIF('Unit 3'!$C:$C,$D22),\"0\")","v":"0"},{"$f":"IF('Unit 4'!$C$7=$D$58,COUNTIF('Unit 4'!$C:$C,$D22),\"0\")","v":"0"},{"$f":"IF('Unit 5'!$C$7=$D$58,COUNTIF('Unit 5'!$C:$C,$D22),\"0\")","v":"0"},{"$f":"IF('Unit 6'!$C$7=$D$58,COUNTIF('Unit 6'!$C:$C,$D22),\"0\")","v":"0"},{"$f":"IF('Unit 7'!$C$7=$D$58,COUNTIF('Unit 7'!$C:$C,$D22),\"0\")","v":"0"},{"$f":"IF('Unit 8'!$C$7=$D$58,COUNTIF('Unit 8'!$C:$C,$D22),\"0\")","v":"0"},{"$f":"IF('Unit 9'!$C$7=$D$58,COUNTIF('Unit 9'!$C:$C,$D22),\"0\")","v":"0"},{"$f":"IF('Unit 10'!$C$7=$D$58,COUNTIF('Unit 10'!$C:$C,$D22),\"0\")","v":"0"},{"$f":"IF('Unit 11'!$C$7=$D$58,COUNTIF('Unit 11'!$C:$C,$D22),\"0\")","v":"0"},{"$f":"IF('Unit 12'!$C$7=$D$58,COUNTIF('Unit 12'!$C:$C,$D22),\"0\")","v":"0"},{"$f":"IF('Unit 13'!$C$7=$D$58,COUNTIF('Unit 13'!$C:$C,$D22),\"0\")","v":"0"},{"$f":"IF('Unit 14'!$C$7=$D$58,COUNTIF('Unit 14'!$C:$C,$D22),\"0\")","v":"0"},{"$f":"IF('Unit 15'!$C$7=$D$58,COUNTIF('Unit 15'!$C:$C,$D22),\"0\")","v":"0"},{"$f":"IF('Unit 16'!$C$7=$D$58,COUNTIF('Unit 16'!$C:$C,$D22),\"0\")","v":"0"},{"$f":"IF('Unit 17'!$C$7=$D$58,COUNTIF('Unit 17'!$C:$C,$D22),\"0\")","v":"0"},{"$f":"IF('Unit 18'!$C$7=$D$58,COUNTIF('Unit 18'!$C:$C,$D22),\"0\")","v":"0"},{"$f":"IF('Unit 19'!$C$7=$D$58,COUNTIF('Unit 19'!$C:$C,$D22),\"0\")","v":"0"},{"$f":"IF('Unit 20'!$C$7=$D$58,COUNTIF('Unit 20'!$C:$C,$D22),\"0\")","v":"0"},{"$f":"IF('Unit 21'!$C$7=$D$58,COUNTIF('Unit 21'!$C:$C,$D22),\"0\")","v":"0"},{"$f":"IF('Unit 22'!$C$7=$D$58,COUNTIF('Unit 22'!$C:$C,$D22),\"0\")","v":"0"},{"$f":"IF('Unit 23'!$C$7=$D$58,COUNTIF('Unit 23'!$C:$C,$D22),\"0\")","v":"0"},{"$f":"IF('Unit 24'!$C$7=$D$58,COUNTIF('Unit 24'!$C:$C,$D22),\"0\")","v":"0"},{"$f":"IF('Unit 25'!$C$7=$D$58,COUNTIF('Unit 25'!$C:$C,$D22),\"0\")","v":"0"},{"$f":"IF('Unit 26'!$C$7=$D$58,COUNTIF('Unit 26'!$C:$C,$D22),\"0\")","v":"0"},{"$f":"IF('Unit 27'!$C$7=$D$58,COUNTIF('Unit 27'!$C:$C,$D22),\"0\")","v":"0"},{"$f":"IF('Unit 28'!$C$7=$D$58,COUNTIF('Unit 28'!$C:$C,$D22),\"0\")","v":"0"},{"$f":"IF('Unit 29'!$C$7=$D$58,COUNTIF('Unit 29'!$C:$C,$D22),\"0\")","v":"0"},{"$f":"IF('Unit 30'!$C$7=$D$58,COUNTIF('Unit 30'!$C:$C,$D22),\"0\")","v":"0"},{"$f":"IF('Unit 31'!$C$7=$D$58,COUNTIF('Unit 31'!$C:$C,$D22),\"0\")","v":"0"},{"$f":"IF('Unit 32'!$C$7=$D$58,COUNTIF('Unit 32'!$C:$C,$D22),\"0\")","v":"0"},{"$f":"IF('Unit 33'!$C$7=$D$58,COUNTIF('Unit 33'!$C:$C,$D22),\"0\")","v":"0"},{"$f":"IF('Unit 34'!$C$7=$D$58,COUNTIF('Unit 34'!$C:$C,$D22),\"0\")","v":"0"},{"$f":"IF('Unit 35'!$C$7=$D$58,COUNTIF('Unit 35'!$C:$C,$D22),\"0\")","v":"0"},{"$f":"IF('Unit 36'!$C$7=$D$58,COUNTIF('Unit 36'!$C:$C,$D22),\"0\")","v":"0"},{"$f":"IF('Unit 37'!$C$7=$D$58,COUNTIF('Unit 37'!$C:$C,$D22),\"0\")","v":"0"},{"$f":"IF('Unit 38'!$C$7=$D$58,COUNTIF('Unit 38'!$C:$C,$D22),\"0\")","v":"0"},0,null,{"$f":"IF('Unit 1'!$C$7=$D$59,COUNTIF('Unit 1'!$C:$C,$D22),\"0\")","v":"0"},{"$f":"IF('Unit 2'!$C$7=$D$59,COUNTIF('Unit 2'!$C:$C,$D22),\"0\")","v":"0"},{"$f":"IF('Unit 3'!$C$7=$D$59,COUNTIF('Unit 3'!$C:$C,$D22),\"0\")","v":"0"},{"$f":"IF('Unit 4'!$C$7=$D$59,COUNTIF('Unit 4'!$C:$C,$D22),\"0\")","v":"0"},{"$f":"IF('Unit 5'!$C$7=$D$59,COUNTIF('Unit 5'!$C:$C,$D22),\"0\")","v":"0"},{"$f":"IF('Unit 6'!$C$7=$D$59,COUNTIF('Unit 6'!$C:$C,$D22),\"0\")","v":"0"},{"$f":"IF('Unit 7'!$C$7=$D$59,COUNTIF('Unit 7'!$C:$C,$D22),\"0\")","v":"0"},{"$f":"IF('Unit 8'!$C$7=$D$59,COUNTIF('Unit 8'!$C:$C,$D22),\"0\")","v":"0"},{"$f":"IF('Unit 9'!$C$7=$D$59,COUNTIF('Unit 9'!$C:$C,$D22),\"0\")","v":"0"},{"$f":"IF('Unit 10'!$C$7=$D$59,COUNTIF('Unit 10'!$C:$C,$D22),\"0\")","v":"0"},{"$f":"IF('Unit 11'!$C$7=$D$59,COUNTIF('Unit 11'!$C:$C,$D22),\"0\")","v":"0"},{"$f":"IF('Unit 12'!$C$7=$D$59,COUNTIF('Unit 12'!$C:$C,$D22),\"0\")","v":"0"},{"$f":"IF('Unit 13'!$C$7=$D$59,COUNTIF('Unit 13'!$C:$C,$D22),\"0\")","v":"0"},{"$f":"IF('Unit 14'!$C$7=$D$59,COUNTIF('Unit 14'!$C:$C,$D22),\"0\")","v":"0"},{"$f":"IF('Unit 15'!$C$7=$D$59,COUNTIF('Unit 15'!$C:$C,$D22),\"0\")","v":"0"},{"$f":"IF('Unit 16'!$C$7=$D$59,COUNTIF('Unit 16'!$C:$C,$D22),\"0\")","v":"0"},{"$f":"IF('Unit 17'!$C$7=$D$59,COUNTIF('Unit 17'!$C:$C,$D22),\"0\")","v":"0"},{"$f":"IF('Unit 18'!$C$7=$D$59,COUNTIF('Unit 18'!$C:$C,$D22),\"0\")","v":"0"},{"$f":"IF('Unit 19'!$C$7=$D$59,COUNTIF('Unit 19'!$C:$C,$D22),\"0\")","v":"0"},{"$f":"IF('Unit 20'!$C$7=$D$59,COUNTIF('Unit 20'!$C:$C,$D22),\"0\")","v":"0"},{"$f":"IF('Unit 21'!$C$7=$D$59,COUNTIF('Unit 21'!$C:$C,$D22),\"0\")","v":"0"},{"$f":"IF('Unit 22'!$C$7=$D$59,COUNTIF('Unit 22'!$C:$C,$D22),\"0\")","v":"0"},{"$f":"IF('Unit 23'!$C$7=$D$59,COUNTIF('Unit 23'!$C:$C,$D22),\"0\")","v":"0"},{"$f":"IF('Unit 24'!$C$7=$D$59,COUNTIF('Unit 24'!$C:$C,$D22),\"0\")","v":"0"},{"$f":"IF('Unit 25'!$C$7=$D$59,COUNTIF('Unit 25'!$C:$C,$D22),\"0\")","v":"0"},{"$f":"IF('Unit 26'!$C$7=$D$59,COUNTIF('Unit 26'!$C:$C,$D22),\"0\")","v":"0"},{"$f":"IF('Unit 27'!$C$7=$D$59,COUNTIF('Unit 27'!$C:$C,$D22),\"0\")","v":"0"},{"$f":"IF('Unit 28'!$C$7=$D$59,COUNTIF('Unit 28'!$C:$C,$D22),\"0\")","v":"0"},{"$f":"IF('Unit 29'!$C$7=$D$59,COUNTIF('Unit 29'!$C:$C,$D22),\"0\")","v":"0"},{"$f":"IF('Unit 30'!$C$7=$D$59,COUNTIF('Unit 30'!$C:$C,$D22),\"0\")","v":"0"},{"$f":"IF('Unit 31'!$C$7=$D$59,COUNTIF('Unit 31'!$C:$C,$D22),\"0\")","v":"0"},{"$f":"IF('Unit 32'!$C$7=$D$59,COUNTIF('Unit 32'!$C:$C,$D22),\"0\")","v":"0"},{"$f":"IF('Unit 33'!$C$7=$D$59,COUNTIF('Unit 33'!$C:$C,$D22),\"0\")","v":"0"},{"$f":"IF('Unit 34'!$C$7=$D$59,COUNTIF('Unit 34'!$C:$C,$D22),\"0\")","v":"0"},{"$f":"IF('Unit 35'!$C$7=$D$59,COUNTIF('Unit 35'!$C:$C,$D22),\"0\")","v":"0"},{"$f":"IF('Unit 36'!$C$7=$D$59,COUNTIF('Unit 36'!$C:$C,$D22),\"0\")","v":"0"},{"$f":"IF('Unit 37'!$C$7=$D$59,COUNTIF('Unit 37'!$C:$C,$D22),\"0\")","v":"0"},{"$f":"IF('Unit 38'!$C$7=$D$59,COUNTIF('Unit 38'!$C:$C,$D22),\"0\")","v":"0"},0,null,{"$f":"IF('Unit 1'!$C$7=$D$60,COUNTIF('Unit 1'!$C:$C,$D22),\"0\")","v":"0"},{"$f":"IF('Unit 2'!$C$7=$D$60,COUNTIF('Unit 2'!$C:$C,$D22),\"0\")","v":"0"},{"$f":"IF('Unit 3'!$C$7=$D$60,COUNTIF('Unit 3'!$C:$C,$D22),\"0\")","v":"0"},{"$f":"IF('Unit 4'!$C$7=$D$60,COUNTIF('Unit 4'!$C:$C,$D22),\"0\")","v":"0"},{"$f":"IF('Unit 5'!$C$7=$D$60,COUNTIF('Unit 5'!$C:$C,$D22),\"0\")","v":"0"},{"$f":"IF('Unit 6'!$C$7=$D$60,COUNTIF('Unit 6'!$C:$C,$D22),\"0\")","v":"0"},{"$f":"IF('Unit 7'!$C$7=$D$60,COUNTIF('Unit 7'!$C:$C,$D22),\"0\")","v":"0"},{"$f":"IF('Unit 8'!$C$7=$D$60,COUNTIF('Unit 8'!$C:$C,$D22),\"0\")","v":"0"},{"$f":"IF('Unit 9'!$C$7=$D$60,COUNTIF('Unit 9'!$C:$C,$D22),\"0\")","v":"0"},{"$f":"IF('Unit 10'!$C$7=$D$60,COUNTIF('Unit 10'!$C:$C,$D22),\"0\")","v":"0"},{"$f":"IF('Unit 11'!$C$7=$D$60,COUNTIF('Unit 11'!$C:$C,$D22),\"0\")","v":"0"},{"$f":"IF('Unit 12'!$C$7=$D$60,COUNTIF('Unit 12'!$C:$C,$D22),\"0\")","v":"0"},{"$f":"IF('Unit 13'!$C$7=$D$60,COUNTIF('Unit 13'!$C:$C,$D22),\"0\")","v":"0"},{"$f":"IF('Unit 14'!$C$7=$D$60,COUNTIF('Unit 14'!$C:$C,$D22),\"0\")","v":"0"},{"$f":"IF('Unit 15'!$C$7=$D$60,COUNTIF('Unit 15'!$C:$C,$D22),\"0\")","v":"0"},{"$f":"IF('Unit 16'!$C$7=$D$60,COUNTIF('Unit 16'!$C:$C,$D22),\"0\")","v":"0"},{"$f":"IF('Unit 17'!$C$7=$D$60,COUNTIF('Unit 17'!$C:$C,$D22),\"0\")","v":"0"},{"$f":"IF('Unit 18'!$C$7=$D$60,COUNTIF('Unit 18'!$C:$C,$D22),\"0\")","v":"0"},{"$f":"IF('Unit 19'!$C$7=$D$60,COUNTIF('Unit 19'!$C:$C,$D22),\"0\")","v":"0"},{"$f":"IF('Unit 20'!$C$7=$D$60,COUNTIF('Unit 20'!$C:$C,$D22),\"0\")","v":"0"},{"$f":"IF('Unit 21'!$C$7=$D$60,COUNTIF('Unit 21'!$C:$C,$D22),\"0\")","v":"0"},{"$f":"IF('Unit 22'!$C$7=$D$60,COUNTIF('Unit 22'!$C:$C,$D22),\"0\")","v":"0"},{"$f":"IF('Unit 23'!$C$7=$D$60,COUNTIF('Unit 23'!$C:$C,$D22),\"0\")","v":"0"},{"$f":"IF('Unit 24'!$C$7=$D$60,COUNTIF('Unit 24'!$C:$C,$D22),\"0\")","v":"0"},{"$f":"IF('Unit 25'!$C$7=$D$60,COUNTIF('Unit 25'!$C:$C,$D22),\"0\")","v":"0"},{"$f":"IF('Unit 26'!$C$7=$D$60,COUNTIF('Unit 26'!$C:$C,$D22),\"0\")","v":"0"},{"$f":"IF('Unit 27'!$C$7=$D$60,COUNTIF('Unit 27'!$C:$C,$D22),\"0\")","v":"0"},{"$f":"IF('Unit 28'!$C$7=$D$60,COUNTIF('Unit 28'!$C:$C,$D22),\"0\")","v":"0"},{"$f":"IF('Unit 29'!$C$7=$D$60,COUNTIF('Unit 29'!$C:$C,$D22),\"0\")","v":"0"},{"$f":"IF('Unit 30'!$C$7=$D$60,COUNTIF('Unit 30'!$C:$C,$D22),\"0\")","v":"0"},{"$f":"IF('Unit 31'!$C$7=$D$60,COUNTIF('Unit 31'!$C:$C,$D22),\"0\")","v":"0"},{"$f":"IF('Unit 32'!$C$7=$D$60,COUNTIF('Unit 32'!$C:$C,$D22),\"0\")","v":"0"},{"$f":"IF('Unit 33'!$C$7=$D$60,COUNTIF('Unit 33'!$C:$C,$D22),\"0\")","v":"0"},{"$f":"IF('Unit 34'!$C$7=$D$60,COUNTIF('Unit 34'!$C:$C,$D22),\"0\")","v":"0"},{"$f":"IF('Unit 35'!$C$7=$D$60,COUNTIF('Unit 35'!$C:$C,$D22),\"0\")","v":"0"},{"$f":"IF('Unit 36'!$C$7=$D$60,COUNTIF('Unit 36'!$C:$C,$D22),\"0\")","v":"0"},{"$f":"IF('Unit 37'!$C$7=$D$60,COUNTIF('Unit 37'!$C:$C,$D22),\"0\")","v":"0"},{"$f":"IF('Unit 38'!$C$7=$D$60,COUNTIF('Unit 38'!$C:$C,$D22),\"0\")","v":"0"},0]
[null,null,null,null,null,{"$f":"COUNTIF('Unit 1'!C:C,$D23)","v":0},{"$f":"COUNTIF('Unit 2'!C:C,D23)","v":0},{"$f":"COUNTIF('Unit 3'!C:C,D23)","v":0},{"$f":"COUNTIF('Unit 4'!C:C,D23)","v":0},{"$f":"COUNTIF('Unit 5'!C:C,D23)","v":0},{"$f":"COUNTIF('Unit 6'!C:C,D23)","v":0},{"$f":"COUNTIF('Unit 7'!C:C,D23)","v":0},{"$f":"COUNTIF('Unit 8'!C:C,D23)","v":0},{"$f":"COUNTIF('Unit 9'!C:C,D23)","v":0},{"$f":"COUNTIF('Unit 10'!C:C,D23)","v":0},{"$f":"COUNTIF('Unit 11'!C:C,D23)","v":0},{"$f":"COUNTIF('Unit 12'!C:C,D23)","v":0},{"$f":"COUNTIF('Unit 13'!C:C,D23)","v":0},{"$f":"COUNTIF('Unit 14'!C:C,D23)","v":0},{"$f":"COUNTIF('Unit 15'!C:C,D23)","v":0},{"$f":"COUNTIF('Unit 16'!C:C,D23)","v":0},{"$f":"COUNTIF('Unit 17'!C:C,D23)","v":0},{"$f":"COUNTIF('Unit 18'!C:C,D23)","v":0},{"$f":"COUNTIF('Unit 19'!C:C,D23)","v":0},{"$f":"COUNTIF('Unit 20'!C:C,D23)","v":0},{"$f":"COUNTIF('Unit 21'!C:C,D23)","v":0},{"$f":"COUNTIF('Unit 22'!C:C,D23)","v":0},{"$f":"COUNTIF('Unit 23'!C:C,D23)","v":0},{"$f":"COUNTIF('Unit 24'!C:C,D23)","v":0},{"$f":"COUNTIF('Unit 25'!C:C,D23)","v":0},{"$f":"COUNTIF('Unit 26'!C:C,D23)","v":0},{"$f":"COUNTIF('Unit 27'!C:C,D23)","v":0},{"$f":"COUNTIF('Unit 28'!C:C,D23)","v":0},{"$f":"COUNTIF('Unit 29'!C:C,D23)","v":0},{"$f":"COUNTIF('Unit 30'!C:C,D23)","v":0},{"$f":"COUNTIF('Unit 31'!C:C,D23)","v":0},{"$f":"COUNTIF('Unit 32'!C:C,D23)","v":0},{"$f":"COUNTIF('Unit 33'!C:C,D23)","v":0},{"$f":"COUNTIF('Unit 34'!C:C,D23)","v":0},{"$f":"COUNTIF('Unit 35'!C:C,D23)","v":0},{"$f":"COUNTIF('Unit 36'!C:C,D23)","v":0},{"$f":"COUNTIF('Unit 37'!C:C,D23)","v":0},{"$f":"COUNTIF('Unit 38'!C:C,D23)","v":0},0,null,{"$f":"IF('Unit 1'!$C$7=$D$58,COUNTIF('Unit 1'!$C:$C,$D23),\"0\")","v":"0"},{"$f":"IF('Unit 2'!$C$7=$D$58,COUNTIF('Unit 2'!$C:$C,$D23),\"0\")","v":"0"},{"$f":"IF('Unit 3'!$C$7=$D$58,COUNTIF('Unit 3'!$C:$C,$D23),\"0\")","v":"0"},{"$f":"IF('Unit 4'!$C$7=$D$58,COUNTIF('Unit 4'!$C:$C,$D23),\"0\")","v":"0"},{"$f":"IF('Unit 5'!$C$7=$D$58,COUNTIF('Unit 5'!$C:$C,$D23),\"0\")","v":"0"},{"$f":"IF('Unit 6'!$C$7=$D$58,COUNTIF('Unit 6'!$C:$C,$D23),\"0\")","v":"0"},{"$f":"IF('Unit 7'!$C$7=$D$58,COUNTIF('Unit 7'!$C:$C,$D23),\"0\")","v":"0"},{"$f":"IF('Unit 8'!$C$7=$D$58,COUNTIF('Unit 8'!$C:$C,$D23),\"0\")","v":"0"},{"$f":"IF('Unit 9'!$C$7=$D$58,COUNTIF('Unit 9'!$C:$C,$D23),\"0\")","v":"0"},{"$f":"IF('Unit 10'!$C$7=$D$58,COUNTIF('Unit 10'!$C:$C,$D23),\"0\")","v":"0"},{"$f":"IF('Unit 11'!$C$7=$D$58,COUNTIF('Unit 11'!$C:$C,$D23),\"0\")","v":"0"},{"$f":"IF('Unit 12'!$C$7=$D$58,COUNTIF('Unit 12'!$C:$C,$D23),\"0\")","v":"0"},{"$f":"IF('Unit 13'!$C$7=$D$58,COUNTIF('Unit 13'!$C:$C,$D23),\"0\")","v":"0"},{"$f":"IF('Unit 14'!$C$7=$D$58,COUNTIF('Unit 14'!$C:$C,$D23),\"0\")","v":"0"},{"$f":"IF('Unit 15'!$C$7=$D$58,COUNTIF('Unit 15'!$C:$C,$D23),\"0\")","v":"0"},{"$f":"IF('Unit 16'!$C$7=$D$58,COUNTIF('Unit 16'!$C:$C,$D23),\"0\")","v":"0"},{"$f":"IF('Unit 17'!$C$7=$D$58,COUNTIF('Unit 17'!$C:$C,$D23),\"0\")","v":"0"},{"$f":"IF('Unit 18'!$C$7=$D$58,COUNTIF('Unit 18'!$C:$C,$D23),\"0\")","v":"0"},{"$f":"IF('Unit 19'!$C$7=$D$58,COUNTIF('Unit 19'!$C:$C,$D23),\"0\")","v":"0"},{"$f":"IF('Unit 20'!$C$7=$D$58,COUNTIF('Unit 20'!$C:$C,$D23),\"0\")","v":"0"},{"$f":"IF('Unit 21'!$C$7=$D$58,COUNTIF('Unit 21'!$C:$C,$D23),\"0\")","v":"0"},{"$f":"IF('Unit 22'!$C$7=$D$58,COUNTIF('Unit 22'!$C:$C,$D23),\"0\")","v":"0"},{"$f":"IF('Unit 23'!$C$7=$D$58,COUNTIF('Unit 23'!$C:$C,$D23),\"0\")","v":"0"},{"$f":"IF('Unit 24'!$C$7=$D$58,COUNTIF('Unit 24'!$C:$C,$D23),\"0\")","v":"0"},{"$f":"IF('Unit 25'!$C$7=$D$58,COUNTIF('Unit 25'!$C:$C,$D23),\"0\")","v":"0"},{"$f":"IF('Unit 26'!$C$7=$D$58,COUNTIF('Unit 26'!$C:$C,$D23),\"0\")","v":"0"},{"$f":"IF('Unit 27'!$C$7=$D$58,COUNTIF('Unit 27'!$C:$C,$D23),\"0\")","v":"0"},{"$f":"IF('Unit 28'!$C$7=$D$58,COUNTIF('Unit 28'!$C:$C,$D23),\"0\")","v":"0"},{"$f":"IF('Unit 29'!$C$7=$D$58,COUNTIF('Unit 29'!$C:$C,$D23),\"0\")","v":"0"},{"$f":"IF('Unit 30'!$C$7=$D$58,COUNTIF('Unit 30'!$C:$C,$D23),\"0\")","v":"0"},{"$f":"IF('Unit 31'!$C$7=$D$58,COUNTIF('Unit 31'!$C:$C,$D23),\"0\")","v":"0"},{"$f":"IF('Unit 32'!$C$7=$D$58,COUNTIF('Unit 32'!$C:$C,$D23),\"0\")","v":"0"},{"$f":"IF('Unit 33'!$C$7=$D$58,COUNTIF('Unit 33'!$C:$C,$D23),\"0\")","v":"0"},{"$f":"IF('Unit 34'!$C$7=$D$58,COUNTIF('Unit 34'!$C:$C,$D23),\"0\")","v":"0"},{"$f":"IF('Unit 35'!$C$7=$D$58,COUNTIF('Unit 35'!$C:$C,$D23),\"0\")","v":"0"},{"$f":"IF('Unit 36'!$C$7=$D$58,COUNTIF('Unit 36'!$C:$C,$D23),\"0\")","v":"0"},{"$f":"IF('Unit 37'!$C$7=$D$58,COUNTIF('Unit 37'!$C:$C,$D23),\"0\")","v":"0"},{"$f":"IF('Unit 38'!$C$7=$D$58,COUNTIF('Unit 38'!$C:$C,$D23),\"0\")","v":"0"},0,null,{"$f":"IF('Unit 1'!$C$7=$D$59,COUNTIF('Unit 1'!$C:$C,$D23),\"0\")","v":"0"},{"$f":"IF('Unit 2'!$C$7=$D$59,COUNTIF('Unit 2'!$C:$C,$D23),\"0\")","v":"0"},{"$f":"IF('Unit 3'!$C$7=$D$59,COUNTIF('Unit 3'!$C:$C,$D23),\"0\")","v":"0"},{"$f":"IF('Unit 4'!$C$7=$D$59,COUNTIF('Unit 4'!$C:$C,$D23),\"0\")","v":"0"},{"$f":"IF('Unit 5'!$C$7=$D$59,COUNTIF('Unit 5'!$C:$C,$D23),\"0\")","v":"0"},{"$f":"IF('Unit 6'!$C$7=$D$59,COUNTIF('Unit 6'!$C:$C,$D23),\"0\")","v":"0"},{"$f":"IF('Unit 7'!$C$7=$D$59,COUNTIF('Unit 7'!$C:$C,$D23),\"0\")","v":"0"},{"$f":"IF('Unit 8'!$C$7=$D$59,COUNTIF('Unit 8'!$C:$C,$D23),\"0\")","v":"0"},{"$f":"IF('Unit 9'!$C$7=$D$59,COUNTIF('Unit 9'!$C:$C,$D23),\"0\")","v":"0"},{"$f":"IF('Unit 10'!$C$7=$D$59,COUNTIF('Unit 10'!$C:$C,$D23),\"0\")","v":"0"},{"$f":"IF('Unit 11'!$C$7=$D$59,COUNTIF('Unit 11'!$C:$C,$D23),\"0\")","v":"0"},{"$f":"IF('Unit 12'!$C$7=$D$59,COUNTIF('Unit 12'!$C:$C,$D23),\"0\")","v":"0"},{"$f":"IF('Unit 13'!$C$7=$D$59,COUNTIF('Unit 13'!$C:$C,$D23),\"0\")","v":"0"},{"$f":"IF('Unit 14'!$C$7=$D$59,COUNTIF('Unit 14'!$C:$C,$D23),\"0\")","v":"0"},{"$f":"IF('Unit 15'!$C$7=$D$59,COUNTIF('Unit 15'!$C:$C,$D23),\"0\")","v":"0"},{"$f":"IF('Unit 16'!$C$7=$D$59,COUNTIF('Unit 16'!$C:$C,$D23),\"0\")","v":"0"},{"$f":"IF('Unit 17'!$C$7=$D$59,COUNTIF('Unit 17'!$C:$C,$D23),\"0\")","v":"0"},{"$f":"IF('Unit 18'!$C$7=$D$59,COUNTIF('Unit 18'!$C:$C,$D23),\"0\")","v":"0"},{"$f":"IF('Unit 19'!$C$7=$D$59,COUNTIF('Unit 19'!$C:$C,$D23),\"0\")","v":"0"},{"$f":"IF('Unit 20'!$C$7=$D$59,COUNTIF('Unit 20'!$C:$C,$D23),\"0\")","v":"0"},{"$f":"IF('Unit 21'!$C$7=$D$59,COUNTIF('Unit 21'!$C:$C,$D23),\"0\")","v":"0"},{"$f":"IF('Unit 22'!$C$7=$D$59,COUNTIF('Unit 22'!$C:$C,$D23),\"0\")","v":"0"},{"$f":"IF('Unit 23'!$C$7=$D$59,COUNTIF('Unit 23'!$C:$C,$D23),\"0\")","v":"0"},{"$f":"IF('Unit 24'!$C$7=$D$59,COUNTIF('Unit 24'!$C:$C,$D23),\"0\")","v":"0"},{"$f":"IF('Unit 25'!$C$7=$D$59,COUNTIF('Unit 25'!$C:$C,$D23),\"0\")","v":"0"},{"$f":"IF('Unit 26'!$C$7=$D$59,COUNTIF('Unit 26'!$C:$C,$D23),\"0\")","v":"0"},{"$f":"IF('Unit 27'!$C$7=$D$59,COUNTIF('Unit 27'!$C:$C,$D23),\"0\")","v":"0"},{"$f":"IF('Unit 28'!$C$7=$D$59,COUNTIF('Unit 28'!$C:$C,$D23),\"0\")","v":"0"},{"$f":"IF('Unit 29'!$C$7=$D$59,COUNTIF('Unit 29'!$C:$C,$D23),\"0\")","v":"0"},{"$f":"IF('Unit 30'!$C$7=$D$59,COUNTIF('Unit 30'!$C:$C,$D23),\"0\")","v":"0"},{"$f":"IF('Unit 31'!$C$7=$D$59,COUNTIF('Unit 31'!$C:$C,$D23),\"0\")","v":"0"},{"$f":"IF('Unit 32'!$C$7=$D$59,COUNTIF('Unit 32'!$C:$C,$D23),\"0\")","v":"0"},{"$f":"IF('Unit 33'!$C$7=$D$59,COUNTIF('Unit 33'!$C:$C,$D23),\"0\")","v":"0"},{"$f":"IF('Unit 34'!$C$7=$D$59,COUNTIF('Unit 34'!$C:$C,$D23),\"0\")","v":"0"},{"$f":"IF('Unit 35'!$C$7=$D$59,COUNTIF('Unit 35'!$C:$C,$D23),\"0\")","v":"0"},{"$f":"IF('Unit 36'!$C$7=$D$59,COUNTIF('Unit 36'!$C:$C,$D23),\"0\")","v":"0"},{"$f":"IF('Unit 37'!$C$7=$D$59,COUNTIF('Unit 37'!$C:$C,$D23),\"0\")","v":"0"},{"$f":"IF('Unit 38'!$C$7=$D$59,COUNTIF('Unit 38'!$C:$C,$D23),\"0\")","v":"0"},0,null,{"$f":"IF('Unit 1'!$C$7=$D$60,COUNTIF('Unit 1'!$C:$C,$D23),\"0\")","v":"0"},{"$f":"IF('Unit 2'!$C$7=$D$60,COUNTIF('Unit 2'!$C:$C,$D23),\"0\")","v":"0"},{"$f":"IF('Unit 3'!$C$7=$D$60,COUNTIF('Unit 3'!$C:$C,$D23),\"0\")","v":"0"},{"$f":"IF('Unit 4'!$C$7=$D$60,COUNTIF('Unit 4'!$C:$C,$D23),\"0\")","v":"0"},{"$f":"IF('Unit 5'!$C$7=$D$60,COUNTIF('Unit 5'!$C:$C,$D23),\"0\")","v":"0"},{"$f":"IF('Unit 6'!$C$7=$D$60,COUNTIF('Unit 6'!$C:$C,$D23),\"0\")","v":"0"},{"$f":"IF('Unit 7'!$C$7=$D$60,COUNTIF('Unit 7'!$C:$C,$D23),\"0\")","v":"0"},{"$f":"IF('Unit 8'!$C$7=$D$60,COUNTIF('Unit 8'!$C:$C,$D23),\"0\")","v":"0"},{"$f":"IF('Unit 9'!$C$7=$D$60,COUNTIF('Unit 9'!$C:$C,$D23),\"0\")","v":"0"},{"$f":"IF('Unit 10'!$C$7=$D$60,COUNTIF('Unit 10'!$C:$C,$D23),\"0\")","v":"0"},{"$f":"IF('Unit 11'!$C$7=$D$60,COUNTIF('Unit 11'!$C:$C,$D23),\"0\")","v":"0"},{"$f":"IF('Unit 12'!$C$7=$D$60,COUNTIF('Unit 12'!$C:$C,$D23),\"0\")","v":"0"},{"$f":"IF('Unit 13'!$C$7=$D$60,COUNTIF('Unit 13'!$C:$C,$D23),\"0\")","v":"0"},{"$f":"IF('Unit 14'!$C$7=$D$60,COUNTIF('Unit 14'!$C:$C,$D23),\"0\")","v":"0"},{"$f":"IF('Unit 15'!$C$7=$D$60,COUNTIF('Unit 15'!$C:$C,$D23),\"0\")","v":"0"},{"$f":"IF('Unit 16'!$C$7=$D$60,COUNTIF('Unit 16'!$C:$C,$D23),\"0\")","v":"0"},{"$f":"IF('Unit 17'!$C$7=$D$60,COUNTIF('Unit 17'!$C:$C,$D23),\"0\")","v":"0"},{"$f":"IF('Unit 18'!$C$7=$D$60,COUNTIF('Unit 18'!$C:$C,$D23),\"0\")","v":"0"},{"$f":"IF('Unit 19'!$C$7=$D$60,COUNTIF('Unit 19'!$C:$C,$D23),\"0\")","v":"0"},{"$f":"IF('Unit 20'!$C$7=$D$60,COUNTIF('Unit 20'!$C:$C,$D23),\"0\")","v":"0"},{"$f":"IF('Unit 21'!$C$7=$D$60,COUNTIF('Unit 21'!$C:$C,$D23),\"0\")","v":"0"},{"$f":"IF('Unit 22'!$C$7=$D$60,COUNTIF('Unit 22'!$C:$C,$D23),\"0\")","v":"0"},{"$f":"IF('Unit 23'!$C$7=$D$60,COUNTIF('Unit 23'!$C:$C,$D23),\"0\")","v":"0"},{"$f":"IF('Unit 24'!$C$7=$D$60,COUNTIF('Unit 24'!$C:$C,$D23),\"0\")","v":"0"},{"$f":"IF('Unit 25'!$C$7=$D$60,COUNTIF('Unit 25'!$C:$C,$D23),\"0\")","v":"0"},{"$f":"IF('Unit 26'!$C$7=$D$60,COUNTIF('Unit 26'!$C:$C,$D23),\"0\")","v":"0"},{"$f":"IF('Unit 27'!$C$7=$D$60,COUNTIF('Unit 27'!$C:$C,$D23),\"0\")","v":"0"},{"$f":"IF('Unit 28'!$C$7=$D$60,COUNTIF('Unit 28'!$C:$C,$D23),\"0\")","v":"0"},{"$f":"IF('Unit 29'!$C$7=$D$60,COUNTIF('Unit 29'!$C:$C,$D23),\"0\")","v":"0"},{"$f":"IF('Unit 30'!$C$7=$D$60,COUNTIF('Unit 30'!$C:$C,$D23),\"0\")","v":"0"},{"$f":"IF('Unit 31'!$C$7=$D$60,COUNTIF('Unit 31'!$C:$C,$D23),\"0\")","v":"0"},{"$f":"IF('Unit 32'!$C$7=$D$60,COUNTIF('Unit 32'!$C:$C,$D23),\"0\")","v":"0"},{"$f":"IF('Unit 33'!$C$7=$D$60,COUNTIF('Unit 33'!$C:$C,$D23),\"0\")","v":"0"},{"$f":"IF('Unit 34'!$C$7=$D$60,COUNTIF('Unit 34'!$C:$C,$D23),\"0\")","v":"0"},{"$f":"IF('Unit 35'!$C$7=$D$60,COUNTIF('Unit 35'!$C:$C,$D23),\"0\")","v":"0"},{"$f":"IF('Unit 36'!$C$7=$D$60,COUNTIF('Unit 36'!$C:$C,$D23),\"0\")","v":"0"},{"$f":"IF('Unit 37'!$C$7=$D$60,COUNTIF('Unit 37'!$C:$C,$D23),\"0\")","v":"0"},{"$f":"IF('Unit 38'!$C$7=$D$60,COUNTIF('Unit 38'!$C:$C,$D23),\"0\")","v":"0"},0]
["Design Application",{"$f":"B8","v":"Engineering Knowledge and Awareness"},"2.1","2.1 understand the key stages of the engineering design process ","Understand: have and apply a well-organised body of knowledge",{"$f":"COUNTIF('Unit 1'!C:C,$D24)","v":0},{"$f":"COUNTIF('Unit 2'!C:C,D24)","v":0},{"$f":"COUNTIF('Unit 3'!C:C,D24)","v":0},{"$f":"COUNTIF('Unit 4'!C:C,D24)","v":0},{"$f":"COUNTIF('Unit 5'!C:C,D24)","v":0},{"$f":"COUNTIF('Unit 6'!C:C,D24)","v":0},{"$f":"COUNTIF('Unit 7'!C:C,D24)","v":0},{"$f":"COUNTIF('Unit 8'!C:C,D24)","v":0},{"$f":"COUNTIF('Unit 9'!C:C,D24)","v":0},{"$f":"COUNTIF('Unit 10'!C:C,D24)","v":0},{"$f":"COUNTIF('Unit 11'!C:C,D24)","v":0},{"$f":"COUNTIF('Unit 12'!C:C,D24)","v":0},{"$f":"COUNTIF('Unit 13'!C:C,D24)","v":0},{"$f":"COUNTIF('Unit 14'!C:C,D24)","v":0},{"$f":"COUNTIF('Unit 15'!C:C,D24)","v":0},{"$f":"COUNTIF('Unit 16'!C:C,D24)","v":0},{"$f":"COUNTIF('Unit 17'!C:C,D24)","v":0},{"$f":"COUNTIF('Unit 18'!C:C,D24)","v":0},{"$f":"COUNTIF('Unit 19'!C:C,D24)","v":0},{"$f":"COUNTIF('Unit 20'!C:C,D24)","v":0},{"$f":"COUNTIF('Unit 21'!C:C,D24)","v":0},{"$f":"COUNTIF('Unit 22'!C:C,D24)","v":0},{"$f":"COUNTIF('Unit 23'!C:C,D24)","v":0},{"$f":"COUNTIF('Unit 24'!C:C,D24)","v":0},{"$f":"COUNTIF('Unit 25'!C:C,D24)","v":0},{"$f":"COUNTIF('Unit 26'!C:C,D24)","v":0},{"$f":"COUNTIF('Unit 27'!C:C,D24)","v":0},{"$f":"COUNTIF('Unit 28'!C:C,D24)","v":0},{"$f":"COUNTIF('Unit 29'!C:C,D24)","v":0},{"$f":"COUNTIF('Unit 30'!C:C,D24)","v":0},{"$f":"COUNTIF('Unit 31'!C:C,D24)","v":0},{"$f":"COUNTIF('Unit 32'!C:C,D24)","v":0},{"$f":"COUNTIF('Unit 33'!C:C,D24)","v":0},{"$f":"COUNTIF('Unit 34'!C:C,D24)","v":0},{"$f":"COUNTIF('Unit 35'!C:C,D24)","v":0},{"$f":"COUNTIF('Unit 36'!C:C,D24)","v":0},{"$f":"COUNTIF('Unit 37'!C:C,D24)","v":0},{"$f":"COUNTIF('Unit 38'!C:C,D24)","v":0},0,null,{"$f":"IF('Unit 1'!$C$7=$D$58,COUNTIF('Unit 1'!$C:$C,$D24),\"0\")","v":"0"},{"$f":"IF('Unit 2'!$C$7=$D$58,COUNTIF('Unit 2'!$C:$C,$D24),\"0\")","v":"0"},{"$f":"IF('Unit 3'!$C$7=$D$58,COUNTIF('Unit 3'!$C:$C,$D24),\"0\")","v":"0"},{"$f":"IF('Unit 4'!$C$7=$D$58,COUNTIF('Unit 4'!$C:$C,$D24),\"0\")","v":"0"},{"$f":"IF('Unit 5'!$C$7=$D$58,COUNTIF('Unit 5'!$C:$C,$D24),\"0\")","v":"0"},{"$f":"IF('Unit 6'!$C$7=$D$58,COUNTIF('Unit 6'!$C:$C,$D24),\"0\")","v":"0"},{"$f":"IF('Unit 7'!$C$7=$D$58,COUNTIF('Unit 7'!$C:$C,$D24),\"0\")","v":"0"},{"$f":"IF('Unit 8'!$C$7=$D$58,COUNTIF('Unit 8'!$C:$C,$D24),\"0\")","v":"0"},{"$f":"IF('Unit 9'!$C$7=$D$58,COUNTIF('Unit 9'!$C:$C,$D24),\"0\")","v":"0"},{"$f":"IF('Unit 10'!$C$7=$D$58,COUNTIF('Unit 10'!$C:$C,$D24),\"0\")","v":"0"},{"$f":"IF('Unit 11'!$C$7=$D$58,COUNTIF('Unit 11'!$C:$C,$D24),\"0\")","v":"0"},{"$f":"IF('Unit 12'!$C$7=$D$58,COUNTIF('Unit 12'!$C:$C,$D24),\"0\")","v":"0"},{"$f":"IF('Unit 13'!$C$7=$D$58,COUNTIF('Unit 13'!$C:$C,$D24),\"0\")","v":"0"},{"$f":"IF('Unit 14'!$C$7=$D$58,COUNTIF('Unit 14'!$C:$C,$D24),\"0\")","v":"0"},{"$f":"IF('Unit 15'!$C$7=$D$58,COUNTIF('Unit 15'!$C:$C,$D24),\"0\")","v":"0"},{"$f":"IF('Unit 16'!$C$7=$D$58,COUNTIF('Unit 16'!$C:$C,$D24),\"0\")","v":"0"},{"$f":"IF('Unit 17'!$C$7=$D$58,COUNTIF('Unit 17'!$C:$C,$D24),\"0\")","v":"0"},{"$f":"IF('Unit 18'!$C$7=$D$58,COUNTIF('Unit 18'!$C:$C,$D24),\"0\")","v":"0"},{"$f":"IF('Unit 19'!$C$7=$D$58,COUNTIF('Unit 19'!$C:$C,$D24),\"0\")","v":"0"},{"$f":"IF('Unit 20'!$C$7=$D$58,COUNTIF('Unit 20'!$C:$C,$D24),\"0\")","v":"0"},{"$f":"IF('Unit 21'!$C$7=$D$58,COUNTIF('Unit 21'!$C:$C,$D24),\"0\")","v":"0"},{"$f":"IF('Unit 22'!$C$7=$D$58,COUNTIF('Unit 22'!$C:$C,$D24),\"0\")","v":"0"},{"$f":"IF('Unit 23'!$C$7=$D$58,COUNTIF('Unit 23'!$C:$C,$D24),\"0\")","v":"0"},{"$f":"IF('Unit 24'!$C$7=$D$58,COUNTIF('Unit 24'!$C:$C,$D24),\"0\")","v":"0"},{"$f":"IF('Unit 25'!$C$7=$D$58,COUNTIF('Unit 25'!$C:$C,$D24),\"0\")","v":"0"},{"$f":"IF('Unit 26'!$C$7=$D$58,COUNTIF('Unit 26'!$C:$C,$D24),\"0\")","v":"0"},{"$f":"IF('Unit 27'!$C$7=$D$58,COUNTIF('Unit 27'!$C:$C,$D24),\"0\")","v":"0"},{"$f":"IF('Unit 28'!$C$7=$D$58,COUNTIF('Unit 28'!$C:$C,$D24),\"0\")","v":"0"},{"$f":"IF('Unit 29'!$C$7=$D$58,COUNTIF('Unit 29'!$C:$C,$D24),\"0\")","v":"0"},{"$f":"IF('Unit 30'!$C$7=$D$58,COUNTIF('Unit 30'!$C:$C,$D24),\"0\")","v":"0"},{"$f":"IF('Unit 31'!$C$7=$D$58,COUNTIF('Unit 31'!$C:$C,$D24),\"0\")","v":"0"},{"$f":"IF('Unit 32'!$C$7=$D$58,COUNTIF('Unit 32'!$C:$C,$D24),\"0\")","v":"0"},{"$f":"IF('Unit 33'!$C$7=$D$58,COUNTIF('Unit 33'!$C:$C,$D24),\"0\")","v":"0"},{"$f":"IF('Unit 34'!$C$7=$D$58,COUNTIF('Unit 34'!$C:$C,$D24),\"0\")","v":"0"},{"$f":"IF('Unit 35'!$C$7=$D$58,COUNTIF('Unit 35'!$C:$C,$D24),\"0\")","v":"0"},{"$f":"IF('Unit 36'!$C$7=$D$58,COUNTIF('Unit 36'!$C:$C,$D24),\"0\")","v":"0"},{"$f":"IF('Unit 37'!$C$7=$D$58,COUNTIF('Unit 37'!$C:$C,$D24),\"0\")","v":"0"},{"$f":"IF('Unit 38'!$C$7=$D$58,COUNTIF('Unit 38'!$C:$C,$D24),\"0\")","v":"0"},0,null,{"$f":"IF('Unit 1'!$C$7=$D$59,COUNTIF('Unit 1'!$C:$C,$D24),\"0\")","v":"0"},{"$f":"IF('Unit 2'!$C$7=$D$59,COUNTIF('Unit 2'!$C:$C,$D24),\"0\")","v":"0"},{"$f":"IF('Unit 3'!$C$7=$D$59,COUNTIF('Unit 3'!$C:$C,$D24),\"0\")","v":"0"},{"$f":"IF('Unit 4'!$C$7=$D$59,COUNTIF('Unit 4'!$C:$C,$D24),\"0\")","v":"0"},{"$f":"IF('Unit 5'!$C$7=$D$59,COUNTIF('Unit 5'!$C:$C,$D24),\"0\")","v":"0"},{"$f":"IF('Unit 6'!$C$7=$D$59,COUNTIF('Unit 6'!$C:$C,$D24),\"0\")","v":"0"},{"$f":"IF('Unit 7'!$C$7=$D$59,COUNTIF('Unit 7'!$C:$C,$D24),\"0\")","v":"0"},{"$f":"IF('Unit 8'!$C$7=$D$59,COUNTIF('Unit 8'!$C:$C,$D24),\"0\")","v":"0"},{"$f":"IF('Unit 9'!$C$7=$D$59,COUNTIF('Unit 9'!$C:$C,$D24),\"0\")","v":"0"},{"$f":"IF('Unit 10'!$C$7=$D$59,COUNTIF('Unit 10'!$C:$C,$D24),\"0\")","v":"0"},{"$f":"IF('Unit 11'!$C$7=$D$59,COUNTIF('Unit 11'!$C:$C,$D24),\"0\")","v":"0"},{"$f":"IF('Unit 12'!$C$7=$D$59,COUNTIF('Unit 12'!$C:$C,$D24),\"0\")","v":"0"},{"$f":"IF('Unit 13'!$C$7=$D$59,COUNTIF('Unit 13'!$C:$C,$D24),\"0\")","v":"0"},{"$f":"IF('Unit 14'!$C$7=$D$59,COUNTIF('Unit 14'!$C:$C,$D24),\"0\")","v":"0"},{"$f":"IF('Unit 15'!$C$7=$D$59,COUNTIF('Unit 15'!$C:$C,$D24),\"0\")","v":"0"},{"$f":"IF('Unit 16'!$C$7=$D$59,COUNTIF('Unit 16'!$C:$C,$D24),\"0\")","v":"0"},{"$f":"IF('Unit 17'!$C$7=$D$59,COUNTIF('Unit 17'!$C:$C,$D24),\"0\")","v":"0"},{"$f":"IF('Unit 18'!$C$7=$D$59,COUNTIF('Unit 18'!$C:$C,$D24),\"0\")","v":"0"},{"$f":"IF('Unit 19'!$C$7=$D$59,COUNTIF('Unit 19'!$C:$C,$D24),\"0\")","v":"0"},{"$f":"IF('Unit 20'!$C$7=$D$59,COUNTIF('Unit 20'!$C:$C,$D24),\"0\")","v":"0"},{"$f":"IF('Unit 21'!$C$7=$D$59,COUNTIF('Unit 21'!$C:$C,$D24),\"0\")","v":"0"},{"$f":"IF('Unit 22'!$C$7=$D$59,COUNTIF('Unit 22'!$C:$C,$D24),\"0\")","v":"0"},{"$f":"IF('Unit 23'!$C$7=$D$59,COUNTIF('Unit 23'!$C:$C,$D24),\"0\")","v":"0"},{"$f":"IF('Unit 24'!$C$7=$D$59,COUNTIF('Unit 24'!$C:$C,$D24),\"0\")","v":"0"},{"$f":"IF('Unit 25'!$C$7=$D$59,COUNTIF('Unit 25'!$C:$C,$D24),\"0\")","v":"0"},{"$f":"IF('Unit 26'!$C$7=$D$59,COUNTIF('Unit 26'!$C:$C,$D24),\"0\")","v":"0"},{"$f":"IF('Unit 27'!$C$7=$D$59,COUNTIF('Unit 27'!$C:$C,$D24),\"0\")","v":"0"},{"$f":"IF('Unit 28'!$C$7=$D$59,COUNTIF('Unit 28'!$C:$C,$D24),\"0\")","v":"0"},{"$f":"IF('Unit 29'!$C$7=$D$59,COUNTIF('Unit 29'!$C:$C,$D24),\"0\")","v":"0"},{"$f":"IF('Unit 30'!$C$7=$D$59,COUNTIF('Unit 30'!$C:$C,$D24),\"0\")","v":"0"},{"$f":"IF('Unit 31'!$C$7=$D$59,COUNTIF('Unit 31'!$C:$C,$D24),\"0\")","v":"0"},{"$f":"IF('Unit 32'!$C$7=$D$59,COUNTIF('Unit 32'!$C:$C,$D24),\"0\")","v":"0"},{"$f":"IF('Unit 33'!$C$7=$D$59,COUNTIF('Unit 33'!$C:$C,$D24),\"0\")","v":"0"},{"$f":"IF('Unit 34'!$C$7=$D$59,COUNTIF('Unit 34'!$C:$C,$D24),\"0\")","v":"0"},{"$f":"IF('Unit 35'!$C$7=$D$59,COUNTIF('Unit 35'!$C:$C,$D24),\"0\")","v":"0"},{"$f":"IF('Unit 36'!$C$7=$D$59,COUNTIF('Unit 36'!$C:$C,$D24),\"0\")","v":"0"},{"$f":"IF('Unit 37'!$C$7=$D$59,COUNTIF('Unit 37'!$C:$C,$D24),\"0\")","v":"0"},{"$f":"IF('Unit 38'!$C$7=$D$59,COUNTIF('Unit 38'!$C:$C,$D24),\"0\")","v":"0"},0,null,{"$f":"IF('Unit 1'!$C$7=$D$60,COUNTIF('Unit 1'!$C:$C,$D24),\"0\")","v":"0"},{"$f":"IF('Unit 2'!$C$7=$D$60,COUNTIF('Unit 2'!$C:$C,$D24),\"0\")","v":"0"},{"$f":"IF('Unit 3'!$C$7=$D$60,COUNTIF('Unit 3'!$C:$C,$D24),\"0\")","v":"0"},{"$f":"IF('Unit 4'!$C$7=$D$60,COUNTIF('Unit 4'!$C:$C,$D24),\"0\")","v":"0"},{"$f":"IF('Unit 5'!$C$7=$D$60,COUNTIF('Unit 5'!$C:$C,$D24),\"0\")","v":"0"},{"$f":"IF('Unit 6'!$C$7=$D$60,COUNTIF('Unit 6'!$C:$C,$D24),\"0\")","v":"0"},{"$f":"IF('Unit 7'!$C$7=$D$60,COUNTIF('Unit 7'!$C:$C,$D24),\"0\")","v":"0"},{"$f":"IF('Unit 8'!$C$7=$D$60,COUNTIF('Unit 8'!$C:$C,$D24),\"0\")","v":"0"},{"$f":"IF('Unit 9'!$C$7=$D$60,COUNTIF('Unit 9'!$C:$C,$D24),\"0\")","v":"0"},{"$f":"IF('Unit 10'!$C$7=$D$60,COUNTIF('Unit 10'!$C:$C,$D24),\"0\")","v":"0"},{"$f":"IF('Unit 11'!$C$7=$D$60,COUNTIF('Unit 11'!$C:$C,$D24),\"0\")","v":"0"},{"$f":"IF('Unit 12'!$C$7=$D$60,COUNTIF('Unit 12'!$C:$C,$D24),\"0\")","v":"0"},{"$f":"IF('Unit 13'!$C$7=$D$60,COUNTIF('Unit 13'!$C:$C,$D24),\"0\")","v":"0"},{"$f":"IF('Unit 14'!$C$7=$D$60,COUNTIF('Unit 14'!$C:$C,$D24),\"0\")","v":"0"},{"$f":"IF('Unit 15'!$C$7=$D$60,COUNTIF('Unit 15'!$C:$C,$D24),\"0\")","v":"0"},{"$f":"IF('Unit 16'!$C$7=$D$60,COUNTIF('Unit 16'!$C:$C,$D24),\"0\")","v":"0"},{"$f":"IF('Unit 17'!$C$7=$D$60,COUNTIF('Unit 17'!$C:$C,$D24),\"0\")","v":"0"},{"$f":"IF('Unit 18'!$C$7=$D$60,COUNTIF('Unit 18'!$C:$C,$D24),\"0\")","v":"0"},{"$f":"IF('Unit 19'!$C$7=$D$60,COUNTIF('Unit 19'!$C:$C,$D24),\"0\")","v":"0"},{"$f":"IF('Unit 20'!$C$7=$D$60,COUNTIF('Unit 20'!$C:$C,$D24),\"0\")","v":"0"},{"$f":"IF('Unit 21'!$C$7=$D$60,COUNTIF('Unit 21'!$C:$C,$D24),\"0\")","v":"0"},{"$f":"IF('Unit 22'!$C$7=$D$60,COUNTIF('Unit 22'!$C:$C,$D24),\"0\")","v":"0"},{"$f":"IF('Unit 23'!$C$7=$D$60,COUNTIF('Unit 23'!$C:$C,$D24),\"0\")","v":"0"},{"$f":"IF('Unit 24'!$C$7=$D$60,COUNTIF('Unit 24'!$C:$C,$D24),\"0\")","v":"0"},{"$f":"IF('Unit 25'!$C$7=$D$60,COUNTIF('Unit 25'!$C:$C,$D24),\"0\")","v":"0"},{"$f":"IF('Unit 26'!$C$7=$D$60,COUNTIF('Unit 26'!$C:$C,$D24),\"0\")","v":"0"},{"$f":"IF('Unit 27'!$C$7=$D$60,COUNTIF('Unit 27'!$C:$C,$D24),\"0\")","v":"0"},{"$f":"IF('Unit 28'!$C$7=$D$60,COUNTIF('Unit 28'!$C:$C,$D24),\"0\")","v":"0"},{"$f":"IF('Unit 29'!$C$7=$D$60,COUNTIF('Unit 29'!$C:$C,$D24),\"0\")","v":"0"},{"$f":"IF('Unit 30'!$C$7=$D$60,COUNTIF('Unit 30'!$C:$C,$D24),\"0\")","v":"0"},{"$f":"IF('Unit 31'!$C$7=$D$60,COUNTIF('Unit 31'!$C:$C,$D24),\"0\")","v":"0"},{"$f":"IF('Unit 32'!$C$7=$D$60,COUNTIF('Unit 32'!$C:$C,$D24),\"0\")","v":"0"},{"$f":"IF('Unit 33'!$C$7=$D$60,COUNTIF('Unit 33'!$C:$C,$D24),\"0\")","v":"0"},{"$f":"IF('Unit 34'!$C$7=$D$60,COUNTIF('Unit 34'!$C:$C,$D24),\"0\")","v":"0"},{"$f":"IF('Unit 35'!$C$7=$D$60,COUNTIF('Unit 35'!$C:$C,$D24),\"0\")","v":"0"},{"$f":"IF('Unit 36'!$C$7=$D$60,COUNTIF('Unit 36'!$C:$C,$D24),\"0\")","v":"0"},{"$f":"IF('Unit 37'!$C$7=$D$60,COUNTIF('Unit 37'!$C:$C,$D24),\"0\")","v":"0"},{"$f":"IF('Unit 38'!$C$7=$D$60,COUNTIF('Unit 38'!$C:$C,$D24),\"0\")","v":"0"},0]
[null,null,"2.2","2.2 evaluate the factors that influence design ","Evaluate: collect and examine evidence to make judgements and appraisals; describe how evidence supports or does not support a judgement; identify the limitations of evidence in conclusions; make judgements about the ideas, solutions or methods",{"$f":"COUNTIF('Unit 1'!C:C,$D25)","v":0},{"$f":"COUNTIF('Unit 2'!C:C,D25)","v":0},{"$f":"COUNTIF('Unit 3'!C:C,D25)","v":0},{"$f":"COUNTIF('Unit 4'!C:C,D25)","v":0},{"$f":"COUNTIF('Unit 5'!C:C,D25)","v":0},{"$f":"COUNTIF('Unit 6'!C:C,D25)","v":0},{"$f":"COUNTIF('Unit 7'!C:C,D25)","v":0},{"$f":"COUNTIF('Unit 8'!C:C,D25)","v":0},{"$f":"COUNTIF('Unit 9'!C:C,D25)","v":0},{"$f":"COUNTIF('Unit 10'!C:C,D25)","v":0},{"$f":"COUNTIF('Unit 11'!C:C,D25)","v":0},{"$f":"COUNTIF('Unit 12'!C:C,D25)","v":0},{"$f":"COUNTIF('Unit 13'!C:C,D25)","v":0},{"$f":"COUNTIF('Unit 14'!C:C,D25)","v":0},{"$f":"COUNTIF('Unit 15'!C:C,D25)","v":0},{"$f":"COUNTIF('Unit 16'!C:C,D25)","v":0},{"$f":"COUNTIF('Unit 17'!C:C,D25)","v":0},{"$f":"COUNTIF('Unit 18'!C:C,D25)","v":0},{"$f":"COUNTIF('Unit 19'!C:C,D25)","v":0},{"$f":"COUNTIF('Unit 20'!C:C,D25)","v":0},{"$f":"COUNTIF('Unit 21'!C:C,D25)","v":0},{"$f":"COUNTIF('Unit 22'!C:C,D25)","v":0},{"$f":"COUNTIF('Unit 23'!C:C,D25)","v":0},{"$f":"COUNTIF('Unit 24'!C:C,D25)","v":0},{"$f":"COUNTIF('Unit 25'!C:C,D25)","v":0},{"$f":"COUNTIF('Unit 26'!C:C,D25)","v":0},{"$f":"COUNTIF('Unit 27'!C:C,D25)","v":0},{"$f":"COUNTIF('Unit 28'!C:C,D25)","v":0},{"$f":"COUNTIF('Unit 29'!C:C,D25)","v":0},{"$f":"COUNTIF('Unit 30'!C:C,D25)","v":0},{"$f":"COUNTIF('Unit 31'!C:C,D25)","v":0},{"$f":"COUNTIF('Unit 32'!C:C,D25)","v":0},{"$f":"COUNTIF('Unit 33'!C:C,D25)","v":0},{"$f":"COUNTIF('Unit 34'!C:C,D25)","v":0},{"$f":"COUNTIF('Unit 35'!C:C,D25)","v":0},{"$f":"COUNTIF('Unit 36'!C:C,D25)","v":0},{"$f":"COUNTIF('Unit 37'!C:C,D25)","v":0},{"$f":"COUNTIF('Unit 38'!C:C,D25)","v":0},0,null,{"$f":"IF('Unit 1'!$C$7=$D$58,COUNTIF('Unit 1'!$C:$C,$D25),\"0\")","v":"0"},{"$f":"IF('Unit 2'!$C$7=$D$58,COUNTIF('Unit 2'!$C:$C,$D25),\"0\")","v":"0"},{"$f":"IF('Unit 3'!$C$7=$D$58,COUNTIF('Unit 3'!$C:$C,$D25),\"0\")","v":"0"},{"$f":"IF('Unit 4'!$C$7=$D$58,COUNTIF('Unit 4'!$C:$C,$D25),\"0\")","v":"0"},{"$f":"IF('Unit 5'!$C$7=$D$58,COUNTIF('Unit 5'!$C:$C,$D25),\"0\")","v":"0"},{"$f":"IF('Unit 6'!$C$7=$D$58,COUNTIF('Unit 6'!$C:$C,$D25),\"0\")","v":"0"},{"$f":"IF('Unit 7'!$C$7=$D$58,COUNTIF('Unit 7'!$C:$C,$D25),\"0\")","v":"0"},{"$f":"IF('Unit 8'!$C$7=$D$58,COUNTIF('Unit 8'!$C:$C,$D25),\"0\")","v":"0"},{"$f":"IF('Unit 9'!$C$7=$D$58,COUNTIF('Unit 9'!$C:$C,$D25),\"0\")","v":"0"},{"$f":"IF('Unit 10'!$C$7=$D$58,COUNTIF('Unit 10'!$C:$C,$D25),\"0\")","v":"0"},{"$f":"IF('Unit 11'!$C$7=$D$58,COUNTIF('Unit 11'!$C:$C,$D25),\"0\")","v":"0"},{"$f":"IF('Unit 12'!$C$7=$D$58,COUNTIF('Unit 12'!$C:$C,$D25),\"0\")","v":"0"},{"$f":"IF('Unit 13'!$C$7=$D$58,COUNTIF('Unit 13'!$C:$C,$D25),\"0\")","v":"0"},{"$f":"IF('Unit 14'!$C$7=$D$58,COUNTIF('Unit 14'!$C:$C,$D25),\"0\")","v":"0"},{"$f":"IF('Unit 15'!$C$7=$D$58,COUNTIF('Unit 15'!$C:$C,$D25),\"0\")","v":"0"},{"$f":"IF('Unit 16'!$C$7=$D$58,COUNTIF('Unit 16'!$C:$C,$D25),\"0\")","v":"0"},{"$f":"IF('Unit 17'!$C$7=$D$58,COUNTIF('Unit 17'!$C:$C,$D25),\"0\")","v":"0"},{"$f":"IF('Unit 18'!$C$7=$D$58,COUNTIF('Unit 18'!$C:$C,$D25),\"0\")","v":"0"},{"$f":"IF('Unit 19'!$C$7=$D$58,COUNTIF('Unit 19'!$C:$C,$D25),\"0\")","v":"0"},{"$f":"IF('Unit 20'!$C$7=$D$58,COUNTIF('Unit 20'!$C:$C,$D25),\"0\")","v":"0"},{"$f":"IF('Unit 21'!$C$7=$D$58,COUNTIF('Unit 21'!$C:$C,$D25),\"0\")","v":"0"},{"$f":"IF('Unit 22'!$C$7=$D$58,COUNTIF('Unit 22'!$C:$C,$D25),\"0\")","v":"0"},{"$f":"IF('Unit 23'!$C$7=$D$58,COUNTIF('Unit 23'!$C:$C,$D25),\"0\")","v":"0"},{"$f":"IF('Unit 24'!$C$7=$D$58,COUNTIF('Unit 24'!$C:$C,$D25),\"0\")","v":"0"},{"$f":"IF('Unit 25'!$C$7=$D$58,COUNTIF('Unit 25'!$C:$C,$D25),\"0\")","v":"0"},{"$f":"IF('Unit 26'!$C$7=$D$58,COUNTIF('Unit 26'!$C:$C,$D25),\"0\")","v":"0"},{"$f":"IF('Unit 27'!$C$7=$D$58,COUNTIF('Unit 27'!$C:$C,$D25),\"0\")","v":"0"},{"$f":"IF('Unit 28'!$C$7=$D$58,COUNTIF('Unit 28'!$C:$C,$D25),\"0\")","v":"0"},{"$f":"IF('Unit 29'!$C$7=$D$58,COUNTIF('Unit 29'!$C:$C,$D25),\"0\")","v":"0"},{"$f":"IF('Unit 30'!$C$7=$D$58,COUNTIF('Unit 30'!$C:$C,$D25),\"0\")","v":"0"},{"$f":"IF('Unit 31'!$C$7=$D$58,COUNTIF('Unit 31'!$C:$C,$D25),\"0\")","v":"0"},{"$f":"IF('Unit 32'!$C$7=$D$58,COUNTIF('Unit 32'!$C:$C,$D25),\"0\")","v":"0"},{"$f":"IF('Unit 33'!$C$7=$D$58,COUNTIF('Unit 33'!$C:$C,$D25),\"0\")","v":"0"},{"$f":"IF('Unit 34'!$C$7=$D$58,COUNTIF('Unit 34'!$C:$C,$D25),\"0\")","v":"0"},{"$f":"IF('Unit 35'!$C$7=$D$58,COUNTIF('Unit 35'!$C:$C,$D25),\"0\")","v":"0"},{"$f":"IF('Unit 36'!$C$7=$D$58,COUNTIF('Unit 36'!$C:$C,$D25),\"0\")","v":"0"},{"$f":"IF('Unit 37'!$C$7=$D$58,COUNTIF('Unit 37'!$C:$C,$D25),\"0\")","v":"0"},{"$f":"IF('Unit 38'!$C$7=$D$58,COUNTIF('Unit 38'!$C:$C,$D25),\"0\")","v":"0"},0,null,{"$f":"IF('Unit 1'!$C$7=$D$59,COUNTIF('Unit 1'!$C:$C,$D25),\"0\")","v":"0"},{"$f":"IF('Unit 2'!$C$7=$D$59,COUNTIF('Unit 2'!$C:$C,$D25),\"0\")","v":"0"},{"$f":"IF('Unit 3'!$C$7=$D$59,COUNTIF('Unit 3'!$C:$C,$D25),\"0\")","v":"0"},{"$f":"IF('Unit 4'!$C$7=$D$59,COUNTIF('Unit 4'!$C:$C,$D25),\"0\")","v":"0"},{"$f":"IF('Unit 5'!$C$7=$D$59,COUNTIF('Unit 5'!$C:$C,$D25),\"0\")","v":"0"},{"$f":"IF('Unit 6'!$C$7=$D$59,COUNTIF('Unit 6'!$C:$C,$D25),\"0\")","v":"0"},{"$f":"IF('Unit 7'!$C$7=$D$59,COUNTIF('Unit 7'!$C:$C,$D25),\"0\")","v":"0"},{"$f":"IF('Unit 8'!$C$7=$D$59,COUNTIF('Unit 8'!$C:$C,$D25),\"0\")","v":"0"},{"$f":"IF('Unit 9'!$C$7=$D$59,COUNTIF('Unit 9'!$C:$C,$D25),\"0\")","v":"0"},{"$f":"IF('Unit 10'!$C$7=$D$59,COUNTIF('Unit 10'!$C:$C,$D25),\"0\")","v":"0"},{"$f":"IF('Unit 11'!$C$7=$D$59,COUNTIF('Unit 11'!$C:$C,$D25),\"0\")","v":"0"},{"$f":"IF('Unit 12'!$C$7=$D$59,COUNTIF('Unit 12'!$C:$C,$D25),\"0\")","v":"0"},{"$f":"IF('Unit 13'!$C$7=$D$59,COUNTIF('Unit 13'!$C:$C,$D25),\"0\")","v":"0"},{"$f":"IF('Unit 14'!$C$7=$D$59,COUNTIF('Unit 14'!$C:$C,$D25),\"0\")","v":"0"},{"$f":"IF('Unit 15'!$C$7=$D$59,COUNTIF('Unit 15'!$C:$C,$D25),\"0\")","v":"0"},{"$f":"IF('Unit 16'!$C$7=$D$59,COUNTIF('Unit 16'!$C:$C,$D25),\"0\")","v":"0"},{"$f":"IF('Unit 17'!$C$7=$D$59,COUNTIF('Unit 17'!$C:$C,$D25),\"0\")","v":"0"},{"$f":"IF('Unit 18'!$C$7=$D$59,COUNTIF('Unit 18'!$C:$C,$D25),\"0\")","v":"0"},{"$f":"IF('Unit 19'!$C$7=$D$59,COUNTIF('Unit 19'!$C:$C,$D25),\"0\")","v":"0"},{"$f":"IF('Unit 20'!$C$7=$D$59,COUNTIF('Unit 20'!$C:$C,$D25),\"0\")","v":"0"},{"$f":"IF('Unit 21'!$C$7=$D$59,COUNTIF('Unit 21'!$C:$C,$D25),\"0\")","v":"0"},{"$f":"IF('Unit 22'!$C$7=$D$59,COUNTIF('Unit 22'!$C:$C,$D25),\"0\")","v":"0"},{"$f":"IF('Unit 23'!$C$7=$D$59,COUNTIF('Unit 23'!$C:$C,$D25),\"0\")","v":"0"},{"$f":"IF('Unit 24'!$C$7=$D$59,COUNTIF('Unit 24'!$C:$C,$D25),\"0\")","v":"0"},{"$f":"IF('Unit 25'!$C$7=$D$59,COUNTIF('Unit 25'!$C:$C,$D25),\"0\")","v":"0"},{"$f":"IF('Unit 26'!$C$7=$D$59,COUNTIF('Unit 26'!$C:$C,$D25),\"0\")","v":"0"},{"$f":"IF('Unit 27'!$C$7=$D$59,COUNTIF('Unit 27'!$C:$C,$D25),\"0\")","v":"0"},{"$f":"IF('Unit 28'!$C$7=$D$59,COUNTIF('Unit 28'!$C:$C,$D25),\"0\")","v":"0"},{"$f":"IF('Unit 29'!$C$7=$D$59,COUNTIF('Unit 29'!$C:$C,$D25),\"0\")","v":"0"},{"$f":"IF('Unit 30'!$C$7=$D$59,COUNTIF('Unit 30'!$C:$C,$D25),\"0\")","v":"0"},{"$f":"IF('Unit 31'!$C$7=$D$59,COUNTIF('Unit 31'!$C:$C,$D25),\"0\")","v":"0"},{"$f":"IF('Unit 32'!$C$7=$D$59,COUNTIF('Unit 32'!$C:$C,$D25),\"0\")","v":"0"},{"$f":"IF('Unit 33'!$C$7=$D$59,COUNTIF('Unit 33'!$C:$C,$D25),\"0\")","v":"0"},{"$f":"IF('Unit 34'!$C$7=$D$59,COUNTIF('Unit 34'!$C:$C,$D25),\"0\")","v":"0"},{"$f":"IF('Unit 35'!$C$7=$D$59,COUNTIF('Unit 35'!$C:$C,$D25),\"0\")","v":"0"},{"$f":"IF('Unit 36'!$C$7=$D$59,COUNTIF('Unit 36'!$C:$C,$D25),\"0\")","v":"0"},{"$f":"IF('Unit 37'!$C$7=$D$59,COUNTIF('Unit 37'!$C:$C,$D25),\"0\")","v":"0"},{"$f":"IF('Unit 38'!$C$7=$D$59,COUNTIF('Unit 38'!$C:$C,$D25),\"0\")","v":"0"},0,null,{"$f":"IF('Unit 1'!$C$7=$D$60,COUNTIF('Unit 1'!$C:$C,$D25),\"0\")","v":"0"},{"$f":"IF('Unit 2'!$C$7=$D$60,COUNTIF('Unit 2'!$C:$C,$D25),\"0\")","v":"0"},{"$f":"IF('Unit 3'!$C$7=$D$60,COUNTIF('Unit 3'!$C:$C,$D25),\"0\")","v":"0"},{"$f":"IF('Unit 4'!$C$7=$D$60,COUNTIF('Unit 4'!$C:$C,$D25),\"0\")","v":"0"},{"$f":"IF('Unit 5'!$C$7=$D$60,COUNTIF('Unit 5'!$C:$C,$D25),\"0\")","v":"0"},{"$f":"IF('Unit 6'!$C$7=$D$60,COUNTIF('Unit 6'!$C:$C,$D25),\"0\")","v":"0"},{"$f":"IF('Unit 7'!$C$7=$D$60,COUNTIF('Unit 7'!$C:$C,$D25),\"0\")","v":"0"},{"$f":"IF('Unit 8'!$C$7=$D$60,COUNTIF('Unit 8'!$C:$C,$D25),\"0\")","v":"0"},{"$f":"IF('Unit 9'!$C$7=$D$60,COUNTIF('Unit 9'!$C:$C,$D25),\"0\")","v":"0"},{"$f":"IF('Unit 10'!$C$7=$D$60,COUNTIF('Unit 10'!$C:$C,$D25),\"0\")","v":"0"},{"$f":"IF('Unit 11'!$C$7=$D$60,COUNTIF('Unit 11'!$C:$C,$D25),\"0\")","v":"0"},{"$f":"IF('Unit 12'!$C$7=$D$60,COUNTIF('Unit 12'!$C:$C,$D25),\"0\")","v":"0"},{"$f":"IF('Unit 13'!$C$7=$D$60,COUNTIF('Unit 13'!$C:$C,$D25),\"0\")","v":"0"},{"$f":"IF('Unit 14'!$C$7=$D$60,COUNTIF('Unit 14'!$C:$C,$D25),\"0\")","v":"0"},{"$f":"IF('Unit 15'!$C$7=$D$60,COUNTIF('Unit 15'!$C:$C,$D25),\"0\")","v":"0"},{"$f":"IF('Unit 16'!$C$7=$D$60,COUNTIF('Unit 16'!$C:$C,$D25),\"0\")","v":"0"},{"$f":"IF('Unit 17'!$C$7=$D$60,COUNTIF('Unit 17'!$C:$C,$D25),\"0\")","v":"0"},{"$f":"IF('Unit 18'!$C$7=$D$60,COUNTIF('Unit 18'!$C:$C,$D25),\"0\")","v":"0"},{"$f":"IF('Unit 19'!$C$7=$D$60,COUNTIF('Unit 19'!$C:$C,$D25),\"0\")","v":"0"},{"$f":"IF('Unit 20'!$C$7=$D$60,COUNTIF('Unit 20'!$C:$C,$D25),\"0\")","v":"0"},{"$f":"IF('Unit 21'!$C$7=$D$60,COUNTIF('Unit 21'!$C:$C,$D25),\"0\")","v":"0"},{"$f":"IF('Unit 22'!$C$7=$D$60,COUNTIF('Unit 22'!$C:$C,$D25),\"0\")","v":"0"},{"$f":"IF('Unit 23'!$C$7=$D$60,COUNTIF('Unit 23'!$C:$C,$D25),\"0\")","v":"0"},{"$f":"IF('Unit 24'!$C$7=$D$60,COUNTIF('Unit 24'!$C:$C,$D25),\"0\")","v":"0"},{"$f":"IF('Unit 25'!$C$7=$D$60,COUNTIF('Unit 25'!$C:$C,$D25),\"0\")","v":"0"},{"$f":"IF('Unit 26'!$C$7=$D$60,COUNTIF('Unit 26'!$C:$C,$D25),\"0\")","v":"0"},{"$f":"IF('Unit 27'!$C$7=$D$60,COUNTIF('Unit 27'!$C:$C,$D25),\"0\")","v":"0"},{"$f":"IF('Unit 28'!$C$7=$D$60,COUNTIF('Unit 28'!$C:$C,$D25),\"0\")","v":"0"},{"$f":"IF('Unit 29'!$C$7=$D$60,COUNTIF('Unit 29'!$C:$C,$D25),\"0\")","v":"0"},{"$f":"IF('Unit 30'!$C$7=$D$60,COUNTIF('Unit 30'!$C:$C,$D25),\"0\")","v":"0"},{"$f":"IF('Unit 31'!$C$7=$D$60,COUNTIF('Unit 31'!$C:$C,$D25),\"0\")","v":"0"},{"$f":"IF('Unit 32'!$C$7=$D$60,COUNTIF('Unit 32'!$C:$C,$D25),\"0\")","v":"0"},{"$f":"IF('Unit 33'!$C$7=$D$60,COUNTIF('Unit 33'!$C:$C,$D25),\"0\")","v":"0"},{"$f":"IF('Unit 34'!$C$7=$D$60,COUNTIF('Unit 34'!$C:$C,$D25),\"0\")","v":"0"},{"$f":"IF('Unit 35'!$C$7=$D$60,COUNTIF('Unit 35'!$C:$C,$D25),\"0\")","v":"0"},{"$f":"IF('Unit 36'!$C$7=$D$60,COUNTIF('Unit 36'!$C:$C,$D25),\"0\")","v":"0"},{"$f":"IF('Unit 37'!$C$7=$D$60,COUNTIF('Unit 37'!$C:$C,$D25),\"0\")","v":"0"},{"$f":"IF('Unit 38'!$C$7=$D$60,COUNTIF('Unit 38'!$C:$C,$D25),\"0\")","v":"0"},0]
[null,null,"2.3","2.3 choose a suitable material to engineer a product","Choose: pick out as being the best or most appropriate of two or more alternatives\nEngineer: develop/build an item for a specific purpose that includes critical-to function components",{"$f":"COUNTIF('Unit 1'!C:C,$D26)","v":0},{"$f":"COUNTIF('Unit 2'!C:C,D26)","v":0},{"$f":"COUNTIF('Unit 3'!C:C,D26)","v":0},{"$f":"COUNTIF('Unit 4'!C:C,D26)","v":0},{"$f":"COUNTIF('Unit 5'!C:C,D26)","v":0},{"$f":"COUNTIF('Unit 6'!C:C,D26)","v":0},{"$f":"COUNTIF('Unit 7'!C:C,D26)","v":0},{"$f":"COUNTIF('Unit 8'!C:C,D26)","v":0},{"$f":"COUNTIF('Unit 9'!C:C,D26)","v":0},{"$f":"COUNTIF('Unit 10'!C:C,D26)","v":0},{"$f":"COUNTIF('Unit 11'!C:C,D26)","v":0},{"$f":"COUNTIF('Unit 12'!C:C,D26)","v":0},{"$f":"COUNTIF('Unit 13'!C:C,D26)","v":0},{"$f":"COUNTIF('Unit 14'!C:C,D26)","v":0},{"$f":"COUNTIF('Unit 15'!C:C,D26)","v":0},{"$f":"COUNTIF('Unit 16'!C:C,D26)","v":0},{"$f":"COUNTIF('Unit 17'!C:C,D26)","v":0},{"$f":"COUNTIF('Unit 18'!C:C,D26)","v":0},{"$f":"COUNTIF('Unit 19'!C:C,D26)","v":0},{"$f":"COUNTIF('Unit 20'!C:C,D26)","v":0},{"$f":"COUNTIF('Unit 21'!C:C,D26)","v":0},{"$f":"COUNTIF('Unit 22'!C:C,D26)","v":0},{"$f":"COUNTIF('Unit 23'!C:C,D26)","v":0},{"$f":"COUNTIF('Unit 24'!C:C,D26)","v":0},{"$f":"COUNTIF('Unit 25'!C:C,D26)","v":0},{"$f":"COUNTIF('Unit 26'!C:C,D26)","v":0},{"$f":"COUNTIF('Unit 27'!C:C,D26)","v":0},{"$f":"COUNTIF('Unit 28'!C:C,D26)","v":0},{"$f":"COUNTIF('Unit 29'!C:C,D26)","v":0},{"$f":"COUNTIF('Unit 30'!C:C,D26)","v":0},{"$f":"COUNTIF('Unit 31'!C:C,D26)","v":0},{"$f":"COUNTIF('Unit 32'!C:C,D26)","v":0},{"$f":"COUNTIF('Unit 33'!C:C,D26)","v":0},{"$f":"COUNTIF('Unit 34'!C:C,D26)","v":0},{"$f":"COUNTIF('Unit 35'!C:C,D26)","v":0},{"$f":"COUNTIF('Unit 36'!C:C,D26)","v":0},{"$f":"COUNTIF('Unit 37'!C:C,D26)","v":0},{"$f":"COUNTIF('Unit 38'!C:C,D26)","v":0},0,null,{"$f":"IF('Unit 1'!$C$7=$D$58,COUNTIF('Unit 1'!$C:$C,$D26),\"0\")","v":"0"},{"$f":"IF('Unit 2'!$C$7=$D$58,COUNTIF('Unit 2'!$C:$C,$D26),\"0\")","v":"0"},{"$f":"IF('Unit 3'!$C$7=$D$58,COUNTIF('Unit 3'!$C:$C,$D26),\"0\")","v":"0"},{"$f":"IF('Unit 4'!$C$7=$D$58,COUNTIF('Unit 4'!$C:$C,$D26),\"0\")","v":"0"},{"$f":"IF('Unit 5'!$C$7=$D$58,COUNTIF('Unit 5'!$C:$C,$D26),\"0\")","v":"0"},{"$f":"IF('Unit 6'!$C$7=$D$58,COUNTIF('Unit 6'!$C:$C,$D26),\"0\")","v":"0"},{"$f":"IF('Unit 7'!$C$7=$D$58,COUNTIF('Unit 7'!$C:$C,$D26),\"0\")","v":"0"},{"$f":"IF('Unit 8'!$C$7=$D$58,COUNTIF('Unit 8'!$C:$C,$D26),\"0\")","v":"0"},{"$f":"IF('Unit 9'!$C$7=$D$58,COUNTIF('Unit 9'!$C:$C,$D26),\"0\")","v":"0"},{"$f":"IF('Unit 10'!$C$7=$D$58,COUNTIF('Unit 10'!$C:$C,$D26),\"0\")","v":"0"},{"$f":"IF('Unit 11'!$C$7=$D$58,COUNTIF('Unit 11'!$C:$C,$D26),\"0\")","v":"0"},{"$f":"IF('Unit 12'!$C$7=$D$58,COUNTIF('Unit 12'!$C:$C,$D26),\"0\")","v":"0"},{"$f":"IF('Unit 13'!$C$7=$D$58,COUNTIF('Unit 13'!$C:$C,$D26),\"0\")","v":"0"},{"$f":"IF('Unit 14'!$C$7=$D$58,COUNTIF('Unit 14'!$C:$C,$D26),\"0\")","v":"0"},{"$f":"IF('Unit 15'!$C$7=$D$58,COUNTIF('Unit 15'!$C:$C,$D26),\"0\")","v":"0"},{"$f":"IF('Unit 16'!$C$7=$D$58,COUNTIF('Unit 16'!$C:$C,$D26),\"0\")","v":"0"},{"$f":"IF('Unit 17'!$C$7=$D$58,COUNTIF('Unit 17'!$C:$C,$D26),\"0\")","v":"0"},{"$f":"IF('Unit 18'!$C$7=$D$58,COUNTIF('Unit 18'!$C:$C,$D26),\"0\")","v":"0"},{"$f":"IF('Unit 19'!$C$7=$D$58,COUNTIF('Unit 19'!$C:$C,$D26),\"0\")","v":"0"},{"$f":"IF('Unit 20'!$C$7=$D$58,COUNTIF('Unit 20'!$C:$C,$D26),\"0\")","v":"0"},{"$f":"IF('Unit 21'!$C$7=$D$58,COUNTIF('Unit 21'!$C:$C,$D26),\"0\")","v":"0"},{"$f":"IF('Unit 22'!$C$7=$D$58,COUNTIF('Unit 22'!$C:$C,$D26),\"0\")","v":"0"},{"$f":"IF('Unit 23'!$C$7=$D$58,COUNTIF('Unit 23'!$C:$C,$D26),\"0\")","v":"0"},{"$f":"IF('Unit 24'!$C$7=$D$58,COUNTIF('Unit 24'!$C:$C,$D26),\"0\")","v":"0"},{"$f":"IF('Unit 25'!$C$7=$D$58,COUNTIF('Unit 25'!$C:$C,$D26),\"0\")","v":"0"},{"$f":"IF('Unit 26'!$C$7=$D$58,COUNTIF('Unit 26'!$C:$C,$D26),\"0\")","v":"0"},{"$f":"IF('Unit 27'!$C$7=$D$58,COUNTIF('Unit 27'!$C:$C,$D26),\"0\")","v":"0"},{"$f":"IF('Unit 28'!$C$7=$D$58,COUNTIF('Unit 28'!$C:$C,$D26),\"0\")","v":"0"},{"$f":"IF('Unit 29'!$C$7=$D$58,COUNTIF('Unit 29'!$C:$C,$D26),\"0\")","v":"0"},{"$f":"IF('Unit 30'!$C$7=$D$58,COUNTIF('Unit 30'!$C:$C,$D26),\"0\")","v":"0"},{"$f":"IF('Unit 31'!$C$7=$D$58,COUNTIF('Unit 31'!$C:$C,$D26),\"0\")","v":"0"},{"$f":"IF('Unit 32'!$C$7=$D$58,COUNTIF('Unit 32'!$C:$C,$D26),\"0\")","v":"0"},{"$f":"IF('Unit 33'!$C$7=$D$58,COUNTIF('Unit 33'!$C:$C,$D26),\"0\")","v":"0"},{"$f":"IF('Unit 34'!$C$7=$D$58,COUNTIF('Unit 34'!$C:$C,$D26),\"0\")","v":"0"},{"$f":"IF('Unit 35'!$C$7=$D$58,COUNTIF('Unit 35'!$C:$C,$D26),\"0\")","v":"0"},{"$f":"IF('Unit 36'!$C$7=$D$58,COUNTIF('Unit 36'!$C:$C,$D26),\"0\")","v":"0"},{"$f":"IF('Unit 37'!$C$7=$D$58,COUNTIF('Unit 37'!$C:$C,$D26),\"0\")","v":"0"},{"$f":"IF('Unit 38'!$C$7=$D$58,COUNTIF('Unit 38'!$C:$C,$D26),\"0\")","v":"0"},0,null,{"$f":"IF('Unit 1'!$C$7=$D$59,COUNTIF('Unit 1'!$C:$C,$D26),\"0\")","v":"0"},{"$f":"IF('Unit 2'!$C$7=$D$59,COUNTIF('Unit 2'!$C:$C,$D26),\"0\")","v":"0"},{"$f":"IF('Unit 3'!$C$7=$D$59,COUNTIF('Unit 3'!$C:$C,$D26),\"0\")","v":"0"},{"$f":"IF('Unit 4'!$C$7=$D$59,COUNTIF('Unit 4'!$C:$C,$D26),\"0\")","v":"0"},{"$f":"IF('Unit 5'!$C$7=$D$59,COUNTIF('Unit 5'!$C:$C,$D26),\"0\")","v":"0"},{"$f":"IF('Unit 6'!$C$7=$D$59,COUNTIF('Unit 6'!$C:$C,$D26),\"0\")","v":"0"},{"$f":"IF('Unit 7'!$C$7=$D$59,COUNTIF('Unit 7'!$C:$C,$D26),\"0\")","v":"0"},{"$f":"IF('Unit 8'!$C$7=$D$59,COUNTIF('Unit 8'!$C:$C,$D26),\"0\")","v":"0"},{"$f":"IF('Unit 9'!$C$7=$D$59,COUNTIF('Unit 9'!$C:$C,$D26),\"0\")","v":"0"},{"$f":"IF('Unit 10'!$C$7=$D$59,COUNTIF('Unit 10'!$C:$C,$D26),\"0\")","v":"0"},{"$f":"IF('Unit 11'!$C$7=$D$59,COUNTIF('Unit 11'!$C:$C,$D26),\"0\")","v":"0"},{"$f":"IF('Unit 12'!$C$7=$D$59,COUNTIF('Unit 12'!$C:$C,$D26),\"0\")","v":"0"},{"$f":"IF('Unit 13'!$C$7=$D$59,COUNTIF('Unit 13'!$C:$C,$D26),\"0\")","v":"0"},{"$f":"IF('Unit 14'!$C$7=$D$59,COUNTIF('Unit 14'!$C:$C,$D26),\"0\")","v":"0"},{"$f":"IF('Unit 15'!$C$7=$D$59,COUNTIF('Unit 15'!$C:$C,$D26),\"0\")","v":"0"},{"$f":"IF('Unit 16'!$C$7=$D$59,COUNTIF('Unit 16'!$C:$C,$D26),\"0\")","v":"0"},{"$f":"IF('Unit 17'!$C$7=$D$59,COUNTIF('Unit 17'!$C:$C,$D26),\"0\")","v":"0"},{"$f":"IF('Unit 18'!$C$7=$D$59,COUNTIF('Unit 18'!$C:$C,$D26),\"0\")","v":"0"},{"$f":"IF('Unit 19'!$C$7=$D$59,COUNTIF('Unit 19'!$C:$C,$D26),\"0\")","v":"0"},{"$f":"IF('Unit 20'!$C$7=$D$59,COUNTIF('Unit 20'!$C:$C,$D26),\"0\")","v":"0"},{"$f":"IF('Unit 21'!$C$7=$D$59,COUNTIF('Unit 21'!$C:$C,$D26),\"0\")","v":"0"},{"$f":"IF('Unit 22'!$C$7=$D$59,COUNTIF('Unit 22'!$C:$C,$D26),\"0\")","v":"0"},{"$f":"IF('Unit 23'!$C$7=$D$59,COUNTIF('Unit 23'!$C:$C,$D26),\"0\")","v":"0"},{"$f":"IF('Unit 24'!$C$7=$D$59,COUNTIF('Unit 24'!$C:$C,$D26),\"0\")","v":"0"},{"$f":"IF('Unit 25'!$C$7=$D$59,COUNTIF('Unit 25'!$C:$C,$D26),\"0\")","v":"0"},{"$f":"IF('Unit 26'!$C$7=$D$59,COUNTIF('Unit 26'!$C:$C,$D26),\"0\")","v":"0"},{"$f":"IF('Unit 27'!$C$7=$D$59,COUNTIF('Unit 27'!$C:$C,$D26),\"0\")","v":"0"},{"$f":"IF('Unit 28'!$C$7=$D$59,COUNTIF('Unit 28'!$C:$C,$D26),\"0\")","v":"0"},{"$f":"IF('Unit 29'!$C$7=$D$59,COUNTIF('Unit 29'!$C:$C,$D26),\"0\")","v":"0"},{"$f":"IF('Unit 30'!$C$7=$D$59,COUNTIF('Unit 30'!$C:$C,$D26),\"0\")","v":"0"},{"$f":"IF('Unit 31'!$C$7=$D$59,COUNTIF('Unit 31'!$C:$C,$D26),\"0\")","v":"0"},{"$f":"IF('Unit 32'!$C$7=$D$59,COUNTIF('Unit 32'!$C:$C,$D26),\"0\")","v":"0"},{"$f":"IF('Unit 33'!$C$7=$D$59,COUNTIF('Unit 33'!$C:$C,$D26),\"0\")","v":"0"},{"$f":"IF('Unit 34'!$C$7=$D$59,COUNTIF('Unit 34'!$C:$C,$D26),\"0\")","v":"0"},{"$f":"IF('Unit 35'!$C$7=$D$59,COUNTIF('Unit 35'!$C:$C,$D26),\"0\")","v":"0"},{"$f":"IF('Unit 36'!$C$7=$D$59,COUNTIF('Unit 36'!$C:$C,$D26),\"0\")","v":"0"},{"$f":"IF('Unit 37'!$C$7=$D$59,COUNTIF('Unit 37'!$C:$C,$D26),\"0\")","v":"0"},{"$f":"IF('Unit 38'!$C$7=$D$59,COUNTIF('Unit 38'!$C:$C,$D26),\"0\")","v":"0"},0,null,{"$f":"IF('Unit 1'!$C$7=$D$60,COUNTIF('Unit 1'!$C:$C,$D26),\"0\")","v":"0"},{"$f":"IF('Unit 2'!$C$7=$D$60,COUNTIF('Unit 2'!$C:$C,$D26),\"0\")","v":"0"},{"$f":"IF('Unit 3'!$C$7=$D$60,COUNTIF('Unit 3'!$C:$C,$D26),\"0\")","v":"0"},{"$f":"IF('Unit 4'!$C$7=$D$60,COUNTIF('Unit 4'!$C:$C,$D26),\"0\")","v":"0"},{"$f":"IF('Unit 5'!$C$7=$D$60,COUNTIF('Unit 5'!$C:$C,$D26),\"0\")","v":"0"},{"$f":"IF('Unit 6'!$C$7=$D$60,COUNTIF('Unit 6'!$C:$C,$D26),\"0\")","v":"0"},{"$f":"IF('Unit 7'!$C$7=$D$60,COUNTIF('Unit 7'!$C:$C,$D26),\"0\")","v":"0"},{"$f":"IF('Unit 8'!$C$7=$D$60,COUNTIF('Unit 8'!$C:$C,$D26),\"0\")","v":"0"},{"$f":"IF('Unit 9'!$C$7=$D$60,COUNTIF('Unit 9'!$C:$C,$D26),\"0\")","v":"0"},{"$f":"IF('Unit 10'!$C$7=$D$60,COUNTIF('Unit 10'!$C:$C,$D26),\"0\")","v":"0"},{"$f":"IF('Unit 11'!$C$7=$D$60,COUNTIF('Unit 11'!$C:$C,$D26),\"0\")","v":"0"},{"$f":"IF('Unit 12'!$C$7=$D$60,COUNTIF('Unit 12'!$C:$C,$D26),\"0\")","v":"0"},{"$f":"IF('Unit 13'!$C$7=$D$60,COUNTIF('Unit 13'!$C:$C,$D26),\"0\")","v":"0"},{"$f":"IF('Unit 14'!$C$7=$D$60,COUNTIF('Unit 14'!$C:$C,$D26),\"0\")","v":"0"},{"$f":"IF('Unit 15'!$C$7=$D$60,COUNTIF('Unit 15'!$C:$C,$D26),\"0\")","v":"0"},{"$f":"IF('Unit 16'!$C$7=$D$60,COUNTIF('Unit 16'!$C:$C,$D26),\"0\")","v":"0"},{"$f":"IF('Unit 17'!$C$7=$D$60,COUNTIF('Unit 17'!$C:$C,$D26),\"0\")","v":"0"},{"$f":"IF('Unit 18'!$C$7=$D$60,COUNTIF('Unit 18'!$C:$C,$D26),\"0\")","v":"0"},{"$f":"IF('Unit 19'!$C$7=$D$60,COUNTIF('Unit 19'!$C:$C,$D26),\"0\")","v":"0"},{"$f":"IF('Unit 20'!$C$7=$D$60,COUNTIF('Unit 20'!$C:$C,$D26),\"0\")","v":"0"},{"$f":"IF('Unit 21'!$C$7=$D$60,COUNTIF('Unit 21'!$C:$C,$D26),\"0\")","v":"0"},{"$f":"IF('Unit 22'!$C$7=$D$60,COUNTIF('Unit 22'!$C:$C,$D26),\"0\")","v":"0"},{"$f":"IF('Unit 23'!$C$7=$D$60,COUNTIF('Unit 23'!$C:$C,$D26),\"0\")","v":"0"},{"$f":"IF('Unit 24'!$C$7=$D$60,COUNTIF('Unit 24'!$C:$C,$D26),\"0\")","v":"0"},{"$f":"IF('Unit 25'!$C$7=$D$60,COUNTIF('Unit 25'!$C:$C,$D26),\"0\")","v":"0"},{"$f":"IF('Unit 26'!$C$7=$D$60,COUNTIF('Unit 26'!$C:$C,$D26),\"0\")","v":"0"},{"$f":"IF('Unit 27'!$C$7=$D$60,COUNTIF('Unit 27'!$C:$C,$D26),\"0\")","v":"0"},{"$f":"IF('Unit 28'!$C$7=$D$60,COUNTIF('Unit 28'!$C:$C,$D26),\"0\")","v":"0"},{"$f":"IF('Unit 29'!$C$7=$D$60,COUNTIF('Unit 29'!$C:$C,$D26),\"0\")","v":"0"},{"$f":"IF('Unit 30'!$C$7=$D$60,COUNTIF('Unit 30'!$C:$C,$D26),\"0\")","v":"0"},{"$f":"IF('Unit 31'!$C$7=$D$60,COUNTIF('Unit 31'!$C:$C,$D26),\"0\")","v":"0"},{"$f":"IF('Unit 32'!$C$7=$D$60,COUNTIF('Unit 32'!$C:$C,$D26),\"0\")","v":"0"},{"$f":"IF('Unit 33'!$C$7=$D$60,COUNTIF('Unit 33'!$C:$C,$D26),\"0\")","v":"0"},{"$f":"IF('Unit 34'!$C$7=$D$60,COUNTIF('Unit 34'!$C:$C,$D26),\"0\")","v":"0"},{"$f":"IF('Unit 35'!$C$7=$D$60,COUNTIF('Unit 35'!$C:$C,$D26),\"0\")","v":"0"},{"$f":"IF('Unit 36'!$C$7=$D$60,COUNTIF('Unit 36'!$C:$C,$D26),\"0\")","v":"0"},{"$f":"IF('Unit 37'!$C$7=$D$60,COUNTIF('Unit 37'!$C:$C,$D26),\"0\")","v":"0"},{"$f":"IF('Unit 38'!$C$7=$D$60,COUNTIF('Unit 38'!$C:$C,$D26),\"0\")","v":"0"},0]
[null,null,null,null,null,{"$f":"COUNTIF('Unit 1'!C:C,$D27)","v":0},{"$f":"COUNTIF('Unit 2'!C:C,D27)","v":0},{"$f":"COUNTIF('Unit 3'!C:C,D27)","v":0},{"$f":"COUNTIF('Unit 4'!C:C,D27)","v":0},{"$f":"COUNTIF('Unit 5'!C:C,D27)","v":0},{"$f":"COUNTIF('Unit 6'!C:C,D27)","v":0},{"$f":"COUNTIF('Unit 7'!C:C,D27)","v":0},{"$f":"COUNTIF('Unit 8'!C:C,D27)","v":0},{"$f":"COUNTIF('Unit 9'!C:C,D27)","v":0},{"$f":"COUNTIF('Unit 10'!C:C,D27)","v":0},{"$f":"COUNTIF('Unit 11'!C:C,D27)","v":0},{"$f":"COUNTIF('Unit 12'!C:C,D27)","v":0},{"$f":"COUNTIF('Unit 13'!C:C,D27)","v":0},{"$f":"COUNTIF('Unit 14'!C:C,D27)","v":0},{"$f":"COUNTIF('Unit 15'!C:C,D27)","v":0},{"$f":"COUNTIF('Unit 16'!C:C,D27)","v":0},{"$f":"COUNTIF('Unit 17'!C:C,D27)","v":0},{"$f":"COUNTIF('Unit 18'!C:C,D27)","v":0},{"$f":"COUNTIF('Unit 19'!C:C,D27)","v":0},{"$f":"COUNTIF('Unit 20'!C:C,D27)","v":0},{"$f":"COUNTIF('Unit 21'!C:C,D27)","v":0},{"$f":"COUNTIF('Unit 22'!C:C,D27)","v":0},{"$f":"COUNTIF('Unit 23'!C:C,D27)","v":0},{"$f":"COUNTIF('Unit 24'!C:C,D27)","v":0},{"$f":"COUNTIF('Unit 25'!C:C,D27)","v":0},{"$f":"COUNTIF('Unit 26'!C:C,D27)","v":0},{"$f":"COUNTIF('Unit 27'!C:C,D27)","v":0},{"$f":"COUNTIF('Unit 28'!C:C,D27)","v":0},{"$f":"COUNTIF('Unit 29'!C:C,D27)","v":0},{"$f":"COUNTIF('Unit 30'!C:C,D27)","v":0},{"$f":"COUNTIF('Unit 31'!C:C,D27)","v":0},{"$f":"COUNTIF('Unit 32'!C:C,D27)","v":0},{"$f":"COUNTIF('Unit 33'!C:C,D27)","v":0},{"$f":"COUNTIF('Unit 34'!C:C,D27)","v":0},{"$f":"COUNTIF('Unit 35'!C:C,D27)","v":0},{"$f":"COUNTIF('Unit 36'!C:C,D27)","v":0},{"$f":"COUNTIF('Unit 37'!C:C,D27)","v":0},{"$f":"COUNTIF('Unit 38'!C:C,D27)","v":0},0,null,{"$f":"IF('Unit 1'!$C$7=$D$58,COUNTIF('Unit 1'!$C:$C,$D27),\"0\")","v":"0"},{"$f":"IF('Unit 2'!$C$7=$D$58,COUNTIF('Unit 2'!$C:$C,$D27),\"0\")","v":"0"},{"$f":"IF('Unit 3'!$C$7=$D$58,COUNTIF('Unit 3'!$C:$C,$D27),\"0\")","v":"0"},{"$f":"IF('Unit 4'!$C$7=$D$58,COUNTIF('Unit 4'!$C:$C,$D27),\"0\")","v":"0"},{"$f":"IF('Unit 5'!$C$7=$D$58,COUNTIF('Unit 5'!$C:$C,$D27),\"0\")","v":"0"},{"$f":"IF('Unit 6'!$C$7=$D$58,COUNTIF('Unit 6'!$C:$C,$D27),\"0\")","v":"0"},{"$f":"IF('Unit 7'!$C$7=$D$58,COUNTIF('Unit 7'!$C:$C,$D27),\"0\")","v":"0"},{"$f":"IF('Unit 8'!$C$7=$D$58,COUNTIF('Unit 8'!$C:$C,$D27),\"0\")","v":"0"},{"$f":"IF('Unit 9'!$C$7=$D$58,COUNTIF('Unit 9'!$C:$C,$D27),\"0\")","v":"0"},{"$f":"IF('Unit 10'!$C$7=$D$58,COUNTIF('Unit 10'!$C:$C,$D27),\"0\")","v":"0"},{"$f":"IF('Unit 11'!$C$7=$D$58,COUNTIF('Unit 11'!$C:$C,$D27),\"0\")","v":"0"},{"$f":"IF('Unit 12'!$C$7=$D$58,COUNTIF('Unit 12'!$C:$C,$D27),\"0\")","v":"0"},{"$f":"IF('Unit 13'!$C$7=$D$58,COUNTIF('Unit 13'!$C:$C,$D27),\"0\")","v":"0"},{"$f":"IF('Unit 14'!$C$7=$D$58,COUNTIF('Unit 14'!$C:$C,$D27),\"0\")","v":"0"},{"$f":"IF('Unit 15'!$C$7=$D$58,COUNTIF('Unit 15'!$C:$C,$D27),\"0\")","v":"0"},{"$f":"IF('Unit 16'!$C$7=$D$58,COUNTIF('Unit 16'!$C:$C,$D27),\"0\")","v":"0"},{"$f":"IF('Unit 17'!$C$7=$D$58,COUNTIF('Unit 17'!$C:$C,$D27),\"0\")","v":"0"},{"$f":"IF('Unit 18'!$C$7=$D$58,COUNTIF('Unit 18'!$C:$C,$D27),\"0\")","v":"0"},{"$f":"IF('Unit 19'!$C$7=$D$58,COUNTIF('Unit 19'!$C:$C,$D27),\"0\")","v":"0"},{"$f":"IF('Unit 20'!$C$7=$D$58,COUNTIF('Unit 20'!$C:$C,$D27),\"0\")","v":"0"},{"$f":"IF('Unit 21'!$C$7=$D$58,COUNTIF('Unit 21'!$C:$C,$D27),\"0\")","v":"0"},{"$f":"IF('Unit 22'!$C$7=$D$58,COUNTIF('Unit 22'!$C:$C,$D27),\"0\")","v":"0"},{"$f":"IF('Unit 23'!$C$7=$D$58,COUNTIF('Unit 23'!$C:$C,$D27),\"0\")","v":"0"},{"$f":"IF('Unit 24'!$C$7=$D$58,COUNTIF('Unit 24'!$C:$C,$D27),\"0\")","v":"0"},{"$f":"IF('Unit 25'!$C$7=$D$58,COUNTIF('Unit 25'!$C:$C,$D27),\"0\")","v":"0"},{"$f":"IF('Unit 26'!$C$7=$D$58,COUNTIF('Unit 26'!$C:$C,$D27),\"0\")","v":"0"},{"$f":"IF('Unit 27'!$C$7=$D$58,COUNTIF('Unit 27'!$C:$C,$D27),\"0\")","v":"0"},{"$f":"IF('Unit 28'!$C$7=$D$58,COUNTIF('Unit 28'!$C:$C,$D27),\"0\")","v":"0"},{"$f":"IF('Unit 29'!$C$7=$D$58,COUNTIF('Unit 29'!$C:$C,$D27),\"0\")","v":"0"},{"$f":"IF('Unit 30'!$C$7=$D$58,COUNTIF('Unit 30'!$C:$C,$D27),\"0\")","v":"0"},{"$f":"IF('Unit 31'!$C$7=$D$58,COUNTIF('Unit 31'!$C:$C,$D27),\"0\")","v":"0"},{"$f":"IF('Unit 32'!$C$7=$D$58,COUNTIF('Unit 32'!$C:$C,$D27),\"0\")","v":"0"},{"$f":"IF('Unit 33'!$C$7=$D$58,COUNTIF('Unit 33'!$C:$C,$D27),\"0\")","v":"0"},{"$f":"IF('Unit 34'!$C$7=$D$58,COUNTIF('Unit 34'!$C:$C,$D27),\"0\")","v":"0"},{"$f":"IF('Unit 35'!$C$7=$D$58,COUNTIF('Unit 35'!$C:$C,$D27),\"0\")","v":"0"},{"$f":"IF('Unit 36'!$C$7=$D$58,COUNTIF('Unit 36'!$C:$C,$D27),\"0\")","v":"0"},{"$f":"IF('Unit 37'!$C$7=$D$58,COUNTIF('Unit 37'!$C:$C,$D27),\"0\")","v":"0"},{"$f":"IF('Unit 38'!$C$7=$D$58,COUNTIF('Unit 38'!$C:$C,$D27),\"0\")","v":"0"},0,null,{"$f":"IF('Unit 1'!$C$7=$D$59,COUNTIF('Unit 1'!$C:$C,$D27),\"0\")","v":"0"},{"$f":"IF('Unit 2'!$C$7=$D$59,COUNTIF('Unit 2'!$C:$C,$D27),\"0\")","v":"0"},{"$f":"IF('Unit 3'!$C$7=$D$59,COUNTIF('Unit 3'!$C:$C,$D27),\"0\")","v":"0"},{"$f":"IF('Unit 4'!$C$7=$D$59,COUNTIF('Unit 4'!$C:$C,$D27),\"0\")","v":"0"},{"$f":"IF('Unit 5'!$C$7=$D$59,COUNTIF('Unit 5'!$C:$C,$D27),\"0\")","v":"0"},{"$f":"IF('Unit 6'!$C$7=$D$59,COUNTIF('Unit 6'!$C:$C,$D27),\"0\")","v":"0"},{"$f":"IF('Unit 7'!$C$7=$D$59,COUNTIF('Unit 7'!$C:$C,$D27),\"0\")","v":"0"},{"$f":"IF('Unit 8'!$C$7=$D$59,COUNTIF('Unit 8'!$C:$C,$D27),\"0\")","v":"0"},{"$f":"IF('Unit 9'!$C$7=$D$59,COUNTIF('Unit 9'!$C:$C,$D27),\"0\")","v":"0"},{"$f":"IF('Unit 10'!$C$7=$D$59,COUNTIF('Unit 10'!$C:$C,$D27),\"0\")","v":"0"},{"$f":"IF('Unit 11'!$C$7=$D$59,COUNTIF('Unit 11'!$C:$C,$D27),\"0\")","v":"0"},{"$f":"IF('Unit 12'!$C$7=$D$59,COUNTIF('Unit 12'!$C:$C,$D27),\"0\")","v":"0"},{"$f":"IF('Unit 13'!$C$7=$D$59,COUNTIF('Unit 13'!$C:$C,$D27),\"0\")","v":"0"},{"$f":"IF('Unit 14'!$C$7=$D$59,COUNTIF('Unit 14'!$C:$C,$D27),\"0\")","v":"0"},{"$f":"IF('Unit 15'!$C$7=$D$59,COUNTIF('Unit 15'!$C:$C,$D27),\"0\")","v":"0"},{"$f":"IF('Unit 16'!$C$7=$D$59,COUNTIF('Unit 16'!$C:$C,$D27),\"0\")","v":"0"},{"$f":"IF('Unit 17'!$C$7=$D$59,COUNTIF('Unit 17'!$C:$C,$D27),\"0\")","v":"0"},{"$f":"IF('Unit 18'!$C$7=$D$59,COUNTIF('Unit 18'!$C:$C,$D27),\"0\")","v":"0"},{"$f":"IF('Unit 19'!$C$7=$D$59,COUNTIF('Unit 19'!$C:$C,$D27),\"0\")","v":"0"},{"$f":"IF('Unit 20'!$C$7=$D$59,COUNTIF('Unit 20'!$C:$C,$D27),\"0\")","v":"0"},{"$f":"IF('Unit 21'!$C$7=$D$59,COUNTIF('Unit 21'!$C:$C,$D27),\"0\")","v":"0"},{"$f":"IF('Unit 22'!$C$7=$D$59,COUNTIF('Unit 22'!$C:$C,$D27),\"0\")","v":"0"},{"$f":"IF('Unit 23'!$C$7=$D$59,COUNTIF('Unit 23'!$C:$C,$D27),\"0\")","v":"0"},{"$f":"IF('Unit 24'!$C$7=$D$59,COUNTIF('Unit 24'!$C:$C,$D27),\"0\")","v":"0"},{"$f":"IF('Unit 25'!$C$7=$D$59,COUNTIF('Unit 25'!$C:$C,$D27),\"0\")","v":"0"},{"$f":"IF('Unit 26'!$C$7=$D$59,COUNTIF('Unit 26'!$C:$C,$D27),\"0\")","v":"0"},{"$f":"IF('Unit 27'!$C$7=$D$59,COUNTIF('Unit 27'!$C:$C,$D27),\"0\")","v":"0"},{"$f":"IF('Unit 28'!$C$7=$D$59,COUNTIF('Unit 28'!$C:$C,$D27),\"0\")","v":"0"},{"$f":"IF('Unit 29'!$C$7=$D$59,COUNTIF('Unit 29'!$C:$C,$D27),\"0\")","v":"0"},{"$f":"IF('Unit 30'!$C$7=$D$59,COUNTIF('Unit 30'!$C:$C,$D27),\"0\")","v":"0"},{"$f":"IF('Unit 31'!$C$7=$D$59,COUNTIF('Unit 31'!$C:$C,$D27),\"0\")","v":"0"},{"$f":"IF('Unit 32'!$C$7=$D$59,COUNTIF('Unit 32'!$C:$C,$D27),\"0\")","v":"0"},{"$f":"IF('Unit 33'!$C$7=$D$59,COUNTIF('Unit 33'!$C:$C,$D27),\"0\")","v":"0"},{"$f":"IF('Unit 34'!$C$7=$D$59,COUNTIF('Unit 34'!$C:$C,$D27),\"0\")","v":"0"},{"$f":"IF('Unit 35'!$C$7=$D$59,COUNTIF('Unit 35'!$C:$C,$D27),\"0\")","v":"0"},{"$f":"IF('Unit 36'!$C$7=$D$59,COUNTIF('Unit 36'!$C:$C,$D27),\"0\")","v":"0"},{"$f":"IF('Unit 37'!$C$7=$D$59,COUNTIF('Unit 37'!$C:$C,$D27),\"0\")","v":"0"},{"$f":"IF('Unit 38'!$C$7=$D$59,COUNTIF('Unit 38'!$C:$C,$D27),\"0\")","v":"0"},0,null,{"$f":"IF('Unit 1'!$C$7=$D$60,COUNTIF('Unit 1'!$C:$C,$D27),\"0\")","v":"0"},{"$f":"IF('Unit 2'!$C$7=$D$60,COUNTIF('Unit 2'!$C:$C,$D27),\"0\")","v":"0"},{"$f":"IF('Unit 3'!$C$7=$D$60,COUNTIF('Unit 3'!$C:$C,$D27),\"0\")","v":"0"},{"$f":"IF('Unit 4'!$C$7=$D$60,COUNTIF('Unit 4'!$C:$C,$D27),\"0\")","v":"0"},{"$f":"IF('Unit 5'!$C$7=$D$60,COUNTIF('Unit 5'!$C:$C,$D27),\"0\")","v":"0"},{"$f":"IF('Unit 6'!$C$7=$D$60,COUNTIF('Unit 6'!$C:$C,$D27),\"0\")","v":"0"},{"$f":"IF('Unit 7'!$C$7=$D$60,COUNTIF('Unit 7'!$C:$C,$D27),\"0\")","v":"0"},{"$f":"IF('Unit 8'!$C$7=$D$60,COUNTIF('Unit 8'!$C:$C,$D27),\"0\")","v":"0"},{"$f":"IF('Unit 9'!$C$7=$D$60,COUNTIF('Unit 9'!$C:$C,$D27),\"0\")","v":"0"},{"$f":"IF('Unit 10'!$C$7=$D$60,COUNTIF('Unit 10'!$C:$C,$D27),\"0\")","v":"0"},{"$f":"IF('Unit 11'!$C$7=$D$60,COUNTIF('Unit 11'!$C:$C,$D27),\"0\")","v":"0"},{"$f":"IF('Unit 12'!$C$7=$D$60,COUNTIF('Unit 12'!$C:$C,$D27),\"0\")","v":"0"},{"$f":"IF('Unit 13'!$C$7=$D$60,COUNTIF('Unit 13'!$C:$C,$D27),\"0\")","v":"0"},{"$f":"IF('Unit 14'!$C$7=$D$60,COUNTIF('Unit 14'!$C:$C,$D27),\"0\")","v":"0"},{"$f":"IF('Unit 15'!$C$7=$D$60,COUNTIF('Unit 15'!$C:$C,$D27),\"0\")","v":"0"},{"$f":"IF('Unit 16'!$C$7=$D$60,COUNTIF('Unit 16'!$C:$C,$D27),\"0\")","v":"0"},{"$f":"IF('Unit 17'!$C$7=$D$60,COUNTIF('Unit 17'!$C:$C,$D27),\"0\")","v":"0"},{"$f":"IF('Unit 18'!$C$7=$D$60,COUNTIF('Unit 18'!$C:$C,$D27),\"0\")","v":"0"},{"$f":"IF('Unit 19'!$C$7=$D$60,COUNTIF('Unit 19'!$C:$C,$D27),\"0\")","v":"0"},{"$f":"IF('Unit 20'!$C$7=$D$60,COUNTIF('Unit 20'!$C:$C,$D27),\"0\")","v":"0"},{"$f":"IF('Unit 21'!$C$7=$D$60,COUNTIF('Unit 21'!$C:$C,$D27),\"0\")","v":"0"},{"$f":"IF('Unit 22'!$C$7=$D$60,COUNTIF('Unit 22'!$C:$C,$D27),\"0\")","v":"0"},{"$f":"IF('Unit 23'!$C$7=$D$60,COUNTIF('Unit 23'!$C:$C,$D27),\"0\")","v":"0"},{"$f":"IF('Unit 24'!$C$7=$D$60,COUNTIF('Unit 24'!$C:$C,$D27),\"0\")","v":"0"},{"$f":"IF('Unit 25'!$C$7=$D$60,COUNTIF('Unit 25'!$C:$C,$D27),\"0\")","v":"0"},{"$f":"IF('Unit 26'!$C$7=$D$60,COUNTIF('Unit 26'!$C:$C,$D27),\"0\")","v":"0"},{"$f":"IF('Unit 27'!$C$7=$D$60,COUNTIF('Unit 27'!$C:$C,$D27),\"0\")","v":"0"},{"$f":"IF('Unit 28'!$C$7=$D$60,COUNTIF('Unit 28'!$C:$C,$D27),\"0\")","v":"0"},{"$f":"IF('Unit 29'!$C$7=$D$60,COUNTIF('Unit 29'!$C:$C,$D27),\"0\")","v":"0"},{"$f":"IF('Unit 30'!$C$7=$D$60,COUNTIF('Unit 30'!$C:$C,$D27),\"0\")","v":"0"},{"$f":"IF('Unit 31'!$C$7=$D$60,COUNTIF('Unit 31'!$C:$C,$D27),\"0\")","v":"0"},{"$f":"IF('Unit 32'!$C$7=$D$60,COUNTIF('Unit 32'!$C:$C,$D27),\"0\")","v":"0"},{"$f":"IF('Unit 33'!$C$7=$D$60,COUNTIF('Unit 33'!$C:$C,$D27),\"0\")","v":"0"},{"$f":"IF('Unit 34'!$C$7=$D$60,COUNTIF('Unit 34'!$C:$C,$D27),\"0\")","v":"0"},{"$f":"IF('Unit 35'!$C$7=$D$60,COUNTIF('Unit 35'!$C:$C,$D27),\"0\")","v":"0"},{"$f":"IF('Unit 36'!$C$7=$D$60,COUNTIF('Unit 36'!$C:$C,$D27),\"0\")","v":"0"},{"$f":"IF('Unit 37'!$C$7=$D$60,COUNTIF('Unit 37'!$C:$C,$D27),\"0\")","v":"0"},{"$f":"IF('Unit 38'!$C$7=$D$60,COUNTIF('Unit 38'!$C:$C,$D27),\"0\")","v":"0"},0]
[null,{"$f":"B12","v":"Innovation and Exploration"},"2.4","2.4 explore how design impacts on the function and quality of a product including ergonomic considerations","Explore: to think or talk about something in order to find out more about it",{"$f":"COUNTIF('Unit 1'!C:C,$D28)","v":0},{"$f":"COUNTIF('Unit 2'!C:C,D28)","v":0},{"$f":"COUNTIF('Unit 3'!C:C,D28)","v":0},{"$f":"COUNTIF('Unit 4'!C:C,D28)","v":0},{"$f":"COUNTIF('Unit 5'!C:C,D28)","v":0},{"$f":"COUNTIF('Unit 6'!C:C,D28)","v":0},{"$f":"COUNTIF('Unit 7'!C:C,D28)","v":0},{"$f":"COUNTIF('Unit 8'!C:C,D28)","v":0},{"$f":"COUNTIF('Unit 9'!C:C,D28)","v":0},{"$f":"COUNTIF('Unit 10'!C:C,D28)","v":0},{"$f":"COUNTIF('Unit 11'!C:C,D28)","v":0},{"$f":"COUNTIF('Unit 12'!C:C,D28)","v":0},{"$f":"COUNTIF('Unit 13'!C:C,D28)","v":0},{"$f":"COUNTIF('Unit 14'!C:C,D28)","v":0},{"$f":"COUNTIF('Unit 15'!C:C,D28)","v":0},{"$f":"COUNTIF('Unit 16'!C:C,D28)","v":0},{"$f":"COUNTIF('Unit 17'!C:C,D28)","v":0},{"$f":"COUNTIF('Unit 18'!C:C,D28)","v":0},{"$f":"COUNTIF('Unit 19'!C:C,D28)","v":0},{"$f":"COUNTIF('Unit 20'!C:C,D28)","v":0},{"$f":"COUNTIF('Unit 21'!C:C,D28)","v":0},{"$f":"COUNTIF('Unit 22'!C:C,D28)","v":0},{"$f":"COUNTIF('Unit 23'!C:C,D28)","v":0},{"$f":"COUNTIF('Unit 24'!C:C,D28)","v":0},{"$f":"COUNTIF('Unit 25'!C:C,D28)","v":0},{"$f":"COUNTIF('Unit 26'!C:C,D28)","v":0},{"$f":"COUNTIF('Unit 27'!C:C,D28)","v":0},{"$f":"COUNTIF('Unit 28'!C:C,D28)","v":0},{"$f":"COUNTIF('Unit 29'!C:C,D28)","v":0},{"$f":"COUNTIF('Unit 30'!C:C,D28)","v":0},{"$f":"COUNTIF('Unit 31'!C:C,D28)","v":0},{"$f":"COUNTIF('Unit 32'!C:C,D28)","v":0},{"$f":"COUNTIF('Unit 33'!C:C,D28)","v":0},{"$f":"COUNTIF('Unit 34'!C:C,D28)","v":0},{"$f":"COUNTIF('Unit 35'!C:C,D28)","v":0},{"$f":"COUNTIF('Unit 36'!C:C,D28)","v":0},{"$f":"COUNTIF('Unit 37'!C:C,D28)","v":0},{"$f":"COUNTIF('Unit 38'!C:C,D28)","v":0},0,null,{"$f":"IF('Unit 1'!$C$7=$D$58,COUNTIF('Unit 1'!$C:$C,$D28),\"0\")","v":"0"},{"$f":"IF('Unit 2'!$C$7=$D$58,COUNTIF('Unit 2'!$C:$C,$D28),\"0\")","v":"0"},{"$f":"IF('Unit 3'!$C$7=$D$58,COUNTIF('Unit 3'!$C:$C,$D28),\"0\")","v":"0"},{"$f":"IF('Unit 4'!$C$7=$D$58,COUNTIF('Unit 4'!$C:$C,$D28),\"0\")","v":"0"},{"$f":"IF('Unit 5'!$C$7=$D$58,COUNTIF('Unit 5'!$C:$C,$D28),\"0\")","v":"0"},{"$f":"IF('Unit 6'!$C$7=$D$58,COUNTIF('Unit 6'!$C:$C,$D28),\"0\")","v":"0"},{"$f":"IF('Unit 7'!$C$7=$D$58,COUNTIF('Unit 7'!$C:$C,$D28),\"0\")","v":"0"},{"$f":"IF('Unit 8'!$C$7=$D$58,COUNTIF('Unit 8'!$C:$C,$D28),\"0\")","v":"0"},{"$f":"IF('Unit 9'!$C$7=$D$58,COUNTIF('Unit 9'!$C:$C,$D28),\"0\")","v":"0"},{"$f":"IF('Unit 10'!$C$7=$D$58,COUNTIF('Unit 10'!$C:$C,$D28),\"0\")","v":"0"},{"$f":"IF('Unit 11'!$C$7=$D$58,COUNTIF('Unit 11'!$C:$C,$D28),\"0\")","v":"0"},{"$f":"IF('Unit 12'!$C$7=$D$58,COUNTIF('Unit 12'!$C:$C,$D28),\"0\")","v":"0"},{"$f":"IF('Unit 13'!$C$7=$D$58,COUNTIF('Unit 13'!$C:$C,$D28),\"0\")","v":"0"},{"$f":"IF('Unit 14'!$C$7=$D$58,COUNTIF('Unit 14'!$C:$C,$D28),\"0\")","v":"0"},{"$f":"IF('Unit 15'!$C$7=$D$58,COUNTIF('Unit 15'!$C:$C,$D28),\"0\")","v":"0"},{"$f":"IF('Unit 16'!$C$7=$D$58,COUNTIF('Unit 16'!$C:$C,$D28),\"0\")","v":"0"},{"$f":"IF('Unit 17'!$C$7=$D$58,COUNTIF('Unit 17'!$C:$C,$D28),\"0\")","v":"0"},{"$f":"IF('Unit 18'!$C$7=$D$58,COUNTIF('Unit 18'!$C:$C,$D28),\"0\")","v":"0"},{"$f":"IF('Unit 19'!$C$7=$D$58,COUNTIF('Unit 19'!$C:$C,$D28),\"0\")","v":"0"},{"$f":"IF('Unit 20'!$C$7=$D$58,COUNTIF('Unit 20'!$C:$C,$D28),\"0\")","v":"0"},{"$f":"IF('Unit 21'!$C$7=$D$58,COUNTIF('Unit 21'!$C:$C,$D28),\"0\")","v":"0"},{"$f":"IF('Unit 22'!$C$7=$D$58,COUNTIF('Unit 22'!$C:$C,$D28),\"0\")","v":"0"},{"$f":"IF('Unit 23'!$C$7=$D$58,COUNTIF('Unit 23'!$C:$C,$D28),\"0\")","v":"0"},{"$f":"IF('Unit 24'!$C$7=$D$58,COUNTIF('Unit 24'!$C:$C,$D28),\"0\")","v":"0"},{"$f":"IF('Unit 25'!$C$7=$D$58,COUNTIF('Unit 25'!$C:$C,$D28),\"0\")","v":"0"},{"$f":"IF('Unit 26'!$C$7=$D$58,COUNTIF('Unit 26'!$C:$C,$D28),\"0\")","v":"0"},{"$f":"IF('Unit 27'!$C$7=$D$58,COUNTIF('Unit 27'!$C:$C,$D28),\"0\")","v":"0"},{"$f":"IF('Unit 28'!$C$7=$D$58,COUNTIF('Unit 28'!$C:$C,$D28),\"0\")","v":"0"},{"$f":"IF('Unit 29'!$C$7=$D$58,COUNTIF('Unit 29'!$C:$C,$D28),\"0\")","v":"0"},{"$f":"IF('Unit 30'!$C$7=$D$58,COUNTIF('Unit 30'!$C:$C,$D28),\"0\")","v":"0"},{"$f":"IF('Unit 31'!$C$7=$D$58,COUNTIF('Unit 31'!$C:$C,$D28),\"0\")","v":"0"},{"$f":"IF('Unit 32'!$C$7=$D$58,COUNTIF('Unit 32'!$C:$C,$D28),\"0\")","v":"0"},{"$f":"IF('Unit 33'!$C$7=$D$58,COUNTIF('Unit 33'!$C:$C,$D28),\"0\")","v":"0"},{"$f":"IF('Unit 34'!$C$7=$D$58,COUNTIF('Unit 34'!$C:$C,$D28),\"0\")","v":"0"},{"$f":"IF('Unit 35'!$C$7=$D$58,COUNTIF('Unit 35'!$C:$C,$D28),\"0\")","v":"0"},{"$f":"IF('Unit 36'!$C$7=$D$58,COUNTIF('Unit 36'!$C:$C,$D28),\"0\")","v":"0"},{"$f":"IF('Unit 37'!$C$7=$D$58,COUNTIF('Unit 37'!$C:$C,$D28),\"0\")","v":"0"},{"$f":"IF('Unit 38'!$C$7=$D$58,COUNTIF('Unit 38'!$C:$C,$D28),\"0\")","v":"0"},0,null,{"$f":"IF('Unit 1'!$C$7=$D$59,COUNTIF('Unit 1'!$C:$C,$D28),\"0\")","v":"0"},{"$f":"IF('Unit 2'!$C$7=$D$59,COUNTIF('Unit 2'!$C:$C,$D28),\"0\")","v":"0"},{"$f":"IF('Unit 3'!$C$7=$D$59,COUNTIF('Unit 3'!$C:$C,$D28),\"0\")","v":"0"},{"$f":"IF('Unit 4'!$C$7=$D$59,COUNTIF('Unit 4'!$C:$C,$D28),\"0\")","v":"0"},{"$f":"IF('Unit 5'!$C$7=$D$59,COUNTIF('Unit 5'!$C:$C,$D28),\"0\")","v":"0"},{"$f":"IF('Unit 6'!$C$7=$D$59,COUNTIF('Unit 6'!$C:$C,$D28),\"0\")","v":"0"},{"$f":"IF('Unit 7'!$C$7=$D$59,COUNTIF('Unit 7'!$C:$C,$D28),\"0\")","v":"0"},{"$f":"IF('Unit 8'!$C$7=$D$59,COUNTIF('Unit 8'!$C:$C,$D28),\"0\")","v":"0"},{"$f":"IF('Unit 9'!$C$7=$D$59,COUNTIF('Unit 9'!$C:$C,$D28),\"0\")","v":"0"},{"$f":"IF('Unit 10'!$C$7=$D$59,COUNTIF('Unit 10'!$C:$C,$D28),\"0\")","v":"0"},{"$f":"IF('Unit 11'!$C$7=$D$59,COUNTIF('Unit 11'!$C:$C,$D28),\"0\")","v":"0"},{"$f":"IF('Unit 12'!$C$7=$D$59,COUNTIF('Unit 12'!$C:$C,$D28),\"0\")","v":"0"},{"$f":"IF('Unit 13'!$C$7=$D$59,COUNTIF('Unit 13'!$C:$C,$D28),\"0\")","v":"0"},{"$f":"IF('Unit 14'!$C$7=$D$59,COUNTIF('Unit 14'!$C:$C,$D28),\"0\")","v":"0"},{"$f":"IF('Unit 15'!$C$7=$D$59,COUNTIF('Unit 15'!$C:$C,$D28),\"0\")","v":"0"},{"$f":"IF('Unit 16'!$C$7=$D$59,COUNTIF('Unit 16'!$C:$C,$D28),\"0\")","v":"0"},{"$f":"IF('Unit 17'!$C$7=$D$59,COUNTIF('Unit 17'!$C:$C,$D28),\"0\")","v":"0"},{"$f":"IF('Unit 18'!$C$7=$D$59,COUNTIF('Unit 18'!$C:$C,$D28),\"0\")","v":"0"},{"$f":"IF('Unit 19'!$C$7=$D$59,COUNTIF('Unit 19'!$C:$C,$D28),\"0\")","v":"0"},{"$f":"IF('Unit 20'!$C$7=$D$59,COUNTIF('Unit 20'!$C:$C,$D28),\"0\")","v":"0"},{"$f":"IF('Unit 21'!$C$7=$D$59,COUNTIF('Unit 21'!$C:$C,$D28),\"0\")","v":"0"},{"$f":"IF('Unit 22'!$C$7=$D$59,COUNTIF('Unit 22'!$C:$C,$D28),\"0\")","v":"0"},{"$f":"IF('Unit 23'!$C$7=$D$59,COUNTIF('Unit 23'!$C:$C,$D28),\"0\")","v":"0"},{"$f":"IF('Unit 24'!$C$7=$D$59,COUNTIF('Unit 24'!$C:$C,$D28),\"0\")","v":"0"},{"$f":"IF('Unit 25'!$C$7=$D$59,COUNTIF('Unit 25'!$C:$C,$D28),\"0\")","v":"0"},{"$f":"IF('Unit 26'!$C$7=$D$59,COUNTIF('Unit 26'!$C:$C,$D28),\"0\")","v":"0"},{"$f":"IF('Unit 27'!$C$7=$D$59,COUNTIF('Unit 27'!$C:$C,$D28),\"0\")","v":"0"},{"$f":"IF('Unit 28'!$C$7=$D$59,COUNTIF('Unit 28'!$C:$C,$D28),\"0\")","v":"0"},{"$f":"IF('Unit 29'!$C$7=$D$59,COUNTIF('Unit 29'!$C:$C,$D28),\"0\")","v":"0"},{"$f":"IF('Unit 30'!$C$7=$D$59,COUNTIF('Unit 30'!$C:$C,$D28),\"0\")","v":"0"},{"$f":"IF('Unit 31'!$C$7=$D$59,COUNTIF('Unit 31'!$C:$C,$D28),\"0\")","v":"0"},{"$f":"IF('Unit 32'!$C$7=$D$59,COUNTIF('Unit 32'!$C:$C,$D28),\"0\")","v":"0"},{"$f":"IF('Unit 33'!$C$7=$D$59,COUNTIF('Unit 33'!$C:$C,$D28),\"0\")","v":"0"},{"$f":"IF('Unit 34'!$C$7=$D$59,COUNTIF('Unit 34'!$C:$C,$D28),\"0\")","v":"0"},{"$f":"IF('Unit 35'!$C$7=$D$59,COUNTIF('Unit 35'!$C:$C,$D28),\"0\")","v":"0"},{"$f":"IF('Unit 36'!$C$7=$D$59,COUNTIF('Unit 36'!$C:$C,$D28),\"0\")","v":"0"},{"$f":"IF('Unit 37'!$C$7=$D$59,COUNTIF('Unit 37'!$C:$C,$D28),\"0\")","v":"0"},{"$f":"IF('Unit 38'!$C$7=$D$59,COUNTIF('Unit 38'!$C:$C,$D28),\"0\")","v":"0"},0,null,{"$f":"IF('Unit 1'!$C$7=$D$60,COUNTIF('Unit 1'!$C:$C,$D28),\"0\")","v":"0"},{"$f":"IF('Unit 2'!$C$7=$D$60,COUNTIF('Unit 2'!$C:$C,$D28),\"0\")","v":"0"},{"$f":"IF('Unit 3'!$C$7=$D$60,COUNTIF('Unit 3'!$C:$C,$D28),\"0\")","v":"0"},{"$f":"IF('Unit 4'!$C$7=$D$60,COUNTIF('Unit 4'!$C:$C,$D28),\"0\")","v":"0"},{"$f":"IF('Unit 5'!$C$7=$D$60,COUNTIF('Unit 5'!$C:$C,$D28),\"0\")","v":"0"},{"$f":"IF('Unit 6'!$C$7=$D$60,COUNTIF('Unit 6'!$C:$C,$D28),\"0\")","v":"0"},{"$f":"IF('Unit 7'!$C$7=$D$60,COUNTIF('Unit 7'!$C:$C,$D28),\"0\")","v":"0"},{"$f":"IF('Unit 8'!$C$7=$D$60,COUNTIF('Unit 8'!$C:$C,$D28),\"0\")","v":"0"},{"$f":"IF('Unit 9'!$C$7=$D$60,COUNTIF('Unit 9'!$C:$C,$D28),\"0\")","v":"0"},{"$f":"IF('Unit 10'!$C$7=$D$60,COUNTIF('Unit 10'!$C:$C,$D28),\"0\")","v":"0"},{"$f":"IF('Unit 11'!$C$7=$D$60,COUNTIF('Unit 11'!$C:$C,$D28),\"0\")","v":"0"},{"$f":"IF('Unit 12'!$C$7=$D$60,COUNTIF('Unit 12'!$C:$C,$D28),\"0\")","v":"0"},{"$f":"IF('Unit 13'!$C$7=$D$60,COUNTIF('Unit 13'!$C:$C,$D28),\"0\")","v":"0"},{"$f":"IF('Unit 14'!$C$7=$D$60,COUNTIF('Unit 14'!$C:$C,$D28),\"0\")","v":"0"},{"$f":"IF('Unit 15'!$C$7=$D$60,COUNTIF('Unit 15'!$C:$C,$D28),\"0\")","v":"0"},{"$f":"IF('Unit 16'!$C$7=$D$60,COUNTIF('Unit 16'!$C:$C,$D28),\"0\")","v":"0"},{"$f":"IF('Unit 17'!$C$7=$D$60,COUNTIF('Unit 17'!$C:$C,$D28),\"0\")","v":"0"},{"$f":"IF('Unit 18'!$C$7=$D$60,COUNTIF('Unit 18'!$C:$C,$D28),\"0\")","v":"0"},{"$f":"IF('Unit 19'!$C$7=$D$60,COUNTIF('Unit 19'!$C:$C,$D28),\"0\")","v":"0"},{"$f":"IF('Unit 20'!$C$7=$D$60,COUNTIF('Unit 20'!$C:$C,$D28),\"0\")","v":"0"},{"$f":"IF('Unit 21'!$C$7=$D$60,COUNTIF('Unit 21'!$C:$C,$D28),\"0\")","v":"0"},{"$f":"IF('Unit 22'!$C$7=$D$60,COUNTIF('Unit 22'!$C:$C,$D28),\"0\")","v":"0"},{"$f":"IF('Unit 23'!$C$7=$D$60,COUNTIF('Unit 23'!$C:$C,$D28),\"0\")","v":"0"},{"$f":"IF('Unit 24'!$C$7=$D$60,COUNTIF('Unit 24'!$C:$C,$D28),\"0\")","v":"0"},{"$f":"IF('Unit 25'!$C$7=$D$60,COUNTIF('Unit 25'!$C:$C,$D28),\"0\")","v":"0"},{"$f":"IF('Unit 26'!$C$7=$D$60,COUNTIF('Unit 26'!$C:$C,$D28),\"0\")","v":"0"},{"$f":"IF('Unit 27'!$C$7=$D$60,COUNTIF('Unit 27'!$C:$C,$D28),\"0\")","v":"0"},{"$f":"IF('Unit 28'!$C$7=$D$60,COUNTIF('Unit 28'!$C:$C,$D28),\"0\")","v":"0"},{"$f":"IF('Unit 29'!$C$7=$D$60,COUNTIF('Unit 29'!$C:$C,$D28),\"0\")","v":"0"},{"$f":"IF('Unit 30'!$C$7=$D$60,COUNTIF('Unit 30'!$C:$C,$D28),\"0\")","v":"0"},{"$f":"IF('Unit 31'!$C$7=$D$60,COUNTIF('Unit 31'!$C:$C,$D28),\"0\")","v":"0"},{"$f":"IF('Unit 32'!$C$7=$D$60,COUNTIF('Unit 32'!$C:$C,$D28),\"0\")","v":"0"},{"$f":"IF('Unit 33'!$C$7=$D$60,COUNTIF('Unit 33'!$C:$C,$D28),\"0\")","v":"0"},{"$f":"IF('Unit 34'!$C$7=$D$60,COUNTIF('Unit 34'!$C:$C,$D28),\"0\")","v":"0"},{"$f":"IF('Unit 35'!$C$7=$D$60,COUNTIF('Unit 35'!$C:$C,$D28),\"0\")","v":"0"},{"$f":"IF('Unit 36'!$C$7=$D$60,COUNTIF('Unit 36'!$C:$C,$D28),\"0\")","v":"0"},{"$f":"IF('Unit 37'!$C$7=$D$60,COUNTIF('Unit 37'!$C:$C,$D28),\"0\")","v":"0"},{"$f":"IF('Unit 38'!$C$7=$D$60,COUNTIF('Unit 38'!$C:$C,$D28),\"0\")","v":"0"},0]
[null,null,"2.5","2.5 apply appropriate engineering concepts and approaches in the execution of their design solutions ","Apply: select and use information and/or knowledge and understanding to explain a given situation or real circumstances",{"$f":"COUNTIF('Unit 1'!C:C,$D29)","v":0},{"$f":"COUNTIF('Unit 2'!C:C,D29)","v":0},{"$f":"COUNTIF('Unit 3'!C:C,D29)","v":0},{"$f":"COUNTIF('Unit 4'!C:C,D29)","v":0},{"$f":"COUNTIF('Unit 5'!C:C,D29)","v":0},{"$f":"COUNTIF('Unit 6'!C:C,D29)","v":0},{"$f":"COUNTIF('Unit 7'!C:C,D29)","v":0},{"$f":"COUNTIF('Unit 8'!C:C,D29)","v":0},{"$f":"COUNTIF('Unit 9'!C:C,D29)","v":0},{"$f":"COUNTIF('Unit 10'!C:C,D29)","v":0},{"$f":"COUNTIF('Unit 11'!C:C,D29)","v":0},{"$f":"COUNTIF('Unit 12'!C:C,D29)","v":0},{"$f":"COUNTIF('Unit 13'!C:C,D29)","v":0},{"$f":"COUNTIF('Unit 14'!C:C,D29)","v":0},{"$f":"COUNTIF('Unit 15'!C:C,D29)","v":0},{"$f":"COUNTIF('Unit 16'!C:C,D29)","v":0},{"$f":"COUNTIF('Unit 17'!C:C,D29)","v":0},{"$f":"COUNTIF('Unit 18'!C:C,D29)","v":0},{"$f":"COUNTIF('Unit 19'!C:C,D29)","v":0},{"$f":"COUNTIF('Unit 20'!C:C,D29)","v":0},{"$f":"COUNTIF('Unit 21'!C:C,D29)","v":0},{"$f":"COUNTIF('Unit 22'!C:C,D29)","v":0},{"$f":"COUNTIF('Unit 23'!C:C,D29)","v":0},{"$f":"COUNTIF('Unit 24'!C:C,D29)","v":0},{"$f":"COUNTIF('Unit 25'!C:C,D29)","v":0},{"$f":"COUNTIF('Unit 26'!C:C,D29)","v":0},{"$f":"COUNTIF('Unit 27'!C:C,D29)","v":0},{"$f":"COUNTIF('Unit 28'!C:C,D29)","v":0},{"$f":"COUNTIF('Unit 29'!C:C,D29)","v":0},{"$f":"COUNTIF('Unit 30'!C:C,D29)","v":0},{"$f":"COUNTIF('Unit 31'!C:C,D29)","v":0},{"$f":"COUNTIF('Unit 32'!C:C,D29)","v":0},{"$f":"COUNTIF('Unit 33'!C:C,D29)","v":0},{"$f":"COUNTIF('Unit 34'!C:C,D29)","v":0},{"$f":"COUNTIF('Unit 35'!C:C,D29)","v":0},{"$f":"COUNTIF('Unit 36'!C:C,D29)","v":0},{"$f":"COUNTIF('Unit 37'!C:C,D29)","v":0},{"$f":"COUNTIF('Unit 38'!C:C,D29)","v":0},0,null,{"$f":"IF('Unit 1'!$C$7=$D$58,COUNTIF('Unit 1'!$C:$C,$D29),\"0\")","v":"0"},{"$f":"IF('Unit 2'!$C$7=$D$58,COUNTIF('Unit 2'!$C:$C,$D29),\"0\")","v":"0"},{"$f":"IF('Unit 3'!$C$7=$D$58,COUNTIF('Unit 3'!$C:$C,$D29),\"0\")","v":"0"},{"$f":"IF('Unit 4'!$C$7=$D$58,COUNTIF('Unit 4'!$C:$C,$D29),\"0\")","v":"0"},{"$f":"IF('Unit 5'!$C$7=$D$58,COUNTIF('Unit 5'!$C:$C,$D29),\"0\")","v":"0"},{"$f":"IF('Unit 6'!$C$7=$D$58,COUNTIF('Unit 6'!$C:$C,$D29),\"0\")","v":"0"},{"$f":"IF('Unit 7'!$C$7=$D$58,COUNTIF('Unit 7'!$C:$C,$D29),\"0\")","v":"0"},{"$f":"IF('Unit 8'!$C$7=$D$58,COUNTIF('Unit 8'!$C:$C,$D29),\"0\")","v":"0"},{"$f":"IF('Unit 9'!$C$7=$D$58,COUNTIF('Unit 9'!$C:$C,$D29),\"0\")","v":"0"},{"$f":"IF('Unit 10'!$C$7=$D$58,COUNTIF('Unit 10'!$C:$C,$D29),\"0\")","v":"0"},{"$f":"IF('Unit 11'!$C$7=$D$58,COUNTIF('Unit 11'!$C:$C,$D29),\"0\")","v":"0"},{"$f":"IF('Unit 12'!$C$7=$D$58,COUNTIF('Unit 12'!$C:$C,$D29),\"0\")","v":"0"},{"$f":"IF('Unit 13'!$C$7=$D$58,COUNTIF('Unit 13'!$C:$C,$D29),\"0\")","v":"0"},{"$f":"IF('Unit 14'!$C$7=$D$58,COUNTIF('Unit 14'!$C:$C,$D29),\"0\")","v":"0"},{"$f":"IF('Unit 15'!$C$7=$D$58,COUNTIF('Unit 15'!$C:$C,$D29),\"0\")","v":"0"},{"$f":"IF('Unit 16'!$C$7=$D$58,COUNTIF('Unit 16'!$C:$C,$D29),\"0\")","v":"0"},{"$f":"IF('Unit 17'!$C$7=$D$58,COUNTIF('Unit 17'!$C:$C,$D29),\"0\")","v":"0"},{"$f":"IF('Unit 18'!$C$7=$D$58,COUNTIF('Unit 18'!$C:$C,$D29),\"0\")","v":"0"},{"$f":"IF('Unit 19'!$C$7=$D$58,COUNTIF('Unit 19'!$C:$C,$D29),\"0\")","v":"0"},{"$f":"IF('Unit 20'!$C$7=$D$58,COUNTIF('Unit 20'!$C:$C,$D29),\"0\")","v":"0"},{"$f":"IF('Unit 21'!$C$7=$D$58,COUNTIF('Unit 21'!$C:$C,$D29),\"0\")","v":"0"},{"$f":"IF('Unit 22'!$C$7=$D$58,COUNTIF('Unit 22'!$C:$C,$D29),\"0\")","v":"0"},{"$f":"IF('Unit 23'!$C$7=$D$58,COUNTIF('Unit 23'!$C:$C,$D29),\"0\")","v":"0"},{"$f":"IF('Unit 24'!$C$7=$D$58,COUNTIF('Unit 24'!$C:$C,$D29),\"0\")","v":"0"},{"$f":"IF('Unit 25'!$C$7=$D$58,COUNTIF('Unit 25'!$C:$C,$D29),\"0\")","v":"0"},{"$f":"IF('Unit 26'!$C$7=$D$58,COUNTIF('Unit 26'!$C:$C,$D29),\"0\")","v":"0"},{"$f":"IF('Unit 27'!$C$7=$D$58,COUNTIF('Unit 27'!$C:$C,$D29),\"0\")","v":"0"},{"$f":"IF('Unit 28'!$C$7=$D$58,COUNTIF('Unit 28'!$C:$C,$D29),\"0\")","v":"0"},{"$f":"IF('Unit 29'!$C$7=$D$58,COUNTIF('Unit 29'!$C:$C,$D29),\"0\")","v":"0"},{"$f":"IF('Unit 30'!$C$7=$D$58,COUNTIF('Unit 30'!$C:$C,$D29),\"0\")","v":"0"},{"$f":"IF('Unit 31'!$C$7=$D$58,COUNTIF('Unit 31'!$C:$C,$D29),\"0\")","v":"0"},{"$f":"IF('Unit 32'!$C$7=$D$58,COUNTIF('Unit 32'!$C:$C,$D29),\"0\")","v":"0"},{"$f":"IF('Unit 33'!$C$7=$D$58,COUNTIF('Unit 33'!$C:$C,$D29),\"0\")","v":"0"},{"$f":"IF('Unit 34'!$C$7=$D$58,COUNTIF('Unit 34'!$C:$C,$D29),\"0\")","v":"0"},{"$f":"IF('Unit 35'!$C$7=$D$58,COUNTIF('Unit 35'!$C:$C,$D29),\"0\")","v":"0"},{"$f":"IF('Unit 36'!$C$7=$D$58,COUNTIF('Unit 36'!$C:$C,$D29),\"0\")","v":"0"},{"$f":"IF('Unit 37'!$C$7=$D$58,COUNTIF('Unit 37'!$C:$C,$D29),\"0\")","v":"0"},{"$f":"IF('Unit 38'!$C$7=$D$58,COUNTIF('Unit 38'!$C:$C,$D29),\"0\")","v":"0"},0,null,{"$f":"IF('Unit 1'!$C$7=$D$59,COUNTIF('Unit 1'!$C:$C,$D29),\"0\")","v":"0"},{"$f":"IF('Unit 2'!$C$7=$D$59,COUNTIF('Unit 2'!$C:$C,$D29),\"0\")","v":"0"},{"$f":"IF('Unit 3'!$C$7=$D$59,COUNTIF('Unit 3'!$C:$C,$D29),\"0\")","v":"0"},{"$f":"IF('Unit 4'!$C$7=$D$59,COUNTIF('Unit 4'!$C:$C,$D29),\"0\")","v":"0"},{"$f":"IF('Unit 5'!$C$7=$D$59,COUNTIF('Unit 5'!$C:$C,$D29),\"0\")","v":"0"},{"$f":"IF('Unit 6'!$C$7=$D$59,COUNTIF('Unit 6'!$C:$C,$D29),\"0\")","v":"0"},{"$f":"IF('Unit 7'!$C$7=$D$59,COUNTIF('Unit 7'!$C:$C,$D29),\"0\")","v":"0"},{"$f":"IF('Unit 8'!$C$7=$D$59,COUNTIF('Unit 8'!$C:$C,$D29),\"0\")","v":"0"},{"$f":"IF('Unit 9'!$C$7=$D$59,COUNTIF('Unit 9'!$C:$C,$D29),\"0\")","v":"0"},{"$f":"IF('Unit 10'!$C$7=$D$59,COUNTIF('Unit 10'!$C:$C,$D29),\"0\")","v":"0"},{"$f":"IF('Unit 11'!$C$7=$D$59,COUNTIF('Unit 11'!$C:$C,$D29),\"0\")","v":"0"},{"$f":"IF('Unit 12'!$C$7=$D$59,COUNTIF('Unit 12'!$C:$C,$D29),\"0\")","v":"0"},{"$f":"IF('Unit 13'!$C$7=$D$59,COUNTIF('Unit 13'!$C:$C,$D29),\"0\")","v":"0"},{"$f":"IF('Unit 14'!$C$7=$D$59,COUNTIF('Unit 14'!$C:$C,$D29),\"0\")","v":"0"},{"$f":"IF('Unit 15'!$C$7=$D$59,COUNTIF('Unit 15'!$C:$C,$D29),\"0\")","v":"0"},{"$f":"IF('Unit 16'!$C$7=$D$59,COUNTIF('Unit 16'!$C:$C,$D29),\"0\")","v":"0"},{"$f":"IF('Unit 17'!$C$7=$D$59,COUNTIF('Unit 17'!$C:$C,$D29),\"0\")","v":"0"},{"$f":"IF('Unit 18'!$C$7=$D$59,COUNTIF('Unit 18'!$C:$C,$D29),\"0\")","v":"0"},{"$f":"IF('Unit 19'!$C$7=$D$59,COUNTIF('Unit 19'!$C:$C,$D29),\"0\")","v":"0"},{"$f":"IF('Unit 20'!$C$7=$D$59,COUNTIF('Unit 20'!$C:$C,$D29),\"0\")","v":"0"},{"$f":"IF('Unit 21'!$C$7=$D$59,COUNTIF('Unit 21'!$C:$C,$D29),\"0\")","v":"0"},{"$f":"IF('Unit 22'!$C$7=$D$59,COUNTIF('Unit 22'!$C:$C,$D29),\"0\")","v":"0"},{"$f":"IF('Unit 23'!$C$7=$D$59,COUNTIF('Unit 23'!$C:$C,$D29),\"0\")","v":"0"},{"$f":"IF('Unit 24'!$C$7=$D$59,COUNTIF('Unit 24'!$C:$C,$D29),\"0\")","v":"0"},{"$f":"IF('Unit 25'!$C$7=$D$59,COUNTIF('Unit 25'!$C:$C,$D29),\"0\")","v":"0"},{"$f":"IF('Unit 26'!$C$7=$D$59,COUNTIF('Unit 26'!$C:$C,$D29),\"0\")","v":"0"},{"$f":"IF('Unit 27'!$C$7=$D$59,COUNTIF('Unit 27'!$C:$C,$D29),\"0\")","v":"0"},{"$f":"IF('Unit 28'!$C$7=$D$59,COUNTIF('Unit 28'!$C:$C,$D29),\"0\")","v":"0"},{"$f":"IF('Unit 29'!$C$7=$D$59,COUNTIF('Unit 29'!$C:$C,$D29),\"0\")","v":"0"},{"$f":"IF('Unit 30'!$C$7=$D$59,COUNTIF('Unit 30'!$C:$C,$D29),\"0\")","v":"0"},{"$f":"IF('Unit 31'!$C$7=$D$59,COUNTIF('Unit 31'!$C:$C,$D29),\"0\")","v":"0"},{"$f":"IF('Unit 32'!$C$7=$D$59,COUNTIF('Unit 32'!$C:$C,$D29),\"0\")","v":"0"},{"$f":"IF('Unit 33'!$C$7=$D$59,COUNTIF('Unit 33'!$C:$C,$D29),\"0\")","v":"0"},{"$f":"IF('Unit 34'!$C$7=$D$59,COUNTIF('Unit 34'!$C:$C,$D29),\"0\")","v":"0"},{"$f":"IF('Unit 35'!$C$7=$D$59,COUNTIF('Unit 35'!$C:$C,$D29),\"0\")","v":"0"},{"$f":"IF('Unit 36'!$C$7=$D$59,COUNTIF('Unit 36'!$C:$C,$D29),\"0\")","v":"0"},{"$f":"IF('Unit 37'!$C$7=$D$59,COUNTIF('Unit 37'!$C:$C,$D29),\"0\")","v":"0"},{"$f":"IF('Unit 38'!$C$7=$D$59,COUNTIF('Unit 38'!$C:$C,$D29),\"0\")","v":"0"},0,null,{"$f":"IF('Unit 1'!$C$7=$D$60,COUNTIF('Unit 1'!$C:$C,$D29),\"0\")","v":"0"},{"$f":"IF('Unit 2'!$C$7=$D$60,COUNTIF('Unit 2'!$C:$C,$D29),\"0\")","v":"0"},{"$f":"IF('Unit 3'!$C$7=$D$60,COUNTIF('Unit 3'!$C:$C,$D29),\"0\")","v":"0"},{"$f":"IF('Unit 4'!$C$7=$D$60,COUNTIF('Unit 4'!$C:$C,$D29),\"0\")","v":"0"},{"$f":"IF('Unit 5'!$C$7=$D$60,COUNTIF('Unit 5'!$C:$C,$D29),\"0\")","v":"0"},{"$f":"IF('Unit 6'!$C$7=$D$60,COUNTIF('Unit 6'!$C:$C,$D29),\"0\")","v":"0"},{"$f":"IF('Unit 7'!$C$7=$D$60,COUNTIF('Unit 7'!$C:$C,$D29),\"0\")","v":"0"},{"$f":"IF('Unit 8'!$C$7=$D$60,COUNTIF('Unit 8'!$C:$C,$D29),\"0\")","v":"0"},{"$f":"IF('Unit 9'!$C$7=$D$60,COUNTIF('Unit 9'!$C:$C,$D29),\"0\")","v":"0"},{"$f":"IF('Unit 10'!$C$7=$D$60,COUNTIF('Unit 10'!$C:$C,$D29),\"0\")","v":"0"},{"$f":"IF('Unit 11'!$C$7=$D$60,COUNTIF('Unit 11'!$C:$C,$D29),\"0\")","v":"0"},{"$f":"IF('Unit 12'!$C$7=$D$60,COUNTIF('Unit 12'!$C:$C,$D29),\"0\")","v":"0"},{"$f":"IF('Unit 13'!$C$7=$D$60,COUNTIF('Unit 13'!$C:$C,$D29),\"0\")","v":"0"},{"$f":"IF('Unit 14'!$C$7=$D$60,COUNTIF('Unit 14'!$C:$C,$D29),\"0\")","v":"0"},{"$f":"IF('Unit 15'!$C$7=$D$60,COUNTIF('Unit 15'!$C:$C,$D29),\"0\")","v":"0"},{"$f":"IF('Unit 16'!$C$7=$D$60,COUNTIF('Unit 16'!$C:$C,$D29),\"0\")","v":"0"},{"$f":"IF('Unit 17'!$C$7=$D$60,COUNTIF('Unit 17'!$C:$C,$D29),\"0\")","v":"0"},{"$f":"IF('Unit 18'!$C$7=$D$60,COUNTIF('Unit 18'!$C:$C,$D29),\"0\")","v":"0"},{"$f":"IF('Unit 19'!$C$7=$D$60,COUNTIF('Unit 19'!$C:$C,$D29),\"0\")","v":"0"},{"$f":"IF('Unit 20'!$C$7=$D$60,COUNTIF('Unit 20'!$C:$C,$D29),\"0\")","v":"0"},{"$f":"IF('Unit 21'!$C$7=$D$60,COUNTIF('Unit 21'!$C:$C,$D29),\"0\")","v":"0"},{"$f":"IF('Unit 22'!$C$7=$D$60,COUNTIF('Unit 22'!$C:$C,$D29),\"0\")","v":"0"},{"$f":"IF('Unit 23'!$C$7=$D$60,COUNTIF('Unit 23'!$C:$C,$D29),\"0\")","v":"0"},{"$f":"IF('Unit 24'!$C$7=$D$60,COUNTIF('Unit 24'!$C:$C,$D29),\"0\")","v":"0"},{"$f":"IF('Unit 25'!$C$7=$D$60,COUNTIF('Unit 25'!$C:$C,$D29),\"0\")","v":"0"},{"$f":"IF('Unit 26'!$C$7=$D$60,COUNTIF('Unit 26'!$C:$C,$D29),\"0\")","v":"0"},{"$f":"IF('Unit 27'!$C$7=$D$60,COUNTIF('Unit 27'!$C:$C,$D29),\"0\")","v":"0"},{"$f":"IF('Unit 28'!$C$7=$D$60,COUNTIF('Unit 28'!$C:$C,$D29),\"0\")","v":"0"},{"$f":"IF('Unit 29'!$C$7=$D$60,COUNTIF('Unit 29'!$C:$C,$D29),\"0\")","v":"0"},{"$f":"IF('Unit 30'!$C$7=$D$60,COUNTIF('Unit 30'!$C:$C,$D29),\"0\")","v":"0"},{"$f":"IF('Unit 31'!$C$7=$D$60,COUNTIF('Unit 31'!$C:$C,$D29),\"0\")","v":"0"},{"$f":"IF('Unit 32'!$C$7=$D$60,COUNTIF('Unit 32'!$C:$C,$D29),\"0\")","v":"0"},{"$f":"IF('Unit 33'!$C$7=$D$60,COUNTIF('Unit 33'!$C:$C,$D29),\"0\")","v":"0"},{"$f":"IF('Unit 34'!$C$7=$D$60,COUNTIF('Unit 34'!$C:$C,$D29),\"0\")","v":"0"},{"$f":"IF('Unit 35'!$C$7=$D$60,COUNTIF('Unit 35'!$C:$C,$D29),\"0\")","v":"0"},{"$f":"IF('Unit 36'!$C$7=$D$60,COUNTIF('Unit 36'!$C:$C,$D29),\"0\")","v":"0"},{"$f":"IF('Unit 37'!$C$7=$D$60,COUNTIF('Unit 37'!$C:$C,$D29),\"0\")","v":"0"},{"$f":"IF('Unit 38'!$C$7=$D$60,COUNTIF('Unit 38'!$C:$C,$D29),\"0\")","v":"0"},0]
[null,null,"2.6","2.6 use relevant information to enhance design and function","Use: apply knowledge or rules to put theory into practice; employ something in a targeted way",{"$f":"COUNTIF('Unit 1'!C:C,$D30)","v":0},{"$f":"COUNTIF('Unit 2'!C:C,D30)","v":0},{"$f":"COUNTIF('Unit 3'!C:C,D30)","v":0},{"$f":"COUNTIF('Unit 4'!C:C,D30)","v":0},{"$f":"COUNTIF('Unit 5'!C:C,D30)","v":0},{"$f":"COUNTIF('Unit 6'!C:C,D30)","v":0},{"$f":"COUNTIF('Unit 7'!C:C,D30)","v":0},{"$f":"COUNTIF('Unit 8'!C:C,D30)","v":0},{"$f":"COUNTIF('Unit 9'!C:C,D30)","v":0},{"$f":"COUNTIF('Unit 10'!C:C,D30)","v":0},{"$f":"COUNTIF('Unit 11'!C:C,D30)","v":0},{"$f":"COUNTIF('Unit 12'!C:C,D30)","v":0},{"$f":"COUNTIF('Unit 13'!C:C,D30)","v":0},{"$f":"COUNTIF('Unit 14'!C:C,D30)","v":0},{"$f":"COUNTIF('Unit 15'!C:C,D30)","v":0},{"$f":"COUNTIF('Unit 16'!C:C,D30)","v":0},{"$f":"COUNTIF('Unit 17'!C:C,D30)","v":0},{"$f":"COUNTIF('Unit 18'!C:C,D30)","v":0},{"$f":"COUNTIF('Unit 19'!C:C,D30)","v":0},{"$f":"COUNTIF('Unit 20'!C:C,D30)","v":0},{"$f":"COUNTIF('Unit 21'!C:C,D30)","v":0},{"$f":"COUNTIF('Unit 22'!C:C,D30)","v":0},{"$f":"COUNTIF('Unit 23'!C:C,D30)","v":0},{"$f":"COUNTIF('Unit 24'!C:C,D30)","v":0},{"$f":"COUNTIF('Unit 25'!C:C,D30)","v":0},{"$f":"COUNTIF('Unit 26'!C:C,D30)","v":0},{"$f":"COUNTIF('Unit 27'!C:C,D30)","v":0},{"$f":"COUNTIF('Unit 28'!C:C,D30)","v":0},{"$f":"COUNTIF('Unit 29'!C:C,D30)","v":0},{"$f":"COUNTIF('Unit 30'!C:C,D30)","v":0},{"$f":"COUNTIF('Unit 31'!C:C,D30)","v":0},{"$f":"COUNTIF('Unit 32'!C:C,D30)","v":0},{"$f":"COUNTIF('Unit 33'!C:C,D30)","v":0},{"$f":"COUNTIF('Unit 34'!C:C,D30)","v":0},{"$f":"COUNTIF('Unit 35'!C:C,D30)","v":0},{"$f":"COUNTIF('Unit 36'!C:C,D30)","v":0},{"$f":"COUNTIF('Unit 37'!C:C,D30)","v":0},{"$f":"COUNTIF('Unit 38'!C:C,D30)","v":0},0,null,{"$f":"IF('Unit 1'!$C$7=$D$58,COUNTIF('Unit 1'!$C:$C,$D30),\"0\")","v":"0"},{"$f":"IF('Unit 2'!$C$7=$D$58,COUNTIF('Unit 2'!$C:$C,$D30),\"0\")","v":"0"},{"$f":"IF('Unit 3'!$C$7=$D$58,COUNTIF('Unit 3'!$C:$C,$D30),\"0\")","v":"0"},{"$f":"IF('Unit 4'!$C$7=$D$58,COUNTIF('Unit 4'!$C:$C,$D30),\"0\")","v":"0"},{"$f":"IF('Unit 5'!$C$7=$D$58,COUNTIF('Unit 5'!$C:$C,$D30),\"0\")","v":"0"},{"$f":"IF('Unit 6'!$C$7=$D$58,COUNTIF('Unit 6'!$C:$C,$D30),\"0\")","v":"0"},{"$f":"IF('Unit 7'!$C$7=$D$58,COUNTIF('Unit 7'!$C:$C,$D30),\"0\")","v":"0"},{"$f":"IF('Unit 8'!$C$7=$D$58,COUNTIF('Unit 8'!$C:$C,$D30),\"0\")","v":"0"},{"$f":"IF('Unit 9'!$C$7=$D$58,COUNTIF('Unit 9'!$C:$C,$D30),\"0\")","v":"0"},{"$f":"IF('Unit 10'!$C$7=$D$58,COUNTIF('Unit 10'!$C:$C,$D30),\"0\")","v":"0"},{"$f":"IF('Unit 11'!$C$7=$D$58,COUNTIF('Unit 11'!$C:$C,$D30),\"0\")","v":"0"},{"$f":"IF('Unit 12'!$C$7=$D$58,COUNTIF('Unit 12'!$C:$C,$D30),\"0\")","v":"0"},{"$f":"IF('Unit 13'!$C$7=$D$58,COUNTIF('Unit 13'!$C:$C,$D30),\"0\")","v":"0"},{"$f":"IF('Unit 14'!$C$7=$D$58,COUNTIF('Unit 14'!$C:$C,$D30),\"0\")","v":"0"},{"$f":"IF('Unit 15'!$C$7=$D$58,COUNTIF('Unit 15'!$C:$C,$D30),\"0\")","v":"0"},{"$f":"IF('Unit 16'!$C$7=$D$58,COUNTIF('Unit 16'!$C:$C,$D30),\"0\")","v":"0"},{"$f":"IF('Unit 17'!$C$7=$D$58,COUNTIF('Unit 17'!$C:$C,$D30),\"0\")","v":"0"},{"$f":"IF('Unit 18'!$C$7=$D$58,COUNTIF('Unit 18'!$C:$C,$D30),\"0\")","v":"0"},{"$f":"IF('Unit 19'!$C$7=$D$58,COUNTIF('Unit 19'!$C:$C,$D30),\"0\")","v":"0"},{"$f":"IF('Unit 20'!$C$7=$D$58,COUNTIF('Unit 20'!$C:$C,$D30),\"0\")","v":"0"},{"$f":"IF('Unit 21'!$C$7=$D$58,COUNTIF('Unit 21'!$C:$C,$D30),\"0\")","v":"0"},{"$f":"IF('Unit 22'!$C$7=$D$58,COUNTIF('Unit 22'!$C:$C,$D30),\"0\")","v":"0"},{"$f":"IF('Unit 23'!$C$7=$D$58,COUNTIF('Unit 23'!$C:$C,$D30),\"0\")","v":"0"},{"$f":"IF('Unit 24'!$C$7=$D$58,COUNTIF('Unit 24'!$C:$C,$D30),\"0\")","v":"0"},{"$f":"IF('Unit 25'!$C$7=$D$58,COUNTIF('Unit 25'!$C:$C,$D30),\"0\")","v":"0"},{"$f":"IF('Unit 26'!$C$7=$D$58,COUNTIF('Unit 26'!$C:$C,$D30),\"0\")","v":"0"},{"$f":"IF('Unit 27'!$C$7=$D$58,COUNTIF('Unit 27'!$C:$C,$D30),\"0\")","v":"0"},{"$f":"IF('Unit 28'!$C$7=$D$58,COUNTIF('Unit 28'!$C:$C,$D30),\"0\")","v":"0"},{"$f":"IF('Unit 29'!$C$7=$D$58,COUNTIF('Unit 29'!$C:$C,$D30),\"0\")","v":"0"},{"$f":"IF('Unit 30'!$C$7=$D$58,COUNTIF('Unit 30'!$C:$C,$D30),\"0\")","v":"0"},{"$f":"IF('Unit 31'!$C$7=$D$58,COUNTIF('Unit 31'!$C:$C,$D30),\"0\")","v":"0"},{"$f":"IF('Unit 32'!$C$7=$D$58,COUNTIF('Unit 32'!$C:$C,$D30),\"0\")","v":"0"},{"$f":"IF('Unit 33'!$C$7=$D$58,COUNTIF('Unit 33'!$C:$C,$D30),\"0\")","v":"0"},{"$f":"IF('Unit 34'!$C$7=$D$58,COUNTIF('Unit 34'!$C:$C,$D30),\"0\")","v":"0"},{"$f":"IF('Unit 35'!$C$7=$D$58,COUNTIF('Unit 35'!$C:$C,$D30),\"0\")","v":"0"},{"$f":"IF('Unit 36'!$C$7=$D$58,COUNTIF('Unit 36'!$C:$C,$D30),\"0\")","v":"0"},{"$f":"IF('Unit 37'!$C$7=$D$58,COUNTIF('Unit 37'!$C:$C,$D30),\"0\")","v":"0"},{"$f":"IF('Unit 38'!$C$7=$D$58,COUNTIF('Unit 38'!$C:$C,$D30),\"0\")","v":"0"},0,null,{"$f":"IF('Unit 1'!$C$7=$D$59,COUNTIF('Unit 1'!$C:$C,$D30),\"0\")","v":"0"},{"$f":"IF('Unit 2'!$C$7=$D$59,COUNTIF('Unit 2'!$C:$C,$D30),\"0\")","v":"0"},{"$f":"IF('Unit 3'!$C$7=$D$59,COUNTIF('Unit 3'!$C:$C,$D30),\"0\")","v":"0"},{"$f":"IF('Unit 4'!$C$7=$D$59,COUNTIF('Unit 4'!$C:$C,$D30),\"0\")","v":"0"},{"$f":"IF('Unit 5'!$C$7=$D$59,COUNTIF('Unit 5'!$C:$C,$D30),\"0\")","v":"0"},{"$f":"IF('Unit 6'!$C$7=$D$59,COUNTIF('Unit 6'!$C:$C,$D30),\"0\")","v":"0"},{"$f":"IF('Unit 7'!$C$7=$D$59,COUNTIF('Unit 7'!$C:$C,$D30),\"0\")","v":"0"},{"$f":"IF('Unit 8'!$C$7=$D$59,COUNTIF('Unit 8'!$C:$C,$D30),\"0\")","v":"0"},{"$f":"IF('Unit 9'!$C$7=$D$59,COUNTIF('Unit 9'!$C:$C,$D30),\"0\")","v":"0"},{"$f":"IF('Unit 10'!$C$7=$D$59,COUNTIF('Unit 10'!$C:$C,$D30),\"0\")","v":"0"},{"$f":"IF('Unit 11'!$C$7=$D$59,COUNTIF('Unit 11'!$C:$C,$D30),\"0\")","v":"0"},{"$f":"IF('Unit 12'!$C$7=$D$59,COUNTIF('Unit 12'!$C:$C,$D30),\"0\")","v":"0"},{"$f":"IF('Unit 13'!$C$7=$D$59,COUNTIF('Unit 13'!$C:$C,$D30),\"0\")","v":"0"},{"$f":"IF('Unit 14'!$C$7=$D$59,COUNTIF('Unit 14'!$C:$C,$D30),\"0\")","v":"0"},{"$f":"IF('Unit 15'!$C$7=$D$59,COUNTIF('Unit 15'!$C:$C,$D30),\"0\")","v":"0"},{"$f":"IF('Unit 16'!$C$7=$D$59,COUNTIF('Unit 16'!$C:$C,$D30),\"0\")","v":"0"},{"$f":"IF('Unit 17'!$C$7=$D$59,COUNTIF('Unit 17'!$C:$C,$D30),\"0\")","v":"0"},{"$f":"IF('Unit 18'!$C$7=$D$59,COUNTIF('Unit 18'!$C:$C,$D30),\"0\")","v":"0"},{"$f":"IF('Unit 19'!$C$7=$D$59,COUNTIF('Unit 19'!$C:$C,$D30),\"0\")","v":"0"},{"$f":"IF('Unit 20'!$C$7=$D$59,COUNTIF('Unit 20'!$C:$C,$D30),\"0\")","v":"0"},{"$f":"IF('Unit 21'!$C$7=$D$59,COUNTIF('Unit 21'!$C:$C,$D30),\"0\")","v":"0"},{"$f":"IF('Unit 22'!$C$7=$D$59,COUNTIF('Unit 22'!$C:$C,$D30),\"0\")","v":"0"},{"$f":"IF('Unit 23'!$C$7=$D$59,COUNTIF('Unit 23'!$C:$C,$D30),\"0\")","v":"0"},{"$f":"IF('Unit 24'!$C$7=$D$59,COUNTIF('Unit 24'!$C:$C,$D30),\"0\")","v":"0"},{"$f":"IF('Unit 25'!$C$7=$D$59,COUNTIF('Unit 25'!$C:$C,$D30),\"0\")","v":"0"},{"$f":"IF('Unit 26'!$C$7=$D$59,COUNTIF('Unit 26'!$C:$C,$D30),\"0\")","v":"0"},{"$f":"IF('Unit 27'!$C$7=$D$59,COUNTIF('Unit 27'!$C:$C,$D30),\"0\")","v":"0"},{"$f":"IF('Unit 28'!$C$7=$D$59,COUNTIF('Unit 28'!$C:$C,$D30),\"0\")","v":"0"},{"$f":"IF('Unit 29'!$C$7=$D$59,COUNTIF('Unit 29'!$C:$C,$D30),\"0\")","v":"0"},{"$f":"IF('Unit 30'!$C$7=$D$59,COUNTIF('Unit 30'!$C:$C,$D30),\"0\")","v":"0"},{"$f":"IF('Unit 31'!$C$7=$D$59,COUNTIF('Unit 31'!$C:$C,$D30),\"0\")","v":"0"},{"$f":"IF('Unit 32'!$C$7=$D$59,COUNTIF('Unit 32'!$C:$C,$D30),\"0\")","v":"0"},{"$f":"IF('Unit 33'!$C$7=$D$59,COUNTIF('Unit 33'!$C:$C,$D30),\"0\")","v":"0"},{"$f":"IF('Unit 34'!$C$7=$D$59,COUNTIF('Unit 34'!$C:$C,$D30),\"0\")","v":"0"},{"$f":"IF('Unit 35'!$C$7=$D$59,COUNTIF('Unit 35'!$C:$C,$D30),\"0\")","v":"0"},{"$f":"IF('Unit 36'!$C$7=$D$59,COUNTIF('Unit 36'!$C:$C,$D30),\"0\")","v":"0"},{"$f":"IF('Unit 37'!$C$7=$D$59,COUNTIF('Unit 37'!$C:$C,$D30),\"0\")","v":"0"},{"$f":"IF('Unit 38'!$C$7=$D$59,COUNTIF('Unit 38'!$C:$C,$D30),\"0\")","v":"0"},0,null,{"$f":"IF('Unit 1'!$C$7=$D$60,COUNTIF('Unit 1'!$C:$C,$D30),\"0\")","v":"0"},{"$f":"IF('Unit 2'!$C$7=$D$60,COUNTIF('Unit 2'!$C:$C,$D30),\"0\")","v":"0"},{"$f":"IF('Unit 3'!$C$7=$D$60,COUNTIF('Unit 3'!$C:$C,$D30),\"0\")","v":"0"},{"$f":"IF('Unit 4'!$C$7=$D$60,COUNTIF('Unit 4'!$C:$C,$D30),\"0\")","v":"0"},{"$f":"IF('Unit 5'!$C$7=$D$60,COUNTIF('Unit 5'!$C:$C,$D30),\"0\")","v":"0"},{"$f":"IF('Unit 6'!$C$7=$D$60,COUNTIF('Unit 6'!$C:$C,$D30),\"0\")","v":"0"},{"$f":"IF('Unit 7'!$C$7=$D$60,COUNTIF('Unit 7'!$C:$C,$D30),\"0\")","v":"0"},{"$f":"IF('Unit 8'!$C$7=$D$60,COUNTIF('Unit 8'!$C:$C,$D30),\"0\")","v":"0"},{"$f":"IF('Unit 9'!$C$7=$D$60,COUNTIF('Unit 9'!$C:$C,$D30),\"0\")","v":"0"},{"$f":"IF('Unit 10'!$C$7=$D$60,COUNTIF('Unit 10'!$C:$C,$D30),\"0\")","v":"0"},{"$f":"IF('Unit 11'!$C$7=$D$60,COUNTIF('Unit 11'!$C:$C,$D30),\"0\")","v":"0"},{"$f":"IF('Unit 12'!$C$7=$D$60,COUNTIF('Unit 12'!$C:$C,$D30),\"0\")","v":"0"},{"$f":"IF('Unit 13'!$C$7=$D$60,COUNTIF('Unit 13'!$C:$C,$D30),\"0\")","v":"0"},{"$f":"IF('Unit 14'!$C$7=$D$60,COUNTIF('Unit 14'!$C:$C,$D30),\"0\")","v":"0"},{"$f":"IF('Unit 15'!$C$7=$D$60,COUNTIF('Unit 15'!$C:$C,$D30),\"0\")","v":"0"},{"$f":"IF('Unit 16'!$C$7=$D$60,COUNTIF('Unit 16'!$C:$C,$D30),\"0\")","v":"0"},{"$f":"IF('Unit 17'!$C$7=$D$60,COUNTIF('Unit 17'!$C:$C,$D30),\"0\")","v":"0"},{"$f":"IF('Unit 18'!$C$7=$D$60,COUNTIF('Unit 18'!$C:$C,$D30),\"0\")","v":"0"},{"$f":"IF('Unit 19'!$C$7=$D$60,COUNTIF('Unit 19'!$C:$C,$D30),\"0\")","v":"0"},{"$f":"IF('Unit 20'!$C$7=$D$60,COUNTIF('Unit 20'!$C:$C,$D30),\"0\")","v":"0"},{"$f":"IF('Unit 21'!$C$7=$D$60,COUNTIF('Unit 21'!$C:$C,$D30),\"0\")","v":"0"},{"$f":"IF('Unit 22'!$C$7=$D$60,COUNTIF('Unit 22'!$C:$C,$D30),\"0\")","v":"0"},{"$f":"IF('Unit 23'!$C$7=$D$60,COUNTIF('Unit 23'!$C:$C,$D30),\"0\")","v":"0"},{"$f":"IF('Unit 24'!$C$7=$D$60,COUNTIF('Unit 24'!$C:$C,$D30),\"0\")","v":"0"},{"$f":"IF('Unit 25'!$C$7=$D$60,COUNTIF('Unit 25'!$C:$C,$D30),\"0\")","v":"0"},{"$f":"IF('Unit 26'!$C$7=$D$60,COUNTIF('Unit 26'!$C:$C,$D30),\"0\")","v":"0"},{"$f":"IF('Unit 27'!$C$7=$D$60,COUNTIF('Unit 27'!$C:$C,$D30),\"0\")","v":"0"},{"$f":"IF('Unit 28'!$C$7=$D$60,COUNTIF('Unit 28'!$C:$C,$D30),\"0\")","v":"0"},{"$f":"IF('Unit 29'!$C$7=$D$60,COUNTIF('Unit 29'!$C:$C,$D30),\"0\")","v":"0"},{"$f":"IF('Unit 30'!$C$7=$D$60,COUNTIF('Unit 30'!$C:$C,$D30),\"0\")","v":"0"},{"$f":"IF('Unit 31'!$C$7=$D$60,COUNTIF('Unit 31'!$C:$C,$D30),\"0\")","v":"0"},{"$f":"IF('Unit 32'!$C$7=$D$60,COUNTIF('Unit 32'!$C:$C,$D30),\"0\")","v":"0"},{"$f":"IF('Unit 33'!$C$7=$D$60,COUNTIF('Unit 33'!$C:$C,$D30),\"0\")","v":"0"},{"$f":"IF('Unit 34'!$C$7=$D$60,COUNTIF('Unit 34'!$C:$C,$D30),\"0\")","v":"0"},{"$f":"IF('Unit 35'!$C$7=$D$60,COUNTIF('Unit 35'!$C:$C,$D30),\"0\")","v":"0"},{"$f":"IF('Unit 36'!$C$7=$D$60,COUNTIF('Unit 36'!$C:$C,$D30),\"0\")","v":"0"},{"$f":"IF('Unit 37'!$C$7=$D$60,COUNTIF('Unit 37'!$C:$C,$D30),\"0\")","v":"0"},{"$f":"IF('Unit 38'!$C$7=$D$60,COUNTIF('Unit 38'!$C:$C,$D30),\"0\")","v":"0"},0]
[null,null,null,null,null,{"$f":"COUNTIF('Unit 1'!C:C,$D31)","v":0},{"$f":"COUNTIF('Unit 2'!C:C,D31)","v":0},{"$f":"COUNTIF('Unit 3'!C:C,D31)","v":0},{"$f":"COUNTIF('Unit 4'!C:C,D31)","v":0},{"$f":"COUNTIF('Unit 5'!C:C,D31)","v":0},{"$f":"COUNTIF('Unit 6'!C:C,D31)","v":0},{"$f":"COUNTIF('Unit 7'!C:C,D31)","v":0},{"$f":"COUNTIF('Unit 8'!C:C,D31)","v":0},{"$f":"COUNTIF('Unit 9'!C:C,D31)","v":0},{"$f":"COUNTIF('Unit 10'!C:C,D31)","v":0},{"$f":"COUNTIF('Unit 11'!C:C,D31)","v":0},{"$f":"COUNTIF('Unit 12'!C:C,D31)","v":0},{"$f":"COUNTIF('Unit 13'!C:C,D31)","v":0},{"$f":"COUNTIF('Unit 14'!C:C,D31)","v":0},{"$f":"COUNTIF('Unit 15'!C:C,D31)","v":0},{"$f":"COUNTIF('Unit 16'!C:C,D31)","v":0},{"$f":"COUNTIF('Unit 17'!C:C,D31)","v":0},{"$f":"COUNTIF('Unit 18'!C:C,D31)","v":0},{"$f":"COUNTIF('Unit 19'!C:C,D31)","v":0},{"$f":"COUNTIF('Unit 20'!C:C,D31)","v":0},{"$f":"COUNTIF('Unit 21'!C:C,D31)","v":0},{"$f":"COUNTIF('Unit 22'!C:C,D31)","v":0},{"$f":"COUNTIF('Unit 23'!C:C,D31)","v":0},{"$f":"COUNTIF('Unit 24'!C:C,D31)","v":0},{"$f":"COUNTIF('Unit 25'!C:C,D31)","v":0},{"$f":"COUNTIF('Unit 26'!C:C,D31)","v":0},{"$f":"COUNTIF('Unit 27'!C:C,D31)","v":0},{"$f":"COUNTIF('Unit 28'!C:C,D31)","v":0},{"$f":"COUNTIF('Unit 29'!C:C,D31)","v":0},{"$f":"COUNTIF('Unit 30'!C:C,D31)","v":0},{"$f":"COUNTIF('Unit 31'!C:C,D31)","v":0},{"$f":"COUNTIF('Unit 32'!C:C,D31)","v":0},{"$f":"COUNTIF('Unit 33'!C:C,D31)","v":0},{"$f":"COUNTIF('Unit 34'!C:C,D31)","v":0},{"$f":"COUNTIF('Unit 35'!C:C,D31)","v":0},{"$f":"COUNTIF('Unit 36'!C:C,D31)","v":0},{"$f":"COUNTIF('Unit 37'!C:C,D31)","v":0},{"$f":"COUNTIF('Unit 38'!C:C,D31)","v":0},0,null,{"$f":"IF('Unit 1'!$C$7=$D$58,COUNTIF('Unit 1'!$C:$C,$D31),\"0\")","v":"0"},{"$f":"IF('Unit 2'!$C$7=$D$58,COUNTIF('Unit 2'!$C:$C,$D31),\"0\")","v":"0"},{"$f":"IF('Unit 3'!$C$7=$D$58,COUNTIF('Unit 3'!$C:$C,$D31),\"0\")","v":"0"},{"$f":"IF('Unit 4'!$C$7=$D$58,COUNTIF('Unit 4'!$C:$C,$D31),\"0\")","v":"0"},{"$f":"IF('Unit 5'!$C$7=$D$58,COUNTIF('Unit 5'!$C:$C,$D31),\"0\")","v":"0"},{"$f":"IF('Unit 6'!$C$7=$D$58,COUNTIF('Unit 6'!$C:$C,$D31),\"0\")","v":"0"},{"$f":"IF('Unit 7'!$C$7=$D$58,COUNTIF('Unit 7'!$C:$C,$D31),\"0\")","v":"0"},{"$f":"IF('Unit 8'!$C$7=$D$58,COUNTIF('Unit 8'!$C:$C,$D31),\"0\")","v":"0"},{"$f":"IF('Unit 9'!$C$7=$D$58,COUNTIF('Unit 9'!$C:$C,$D31),\"0\")","v":"0"},{"$f":"IF('Unit 10'!$C$7=$D$58,COUNTIF('Unit 10'!$C:$C,$D31),\"0\")","v":"0"},{"$f":"IF('Unit 11'!$C$7=$D$58,COUNTIF('Unit 11'!$C:$C,$D31),\"0\")","v":"0"},{"$f":"IF('Unit 12'!$C$7=$D$58,COUNTIF('Unit 12'!$C:$C,$D31),\"0\")","v":"0"},{"$f":"IF('Unit 13'!$C$7=$D$58,COUNTIF('Unit 13'!$C:$C,$D31),\"0\")","v":"0"},{"$f":"IF('Unit 14'!$C$7=$D$58,COUNTIF('Unit 14'!$C:$C,$D31),\"0\")","v":"0"},{"$f":"IF('Unit 15'!$C$7=$D$58,COUNTIF('Unit 15'!$C:$C,$D31),\"0\")","v":"0"},{"$f":"IF('Unit 16'!$C$7=$D$58,COUNTIF('Unit 16'!$C:$C,$D31),\"0\")","v":"0"},{"$f":"IF('Unit 17'!$C$7=$D$58,COUNTIF('Unit 17'!$C:$C,$D31),\"0\")","v":"0"},{"$f":"IF('Unit 18'!$C$7=$D$58,COUNTIF('Unit 18'!$C:$C,$D31),\"0\")","v":"0"},{"$f":"IF('Unit 19'!$C$7=$D$58,COUNTIF('Unit 19'!$C:$C,$D31),\"0\")","v":"0"},{"$f":"IF('Unit 20'!$C$7=$D$58,COUNTIF('Unit 20'!$C:$C,$D31),\"0\")","v":"0"},{"$f":"IF('Unit 21'!$C$7=$D$58,COUNTIF('Unit 21'!$C:$C,$D31),\"0\")","v":"0"},{"$f":"IF('Unit 22'!$C$7=$D$58,COUNTIF('Unit 22'!$C:$C,$D31),\"0\")","v":"0"},{"$f":"IF('Unit 23'!$C$7=$D$58,COUNTIF('Unit 23'!$C:$C,$D31),\"0\")","v":"0"},{"$f":"IF('Unit 24'!$C$7=$D$58,COUNTIF('Unit 24'!$C:$C,$D31),\"0\")","v":"0"},{"$f":"IF('Unit 25'!$C$7=$D$58,COUNTIF('Unit 25'!$C:$C,$D31),\"0\")","v":"0"},{"$f":"IF('Unit 26'!$C$7=$D$58,COUNTIF('Unit 26'!$C:$C,$D31),\"0\")","v":"0"},{"$f":"IF('Unit 27'!$C$7=$D$58,COUNTIF('Unit 27'!$C:$C,$D31),\"0\")","v":"0"},{"$f":"IF('Unit 28'!$C$7=$D$58,COUNTIF('Unit 28'!$C:$C,$D31),\"0\")","v":"0"},{"$f":"IF('Unit 29'!$C$7=$D$58,COUNTIF('Unit 29'!$C:$C,$D31),\"0\")","v":"0"},{"$f":"IF('Unit 30'!$C$7=$D$58,COUNTIF('Unit 30'!$C:$C,$D31),\"0\")","v":"0"},{"$f":"IF('Unit 31'!$C$7=$D$58,COUNTIF('Unit 31'!$C:$C,$D31),\"0\")","v":"0"},{"$f":"IF('Unit 32'!$C$7=$D$58,COUNTIF('Unit 32'!$C:$C,$D31),\"0\")","v":"0"},{"$f":"IF('Unit 33'!$C$7=$D$58,COUNTIF('Unit 33'!$C:$C,$D31),\"0\")","v":"0"},{"$f":"IF('Unit 34'!$C$7=$D$58,COUNTIF('Unit 34'!$C:$C,$D31),\"0\")","v":"0"},{"$f":"IF('Unit 35'!$C$7=$D$58,COUNTIF('Unit 35'!$C:$C,$D31),\"0\")","v":"0"},{"$f":"IF('Unit 36'!$C$7=$D$58,COUNTIF('Unit 36'!$C:$C,$D31),\"0\")","v":"0"},{"$f":"IF('Unit 37'!$C$7=$D$58,COUNTIF('Unit 37'!$C:$C,$D31),\"0\")","v":"0"},{"$f":"IF('Unit 38'!$C$7=$D$58,COUNTIF('Unit 38'!$C:$C,$D31),\"0\")","v":"0"},0,null,{"$f":"IF('Unit 1'!$C$7=$D$59,COUNTIF('Unit 1'!$C:$C,$D31),\"0\")","v":"0"},{"$f":"IF('Unit 2'!$C$7=$D$59,COUNTIF('Unit 2'!$C:$C,$D31),\"0\")","v":"0"},{"$f":"IF('Unit 3'!$C$7=$D$59,COUNTIF('Unit 3'!$C:$C,$D31),\"0\")","v":"0"},{"$f":"IF('Unit 4'!$C$7=$D$59,COUNTIF('Unit 4'!$C:$C,$D31),\"0\")","v":"0"},{"$f":"IF('Unit 5'!$C$7=$D$59,COUNTIF('Unit 5'!$C:$C,$D31),\"0\")","v":"0"},{"$f":"IF('Unit 6'!$C$7=$D$59,COUNTIF('Unit 6'!$C:$C,$D31),\"0\")","v":"0"},{"$f":"IF('Unit 7'!$C$7=$D$59,COUNTIF('Unit 7'!$C:$C,$D31),\"0\")","v":"0"},{"$f":"IF('Unit 8'!$C$7=$D$59,COUNTIF('Unit 8'!$C:$C,$D31),\"0\")","v":"0"},{"$f":"IF('Unit 9'!$C$7=$D$59,COUNTIF('Unit 9'!$C:$C,$D31),\"0\")","v":"0"},{"$f":"IF('Unit 10'!$C$7=$D$59,COUNTIF('Unit 10'!$C:$C,$D31),\"0\")","v":"0"},{"$f":"IF('Unit 11'!$C$7=$D$59,COUNTIF('Unit 11'!$C:$C,$D31),\"0\")","v":"0"},{"$f":"IF('Unit 12'!$C$7=$D$59,COUNTIF('Unit 12'!$C:$C,$D31),\"0\")","v":"0"},{"$f":"IF('Unit 13'!$C$7=$D$59,COUNTIF('Unit 13'!$C:$C,$D31),\"0\")","v":"0"},{"$f":"IF('Unit 14'!$C$7=$D$59,COUNTIF('Unit 14'!$C:$C,$D31),\"0\")","v":"0"},{"$f":"IF('Unit 15'!$C$7=$D$59,COUNTIF('Unit 15'!$C:$C,$D31),\"0\")","v":"0"},{"$f":"IF('Unit 16'!$C$7=$D$59,COUNTIF('Unit 16'!$C:$C,$D31),\"0\")","v":"0"},{"$f":"IF('Unit 17'!$C$7=$D$59,COUNTIF('Unit 17'!$C:$C,$D31),\"0\")","v":"0"},{"$f":"IF('Unit 18'!$C$7=$D$59,COUNTIF('Unit 18'!$C:$C,$D31),\"0\")","v":"0"},{"$f":"IF('Unit 19'!$C$7=$D$59,COUNTIF('Unit 19'!$C:$C,$D31),\"0\")","v":"0"},{"$f":"IF('Unit 20'!$C$7=$D$59,COUNTIF('Unit 20'!$C:$C,$D31),\"0\")","v":"0"},{"$f":"IF('Unit 21'!$C$7=$D$59,COUNTIF('Unit 21'!$C:$C,$D31),\"0\")","v":"0"},{"$f":"IF('Unit 22'!$C$7=$D$59,COUNTIF('Unit 22'!$C:$C,$D31),\"0\")","v":"0"},{"$f":"IF('Unit 23'!$C$7=$D$59,COUNTIF('Unit 23'!$C:$C,$D31),\"0\")","v":"0"},{"$f":"IF('Unit 24'!$C$7=$D$59,COUNTIF('Unit 24'!$C:$C,$D31),\"0\")","v":"0"},{"$f":"IF('Unit 25'!$C$7=$D$59,COUNTIF('Unit 25'!$C:$C,$D31),\"0\")","v":"0"},{"$f":"IF('Unit 26'!$C$7=$D$59,COUNTIF('Unit 26'!$C:$C,$D31),\"0\")","v":"0"},{"$f":"IF('Unit 27'!$C$7=$D$59,COUNTIF('Unit 27'!$C:$C,$D31),\"0\")","v":"0"},{"$f":"IF('Unit 28'!$C$7=$D$59,COUNTIF('Unit 28'!$C:$C,$D31),\"0\")","v":"0"},{"$f":"IF('Unit 29'!$C$7=$D$59,COUNTIF('Unit 29'!$C:$C,$D31),\"0\")","v":"0"},{"$f":"IF('Unit 30'!$C$7=$D$59,COUNTIF('Unit 30'!$C:$C,$D31),\"0\")","v":"0"},{"$f":"IF('Unit 31'!$C$7=$D$59,COUNTIF('Unit 31'!$C:$C,$D31),\"0\")","v":"0"},{"$f":"IF('Unit 32'!$C$7=$D$59,COUNTIF('Unit 32'!$C:$C,$D31),\"0\")","v":"0"},{"$f":"IF('Unit 33'!$C$7=$D$59,COUNTIF('Unit 33'!$C:$C,$D31),\"0\")","v":"0"},{"$f":"IF('Unit 34'!$C$7=$D$59,COUNTIF('Unit 34'!$C:$C,$D31),\"0\")","v":"0"},{"$f":"IF('Unit 35'!$C$7=$D$59,COUNTIF('Unit 35'!$C:$C,$D31),\"0\")","v":"0"},{"$f":"IF('Unit 36'!$C$7=$D$59,COUNTIF('Unit 36'!$C:$C,$D31),\"0\")","v":"0"},{"$f":"IF('Unit 37'!$C$7=$D$59,COUNTIF('Unit 37'!$C:$C,$D31),\"0\")","v":"0"},{"$f":"IF('Unit 38'!$C$7=$D$59,COUNTIF('Unit 38'!$C:$C,$D31),\"0\")","v":"0"},0,null,{"$f":"IF('Unit 1'!$C$7=$D$60,COUNTIF('Unit 1'!$C:$C,$D31),\"0\")","v":"0"},{"$f":"IF('Unit 2'!$C$7=$D$60,COUNTIF('Unit 2'!$C:$C,$D31),\"0\")","v":"0"},{"$f":"IF('Unit 3'!$C$7=$D$60,COUNTIF('Unit 3'!$C:$C,$D31),\"0\")","v":"0"},{"$f":"IF('Unit 4'!$C$7=$D$60,COUNTIF('Unit 4'!$C:$C,$D31),\"0\")","v":"0"},{"$f":"IF('Unit 5'!$C$7=$D$60,COUNTIF('Unit 5'!$C:$C,$D31),\"0\")","v":"0"},{"$f":"IF('Unit 6'!$C$7=$D$60,COUNTIF('Unit 6'!$C:$C,$D31),\"0\")","v":"0"},{"$f":"IF('Unit 7'!$C$7=$D$60,COUNTIF('Unit 7'!$C:$C,$D31),\"0\")","v":"0"},{"$f":"IF('Unit 8'!$C$7=$D$60,COUNTIF('Unit 8'!$C:$C,$D31),\"0\")","v":"0"},{"$f":"IF('Unit 9'!$C$7=$D$60,COUNTIF('Unit 9'!$C:$C,$D31),\"0\")","v":"0"},{"$f":"IF('Unit 10'!$C$7=$D$60,COUNTIF('Unit 10'!$C:$C,$D31),\"0\")","v":"0"},{"$f":"IF('Unit 11'!$C$7=$D$60,COUNTIF('Unit 11'!$C:$C,$D31),\"0\")","v":"0"},{"$f":"IF('Unit 12'!$C$7=$D$60,COUNTIF('Unit 12'!$C:$C,$D31),\"0\")","v":"0"},{"$f":"IF('Unit 13'!$C$7=$D$60,COUNTIF('Unit 13'!$C:$C,$D31),\"0\")","v":"0"},{"$f":"IF('Unit 14'!$C$7=$D$60,COUNTIF('Unit 14'!$C:$C,$D31),\"0\")","v":"0"},{"$f":"IF('Unit 15'!$C$7=$D$60,COUNTIF('Unit 15'!$C:$C,$D31),\"0\")","v":"0"},{"$f":"IF('Unit 16'!$C$7=$D$60,COUNTIF('Unit 16'!$C:$C,$D31),\"0\")","v":"0"},{"$f":"IF('Unit 17'!$C$7=$D$60,COUNTIF('Unit 17'!$C:$C,$D31),\"0\")","v":"0"},{"$f":"IF('Unit 18'!$C$7=$D$60,COUNTIF('Unit 18'!$C:$C,$D31),\"0\")","v":"0"},{"$f":"IF('Unit 19'!$C$7=$D$60,COUNTIF('Unit 19'!$C:$C,$D31),\"0\")","v":"0"},{"$f":"IF('Unit 20'!$C$7=$D$60,COUNTIF('Unit 20'!$C:$C,$D31),\"0\")","v":"0"},{"$f":"IF('Unit 21'!$C$7=$D$60,COUNTIF('Unit 21'!$C:$C,$D31),\"0\")","v":"0"},{"$f":"IF('Unit 22'!$C$7=$D$60,COUNTIF('Unit 22'!$C:$C,$D31),\"0\")","v":"0"},{"$f":"IF('Unit 23'!$C$7=$D$60,COUNTIF('Unit 23'!$C:$C,$D31),\"0\")","v":"0"},{"$f":"IF('Unit 24'!$C$7=$D$60,COUNTIF('Unit 24'!$C:$C,$D31),\"0\")","v":"0"},{"$f":"IF('Unit 25'!$C$7=$D$60,COUNTIF('Unit 25'!$C:$C,$D31),\"0\")","v":"0"},{"$f":"IF('Unit 26'!$C$7=$D$60,COUNTIF('Unit 26'!$C:$C,$D31),\"0\")","v":"0"},{"$f":"IF('Unit 27'!$C$7=$D$60,COUNTIF('Unit 27'!$C:$C,$D31),\"0\")","v":"0"},{"$f":"IF('Unit 28'!$C$7=$D$60,COUNTIF('Unit 28'!$C:$C,$D31),\"0\")","v":"0"},{"$f":"IF('Unit 29'!$C$7=$D$60,COUNTIF('Unit 29'!$C:$C,$D31),\"0\")","v":"0"},{"$f":"IF('Unit 30'!$C$7=$D$60,COUNTIF('Unit 30'!$C:$C,$D31),\"0\")","v":"0"},{"$f":"IF('Unit 31'!$C$7=$D$60,COUNTIF('Unit 31'!$C:$C,$D31),\"0\")","v":"0"},{"$f":"IF('Unit 32'!$C$7=$D$60,COUNTIF('Unit 32'!$C:$C,$D31),\"0\")","v":"0"},{"$f":"IF('Unit 33'!$C$7=$D$60,COUNTIF('Unit 33'!$C:$C,$D31),\"0\")","v":"0"},{"$f":"IF('Unit 34'!$C$7=$D$60,COUNTIF('Unit 34'!$C:$C,$D31),\"0\")","v":"0"},{"$f":"IF('Unit 35'!$C$7=$D$60,COUNTIF('Unit 35'!$C:$C,$D31),\"0\")","v":"0"},{"$f":"IF('Unit 36'!$C$7=$D$60,COUNTIF('Unit 36'!$C:$C,$D31),\"0\")","v":"0"},{"$f":"IF('Unit 37'!$C$7=$D$60,COUNTIF('Unit 37'!$C:$C,$D31),\"0\")","v":"0"},{"$f":"IF('Unit 38'!$C$7=$D$60,COUNTIF('Unit 38'!$C:$C,$D31),\"0\")","v":"0"},0]
[null,{"$f":"B16","v":"Developing and Manufacturing"},"2.7","2.7 apply their knowledge of the properties associated with a range of engineering materials ","Apply: select and use information and/or knowledge and understanding to explain a given situation or real circumstances",{"$f":"COUNTIF('Unit 1'!C:C,$D32)","v":0},{"$f":"COUNTIF('Unit 2'!C:C,D32)","v":0},{"$f":"COUNTIF('Unit 3'!C:C,D32)","v":0},{"$f":"COUNTIF('Unit 4'!C:C,D32)","v":0},{"$f":"COUNTIF('Unit 5'!C:C,D32)","v":0},{"$f":"COUNTIF('Unit 6'!C:C,D32)","v":0},{"$f":"COUNTIF('Unit 7'!C:C,D32)","v":0},{"$f":"COUNTIF('Unit 8'!C:C,D32)","v":0},{"$f":"COUNTIF('Unit 9'!C:C,D32)","v":0},{"$f":"COUNTIF('Unit 10'!C:C,D32)","v":0},{"$f":"COUNTIF('Unit 11'!C:C,D32)","v":0},{"$f":"COUNTIF('Unit 12'!C:C,D32)","v":0},{"$f":"COUNTIF('Unit 13'!C:C,D32)","v":0},{"$f":"COUNTIF('Unit 14'!C:C,D32)","v":0},{"$f":"COUNTIF('Unit 15'!C:C,D32)","v":0},{"$f":"COUNTIF('Unit 16'!C:C,D32)","v":0},{"$f":"COUNTIF('Unit 17'!C:C,D32)","v":0},{"$f":"COUNTIF('Unit 18'!C:C,D32)","v":0},{"$f":"COUNTIF('Unit 19'!C:C,D32)","v":0},{"$f":"COUNTIF('Unit 20'!C:C,D32)","v":0},{"$f":"COUNTIF('Unit 21'!C:C,D32)","v":0},{"$f":"COUNTIF('Unit 22'!C:C,D32)","v":0},{"$f":"COUNTIF('Unit 23'!C:C,D32)","v":0},{"$f":"COUNTIF('Unit 24'!C:C,D32)","v":0},{"$f":"COUNTIF('Unit 25'!C:C,D32)","v":0},{"$f":"COUNTIF('Unit 26'!C:C,D32)","v":0},{"$f":"COUNTIF('Unit 27'!C:C,D32)","v":0},{"$f":"COUNTIF('Unit 28'!C:C,D32)","v":0},{"$f":"COUNTIF('Unit 29'!C:C,D32)","v":0},{"$f":"COUNTIF('Unit 30'!C:C,D32)","v":0},{"$f":"COUNTIF('Unit 31'!C:C,D32)","v":0},{"$f":"COUNTIF('Unit 32'!C:C,D32)","v":0},{"$f":"COUNTIF('Unit 33'!C:C,D32)","v":0},{"$f":"COUNTIF('Unit 34'!C:C,D32)","v":0},{"$f":"COUNTIF('Unit 35'!C:C,D32)","v":0},{"$f":"COUNTIF('Unit 36'!C:C,D32)","v":0},{"$f":"COUNTIF('Unit 37'!C:C,D32)","v":0},{"$f":"COUNTIF('Unit 38'!C:C,D32)","v":0},0,null,{"$f":"IF('Unit 1'!$C$7=$D$58,COUNTIF('Unit 1'!$C:$C,$D32),\"0\")","v":"0"},{"$f":"IF('Unit 2'!$C$7=$D$58,COUNTIF('Unit 2'!$C:$C,$D32),\"0\")","v":"0"},{"$f":"IF('Unit 3'!$C$7=$D$58,COUNTIF('Unit 3'!$C:$C,$D32),\"0\")","v":"0"},{"$f":"IF('Unit 4'!$C$7=$D$58,COUNTIF('Unit 4'!$C:$C,$D32),\"0\")","v":"0"},{"$f":"IF('Unit 5'!$C$7=$D$58,COUNTIF('Unit 5'!$C:$C,$D32),\"0\")","v":"0"},{"$f":"IF('Unit 6'!$C$7=$D$58,COUNTIF('Unit 6'!$C:$C,$D32),\"0\")","v":"0"},{"$f":"IF('Unit 7'!$C$7=$D$58,COUNTIF('Unit 7'!$C:$C,$D32),\"0\")","v":"0"},{"$f":"IF('Unit 8'!$C$7=$D$58,COUNTIF('Unit 8'!$C:$C,$D32),\"0\")","v":"0"},{"$f":"IF('Unit 9'!$C$7=$D$58,COUNTIF('Unit 9'!$C:$C,$D32),\"0\")","v":"0"},{"$f":"IF('Unit 10'!$C$7=$D$58,COUNTIF('Unit 10'!$C:$C,$D32),\"0\")","v":"0"},{"$f":"IF('Unit 11'!$C$7=$D$58,COUNTIF('Unit 11'!$C:$C,$D32),\"0\")","v":"0"},{"$f":"IF('Unit 12'!$C$7=$D$58,COUNTIF('Unit 12'!$C:$C,$D32),\"0\")","v":"0"},{"$f":"IF('Unit 13'!$C$7=$D$58,COUNTIF('Unit 13'!$C:$C,$D32),\"0\")","v":"0"},{"$f":"IF('Unit 14'!$C$7=$D$58,COUNTIF('Unit 14'!$C:$C,$D32),\"0\")","v":"0"},{"$f":"IF('Unit 15'!$C$7=$D$58,COUNTIF('Unit 15'!$C:$C,$D32),\"0\")","v":"0"},{"$f":"IF('Unit 16'!$C$7=$D$58,COUNTIF('Unit 16'!$C:$C,$D32),\"0\")","v":"0"},{"$f":"IF('Unit 17'!$C$7=$D$58,COUNTIF('Unit 17'!$C:$C,$D32),\"0\")","v":"0"},{"$f":"IF('Unit 18'!$C$7=$D$58,COUNTIF('Unit 18'!$C:$C,$D32),\"0\")","v":"0"},{"$f":"IF('Unit 19'!$C$7=$D$58,COUNTIF('Unit 19'!$C:$C,$D32),\"0\")","v":"0"},{"$f":"IF('Unit 20'!$C$7=$D$58,COUNTIF('Unit 20'!$C:$C,$D32),\"0\")","v":"0"},{"$f":"IF('Unit 21'!$C$7=$D$58,COUNTIF('Unit 21'!$C:$C,$D32),\"0\")","v":"0"},{"$f":"IF('Unit 22'!$C$7=$D$58,COUNTIF('Unit 22'!$C:$C,$D32),\"0\")","v":"0"},{"$f":"IF('Unit 23'!$C$7=$D$58,COUNTIF('Unit 23'!$C:$C,$D32),\"0\")","v":"0"},{"$f":"IF('Unit 24'!$C$7=$D$58,COUNTIF('Unit 24'!$C:$C,$D32),\"0\")","v":"0"},{"$f":"IF('Unit 25'!$C$7=$D$58,COUNTIF('Unit 25'!$C:$C,$D32),\"0\")","v":"0"},{"$f":"IF('Unit 26'!$C$7=$D$58,COUNTIF('Unit 26'!$C:$C,$D32),\"0\")","v":"0"},{"$f":"IF('Unit 27'!$C$7=$D$58,COUNTIF('Unit 27'!$C:$C,$D32),\"0\")","v":"0"},{"$f":"IF('Unit 28'!$C$7=$D$58,COUNTIF('Unit 28'!$C:$C,$D32),\"0\")","v":"0"},{"$f":"IF('Unit 29'!$C$7=$D$58,COUNTIF('Unit 29'!$C:$C,$D32),\"0\")","v":"0"},{"$f":"IF('Unit 30'!$C$7=$D$58,COUNTIF('Unit 30'!$C:$C,$D32),\"0\")","v":"0"},{"$f":"IF('Unit 31'!$C$7=$D$58,COUNTIF('Unit 31'!$C:$C,$D32),\"0\")","v":"0"},{"$f":"IF('Unit 32'!$C$7=$D$58,COUNTIF('Unit 32'!$C:$C,$D32),\"0\")","v":"0"},{"$f":"IF('Unit 33'!$C$7=$D$58,COUNTIF('Unit 33'!$C:$C,$D32),\"0\")","v":"0"},{"$f":"IF('Unit 34'!$C$7=$D$58,COUNTIF('Unit 34'!$C:$C,$D32),\"0\")","v":"0"},{"$f":"IF('Unit 35'!$C$7=$D$58,COUNTIF('Unit 35'!$C:$C,$D32),\"0\")","v":"0"},{"$f":"IF('Unit 36'!$C$7=$D$58,COUNTIF('Unit 36'!$C:$C,$D32),\"0\")","v":"0"},{"$f":"IF('Unit 37'!$C$7=$D$58,COUNTIF('Unit 37'!$C:$C,$D32),\"0\")","v":"0"},{"$f":"IF('Unit 38'!$C$7=$D$58,COUNTIF('Unit 38'!$C:$C,$D32),\"0\")","v":"0"},0,null,{"$f":"IF('Unit 1'!$C$7=$D$59,COUNTIF('Unit 1'!$C:$C,$D32),\"0\")","v":"0"},{"$f":"IF('Unit 2'!$C$7=$D$59,COUNTIF('Unit 2'!$C:$C,$D32),\"0\")","v":"0"},{"$f":"IF('Unit 3'!$C$7=$D$59,COUNTIF('Unit 3'!$C:$C,$D32),\"0\")","v":"0"},{"$f":"IF('Unit 4'!$C$7=$D$59,COUNTIF('Unit 4'!$C:$C,$D32),\"0\")","v":"0"},{"$f":"IF('Unit 5'!$C$7=$D$59,COUNTIF('Unit 5'!$C:$C,$D32),\"0\")","v":"0"},{"$f":"IF('Unit 6'!$C$7=$D$59,COUNTIF('Unit 6'!$C:$C,$D32),\"0\")","v":"0"},{"$f":"IF('Unit 7'!$C$7=$D$59,COUNTIF('Unit 7'!$C:$C,$D32),\"0\")","v":"0"},{"$f":"IF('Unit 8'!$C$7=$D$59,COUNTIF('Unit 8'!$C:$C,$D32),\"0\")","v":"0"},{"$f":"IF('Unit 9'!$C$7=$D$59,COUNTIF('Unit 9'!$C:$C,$D32),\"0\")","v":"0"},{"$f":"IF('Unit 10'!$C$7=$D$59,COUNTIF('Unit 10'!$C:$C,$D32),\"0\")","v":"0"},{"$f":"IF('Unit 11'!$C$7=$D$59,COUNTIF('Unit 11'!$C:$C,$D32),\"0\")","v":"0"},{"$f":"IF('Unit 12'!$C$7=$D$59,COUNTIF('Unit 12'!$C:$C,$D32),\"0\")","v":"0"},{"$f":"IF('Unit 13'!$C$7=$D$59,COUNTIF('Unit 13'!$C:$C,$D32),\"0\")","v":"0"},{"$f":"IF('Unit 14'!$C$7=$D$59,COUNTIF('Unit 14'!$C:$C,$D32),\"0\")","v":"0"},{"$f":"IF('Unit 15'!$C$7=$D$59,COUNTIF('Unit 15'!$C:$C,$D32),\"0\")","v":"0"},{"$f":"IF('Unit 16'!$C$7=$D$59,COUNTIF('Unit 16'!$C:$C,$D32),\"0\")","v":"0"},{"$f":"IF('Unit 17'!$C$7=$D$59,COUNTIF('Unit 17'!$C:$C,$D32),\"0\")","v":"0"},{"$f":"IF('Unit 18'!$C$7=$D$59,COUNTIF('Unit 18'!$C:$C,$D32),\"0\")","v":"0"},{"$f":"IF('Unit 19'!$C$7=$D$59,COUNTIF('Unit 19'!$C:$C,$D32),\"0\")","v":"0"},{"$f":"IF('Unit 20'!$C$7=$D$59,COUNTIF('Unit 20'!$C:$C,$D32),\"0\")","v":"0"},{"$f":"IF('Unit 21'!$C$7=$D$59,COUNTIF('Unit 21'!$C:$C,$D32),\"0\")","v":"0"},{"$f":"IF('Unit 22'!$C$7=$D$59,COUNTIF('Unit 22'!$C:$C,$D32),\"0\")","v":"0"},{"$f":"IF('Unit 23'!$C$7=$D$59,COUNTIF('Unit 23'!$C:$C,$D32),\"0\")","v":"0"},{"$f":"IF('Unit 24'!$C$7=$D$59,COUNTIF('Unit 24'!$C:$C,$D32),\"0\")","v":"0"},{"$f":"IF('Unit 25'!$C$7=$D$59,COUNTIF('Unit 25'!$C:$C,$D32),\"0\")","v":"0"},{"$f":"IF('Unit 26'!$C$7=$D$59,COUNTIF('Unit 26'!$C:$C,$D32),\"0\")","v":"0"},{"$f":"IF('Unit 27'!$C$7=$D$59,COUNTIF('Unit 27'!$C:$C,$D32),\"0\")","v":"0"},{"$f":"IF('Unit 28'!$C$7=$D$59,COUNTIF('Unit 28'!$C:$C,$D32),\"0\")","v":"0"},{"$f":"IF('Unit 29'!$C$7=$D$59,COUNTIF('Unit 29'!$C:$C,$D32),\"0\")","v":"0"},{"$f":"IF('Unit 30'!$C$7=$D$59,COUNTIF('Unit 30'!$C:$C,$D32),\"0\")","v":"0"},{"$f":"IF('Unit 31'!$C$7=$D$59,COUNTIF('Unit 31'!$C:$C,$D32),\"0\")","v":"0"},{"$f":"IF('Unit 32'!$C$7=$D$59,COUNTIF('Unit 32'!$C:$C,$D32),\"0\")","v":"0"},{"$f":"IF('Unit 33'!$C$7=$D$59,COUNTIF('Unit 33'!$C:$C,$D32),\"0\")","v":"0"},{"$f":"IF('Unit 34'!$C$7=$D$59,COUNTIF('Unit 34'!$C:$C,$D32),\"0\")","v":"0"},{"$f":"IF('Unit 35'!$C$7=$D$59,COUNTIF('Unit 35'!$C:$C,$D32),\"0\")","v":"0"},{"$f":"IF('Unit 36'!$C$7=$D$59,COUNTIF('Unit 36'!$C:$C,$D32),\"0\")","v":"0"},{"$f":"IF('Unit 37'!$C$7=$D$59,COUNTIF('Unit 37'!$C:$C,$D32),\"0\")","v":"0"},{"$f":"IF('Unit 38'!$C$7=$D$59,COUNTIF('Unit 38'!$C:$C,$D32),\"0\")","v":"0"},0,null,{"$f":"IF('Unit 1'!$C$7=$D$60,COUNTIF('Unit 1'!$C:$C,$D32),\"0\")","v":"0"},{"$f":"IF('Unit 2'!$C$7=$D$60,COUNTIF('Unit 2'!$C:$C,$D32),\"0\")","v":"0"},{"$f":"IF('Unit 3'!$C$7=$D$60,COUNTIF('Unit 3'!$C:$C,$D32),\"0\")","v":"0"},{"$f":"IF('Unit 4'!$C$7=$D$60,COUNTIF('Unit 4'!$C:$C,$D32),\"0\")","v":"0"},{"$f":"IF('Unit 5'!$C$7=$D$60,COUNTIF('Unit 5'!$C:$C,$D32),\"0\")","v":"0"},{"$f":"IF('Unit 6'!$C$7=$D$60,COUNTIF('Unit 6'!$C:$C,$D32),\"0\")","v":"0"},{"$f":"IF('Unit 7'!$C$7=$D$60,COUNTIF('Unit 7'!$C:$C,$D32),\"0\")","v":"0"},{"$f":"IF('Unit 8'!$C$7=$D$60,COUNTIF('Unit 8'!$C:$C,$D32),\"0\")","v":"0"},{"$f":"IF('Unit 9'!$C$7=$D$60,COUNTIF('Unit 9'!$C:$C,$D32),\"0\")","v":"0"},{"$f":"IF('Unit 10'!$C$7=$D$60,COUNTIF('Unit 10'!$C:$C,$D32),\"0\")","v":"0"},{"$f":"IF('Unit 11'!$C$7=$D$60,COUNTIF('Unit 11'!$C:$C,$D32),\"0\")","v":"0"},{"$f":"IF('Unit 12'!$C$7=$D$60,COUNTIF('Unit 12'!$C:$C,$D32),\"0\")","v":"0"},{"$f":"IF('Unit 13'!$C$7=$D$60,COUNTIF('Unit 13'!$C:$C,$D32),\"0\")","v":"0"},{"$f":"IF('Unit 14'!$C$7=$D$60,COUNTIF('Unit 14'!$C:$C,$D32),\"0\")","v":"0"},{"$f":"IF('Unit 15'!$C$7=$D$60,COUNTIF('Unit 15'!$C:$C,$D32),\"0\")","v":"0"},{"$f":"IF('Unit 16'!$C$7=$D$60,COUNTIF('Unit 16'!$C:$C,$D32),\"0\")","v":"0"},{"$f":"IF('Unit 17'!$C$7=$D$60,COUNTIF('Unit 17'!$C:$C,$D32),\"0\")","v":"0"},{"$f":"IF('Unit 18'!$C$7=$D$60,COUNTIF('Unit 18'!$C:$C,$D32),\"0\")","v":"0"},{"$f":"IF('Unit 19'!$C$7=$D$60,COUNTIF('Unit 19'!$C:$C,$D32),\"0\")","v":"0"},{"$f":"IF('Unit 20'!$C$7=$D$60,COUNTIF('Unit 20'!$C:$C,$D32),\"0\")","v":"0"},{"$f":"IF('Unit 21'!$C$7=$D$60,COUNTIF('Unit 21'!$C:$C,$D32),\"0\")","v":"0"},{"$f":"IF('Unit 22'!$C$7=$D$60,COUNTIF('Unit 22'!$C:$C,$D32),\"0\")","v":"0"},{"$f":"IF('Unit 23'!$C$7=$D$60,COUNTIF('Unit 23'!$C:$C,$D32),\"0\")","v":"0"},{"$f":"IF('Unit 24'!$C$7=$D$60,COUNTIF('Unit 24'!$C:$C,$D32),\"0\")","v":"0"},{"$f":"IF('Unit 25'!$C$7=$D$60,COUNTIF('Unit 25'!$C:$C,$D32),\"0\")","v":"0"},{"$f":"IF('Unit 26'!$C$7=$D$60,COUNTIF('Unit 26'!$C:$C,$D32),\"0\")","v":"0"},{"$f":"IF('Unit 27'!$C$7=$D$60,COUNTIF('Unit 27'!$C:$C,$D32),\"0\")","v":"0"},{"$f":"IF('Unit 28'!$C$7=$D$60,COUNTIF('Unit 28'!$C:$C,$D32),\"0\")","v":"0"},{"$f":"IF('Unit 29'!$C$7=$D$60,COUNTIF('Unit 29'!$C:$C,$D32),\"0\")","v":"0"},{"$f":"IF('Unit 30'!$C$7=$D$60,COUNTIF('Unit 30'!$C:$C,$D32),\"0\")","v":"0"},{"$f":"IF('Unit 31'!$C$7=$D$60,COUNTIF('Unit 31'!$C:$C,$D32),\"0\")","v":"0"},{"$f":"IF('Unit 32'!$C$7=$D$60,COUNTIF('Unit 32'!$C:$C,$D32),\"0\")","v":"0"},{"$f":"IF('Unit 33'!$C$7=$D$60,COUNTIF('Unit 33'!$C:$C,$D32),\"0\")","v":"0"},{"$f":"IF('Unit 34'!$C$7=$D$60,COUNTIF('Unit 34'!$C:$C,$D32),\"0\")","v":"0"},{"$f":"IF('Unit 35'!$C$7=$D$60,COUNTIF('Unit 35'!$C:$C,$D32),\"0\")","v":"0"},{"$f":"IF('Unit 36'!$C$7=$D$60,COUNTIF('Unit 36'!$C:$C,$D32),\"0\")","v":"0"},{"$f":"IF('Unit 37'!$C$7=$D$60,COUNTIF('Unit 37'!$C:$C,$D32),\"0\")","v":"0"},{"$f":"IF('Unit 38'!$C$7=$D$60,COUNTIF('Unit 38'!$C:$C,$D32),\"0\")","v":"0"},0]
[null,null,"2.8","2.8 manufacture a product from a working drawing ","Manufacture: something made from raw materials by hand or by machinery",{"$f":"COUNTIF('Unit 1'!C:C,$D33)","v":0},{"$f":"COUNTIF('Unit 2'!C:C,D33)","v":0},{"$f":"COUNTIF('Unit 3'!C:C,D33)","v":0},{"$f":"COUNTIF('Unit 4'!C:C,D33)","v":0},{"$f":"COUNTIF('Unit 5'!C:C,D33)","v":0},{"$f":"COUNTIF('Unit 6'!C:C,D33)","v":0},{"$f":"COUNTIF('Unit 7'!C:C,D33)","v":0},{"$f":"COUNTIF('Unit 8'!C:C,D33)","v":0},{"$f":"COUNTIF('Unit 9'!C:C,D33)","v":0},{"$f":"COUNTIF('Unit 10'!C:C,D33)","v":0},{"$f":"COUNTIF('Unit 11'!C:C,D33)","v":0},{"$f":"COUNTIF('Unit 12'!C:C,D33)","v":0},{"$f":"COUNTIF('Unit 13'!C:C,D33)","v":0},{"$f":"COUNTIF('Unit 14'!C:C,D33)","v":0},{"$f":"COUNTIF('Unit 15'!C:C,D33)","v":0},{"$f":"COUNTIF('Unit 16'!C:C,D33)","v":0},{"$f":"COUNTIF('Unit 17'!C:C,D33)","v":0},{"$f":"COUNTIF('Unit 18'!C:C,D33)","v":0},{"$f":"COUNTIF('Unit 19'!C:C,D33)","v":0},{"$f":"COUNTIF('Unit 20'!C:C,D33)","v":0},{"$f":"COUNTIF('Unit 21'!C:C,D33)","v":0},{"$f":"COUNTIF('Unit 22'!C:C,D33)","v":0},{"$f":"COUNTIF('Unit 23'!C:C,D33)","v":0},{"$f":"COUNTIF('Unit 24'!C:C,D33)","v":0},{"$f":"COUNTIF('Unit 25'!C:C,D33)","v":0},{"$f":"COUNTIF('Unit 26'!C:C,D33)","v":0},{"$f":"COUNTIF('Unit 27'!C:C,D33)","v":0},{"$f":"COUNTIF('Unit 28'!C:C,D33)","v":0},{"$f":"COUNTIF('Unit 29'!C:C,D33)","v":0},{"$f":"COUNTIF('Unit 30'!C:C,D33)","v":0},{"$f":"COUNTIF('Unit 31'!C:C,D33)","v":0},{"$f":"COUNTIF('Unit 32'!C:C,D33)","v":0},{"$f":"COUNTIF('Unit 33'!C:C,D33)","v":0},{"$f":"COUNTIF('Unit 34'!C:C,D33)","v":0},{"$f":"COUNTIF('Unit 35'!C:C,D33)","v":0},{"$f":"COUNTIF('Unit 36'!C:C,D33)","v":0},{"$f":"COUNTIF('Unit 37'!C:C,D33)","v":0},{"$f":"COUNTIF('Unit 38'!C:C,D33)","v":0},0,null,{"$f":"IF('Unit 1'!$C$7=$D$58,COUNTIF('Unit 1'!$C:$C,$D33),\"0\")","v":"0"},{"$f":"IF('Unit 2'!$C$7=$D$58,COUNTIF('Unit 2'!$C:$C,$D33),\"0\")","v":"0"},{"$f":"IF('Unit 3'!$C$7=$D$58,COUNTIF('Unit 3'!$C:$C,$D33),\"0\")","v":"0"},{"$f":"IF('Unit 4'!$C$7=$D$58,COUNTIF('Unit 4'!$C:$C,$D33),\"0\")","v":"0"},{"$f":"IF('Unit 5'!$C$7=$D$58,COUNTIF('Unit 5'!$C:$C,$D33),\"0\")","v":"0"},{"$f":"IF('Unit 6'!$C$7=$D$58,COUNTIF('Unit 6'!$C:$C,$D33),\"0\")","v":"0"},{"$f":"IF('Unit 7'!$C$7=$D$58,COUNTIF('Unit 7'!$C:$C,$D33),\"0\")","v":"0"},{"$f":"IF('Unit 8'!$C$7=$D$58,COUNTIF('Unit 8'!$C:$C,$D33),\"0\")","v":"0"},{"$f":"IF('Unit 9'!$C$7=$D$58,COUNTIF('Unit 9'!$C:$C,$D33),\"0\")","v":"0"},{"$f":"IF('Unit 10'!$C$7=$D$58,COUNTIF('Unit 10'!$C:$C,$D33),\"0\")","v":"0"},{"$f":"IF('Unit 11'!$C$7=$D$58,COUNTIF('Unit 11'!$C:$C,$D33),\"0\")","v":"0"},{"$f":"IF('Unit 12'!$C$7=$D$58,COUNTIF('Unit 12'!$C:$C,$D33),\"0\")","v":"0"},{"$f":"IF('Unit 13'!$C$7=$D$58,COUNTIF('Unit 13'!$C:$C,$D33),\"0\")","v":"0"},{"$f":"IF('Unit 14'!$C$7=$D$58,COUNTIF('Unit 14'!$C:$C,$D33),\"0\")","v":"0"},{"$f":"IF('Unit 15'!$C$7=$D$58,COUNTIF('Unit 15'!$C:$C,$D33),\"0\")","v":"0"},{"$f":"IF('Unit 16'!$C$7=$D$58,COUNTIF('Unit 16'!$C:$C,$D33),\"0\")","v":"0"},{"$f":"IF('Unit 17'!$C$7=$D$58,COUNTIF('Unit 17'!$C:$C,$D33),\"0\")","v":"0"},{"$f":"IF('Unit 18'!$C$7=$D$58,COUNTIF('Unit 18'!$C:$C,$D33),\"0\")","v":"0"},{"$f":"IF('Unit 19'!$C$7=$D$58,COUNTIF('Unit 19'!$C:$C,$D33),\"0\")","v":"0"},{"$f":"IF('Unit 20'!$C$7=$D$58,COUNTIF('Unit 20'!$C:$C,$D33),\"0\")","v":"0"},{"$f":"IF('Unit 21'!$C$7=$D$58,COUNTIF('Unit 21'!$C:$C,$D33),\"0\")","v":"0"},{"$f":"IF('Unit 22'!$C$7=$D$58,COUNTIF('Unit 22'!$C:$C,$D33),\"0\")","v":"0"},{"$f":"IF('Unit 23'!$C$7=$D$58,COUNTIF('Unit 23'!$C:$C,$D33),\"0\")","v":"0"},{"$f":"IF('Unit 24'!$C$7=$D$58,COUNTIF('Unit 24'!$C:$C,$D33),\"0\")","v":"0"},{"$f":"IF('Unit 25'!$C$7=$D$58,COUNTIF('Unit 25'!$C:$C,$D33),\"0\")","v":"0"},{"$f":"IF('Unit 26'!$C$7=$D$58,COUNTIF('Unit 26'!$C:$C,$D33),\"0\")","v":"0"},{"$f":"IF('Unit 27'!$C$7=$D$58,COUNTIF('Unit 27'!$C:$C,$D33),\"0\")","v":"0"},{"$f":"IF('Unit 28'!$C$7=$D$58,COUNTIF('Unit 28'!$C:$C,$D33),\"0\")","v":"0"},{"$f":"IF('Unit 29'!$C$7=$D$58,COUNTIF('Unit 29'!$C:$C,$D33),\"0\")","v":"0"},{"$f":"IF('Unit 30'!$C$7=$D$58,COUNTIF('Unit 30'!$C:$C,$D33),\"0\")","v":"0"},{"$f":"IF('Unit 31'!$C$7=$D$58,COUNTIF('Unit 31'!$C:$C,$D33),\"0\")","v":"0"},{"$f":"IF('Unit 32'!$C$7=$D$58,COUNTIF('Unit 32'!$C:$C,$D33),\"0\")","v":"0"},{"$f":"IF('Unit 33'!$C$7=$D$58,COUNTIF('Unit 33'!$C:$C,$D33),\"0\")","v":"0"},{"$f":"IF('Unit 34'!$C$7=$D$58,COUNTIF('Unit 34'!$C:$C,$D33),\"0\")","v":"0"},{"$f":"IF('Unit 35'!$C$7=$D$58,COUNTIF('Unit 35'!$C:$C,$D33),\"0\")","v":"0"},{"$f":"IF('Unit 36'!$C$7=$D$58,COUNTIF('Unit 36'!$C:$C,$D33),\"0\")","v":"0"},{"$f":"IF('Unit 37'!$C$7=$D$58,COUNTIF('Unit 37'!$C:$C,$D33),\"0\")","v":"0"},{"$f":"IF('Unit 38'!$C$7=$D$58,COUNTIF('Unit 38'!$C:$C,$D33),\"0\")","v":"0"},0,null,{"$f":"IF('Unit 1'!$C$7=$D$59,COUNTIF('Unit 1'!$C:$C,$D33),\"0\")","v":"0"},{"$f":"IF('Unit 2'!$C$7=$D$59,COUNTIF('Unit 2'!$C:$C,$D33),\"0\")","v":"0"},{"$f":"IF('Unit 3'!$C$7=$D$59,COUNTIF('Unit 3'!$C:$C,$D33),\"0\")","v":"0"},{"$f":"IF('Unit 4'!$C$7=$D$59,COUNTIF('Unit 4'!$C:$C,$D33),\"0\")","v":"0"},{"$f":"IF('Unit 5'!$C$7=$D$59,COUNTIF('Unit 5'!$C:$C,$D33),\"0\")","v":"0"},{"$f":"IF('Unit 6'!$C$7=$D$59,COUNTIF('Unit 6'!$C:$C,$D33),\"0\")","v":"0"},{"$f":"IF('Unit 7'!$C$7=$D$59,COUNTIF('Unit 7'!$C:$C,$D33),\"0\")","v":"0"},{"$f":"IF('Unit 8'!$C$7=$D$59,COUNTIF('Unit 8'!$C:$C,$D33),\"0\")","v":"0"},{"$f":"IF('Unit 9'!$C$7=$D$59,COUNTIF('Unit 9'!$C:$C,$D33),\"0\")","v":"0"},{"$f":"IF('Unit 10'!$C$7=$D$59,COUNTIF('Unit 10'!$C:$C,$D33),\"0\")","v":"0"},{"$f":"IF('Unit 11'!$C$7=$D$59,COUNTIF('Unit 11'!$C:$C,$D33),\"0\")","v":"0"},{"$f":"IF('Unit 12'!$C$7=$D$59,COUNTIF('Unit 12'!$C:$C,$D33),\"0\")","v":"0"},{"$f":"IF('Unit 13'!$C$7=$D$59,COUNTIF('Unit 13'!$C:$C,$D33),\"0\")","v":"0"},{"$f":"IF('Unit 14'!$C$7=$D$59,COUNTIF('Unit 14'!$C:$C,$D33),\"0\")","v":"0"},{"$f":"IF('Unit 15'!$C$7=$D$59,COUNTIF('Unit 15'!$C:$C,$D33),\"0\")","v":"0"},{"$f":"IF('Unit 16'!$C$7=$D$59,COUNTIF('Unit 16'!$C:$C,$D33),\"0\")","v":"0"},{"$f":"IF('Unit 17'!$C$7=$D$59,COUNTIF('Unit 17'!$C:$C,$D33),\"0\")","v":"0"},{"$f":"IF('Unit 18'!$C$7=$D$59,COUNTIF('Unit 18'!$C:$C,$D33),\"0\")","v":"0"},{"$f":"IF('Unit 19'!$C$7=$D$59,COUNTIF('Unit 19'!$C:$C,$D33),\"0\")","v":"0"},{"$f":"IF('Unit 20'!$C$7=$D$59,COUNTIF('Unit 20'!$C:$C,$D33),\"0\")","v":"0"},{"$f":"IF('Unit 21'!$C$7=$D$59,COUNTIF('Unit 21'!$C:$C,$D33),\"0\")","v":"0"},{"$f":"IF('Unit 22'!$C$7=$D$59,COUNTIF('Unit 22'!$C:$C,$D33),\"0\")","v":"0"},{"$f":"IF('Unit 23'!$C$7=$D$59,COUNTIF('Unit 23'!$C:$C,$D33),\"0\")","v":"0"},{"$f":"IF('Unit 24'!$C$7=$D$59,COUNTIF('Unit 24'!$C:$C,$D33),\"0\")","v":"0"},{"$f":"IF('Unit 25'!$C$7=$D$59,COUNTIF('Unit 25'!$C:$C,$D33),\"0\")","v":"0"},{"$f":"IF('Unit 26'!$C$7=$D$59,COUNTIF('Unit 26'!$C:$C,$D33),\"0\")","v":"0"},{"$f":"IF('Unit 27'!$C$7=$D$59,COUNTIF('Unit 27'!$C:$C,$D33),\"0\")","v":"0"},{"$f":"IF('Unit 28'!$C$7=$D$59,COUNTIF('Unit 28'!$C:$C,$D33),\"0\")","v":"0"},{"$f":"IF('Unit 29'!$C$7=$D$59,COUNTIF('Unit 29'!$C:$C,$D33),\"0\")","v":"0"},{"$f":"IF('Unit 30'!$C$7=$D$59,COUNTIF('Unit 30'!$C:$C,$D33),\"0\")","v":"0"},{"$f":"IF('Unit 31'!$C$7=$D$59,COUNTIF('Unit 31'!$C:$C,$D33),\"0\")","v":"0"},{"$f":"IF('Unit 32'!$C$7=$D$59,COUNTIF('Unit 32'!$C:$C,$D33),\"0\")","v":"0"},{"$f":"IF('Unit 33'!$C$7=$D$59,COUNTIF('Unit 33'!$C:$C,$D33),\"0\")","v":"0"},{"$f":"IF('Unit 34'!$C$7=$D$59,COUNTIF('Unit 34'!$C:$C,$D33),\"0\")","v":"0"},{"$f":"IF('Unit 35'!$C$7=$D$59,COUNTIF('Unit 35'!$C:$C,$D33),\"0\")","v":"0"},{"$f":"IF('Unit 36'!$C$7=$D$59,COUNTIF('Unit 36'!$C:$C,$D33),\"0\")","v":"0"},{"$f":"IF('Unit 37'!$C$7=$D$59,COUNTIF('Unit 37'!$C:$C,$D33),\"0\")","v":"0"},{"$f":"IF('Unit 38'!$C$7=$D$59,COUNTIF('Unit 38'!$C:$C,$D33),\"0\")","v":"0"},0,null,{"$f":"IF('Unit 1'!$C$7=$D$60,COUNTIF('Unit 1'!$C:$C,$D33),\"0\")","v":"0"},{"$f":"IF('Unit 2'!$C$7=$D$60,COUNTIF('Unit 2'!$C:$C,$D33),\"0\")","v":"0"},{"$f":"IF('Unit 3'!$C$7=$D$60,COUNTIF('Unit 3'!$C:$C,$D33),\"0\")","v":"0"},{"$f":"IF('Unit 4'!$C$7=$D$60,COUNTIF('Unit 4'!$C:$C,$D33),\"0\")","v":"0"},{"$f":"IF('Unit 5'!$C$7=$D$60,COUNTIF('Unit 5'!$C:$C,$D33),\"0\")","v":"0"},{"$f":"IF('Unit 6'!$C$7=$D$60,COUNTIF('Unit 6'!$C:$C,$D33),\"0\")","v":"0"},{"$f":"IF('Unit 7'!$C$7=$D$60,COUNTIF('Unit 7'!$C:$C,$D33),\"0\")","v":"0"},{"$f":"IF('Unit 8'!$C$7=$D$60,COUNTIF('Unit 8'!$C:$C,$D33),\"0\")","v":"0"},{"$f":"IF('Unit 9'!$C$7=$D$60,COUNTIF('Unit 9'!$C:$C,$D33),\"0\")","v":"0"},{"$f":"IF('Unit 10'!$C$7=$D$60,COUNTIF('Unit 10'!$C:$C,$D33),\"0\")","v":"0"},{"$f":"IF('Unit 11'!$C$7=$D$60,COUNTIF('Unit 11'!$C:$C,$D33),\"0\")","v":"0"},{"$f":"IF('Unit 12'!$C$7=$D$60,COUNTIF('Unit 12'!$C:$C,$D33),\"0\")","v":"0"},{"$f":"IF('Unit 13'!$C$7=$D$60,COUNTIF('Unit 13'!$C:$C,$D33),\"0\")","v":"0"},{"$f":"IF('Unit 14'!$C$7=$D$60,COUNTIF('Unit 14'!$C:$C,$D33),\"0\")","v":"0"},{"$f":"IF('Unit 15'!$C$7=$D$60,COUNTIF('Unit 15'!$C:$C,$D33),\"0\")","v":"0"},{"$f":"IF('Unit 16'!$C$7=$D$60,COUNTIF('Unit 16'!$C:$C,$D33),\"0\")","v":"0"},{"$f":"IF('Unit 17'!$C$7=$D$60,COUNTIF('Unit 17'!$C:$C,$D33),\"0\")","v":"0"},{"$f":"IF('Unit 18'!$C$7=$D$60,COUNTIF('Unit 18'!$C:$C,$D33),\"0\")","v":"0"},{"$f":"IF('Unit 19'!$C$7=$D$60,COUNTIF('Unit 19'!$C:$C,$D33),\"0\")","v":"0"},{"$f":"IF('Unit 20'!$C$7=$D$60,COUNTIF('Unit 20'!$C:$C,$D33),\"0\")","v":"0"},{"$f":"IF('Unit 21'!$C$7=$D$60,COUNTIF('Unit 21'!$C:$C,$D33),\"0\")","v":"0"},{"$f":"IF('Unit 22'!$C$7=$D$60,COUNTIF('Unit 22'!$C:$C,$D33),\"0\")","v":"0"},{"$f":"IF('Unit 23'!$C$7=$D$60,COUNTIF('Unit 23'!$C:$C,$D33),\"0\")","v":"0"},{"$f":"IF('Unit 24'!$C$7=$D$60,COUNTIF('Unit 24'!$C:$C,$D33),\"0\")","v":"0"},{"$f":"IF('Unit 25'!$C$7=$D$60,COUNTIF('Unit 25'!$C:$C,$D33),\"0\")","v":"0"},{"$f":"IF('Unit 26'!$C$7=$D$60,COUNTIF('Unit 26'!$C:$C,$D33),\"0\")","v":"0"},{"$f":"IF('Unit 27'!$C$7=$D$60,COUNTIF('Unit 27'!$C:$C,$D33),\"0\")","v":"0"},{"$f":"IF('Unit 28'!$C$7=$D$60,COUNTIF('Unit 28'!$C:$C,$D33),\"0\")","v":"0"},{"$f":"IF('Unit 29'!$C$7=$D$60,COUNTIF('Unit 29'!$C:$C,$D33),\"0\")","v":"0"},{"$f":"IF('Unit 30'!$C$7=$D$60,COUNTIF('Unit 30'!$C:$C,$D33),\"0\")","v":"0"},{"$f":"IF('Unit 31'!$C$7=$D$60,COUNTIF('Unit 31'!$C:$C,$D33),\"0\")","v":"0"},{"$f":"IF('Unit 32'!$C$7=$D$60,COUNTIF('Unit 32'!$C:$C,$D33),\"0\")","v":"0"},{"$f":"IF('Unit 33'!$C$7=$D$60,COUNTIF('Unit 33'!$C:$C,$D33),\"0\")","v":"0"},{"$f":"IF('Unit 34'!$C$7=$D$60,COUNTIF('Unit 34'!$C:$C,$D33),\"0\")","v":"0"},{"$f":"IF('Unit 35'!$C$7=$D$60,COUNTIF('Unit 35'!$C:$C,$D33),\"0\")","v":"0"},{"$f":"IF('Unit 36'!$C$7=$D$60,COUNTIF('Unit 36'!$C:$C,$D33),\"0\")","v":"0"},{"$f":"IF('Unit 37'!$C$7=$D$60,COUNTIF('Unit 37'!$C:$C,$D33),\"0\")","v":"0"},{"$f":"IF('Unit 38'!$C$7=$D$60,COUNTIF('Unit 38'!$C:$C,$D33),\"0\")","v":"0"},0]
[null,null,"2.9","2.9 modify an existing product/design ","Modify: to alter one or more particulars of an object/product",{"$f":"COUNTIF('Unit 1'!C:C,$D34)","v":0},{"$f":"COUNTIF('Unit 2'!C:C,D34)","v":0},{"$f":"COUNTIF('Unit 3'!C:C,D34)","v":0},{"$f":"COUNTIF('Unit 4'!C:C,D34)","v":0},{"$f":"COUNTIF('Unit 5'!C:C,D34)","v":0},{"$f":"COUNTIF('Unit 6'!C:C,D34)","v":0},{"$f":"COUNTIF('Unit 7'!C:C,D34)","v":0},{"$f":"COUNTIF('Unit 8'!C:C,D34)","v":0},{"$f":"COUNTIF('Unit 9'!C:C,D34)","v":0},{"$f":"COUNTIF('Unit 10'!C:C,D34)","v":0},{"$f":"COUNTIF('Unit 11'!C:C,D34)","v":0},{"$f":"COUNTIF('Unit 12'!C:C,D34)","v":0},{"$f":"COUNTIF('Unit 13'!C:C,D34)","v":0},{"$f":"COUNTIF('Unit 14'!C:C,D34)","v":0},{"$f":"COUNTIF('Unit 15'!C:C,D34)","v":0},{"$f":"COUNTIF('Unit 16'!C:C,D34)","v":0},{"$f":"COUNTIF('Unit 17'!C:C,D34)","v":0},{"$f":"COUNTIF('Unit 18'!C:C,D34)","v":0},{"$f":"COUNTIF('Unit 19'!C:C,D34)","v":0},{"$f":"COUNTIF('Unit 20'!C:C,D34)","v":0},{"$f":"COUNTIF('Unit 21'!C:C,D34)","v":0},{"$f":"COUNTIF('Unit 22'!C:C,D34)","v":0},{"$f":"COUNTIF('Unit 23'!C:C,D34)","v":0},{"$f":"COUNTIF('Unit 24'!C:C,D34)","v":0},{"$f":"COUNTIF('Unit 25'!C:C,D34)","v":0},{"$f":"COUNTIF('Unit 26'!C:C,D34)","v":0},{"$f":"COUNTIF('Unit 27'!C:C,D34)","v":0},{"$f":"COUNTIF('Unit 28'!C:C,D34)","v":0},{"$f":"COUNTIF('Unit 29'!C:C,D34)","v":0},{"$f":"COUNTIF('Unit 30'!C:C,D34)","v":0},{"$f":"COUNTIF('Unit 31'!C:C,D34)","v":0},{"$f":"COUNTIF('Unit 32'!C:C,D34)","v":0},{"$f":"COUNTIF('Unit 33'!C:C,D34)","v":0},{"$f":"COUNTIF('Unit 34'!C:C,D34)","v":0},{"$f":"COUNTIF('Unit 35'!C:C,D34)","v":0},{"$f":"COUNTIF('Unit 36'!C:C,D34)","v":0},{"$f":"COUNTIF('Unit 37'!C:C,D34)","v":0},{"$f":"COUNTIF('Unit 38'!C:C,D34)","v":0},0,null,{"$f":"IF('Unit 1'!$C$7=$D$58,COUNTIF('Unit 1'!$C:$C,$D34),\"0\")","v":"0"},{"$f":"IF('Unit 2'!$C$7=$D$58,COUNTIF('Unit 2'!$C:$C,$D34),\"0\")","v":"0"},{"$f":"IF('Unit 3'!$C$7=$D$58,COUNTIF('Unit 3'!$C:$C,$D34),\"0\")","v":"0"},{"$f":"IF('Unit 4'!$C$7=$D$58,COUNTIF('Unit 4'!$C:$C,$D34),\"0\")","v":"0"},{"$f":"IF('Unit 5'!$C$7=$D$58,COUNTIF('Unit 5'!$C:$C,$D34),\"0\")","v":"0"},{"$f":"IF('Unit 6'!$C$7=$D$58,COUNTIF('Unit 6'!$C:$C,$D34),\"0\")","v":"0"},{"$f":"IF('Unit 7'!$C$7=$D$58,COUNTIF('Unit 7'!$C:$C,$D34),\"0\")","v":"0"},{"$f":"IF('Unit 8'!$C$7=$D$58,COUNTIF('Unit 8'!$C:$C,$D34),\"0\")","v":"0"},{"$f":"IF('Unit 9'!$C$7=$D$58,COUNTIF('Unit 9'!$C:$C,$D34),\"0\")","v":"0"},{"$f":"IF('Unit 10'!$C$7=$D$58,COUNTIF('Unit 10'!$C:$C,$D34),\"0\")","v":"0"},{"$f":"IF('Unit 11'!$C$7=$D$58,COUNTIF('Unit 11'!$C:$C,$D34),\"0\")","v":"0"},{"$f":"IF('Unit 12'!$C$7=$D$58,COUNTIF('Unit 12'!$C:$C,$D34),\"0\")","v":"0"},{"$f":"IF('Unit 13'!$C$7=$D$58,COUNTIF('Unit 13'!$C:$C,$D34),\"0\")","v":"0"},{"$f":"IF('Unit 14'!$C$7=$D$58,COUNTIF('Unit 14'!$C:$C,$D34),\"0\")","v":"0"},{"$f":"IF('Unit 15'!$C$7=$D$58,COUNTIF('Unit 15'!$C:$C,$D34),\"0\")","v":"0"},{"$f":"IF('Unit 16'!$C$7=$D$58,COUNTIF('Unit 16'!$C:$C,$D34),\"0\")","v":"0"},{"$f":"IF('Unit 17'!$C$7=$D$58,COUNTIF('Unit 17'!$C:$C,$D34),\"0\")","v":"0"},{"$f":"IF('Unit 18'!$C$7=$D$58,COUNTIF('Unit 18'!$C:$C,$D34),\"0\")","v":"0"},{"$f":"IF('Unit 19'!$C$7=$D$58,COUNTIF('Unit 19'!$C:$C,$D34),\"0\")","v":"0"},{"$f":"IF('Unit 20'!$C$7=$D$58,COUNTIF('Unit 20'!$C:$C,$D34),\"0\")","v":"0"},{"$f":"IF('Unit 21'!$C$7=$D$58,COUNTIF('Unit 21'!$C:$C,$D34),\"0\")","v":"0"},{"$f":"IF('Unit 22'!$C$7=$D$58,COUNTIF('Unit 22'!$C:$C,$D34),\"0\")","v":"0"},{"$f":"IF('Unit 23'!$C$7=$D$58,COUNTIF('Unit 23'!$C:$C,$D34),\"0\")","v":"0"},{"$f":"IF('Unit 24'!$C$7=$D$58,COUNTIF('Unit 24'!$C:$C,$D34),\"0\")","v":"0"},{"$f":"IF('Unit 25'!$C$7=$D$58,COUNTIF('Unit 25'!$C:$C,$D34),\"0\")","v":"0"},{"$f":"IF('Unit 26'!$C$7=$D$58,COUNTIF('Unit 26'!$C:$C,$D34),\"0\")","v":"0"},{"$f":"IF('Unit 27'!$C$7=$D$58,COUNTIF('Unit 27'!$C:$C,$D34),\"0\")","v":"0"},{"$f":"IF('Unit 28'!$C$7=$D$58,COUNTIF('Unit 28'!$C:$C,$D34),\"0\")","v":"0"},{"$f":"IF('Unit 29'!$C$7=$D$58,COUNTIF('Unit 29'!$C:$C,$D34),\"0\")","v":"0"},{"$f":"IF('Unit 30'!$C$7=$D$58,COUNTIF('Unit 30'!$C:$C,$D34),\"0\")","v":"0"},{"$f":"IF('Unit 31'!$C$7=$D$58,COUNTIF('Unit 31'!$C:$C,$D34),\"0\")","v":"0"},{"$f":"IF('Unit 32'!$C$7=$D$58,COUNTIF('Unit 32'!$C:$C,$D34),\"0\")","v":"0"},{"$f":"IF('Unit 33'!$C$7=$D$58,COUNTIF('Unit 33'!$C:$C,$D34),\"0\")","v":"0"},{"$f":"IF('Unit 34'!$C$7=$D$58,COUNTIF('Unit 34'!$C:$C,$D34),\"0\")","v":"0"},{"$f":"IF('Unit 35'!$C$7=$D$58,COUNTIF('Unit 35'!$C:$C,$D34),\"0\")","v":"0"},{"$f":"IF('Unit 36'!$C$7=$D$58,COUNTIF('Unit 36'!$C:$C,$D34),\"0\")","v":"0"},{"$f":"IF('Unit 37'!$C$7=$D$58,COUNTIF('Unit 37'!$C:$C,$D34),\"0\")","v":"0"},{"$f":"IF('Unit 38'!$C$7=$D$58,COUNTIF('Unit 38'!$C:$C,$D34),\"0\")","v":"0"},0,null,{"$f":"IF('Unit 1'!$C$7=$D$59,COUNTIF('Unit 1'!$C:$C,$D34),\"0\")","v":"0"},{"$f":"IF('Unit 2'!$C$7=$D$59,COUNTIF('Unit 2'!$C:$C,$D34),\"0\")","v":"0"},{"$f":"IF('Unit 3'!$C$7=$D$59,COUNTIF('Unit 3'!$C:$C,$D34),\"0\")","v":"0"},{"$f":"IF('Unit 4'!$C$7=$D$59,COUNTIF('Unit 4'!$C:$C,$D34),\"0\")","v":"0"},{"$f":"IF('Unit 5'!$C$7=$D$59,COUNTIF('Unit 5'!$C:$C,$D34),\"0\")","v":"0"},{"$f":"IF('Unit 6'!$C$7=$D$59,COUNTIF('Unit 6'!$C:$C,$D34),\"0\")","v":"0"},{"$f":"IF('Unit 7'!$C$7=$D$59,COUNTIF('Unit 7'!$C:$C,$D34),\"0\")","v":"0"},{"$f":"IF('Unit 8'!$C$7=$D$59,COUNTIF('Unit 8'!$C:$C,$D34),\"0\")","v":"0"},{"$f":"IF('Unit 9'!$C$7=$D$59,COUNTIF('Unit 9'!$C:$C,$D34),\"0\")","v":"0"},{"$f":"IF('Unit 10'!$C$7=$D$59,COUNTIF('Unit 10'!$C:$C,$D34),\"0\")","v":"0"},{"$f":"IF('Unit 11'!$C$7=$D$59,COUNTIF('Unit 11'!$C:$C,$D34),\"0\")","v":"0"},{"$f":"IF('Unit 12'!$C$7=$D$59,COUNTIF('Unit 12'!$C:$C,$D34),\"0\")","v":"0"},{"$f":"IF('Unit 13'!$C$7=$D$59,COUNTIF('Unit 13'!$C:$C,$D34),\"0\")","v":"0"},{"$f":"IF('Unit 14'!$C$7=$D$59,COUNTIF('Unit 14'!$C:$C,$D34),\"0\")","v":"0"},{"$f":"IF('Unit 15'!$C$7=$D$59,COUNTIF('Unit 15'!$C:$C,$D34),\"0\")","v":"0"},{"$f":"IF('Unit 16'!$C$7=$D$59,COUNTIF('Unit 16'!$C:$C,$D34),\"0\")","v":"0"},{"$f":"IF('Unit 17'!$C$7=$D$59,COUNTIF('Unit 17'!$C:$C,$D34),\"0\")","v":"0"},{"$f":"IF('Unit 18'!$C$7=$D$59,COUNTIF('Unit 18'!$C:$C,$D34),\"0\")","v":"0"},{"$f":"IF('Unit 19'!$C$7=$D$59,COUNTIF('Unit 19'!$C:$C,$D34),\"0\")","v":"0"},{"$f":"IF('Unit 20'!$C$7=$D$59,COUNTIF('Unit 20'!$C:$C,$D34),\"0\")","v":"0"},{"$f":"IF('Unit 21'!$C$7=$D$59,COUNTIF('Unit 21'!$C:$C,$D34),\"0\")","v":"0"},{"$f":"IF('Unit 22'!$C$7=$D$59,COUNTIF('Unit 22'!$C:$C,$D34),\"0\")","v":"0"},{"$f":"IF('Unit 23'!$C$7=$D$59,COUNTIF('Unit 23'!$C:$C,$D34),\"0\")","v":"0"},{"$f":"IF('Unit 24'!$C$7=$D$59,COUNTIF('Unit 24'!$C:$C,$D34),\"0\")","v":"0"},{"$f":"IF('Unit 25'!$C$7=$D$59,COUNTIF('Unit 25'!$C:$C,$D34),\"0\")","v":"0"},{"$f":"IF('Unit 26'!$C$7=$D$59,COUNTIF('Unit 26'!$C:$C,$D34),\"0\")","v":"0"},{"$f":"IF('Unit 27'!$C$7=$D$59,COUNTIF('Unit 27'!$C:$C,$D34),\"0\")","v":"0"},{"$f":"IF('Unit 28'!$C$7=$D$59,COUNTIF('Unit 28'!$C:$C,$D34),\"0\")","v":"0"},{"$f":"IF('Unit 29'!$C$7=$D$59,COUNTIF('Unit 29'!$C:$C,$D34),\"0\")","v":"0"},{"$f":"IF('Unit 30'!$C$7=$D$59,COUNTIF('Unit 30'!$C:$C,$D34),\"0\")","v":"0"},{"$f":"IF('Unit 31'!$C$7=$D$59,COUNTIF('Unit 31'!$C:$C,$D34),\"0\")","v":"0"},{"$f":"IF('Unit 32'!$C$7=$D$59,COUNTIF('Unit 32'!$C:$C,$D34),\"0\")","v":"0"},{"$f":"IF('Unit 33'!$C$7=$D$59,COUNTIF('Unit 33'!$C:$C,$D34),\"0\")","v":"0"},{"$f":"IF('Unit 34'!$C$7=$D$59,COUNTIF('Unit 34'!$C:$C,$D34),\"0\")","v":"0"},{"$f":"IF('Unit 35'!$C$7=$D$59,COUNTIF('Unit 35'!$C:$C,$D34),\"0\")","v":"0"},{"$f":"IF('Unit 36'!$C$7=$D$59,COUNTIF('Unit 36'!$C:$C,$D34),\"0\")","v":"0"},{"$f":"IF('Unit 37'!$C$7=$D$59,COUNTIF('Unit 37'!$C:$C,$D34),\"0\")","v":"0"},{"$f":"IF('Unit 38'!$C$7=$D$59,COUNTIF('Unit 38'!$C:$C,$D34),\"0\")","v":"0"},0,null,{"$f":"IF('Unit 1'!$C$7=$D$60,COUNTIF('Unit 1'!$C:$C,$D34),\"0\")","v":"0"},{"$f":"IF('Unit 2'!$C$7=$D$60,COUNTIF('Unit 2'!$C:$C,$D34),\"0\")","v":"0"},{"$f":"IF('Unit 3'!$C$7=$D$60,COUNTIF('Unit 3'!$C:$C,$D34),\"0\")","v":"0"},{"$f":"IF('Unit 4'!$C$7=$D$60,COUNTIF('Unit 4'!$C:$C,$D34),\"0\")","v":"0"},{"$f":"IF('Unit 5'!$C$7=$D$60,COUNTIF('Unit 5'!$C:$C,$D34),\"0\")","v":"0"},{"$f":"IF('Unit 6'!$C$7=$D$60,COUNTIF('Unit 6'!$C:$C,$D34),\"0\")","v":"0"},{"$f":"IF('Unit 7'!$C$7=$D$60,COUNTIF('Unit 7'!$C:$C,$D34),\"0\")","v":"0"},{"$f":"IF('Unit 8'!$C$7=$D$60,COUNTIF('Unit 8'!$C:$C,$D34),\"0\")","v":"0"},{"$f":"IF('Unit 9'!$C$7=$D$60,COUNTIF('Unit 9'!$C:$C,$D34),\"0\")","v":"0"},{"$f":"IF('Unit 10'!$C$7=$D$60,COUNTIF('Unit 10'!$C:$C,$D34),\"0\")","v":"0"},{"$f":"IF('Unit 11'!$C$7=$D$60,COUNTIF('Unit 11'!$C:$C,$D34),\"0\")","v":"0"},{"$f":"IF('Unit 12'!$C$7=$D$60,COUNTIF('Unit 12'!$C:$C,$D34),\"0\")","v":"0"},{"$f":"IF('Unit 13'!$C$7=$D$60,COUNTIF('Unit 13'!$C:$C,$D34),\"0\")","v":"0"},{"$f":"IF('Unit 14'!$C$7=$D$60,COUNTIF('Unit 14'!$C:$C,$D34),\"0\")","v":"0"},{"$f":"IF('Unit 15'!$C$7=$D$60,COUNTIF('Unit 15'!$C:$C,$D34),\"0\")","v":"0"},{"$f":"IF('Unit 16'!$C$7=$D$60,COUNTIF('Unit 16'!$C:$C,$D34),\"0\")","v":"0"},{"$f":"IF('Unit 17'!$C$7=$D$60,COUNTIF('Unit 17'!$C:$C,$D34),\"0\")","v":"0"},{"$f":"IF('Unit 18'!$C$7=$D$60,COUNTIF('Unit 18'!$C:$C,$D34),\"0\")","v":"0"},{"$f":"IF('Unit 19'!$C$7=$D$60,COUNTIF('Unit 19'!$C:$C,$D34),\"0\")","v":"0"},{"$f":"IF('Unit 20'!$C$7=$D$60,COUNTIF('Unit 20'!$C:$C,$D34),\"0\")","v":"0"},{"$f":"IF('Unit 21'!$C$7=$D$60,COUNTIF('Unit 21'!$C:$C,$D34),\"0\")","v":"0"},{"$f":"IF('Unit 22'!$C$7=$D$60,COUNTIF('Unit 22'!$C:$C,$D34),\"0\")","v":"0"},{"$f":"IF('Unit 23'!$C$7=$D$60,COUNTIF('Unit 23'!$C:$C,$D34),\"0\")","v":"0"},{"$f":"IF('Unit 24'!$C$7=$D$60,COUNTIF('Unit 24'!$C:$C,$D34),\"0\")","v":"0"},{"$f":"IF('Unit 25'!$C$7=$D$60,COUNTIF('Unit 25'!$C:$C,$D34),\"0\")","v":"0"},{"$f":"IF('Unit 26'!$C$7=$D$60,COUNTIF('Unit 26'!$C:$C,$D34),\"0\")","v":"0"},{"$f":"IF('Unit 27'!$C$7=$D$60,COUNTIF('Unit 27'!$C:$C,$D34),\"0\")","v":"0"},{"$f":"IF('Unit 28'!$C$7=$D$60,COUNTIF('Unit 28'!$C:$C,$D34),\"0\")","v":"0"},{"$f":"IF('Unit 29'!$C$7=$D$60,COUNTIF('Unit 29'!$C:$C,$D34),\"0\")","v":"0"},{"$f":"IF('Unit 30'!$C$7=$D$60,COUNTIF('Unit 30'!$C:$C,$D34),\"0\")","v":"0"},{"$f":"IF('Unit 31'!$C$7=$D$60,COUNTIF('Unit 31'!$C:$C,$D34),\"0\")","v":"0"},{"$f":"IF('Unit 32'!$C$7=$D$60,COUNTIF('Unit 32'!$C:$C,$D34),\"0\")","v":"0"},{"$f":"IF('Unit 33'!$C$7=$D$60,COUNTIF('Unit 33'!$C:$C,$D34),\"0\")","v":"0"},{"$f":"IF('Unit 34'!$C$7=$D$60,COUNTIF('Unit 34'!$C:$C,$D34),\"0\")","v":"0"},{"$f":"IF('Unit 35'!$C$7=$D$60,COUNTIF('Unit 35'!$C:$C,$D34),\"0\")","v":"0"},{"$f":"IF('Unit 36'!$C$7=$D$60,COUNTIF('Unit 36'!$C:$C,$D34),\"0\")","v":"0"},{"$f":"IF('Unit 37'!$C$7=$D$60,COUNTIF('Unit 37'!$C:$C,$D34),\"0\")","v":"0"},{"$f":"IF('Unit 38'!$C$7=$D$60,COUNTIF('Unit 38'!$C:$C,$D34),\"0\")","v":"0"},0]
[null,null,"2.10","2.10 incorporate basic project management techniques","Incorporate: take in or contain something as part of a whole",{"$f":"COUNTIF('Unit 1'!C:C,$D35)","v":0},{"$f":"COUNTIF('Unit 2'!C:C,D35)","v":0},{"$f":"COUNTIF('Unit 3'!C:C,D35)","v":0},{"$f":"COUNTIF('Unit 4'!C:C,D35)","v":0},{"$f":"COUNTIF('Unit 5'!C:C,D35)","v":0},{"$f":"COUNTIF('Unit 6'!C:C,D35)","v":0},{"$f":"COUNTIF('Unit 7'!C:C,D35)","v":0},{"$f":"COUNTIF('Unit 8'!C:C,D35)","v":0},{"$f":"COUNTIF('Unit 9'!C:C,D35)","v":0},{"$f":"COUNTIF('Unit 10'!C:C,D35)","v":0},{"$f":"COUNTIF('Unit 11'!C:C,D35)","v":0},{"$f":"COUNTIF('Unit 12'!C:C,D35)","v":0},{"$f":"COUNTIF('Unit 13'!C:C,D35)","v":0},{"$f":"COUNTIF('Unit 14'!C:C,D35)","v":0},{"$f":"COUNTIF('Unit 15'!C:C,D35)","v":0},{"$f":"COUNTIF('Unit 16'!C:C,D35)","v":0},{"$f":"COUNTIF('Unit 17'!C:C,D35)","v":0},{"$f":"COUNTIF('Unit 18'!C:C,D35)","v":0},{"$f":"COUNTIF('Unit 19'!C:C,D35)","v":0},{"$f":"COUNTIF('Unit 20'!C:C,D35)","v":0},{"$f":"COUNTIF('Unit 21'!C:C,D35)","v":0},{"$f":"COUNTIF('Unit 22'!C:C,D35)","v":0},{"$f":"COUNTIF('Unit 23'!C:C,D35)","v":0},{"$f":"COUNTIF('Unit 24'!C:C,D35)","v":0},{"$f":"COUNTIF('Unit 25'!C:C,D35)","v":0},{"$f":"COUNTIF('Unit 26'!C:C,D35)","v":0},{"$f":"COUNTIF('Unit 27'!C:C,D35)","v":0},{"$f":"COUNTIF('Unit 28'!C:C,D35)","v":0},{"$f":"COUNTIF('Unit 29'!C:C,D35)","v":0},{"$f":"COUNTIF('Unit 30'!C:C,D35)","v":0},{"$f":"COUNTIF('Unit 31'!C:C,D35)","v":0},{"$f":"COUNTIF('Unit 32'!C:C,D35)","v":0},{"$f":"COUNTIF('Unit 33'!C:C,D35)","v":0},{"$f":"COUNTIF('Unit 34'!C:C,D35)","v":0},{"$f":"COUNTIF('Unit 35'!C:C,D35)","v":0},{"$f":"COUNTIF('Unit 36'!C:C,D35)","v":0},{"$f":"COUNTIF('Unit 37'!C:C,D35)","v":0},{"$f":"COUNTIF('Unit 38'!C:C,D35)","v":0},0,null,{"$f":"IF('Unit 1'!$C$7=$D$58,COUNTIF('Unit 1'!$C:$C,$D35),\"0\")","v":"0"},{"$f":"IF('Unit 2'!$C$7=$D$58,COUNTIF('Unit 2'!$C:$C,$D35),\"0\")","v":"0"},{"$f":"IF('Unit 3'!$C$7=$D$58,COUNTIF('Unit 3'!$C:$C,$D35),\"0\")","v":"0"},{"$f":"IF('Unit 4'!$C$7=$D$58,COUNTIF('Unit 4'!$C:$C,$D35),\"0\")","v":"0"},{"$f":"IF('Unit 5'!$C$7=$D$58,COUNTIF('Unit 5'!$C:$C,$D35),\"0\")","v":"0"},{"$f":"IF('Unit 6'!$C$7=$D$58,COUNTIF('Unit 6'!$C:$C,$D35),\"0\")","v":"0"},{"$f":"IF('Unit 7'!$C$7=$D$58,COUNTIF('Unit 7'!$C:$C,$D35),\"0\")","v":"0"},{"$f":"IF('Unit 8'!$C$7=$D$58,COUNTIF('Unit 8'!$C:$C,$D35),\"0\")","v":"0"},{"$f":"IF('Unit 9'!$C$7=$D$58,COUNTIF('Unit 9'!$C:$C,$D35),\"0\")","v":"0"},{"$f":"IF('Unit 10'!$C$7=$D$58,COUNTIF('Unit 10'!$C:$C,$D35),\"0\")","v":"0"},{"$f":"IF('Unit 11'!$C$7=$D$58,COUNTIF('Unit 11'!$C:$C,$D35),\"0\")","v":"0"},{"$f":"IF('Unit 12'!$C$7=$D$58,COUNTIF('Unit 12'!$C:$C,$D35),\"0\")","v":"0"},{"$f":"IF('Unit 13'!$C$7=$D$58,COUNTIF('Unit 13'!$C:$C,$D35),\"0\")","v":"0"},{"$f":"IF('Unit 14'!$C$7=$D$58,COUNTIF('Unit 14'!$C:$C,$D35),\"0\")","v":"0"},{"$f":"IF('Unit 15'!$C$7=$D$58,COUNTIF('Unit 15'!$C:$C,$D35),\"0\")","v":"0"},{"$f":"IF('Unit 16'!$C$7=$D$58,COUNTIF('Unit 16'!$C:$C,$D35),\"0\")","v":"0"},{"$f":"IF('Unit 17'!$C$7=$D$58,COUNTIF('Unit 17'!$C:$C,$D35),\"0\")","v":"0"},{"$f":"IF('Unit 18'!$C$7=$D$58,COUNTIF('Unit 18'!$C:$C,$D35),\"0\")","v":"0"},{"$f":"IF('Unit 19'!$C$7=$D$58,COUNTIF('Unit 19'!$C:$C,$D35),\"0\")","v":"0"},{"$f":"IF('Unit 20'!$C$7=$D$58,COUNTIF('Unit 20'!$C:$C,$D35),\"0\")","v":"0"},{"$f":"IF('Unit 21'!$C$7=$D$58,COUNTIF('Unit 21'!$C:$C,$D35),\"0\")","v":"0"},{"$f":"IF('Unit 22'!$C$7=$D$58,COUNTIF('Unit 22'!$C:$C,$D35),\"0\")","v":"0"},{"$f":"IF('Unit 23'!$C$7=$D$58,COUNTIF('Unit 23'!$C:$C,$D35),\"0\")","v":"0"},{"$f":"IF('Unit 24'!$C$7=$D$58,COUNTIF('Unit 24'!$C:$C,$D35),\"0\")","v":"0"},{"$f":"IF('Unit 25'!$C$7=$D$58,COUNTIF('Unit 25'!$C:$C,$D35),\"0\")","v":"0"},{"$f":"IF('Unit 26'!$C$7=$D$58,COUNTIF('Unit 26'!$C:$C,$D35),\"0\")","v":"0"},{"$f":"IF('Unit 27'!$C$7=$D$58,COUNTIF('Unit 27'!$C:$C,$D35),\"0\")","v":"0"},{"$f":"IF('Unit 28'!$C$7=$D$58,COUNTIF('Unit 28'!$C:$C,$D35),\"0\")","v":"0"},{"$f":"IF('Unit 29'!$C$7=$D$58,COUNTIF('Unit 29'!$C:$C,$D35),\"0\")","v":"0"},{"$f":"IF('Unit 30'!$C$7=$D$58,COUNTIF('Unit 30'!$C:$C,$D35),\"0\")","v":"0"},{"$f":"IF('Unit 31'!$C$7=$D$58,COUNTIF('Unit 31'!$C:$C,$D35),\"0\")","v":"0"},{"$f":"IF('Unit 32'!$C$7=$D$58,COUNTIF('Unit 32'!$C:$C,$D35),\"0\")","v":"0"},{"$f":"IF('Unit 33'!$C$7=$D$58,COUNTIF('Unit 33'!$C:$C,$D35),\"0\")","v":"0"},{"$f":"IF('Unit 34'!$C$7=$D$58,COUNTIF('Unit 34'!$C:$C,$D35),\"0\")","v":"0"},{"$f":"IF('Unit 35'!$C$7=$D$58,COUNTIF('Unit 35'!$C:$C,$D35),\"0\")","v":"0"},{"$f":"IF('Unit 36'!$C$7=$D$58,COUNTIF('Unit 36'!$C:$C,$D35),\"0\")","v":"0"},{"$f":"IF('Unit 37'!$C$7=$D$58,COUNTIF('Unit 37'!$C:$C,$D35),\"0\")","v":"0"},{"$f":"IF('Unit 38'!$C$7=$D$58,COUNTIF('Unit 38'!$C:$C,$D35),\"0\")","v":"0"},0,null,{"$f":"IF('Unit 1'!$C$7=$D$59,COUNTIF('Unit 1'!$C:$C,$D35),\"0\")","v":"0"},{"$f":"IF('Unit 2'!$C$7=$D$59,COUNTIF('Unit 2'!$C:$C,$D35),\"0\")","v":"0"},{"$f":"IF('Unit 3'!$C$7=$D$59,COUNTIF('Unit 3'!$C:$C,$D35),\"0\")","v":"0"},{"$f":"IF('Unit 4'!$C$7=$D$59,COUNTIF('Unit 4'!$C:$C,$D35),\"0\")","v":"0"},{"$f":"IF('Unit 5'!$C$7=$D$59,COUNTIF('Unit 5'!$C:$C,$D35),\"0\")","v":"0"},{"$f":"IF('Unit 6'!$C$7=$D$59,COUNTIF('Unit 6'!$C:$C,$D35),\"0\")","v":"0"},{"$f":"IF('Unit 7'!$C$7=$D$59,COUNTIF('Unit 7'!$C:$C,$D35),\"0\")","v":"0"},{"$f":"IF('Unit 8'!$C$7=$D$59,COUNTIF('Unit 8'!$C:$C,$D35),\"0\")","v":"0"},{"$f":"IF('Unit 9'!$C$7=$D$59,COUNTIF('Unit 9'!$C:$C,$D35),\"0\")","v":"0"},{"$f":"IF('Unit 10'!$C$7=$D$59,COUNTIF('Unit 10'!$C:$C,$D35),\"0\")","v":"0"},{"$f":"IF('Unit 11'!$C$7=$D$59,COUNTIF('Unit 11'!$C:$C,$D35),\"0\")","v":"0"},{"$f":"IF('Unit 12'!$C$7=$D$59,COUNTIF('Unit 12'!$C:$C,$D35),\"0\")","v":"0"},{"$f":"IF('Unit 13'!$C$7=$D$59,COUNTIF('Unit 13'!$C:$C,$D35),\"0\")","v":"0"},{"$f":"IF('Unit 14'!$C$7=$D$59,COUNTIF('Unit 14'!$C:$C,$D35),\"0\")","v":"0"},{"$f":"IF('Unit 15'!$C$7=$D$59,COUNTIF('Unit 15'!$C:$C,$D35),\"0\")","v":"0"},{"$f":"IF('Unit 16'!$C$7=$D$59,COUNTIF('Unit 16'!$C:$C,$D35),\"0\")","v":"0"},{"$f":"IF('Unit 17'!$C$7=$D$59,COUNTIF('Unit 17'!$C:$C,$D35),\"0\")","v":"0"},{"$f":"IF('Unit 18'!$C$7=$D$59,COUNTIF('Unit 18'!$C:$C,$D35),\"0\")","v":"0"},{"$f":"IF('Unit 19'!$C$7=$D$59,COUNTIF('Unit 19'!$C:$C,$D35),\"0\")","v":"0"},{"$f":"IF('Unit 20'!$C$7=$D$59,COUNTIF('Unit 20'!$C:$C,$D35),\"0\")","v":"0"},{"$f":"IF('Unit 21'!$C$7=$D$59,COUNTIF('Unit 21'!$C:$C,$D35),\"0\")","v":"0"},{"$f":"IF('Unit 22'!$C$7=$D$59,COUNTIF('Unit 22'!$C:$C,$D35),\"0\")","v":"0"},{"$f":"IF('Unit 23'!$C$7=$D$59,COUNTIF('Unit 23'!$C:$C,$D35),\"0\")","v":"0"},{"$f":"IF('Unit 24'!$C$7=$D$59,COUNTIF('Unit 24'!$C:$C,$D35),\"0\")","v":"0"},{"$f":"IF('Unit 25'!$C$7=$D$59,COUNTIF('Unit 25'!$C:$C,$D35),\"0\")","v":"0"},{"$f":"IF('Unit 26'!$C$7=$D$59,COUNTIF('Unit 26'!$C:$C,$D35),\"0\")","v":"0"},{"$f":"IF('Unit 27'!$C$7=$D$59,COUNTIF('Unit 27'!$C:$C,$D35),\"0\")","v":"0"},{"$f":"IF('Unit 28'!$C$7=$D$59,COUNTIF('Unit 28'!$C:$C,$D35),\"0\")","v":"0"},{"$f":"IF('Unit 29'!$C$7=$D$59,COUNTIF('Unit 29'!$C:$C,$D35),\"0\")","v":"0"},{"$f":"IF('Unit 30'!$C$7=$D$59,COUNTIF('Unit 30'!$C:$C,$D35),\"0\")","v":"0"},{"$f":"IF('Unit 31'!$C$7=$D$59,COUNTIF('Unit 31'!$C:$C,$D35),\"0\")","v":"0"},{"$f":"IF('Unit 32'!$C$7=$D$59,COUNTIF('Unit 32'!$C:$C,$D35),\"0\")","v":"0"},{"$f":"IF('Unit 33'!$C$7=$D$59,COUNTIF('Unit 33'!$C:$C,$D35),\"0\")","v":"0"},{"$f":"IF('Unit 34'!$C$7=$D$59,COUNTIF('Unit 34'!$C:$C,$D35),\"0\")","v":"0"},{"$f":"IF('Unit 35'!$C$7=$D$59,COUNTIF('Unit 35'!$C:$C,$D35),\"0\")","v":"0"},{"$f":"IF('Unit 36'!$C$7=$D$59,COUNTIF('Unit 36'!$C:$C,$D35),\"0\")","v":"0"},{"$f":"IF('Unit 37'!$C$7=$D$59,COUNTIF('Unit 37'!$C:$C,$D35),\"0\")","v":"0"},{"$f":"IF('Unit 38'!$C$7=$D$59,COUNTIF('Unit 38'!$C:$C,$D35),\"0\")","v":"0"},0,null,{"$f":"IF('Unit 1'!$C$7=$D$60,COUNTIF('Unit 1'!$C:$C,$D35),\"0\")","v":"0"},{"$f":"IF('Unit 2'!$C$7=$D$60,COUNTIF('Unit 2'!$C:$C,$D35),\"0\")","v":"0"},{"$f":"IF('Unit 3'!$C$7=$D$60,COUNTIF('Unit 3'!$C:$C,$D35),\"0\")","v":"0"},{"$f":"IF('Unit 4'!$C$7=$D$60,COUNTIF('Unit 4'!$C:$C,$D35),\"0\")","v":"0"},{"$f":"IF('Unit 5'!$C$7=$D$60,COUNTIF('Unit 5'!$C:$C,$D35),\"0\")","v":"0"},{"$f":"IF('Unit 6'!$C$7=$D$60,COUNTIF('Unit 6'!$C:$C,$D35),\"0\")","v":"0"},{"$f":"IF('Unit 7'!$C$7=$D$60,COUNTIF('Unit 7'!$C:$C,$D35),\"0\")","v":"0"},{"$f":"IF('Unit 8'!$C$7=$D$60,COUNTIF('Unit 8'!$C:$C,$D35),\"0\")","v":"0"},{"$f":"IF('Unit 9'!$C$7=$D$60,COUNTIF('Unit 9'!$C:$C,$D35),\"0\")","v":"0"},{"$f":"IF('Unit 10'!$C$7=$D$60,COUNTIF('Unit 10'!$C:$C,$D35),\"0\")","v":"0"},{"$f":"IF('Unit 11'!$C$7=$D$60,COUNTIF('Unit 11'!$C:$C,$D35),\"0\")","v":"0"},{"$f":"IF('Unit 12'!$C$7=$D$60,COUNTIF('Unit 12'!$C:$C,$D35),\"0\")","v":"0"},{"$f":"IF('Unit 13'!$C$7=$D$60,COUNTIF('Unit 13'!$C:$C,$D35),\"0\")","v":"0"},{"$f":"IF('Unit 14'!$C$7=$D$60,COUNTIF('Unit 14'!$C:$C,$D35),\"0\")","v":"0"},{"$f":"IF('Unit 15'!$C$7=$D$60,COUNTIF('Unit 15'!$C:$C,$D35),\"0\")","v":"0"},{"$f":"IF('Unit 16'!$C$7=$D$60,COUNTIF('Unit 16'!$C:$C,$D35),\"0\")","v":"0"},{"$f":"IF('Unit 17'!$C$7=$D$60,COUNTIF('Unit 17'!$C:$C,$D35),\"0\")","v":"0"},{"$f":"IF('Unit 18'!$C$7=$D$60,COUNTIF('Unit 18'!$C:$C,$D35),\"0\")","v":"0"},{"$f":"IF('Unit 19'!$C$7=$D$60,COUNTIF('Unit 19'!$C:$C,$D35),\"0\")","v":"0"},{"$f":"IF('Unit 20'!$C$7=$D$60,COUNTIF('Unit 20'!$C:$C,$D35),\"0\")","v":"0"},{"$f":"IF('Unit 21'!$C$7=$D$60,COUNTIF('Unit 21'!$C:$C,$D35),\"0\")","v":"0"},{"$f":"IF('Unit 22'!$C$7=$D$60,COUNTIF('Unit 22'!$C:$C,$D35),\"0\")","v":"0"},{"$f":"IF('Unit 23'!$C$7=$D$60,COUNTIF('Unit 23'!$C:$C,$D35),\"0\")","v":"0"},{"$f":"IF('Unit 24'!$C$7=$D$60,COUNTIF('Unit 24'!$C:$C,$D35),\"0\")","v":"0"},{"$f":"IF('Unit 25'!$C$7=$D$60,COUNTIF('Unit 25'!$C:$C,$D35),\"0\")","v":"0"},{"$f":"IF('Unit 26'!$C$7=$D$60,COUNTIF('Unit 26'!$C:$C,$D35),\"0\")","v":"0"},{"$f":"IF('Unit 27'!$C$7=$D$60,COUNTIF('Unit 27'!$C:$C,$D35),\"0\")","v":"0"},{"$f":"IF('Unit 28'!$C$7=$D$60,COUNTIF('Unit 28'!$C:$C,$D35),\"0\")","v":"0"},{"$f":"IF('Unit 29'!$C$7=$D$60,COUNTIF('Unit 29'!$C:$C,$D35),\"0\")","v":"0"},{"$f":"IF('Unit 30'!$C$7=$D$60,COUNTIF('Unit 30'!$C:$C,$D35),\"0\")","v":"0"},{"$f":"IF('Unit 31'!$C$7=$D$60,COUNTIF('Unit 31'!$C:$C,$D35),\"0\")","v":"0"},{"$f":"IF('Unit 32'!$C$7=$D$60,COUNTIF('Unit 32'!$C:$C,$D35),\"0\")","v":"0"},{"$f":"IF('Unit 33'!$C$7=$D$60,COUNTIF('Unit 33'!$C:$C,$D35),\"0\")","v":"0"},{"$f":"IF('Unit 34'!$C$7=$D$60,COUNTIF('Unit 34'!$C:$C,$D35),\"0\")","v":"0"},{"$f":"IF('Unit 35'!$C$7=$D$60,COUNTIF('Unit 35'!$C:$C,$D35),\"0\")","v":"0"},{"$f":"IF('Unit 36'!$C$7=$D$60,COUNTIF('Unit 36'!$C:$C,$D35),\"0\")","v":"0"},{"$f":"IF('Unit 37'!$C$7=$D$60,COUNTIF('Unit 37'!$C:$C,$D35),\"0\")","v":"0"},{"$f":"IF('Unit 38'!$C$7=$D$60,COUNTIF('Unit 38'!$C:$C,$D35),\"0\")","v":"0"},0]
[null,{"$f":"B20","v":"Communicating"},"2.11","2.11 present ideas through modelling and prototyping, using appropriate media ","Present: make objects perceivable for others",{"$f":"COUNTIF('Unit 1'!C:C,$D36)","v":0},{"$f":"COUNTIF('Unit 2'!C:C,D36)","v":0},{"$f":"COUNTIF('Unit 3'!C:C,D36)","v":0},{"$f":"COUNTIF('Unit 4'!C:C,D36)","v":0},{"$f":"COUNTIF('Unit 5'!C:C,D36)","v":0},{"$f":"COUNTIF('Unit 6'!C:C,D36)","v":0},{"$f":"COUNTIF('Unit 7'!C:C,D36)","v":0},{"$f":"COUNTIF('Unit 8'!C:C,D36)","v":0},{"$f":"COUNTIF('Unit 9'!C:C,D36)","v":0},{"$f":"COUNTIF('Unit 10'!C:C,D36)","v":0},{"$f":"COUNTIF('Unit 11'!C:C,D36)","v":0},{"$f":"COUNTIF('Unit 12'!C:C,D36)","v":0},{"$f":"COUNTIF('Unit 13'!C:C,D36)","v":0},{"$f":"COUNTIF('Unit 14'!C:C,D36)","v":0},{"$f":"COUNTIF('Unit 15'!C:C,D36)","v":0},{"$f":"COUNTIF('Unit 16'!C:C,D36)","v":0},{"$f":"COUNTIF('Unit 17'!C:C,D36)","v":0},{"$f":"COUNTIF('Unit 18'!C:C,D36)","v":0},{"$f":"COUNTIF('Unit 19'!C:C,D36)","v":0},{"$f":"COUNTIF('Unit 20'!C:C,D36)","v":0},{"$f":"COUNTIF('Unit 21'!C:C,D36)","v":0},{"$f":"COUNTIF('Unit 22'!C:C,D36)","v":0},{"$f":"COUNTIF('Unit 23'!C:C,D36)","v":0},{"$f":"COUNTIF('Unit 24'!C:C,D36)","v":0},{"$f":"COUNTIF('Unit 25'!C:C,D36)","v":0},{"$f":"COUNTIF('Unit 26'!C:C,D36)","v":0},{"$f":"COUNTIF('Unit 27'!C:C,D36)","v":0},{"$f":"COUNTIF('Unit 28'!C:C,D36)","v":0},{"$f":"COUNTIF('Unit 29'!C:C,D36)","v":0},{"$f":"COUNTIF('Unit 30'!C:C,D36)","v":0},{"$f":"COUNTIF('Unit 31'!C:C,D36)","v":0},{"$f":"COUNTIF('Unit 32'!C:C,D36)","v":0},{"$f":"COUNTIF('Unit 33'!C:C,D36)","v":0},{"$f":"COUNTIF('Unit 34'!C:C,D36)","v":0},{"$f":"COUNTIF('Unit 35'!C:C,D36)","v":0},{"$f":"COUNTIF('Unit 36'!C:C,D36)","v":0},{"$f":"COUNTIF('Unit 37'!C:C,D36)","v":0},{"$f":"COUNTIF('Unit 38'!C:C,D36)","v":0},0,null,{"$f":"IF('Unit 1'!$C$7=$D$58,COUNTIF('Unit 1'!$C:$C,$D36),\"0\")","v":"0"},{"$f":"IF('Unit 2'!$C$7=$D$58,COUNTIF('Unit 2'!$C:$C,$D36),\"0\")","v":"0"},{"$f":"IF('Unit 3'!$C$7=$D$58,COUNTIF('Unit 3'!$C:$C,$D36),\"0\")","v":"0"},{"$f":"IF('Unit 4'!$C$7=$D$58,COUNTIF('Unit 4'!$C:$C,$D36),\"0\")","v":"0"},{"$f":"IF('Unit 5'!$C$7=$D$58,COUNTIF('Unit 5'!$C:$C,$D36),\"0\")","v":"0"},{"$f":"IF('Unit 6'!$C$7=$D$58,COUNTIF('Unit 6'!$C:$C,$D36),\"0\")","v":"0"},{"$f":"IF('Unit 7'!$C$7=$D$58,COUNTIF('Unit 7'!$C:$C,$D36),\"0\")","v":"0"},{"$f":"IF('Unit 8'!$C$7=$D$58,COUNTIF('Unit 8'!$C:$C,$D36),\"0\")","v":"0"},{"$f":"IF('Unit 9'!$C$7=$D$58,COUNTIF('Unit 9'!$C:$C,$D36),\"0\")","v":"0"},{"$f":"IF('Unit 10'!$C$7=$D$58,COUNTIF('Unit 10'!$C:$C,$D36),\"0\")","v":"0"},{"$f":"IF('Unit 11'!$C$7=$D$58,COUNTIF('Unit 11'!$C:$C,$D36),\"0\")","v":"0"},{"$f":"IF('Unit 12'!$C$7=$D$58,COUNTIF('Unit 12'!$C:$C,$D36),\"0\")","v":"0"},{"$f":"IF('Unit 13'!$C$7=$D$58,COUNTIF('Unit 13'!$C:$C,$D36),\"0\")","v":"0"},{"$f":"IF('Unit 14'!$C$7=$D$58,COUNTIF('Unit 14'!$C:$C,$D36),\"0\")","v":"0"},{"$f":"IF('Unit 15'!$C$7=$D$58,COUNTIF('Unit 15'!$C:$C,$D36),\"0\")","v":"0"},{"$f":"IF('Unit 16'!$C$7=$D$58,COUNTIF('Unit 16'!$C:$C,$D36),\"0\")","v":"0"},{"$f":"IF('Unit 17'!$C$7=$D$58,COUNTIF('Unit 17'!$C:$C,$D36),\"0\")","v":"0"},{"$f":"IF('Unit 18'!$C$7=$D$58,COUNTIF('Unit 18'!$C:$C,$D36),\"0\")","v":"0"},{"$f":"IF('Unit 19'!$C$7=$D$58,COUNTIF('Unit 19'!$C:$C,$D36),\"0\")","v":"0"},{"$f":"IF('Unit 20'!$C$7=$D$58,COUNTIF('Unit 20'!$C:$C,$D36),\"0\")","v":"0"},{"$f":"IF('Unit 21'!$C$7=$D$58,COUNTIF('Unit 21'!$C:$C,$D36),\"0\")","v":"0"},{"$f":"IF('Unit 22'!$C$7=$D$58,COUNTIF('Unit 22'!$C:$C,$D36),\"0\")","v":"0"},{"$f":"IF('Unit 23'!$C$7=$D$58,COUNTIF('Unit 23'!$C:$C,$D36),\"0\")","v":"0"},{"$f":"IF('Unit 24'!$C$7=$D$58,COUNTIF('Unit 24'!$C:$C,$D36),\"0\")","v":"0"},{"$f":"IF('Unit 25'!$C$7=$D$58,COUNTIF('Unit 25'!$C:$C,$D36),\"0\")","v":"0"},{"$f":"IF('Unit 26'!$C$7=$D$58,COUNTIF('Unit 26'!$C:$C,$D36),\"0\")","v":"0"},{"$f":"IF('Unit 27'!$C$7=$D$58,COUNTIF('Unit 27'!$C:$C,$D36),\"0\")","v":"0"},{"$f":"IF('Unit 28'!$C$7=$D$58,COUNTIF('Unit 28'!$C:$C,$D36),\"0\")","v":"0"},{"$f":"IF('Unit 29'!$C$7=$D$58,COUNTIF('Unit 29'!$C:$C,$D36),\"0\")","v":"0"},{"$f":"IF('Unit 30'!$C$7=$D$58,COUNTIF('Unit 30'!$C:$C,$D36),\"0\")","v":"0"},{"$f":"IF('Unit 31'!$C$7=$D$58,COUNTIF('Unit 31'!$C:$C,$D36),\"0\")","v":"0"},{"$f":"IF('Unit 32'!$C$7=$D$58,COUNTIF('Unit 32'!$C:$C,$D36),\"0\")","v":"0"},{"$f":"IF('Unit 33'!$C$7=$D$58,COUNTIF('Unit 33'!$C:$C,$D36),\"0\")","v":"0"},{"$f":"IF('Unit 34'!$C$7=$D$58,COUNTIF('Unit 34'!$C:$C,$D36),\"0\")","v":"0"},{"$f":"IF('Unit 35'!$C$7=$D$58,COUNTIF('Unit 35'!$C:$C,$D36),\"0\")","v":"0"},{"$f":"IF('Unit 36'!$C$7=$D$58,COUNTIF('Unit 36'!$C:$C,$D36),\"0\")","v":"0"},{"$f":"IF('Unit 37'!$C$7=$D$58,COUNTIF('Unit 37'!$C:$C,$D36),\"0\")","v":"0"},{"$f":"IF('Unit 38'!$C$7=$D$58,COUNTIF('Unit 38'!$C:$C,$D36),\"0\")","v":"0"},0,null,{"$f":"IF('Unit 1'!$C$7=$D$59,COUNTIF('Unit 1'!$C:$C,$D36),\"0\")","v":"0"},{"$f":"IF('Unit 2'!$C$7=$D$59,COUNTIF('Unit 2'!$C:$C,$D36),\"0\")","v":"0"},{"$f":"IF('Unit 3'!$C$7=$D$59,COUNTIF('Unit 3'!$C:$C,$D36),\"0\")","v":"0"},{"$f":"IF('Unit 4'!$C$7=$D$59,COUNTIF('Unit 4'!$C:$C,$D36),\"0\")","v":"0"},{"$f":"IF('Unit 5'!$C$7=$D$59,COUNTIF('Unit 5'!$C:$C,$D36),\"0\")","v":"0"},{"$f":"IF('Unit 6'!$C$7=$D$59,COUNTIF('Unit 6'!$C:$C,$D36),\"0\")","v":"0"},{"$f":"IF('Unit 7'!$C$7=$D$59,COUNTIF('Unit 7'!$C:$C,$D36),\"0\")","v":"0"},{"$f":"IF('Unit 8'!$C$7=$D$59,COUNTIF('Unit 8'!$C:$C,$D36),\"0\")","v":"0"},{"$f":"IF('Unit 9'!$C$7=$D$59,COUNTIF('Unit 9'!$C:$C,$D36),\"0\")","v":"0"},{"$f":"IF('Unit 10'!$C$7=$D$59,COUNTIF('Unit 10'!$C:$C,$D36),\"0\")","v":"0"},{"$f":"IF('Unit 11'!$C$7=$D$59,COUNTIF('Unit 11'!$C:$C,$D36),\"0\")","v":"0"},{"$f":"IF('Unit 12'!$C$7=$D$59,COUNTIF('Unit 12'!$C:$C,$D36),\"0\")","v":"0"},{"$f":"IF('Unit 13'!$C$7=$D$59,COUNTIF('Unit 13'!$C:$C,$D36),\"0\")","v":"0"},{"$f":"IF('Unit 14'!$C$7=$D$59,COUNTIF('Unit 14'!$C:$C,$D36),\"0\")","v":"0"},{"$f":"IF('Unit 15'!$C$7=$D$59,COUNTIF('Unit 15'!$C:$C,$D36),\"0\")","v":"0"},{"$f":"IF('Unit 16'!$C$7=$D$59,COUNTIF('Unit 16'!$C:$C,$D36),\"0\")","v":"0"},{"$f":"IF('Unit 17'!$C$7=$D$59,COUNTIF('Unit 17'!$C:$C,$D36),\"0\")","v":"0"},{"$f":"IF('Unit 18'!$C$7=$D$59,COUNTIF('Unit 18'!$C:$C,$D36),\"0\")","v":"0"},{"$f":"IF('Unit 19'!$C$7=$D$59,COUNTIF('Unit 19'!$C:$C,$D36),\"0\")","v":"0"},{"$f":"IF('Unit 20'!$C$7=$D$59,COUNTIF('Unit 20'!$C:$C,$D36),\"0\")","v":"0"},{"$f":"IF('Unit 21'!$C$7=$D$59,COUNTIF('Unit 21'!$C:$C,$D36),\"0\")","v":"0"},{"$f":"IF('Unit 22'!$C$7=$D$59,COUNTIF('Unit 22'!$C:$C,$D36),\"0\")","v":"0"},{"$f":"IF('Unit 23'!$C$7=$D$59,COUNTIF('Unit 23'!$C:$C,$D36),\"0\")","v":"0"},{"$f":"IF('Unit 24'!$C$7=$D$59,COUNTIF('Unit 24'!$C:$C,$D36),\"0\")","v":"0"},{"$f":"IF('Unit 25'!$C$7=$D$59,COUNTIF('Unit 25'!$C:$C,$D36),\"0\")","v":"0"},{"$f":"IF('Unit 26'!$C$7=$D$59,COUNTIF('Unit 26'!$C:$C,$D36),\"0\")","v":"0"},{"$f":"IF('Unit 27'!$C$7=$D$59,COUNTIF('Unit 27'!$C:$C,$D36),\"0\")","v":"0"},{"$f":"IF('Unit 28'!$C$7=$D$59,COUNTIF('Unit 28'!$C:$C,$D36),\"0\")","v":"0"},{"$f":"IF('Unit 29'!$C$7=$D$59,COUNTIF('Unit 29'!$C:$C,$D36),\"0\")","v":"0"},{"$f":"IF('Unit 30'!$C$7=$D$59,COUNTIF('Unit 30'!$C:$C,$D36),\"0\")","v":"0"},{"$f":"IF('Unit 31'!$C$7=$D$59,COUNTIF('Unit 31'!$C:$C,$D36),\"0\")","v":"0"},{"$f":"IF('Unit 32'!$C$7=$D$59,COUNTIF('Unit 32'!$C:$C,$D36),\"0\")","v":"0"},{"$f":"IF('Unit 33'!$C$7=$D$59,COUNTIF('Unit 33'!$C:$C,$D36),\"0\")","v":"0"},{"$f":"IF('Unit 34'!$C$7=$D$59,COUNTIF('Unit 34'!$C:$C,$D36),\"0\")","v":"0"},{"$f":"IF('Unit 35'!$C$7=$D$59,COUNTIF('Unit 35'!$C:$C,$D36),\"0\")","v":"0"},{"$f":"IF('Unit 36'!$C$7=$D$59,COUNTIF('Unit 36'!$C:$C,$D36),\"0\")","v":"0"},{"$f":"IF('Unit 37'!$C$7=$D$59,COUNTIF('Unit 37'!$C:$C,$D36),\"0\")","v":"0"},{"$f":"IF('Unit 38'!$C$7=$D$59,COUNTIF('Unit 38'!$C:$C,$D36),\"0\")","v":"0"},0,null,{"$f":"IF('Unit 1'!$C$7=$D$60,COUNTIF('Unit 1'!$C:$C,$D36),\"0\")","v":"0"},{"$f":"IF('Unit 2'!$C$7=$D$60,COUNTIF('Unit 2'!$C:$C,$D36),\"0\")","v":"0"},{"$f":"IF('Unit 3'!$C$7=$D$60,COUNTIF('Unit 3'!$C:$C,$D36),\"0\")","v":"0"},{"$f":"IF('Unit 4'!$C$7=$D$60,COUNTIF('Unit 4'!$C:$C,$D36),\"0\")","v":"0"},{"$f":"IF('Unit 5'!$C$7=$D$60,COUNTIF('Unit 5'!$C:$C,$D36),\"0\")","v":"0"},{"$f":"IF('Unit 6'!$C$7=$D$60,COUNTIF('Unit 6'!$C:$C,$D36),\"0\")","v":"0"},{"$f":"IF('Unit 7'!$C$7=$D$60,COUNTIF('Unit 7'!$C:$C,$D36),\"0\")","v":"0"},{"$f":"IF('Unit 8'!$C$7=$D$60,COUNTIF('Unit 8'!$C:$C,$D36),\"0\")","v":"0"},{"$f":"IF('Unit 9'!$C$7=$D$60,COUNTIF('Unit 9'!$C:$C,$D36),\"0\")","v":"0"},{"$f":"IF('Unit 10'!$C$7=$D$60,COUNTIF('Unit 10'!$C:$C,$D36),\"0\")","v":"0"},{"$f":"IF('Unit 11'!$C$7=$D$60,COUNTIF('Unit 11'!$C:$C,$D36),\"0\")","v":"0"},{"$f":"IF('Unit 12'!$C$7=$D$60,COUNTIF('Unit 12'!$C:$C,$D36),\"0\")","v":"0"},{"$f":"IF('Unit 13'!$C$7=$D$60,COUNTIF('Unit 13'!$C:$C,$D36),\"0\")","v":"0"},{"$f":"IF('Unit 14'!$C$7=$D$60,COUNTIF('Unit 14'!$C:$C,$D36),\"0\")","v":"0"},{"$f":"IF('Unit 15'!$C$7=$D$60,COUNTIF('Unit 15'!$C:$C,$D36),\"0\")","v":"0"},{"$f":"IF('Unit 16'!$C$7=$D$60,COUNTIF('Unit 16'!$C:$C,$D36),\"0\")","v":"0"},{"$f":"IF('Unit 17'!$C$7=$D$60,COUNTIF('Unit 17'!$C:$C,$D36),\"0\")","v":"0"},{"$f":"IF('Unit 18'!$C$7=$D$60,COUNTIF('Unit 18'!$C:$C,$D36),\"0\")","v":"0"},{"$f":"IF('Unit 19'!$C$7=$D$60,COUNTIF('Unit 19'!$C:$C,$D36),\"0\")","v":"0"},{"$f":"IF('Unit 20'!$C$7=$D$60,COUNTIF('Unit 20'!$C:$C,$D36),\"0\")","v":"0"},{"$f":"IF('Unit 21'!$C$7=$D$60,COUNTIF('Unit 21'!$C:$C,$D36),\"0\")","v":"0"},{"$f":"IF('Unit 22'!$C$7=$D$60,COUNTIF('Unit 22'!$C:$C,$D36),\"0\")","v":"0"},{"$f":"IF('Unit 23'!$C$7=$D$60,COUNTIF('Unit 23'!$C:$C,$D36),\"0\")","v":"0"},{"$f":"IF('Unit 24'!$C$7=$D$60,COUNTIF('Unit 24'!$C:$C,$D36),\"0\")","v":"0"},{"$f":"IF('Unit 25'!$C$7=$D$60,COUNTIF('Unit 25'!$C:$C,$D36),\"0\")","v":"0"},{"$f":"IF('Unit 26'!$C$7=$D$60,COUNTIF('Unit 26'!$C:$C,$D36),\"0\")","v":"0"},{"$f":"IF('Unit 27'!$C$7=$D$60,COUNTIF('Unit 27'!$C:$C,$D36),\"0\")","v":"0"},{"$f":"IF('Unit 28'!$C$7=$D$60,COUNTIF('Unit 28'!$C:$C,$D36),\"0\")","v":"0"},{"$f":"IF('Unit 29'!$C$7=$D$60,COUNTIF('Unit 29'!$C:$C,$D36),\"0\")","v":"0"},{"$f":"IF('Unit 30'!$C$7=$D$60,COUNTIF('Unit 30'!$C:$C,$D36),\"0\")","v":"0"},{"$f":"IF('Unit 31'!$C$7=$D$60,COUNTIF('Unit 31'!$C:$C,$D36),\"0\")","v":"0"},{"$f":"IF('Unit 32'!$C$7=$D$60,COUNTIF('Unit 32'!$C:$C,$D36),\"0\")","v":"0"},{"$f":"IF('Unit 33'!$C$7=$D$60,COUNTIF('Unit 33'!$C:$C,$D36),\"0\")","v":"0"},{"$f":"IF('Unit 34'!$C$7=$D$60,COUNTIF('Unit 34'!$C:$C,$D36),\"0\")","v":"0"},{"$f":"IF('Unit 35'!$C$7=$D$60,COUNTIF('Unit 35'!$C:$C,$D36),\"0\")","v":"0"},{"$f":"IF('Unit 36'!$C$7=$D$60,COUNTIF('Unit 36'!$C:$C,$D36),\"0\")","v":"0"},{"$f":"IF('Unit 37'!$C$7=$D$60,COUNTIF('Unit 37'!$C:$C,$D36),\"0\")","v":"0"},{"$f":"IF('Unit 38'!$C$7=$D$60,COUNTIF('Unit 38'!$C:$C,$D36),\"0\")","v":"0"},0]
[null,null,"2.12","2.12 communicate their design decisions using suitable media","Communicate: use visual, gestural, verbal or other signs to share meaning or exchange information; interaction between sender and recipient; both work together to understand",{"$f":"COUNTIF('Unit 1'!C:C,$D37)","v":0},{"$f":"COUNTIF('Unit 2'!C:C,D37)","v":0},{"$f":"COUNTIF('Unit 3'!C:C,D37)","v":0},{"$f":"COUNTIF('Unit 4'!C:C,D37)","v":0},{"$f":"COUNTIF('Unit 5'!C:C,D37)","v":0},{"$f":"COUNTIF('Unit 6'!C:C,D37)","v":0},{"$f":"COUNTIF('Unit 7'!C:C,D37)","v":0},{"$f":"COUNTIF('Unit 8'!C:C,D37)","v":0},{"$f":"COUNTIF('Unit 9'!C:C,D37)","v":0},{"$f":"COUNTIF('Unit 10'!C:C,D37)","v":0},{"$f":"COUNTIF('Unit 11'!C:C,D37)","v":0},{"$f":"COUNTIF('Unit 12'!C:C,D37)","v":0},{"$f":"COUNTIF('Unit 13'!C:C,D37)","v":0},{"$f":"COUNTIF('Unit 14'!C:C,D37)","v":0},{"$f":"COUNTIF('Unit 15'!C:C,D37)","v":0},{"$f":"COUNTIF('Unit 16'!C:C,D37)","v":0},{"$f":"COUNTIF('Unit 17'!C:C,D37)","v":0},{"$f":"COUNTIF('Unit 18'!C:C,D37)","v":0},{"$f":"COUNTIF('Unit 19'!C:C,D37)","v":0},{"$f":"COUNTIF('Unit 20'!C:C,D37)","v":0},{"$f":"COUNTIF('Unit 21'!C:C,D37)","v":0},{"$f":"COUNTIF('Unit 22'!C:C,D37)","v":0},{"$f":"COUNTIF('Unit 23'!C:C,D37)","v":0},{"$f":"COUNTIF('Unit 24'!C:C,D37)","v":0},{"$f":"COUNTIF('Unit 25'!C:C,D37)","v":0},{"$f":"COUNTIF('Unit 26'!C:C,D37)","v":0},{"$f":"COUNTIF('Unit 27'!C:C,D37)","v":0},{"$f":"COUNTIF('Unit 28'!C:C,D37)","v":0},{"$f":"COUNTIF('Unit 29'!C:C,D37)","v":0},{"$f":"COUNTIF('Unit 30'!C:C,D37)","v":0},{"$f":"COUNTIF('Unit 31'!C:C,D37)","v":0},{"$f":"COUNTIF('Unit 32'!C:C,D37)","v":0},{"$f":"COUNTIF('Unit 33'!C:C,D37)","v":0},{"$f":"COUNTIF('Unit 34'!C:C,D37)","v":0},{"$f":"COUNTIF('Unit 35'!C:C,D37)","v":0},{"$f":"COUNTIF('Unit 36'!C:C,D37)","v":0},{"$f":"COUNTIF('Unit 37'!C:C,D37)","v":0},{"$f":"COUNTIF('Unit 38'!C:C,D37)","v":0},0,null,{"$f":"IF('Unit 1'!$C$7=$D$58,COUNTIF('Unit 1'!$C:$C,$D37),\"0\")","v":"0"},{"$f":"IF('Unit 2'!$C$7=$D$58,COUNTIF('Unit 2'!$C:$C,$D37),\"0\")","v":"0"},{"$f":"IF('Unit 3'!$C$7=$D$58,COUNTIF('Unit 3'!$C:$C,$D37),\"0\")","v":"0"},{"$f":"IF('Unit 4'!$C$7=$D$58,COUNTIF('Unit 4'!$C:$C,$D37),\"0\")","v":"0"},{"$f":"IF('Unit 5'!$C$7=$D$58,COUNTIF('Unit 5'!$C:$C,$D37),\"0\")","v":"0"},{"$f":"IF('Unit 6'!$C$7=$D$58,COUNTIF('Unit 6'!$C:$C,$D37),\"0\")","v":"0"},{"$f":"IF('Unit 7'!$C$7=$D$58,COUNTIF('Unit 7'!$C:$C,$D37),\"0\")","v":"0"},{"$f":"IF('Unit 8'!$C$7=$D$58,COUNTIF('Unit 8'!$C:$C,$D37),\"0\")","v":"0"},{"$f":"IF('Unit 9'!$C$7=$D$58,COUNTIF('Unit 9'!$C:$C,$D37),\"0\")","v":"0"},{"$f":"IF('Unit 10'!$C$7=$D$58,COUNTIF('Unit 10'!$C:$C,$D37),\"0\")","v":"0"},{"$f":"IF('Unit 11'!$C$7=$D$58,COUNTIF('Unit 11'!$C:$C,$D37),\"0\")","v":"0"},{"$f":"IF('Unit 12'!$C$7=$D$58,COUNTIF('Unit 12'!$C:$C,$D37),\"0\")","v":"0"},{"$f":"IF('Unit 13'!$C$7=$D$58,COUNTIF('Unit 13'!$C:$C,$D37),\"0\")","v":"0"},{"$f":"IF('Unit 14'!$C$7=$D$58,COUNTIF('Unit 14'!$C:$C,$D37),\"0\")","v":"0"},{"$f":"IF('Unit 15'!$C$7=$D$58,COUNTIF('Unit 15'!$C:$C,$D37),\"0\")","v":"0"},{"$f":"IF('Unit 16'!$C$7=$D$58,COUNTIF('Unit 16'!$C:$C,$D37),\"0\")","v":"0"},{"$f":"IF('Unit 17'!$C$7=$D$58,COUNTIF('Unit 17'!$C:$C,$D37),\"0\")","v":"0"},{"$f":"IF('Unit 18'!$C$7=$D$58,COUNTIF('Unit 18'!$C:$C,$D37),\"0\")","v":"0"},{"$f":"IF('Unit 19'!$C$7=$D$58,COUNTIF('Unit 19'!$C:$C,$D37),\"0\")","v":"0"},{"$f":"IF('Unit 20'!$C$7=$D$58,COUNTIF('Unit 20'!$C:$C,$D37),\"0\")","v":"0"},{"$f":"IF('Unit 21'!$C$7=$D$58,COUNTIF('Unit 21'!$C:$C,$D37),\"0\")","v":"0"},{"$f":"IF('Unit 22'!$C$7=$D$58,COUNTIF('Unit 22'!$C:$C,$D37),\"0\")","v":"0"},{"$f":"IF('Unit 23'!$C$7=$D$58,COUNTIF('Unit 23'!$C:$C,$D37),\"0\")","v":"0"},{"$f":"IF('Unit 24'!$C$7=$D$58,COUNTIF('Unit 24'!$C:$C,$D37),\"0\")","v":"0"},{"$f":"IF('Unit 25'!$C$7=$D$58,COUNTIF('Unit 25'!$C:$C,$D37),\"0\")","v":"0"},{"$f":"IF('Unit 26'!$C$7=$D$58,COUNTIF('Unit 26'!$C:$C,$D37),\"0\")","v":"0"},{"$f":"IF('Unit 27'!$C$7=$D$58,COUNTIF('Unit 27'!$C:$C,$D37),\"0\")","v":"0"},{"$f":"IF('Unit 28'!$C$7=$D$58,COUNTIF('Unit 28'!$C:$C,$D37),\"0\")","v":"0"},{"$f":"IF('Unit 29'!$C$7=$D$58,COUNTIF('Unit 29'!$C:$C,$D37),\"0\")","v":"0"},{"$f":"IF('Unit 30'!$C$7=$D$58,COUNTIF('Unit 30'!$C:$C,$D37),\"0\")","v":"0"},{"$f":"IF('Unit 31'!$C$7=$D$58,COUNTIF('Unit 31'!$C:$C,$D37),\"0\")","v":"0"},{"$f":"IF('Unit 32'!$C$7=$D$58,COUNTIF('Unit 32'!$C:$C,$D37),\"0\")","v":"0"},{"$f":"IF('Unit 33'!$C$7=$D$58,COUNTIF('Unit 33'!$C:$C,$D37),\"0\")","v":"0"},{"$f":"IF('Unit 34'!$C$7=$D$58,COUNTIF('Unit 34'!$C:$C,$D37),\"0\")","v":"0"},{"$f":"IF('Unit 35'!$C$7=$D$58,COUNTIF('Unit 35'!$C:$C,$D37),\"0\")","v":"0"},{"$f":"IF('Unit 36'!$C$7=$D$58,COUNTIF('Unit 36'!$C:$C,$D37),\"0\")","v":"0"},{"$f":"IF('Unit 37'!$C$7=$D$58,COUNTIF('Unit 37'!$C:$C,$D37),\"0\")","v":"0"},{"$f":"IF('Unit 38'!$C$7=$D$58,COUNTIF('Unit 38'!$C:$C,$D37),\"0\")","v":"0"},0,null,{"$f":"IF('Unit 1'!$C$7=$D$59,COUNTIF('Unit 1'!$C:$C,$D37),\"0\")","v":"0"},{"$f":"IF('Unit 2'!$C$7=$D$59,COUNTIF('Unit 2'!$C:$C,$D37),\"0\")","v":"0"},{"$f":"IF('Unit 3'!$C$7=$D$59,COUNTIF('Unit 3'!$C:$C,$D37),\"0\")","v":"0"},{"$f":"IF('Unit 4'!$C$7=$D$59,COUNTIF('Unit 4'!$C:$C,$D37),\"0\")","v":"0"},{"$f":"IF('Unit 5'!$C$7=$D$59,COUNTIF('Unit 5'!$C:$C,$D37),\"0\")","v":"0"},{"$f":"IF('Unit 6'!$C$7=$D$59,COUNTIF('Unit 6'!$C:$C,$D37),\"0\")","v":"0"},{"$f":"IF('Unit 7'!$C$7=$D$59,COUNTIF('Unit 7'!$C:$C,$D37),\"0\")","v":"0"},{"$f":"IF('Unit 8'!$C$7=$D$59,COUNTIF('Unit 8'!$C:$C,$D37),\"0\")","v":"0"},{"$f":"IF('Unit 9'!$C$7=$D$59,COUNTIF('Unit 9'!$C:$C,$D37),\"0\")","v":"0"},{"$f":"IF('Unit 10'!$C$7=$D$59,COUNTIF('Unit 10'!$C:$C,$D37),\"0\")","v":"0"},{"$f":"IF('Unit 11'!$C$7=$D$59,COUNTIF('Unit 11'!$C:$C,$D37),\"0\")","v":"0"},{"$f":"IF('Unit 12'!$C$7=$D$59,COUNTIF('Unit 12'!$C:$C,$D37),\"0\")","v":"0"},{"$f":"IF('Unit 13'!$C$7=$D$59,COUNTIF('Unit 13'!$C:$C,$D37),\"0\")","v":"0"},{"$f":"IF('Unit 14'!$C$7=$D$59,COUNTIF('Unit 14'!$C:$C,$D37),\"0\")","v":"0"},{"$f":"IF('Unit 15'!$C$7=$D$59,COUNTIF('Unit 15'!$C:$C,$D37),\"0\")","v":"0"},{"$f":"IF('Unit 16'!$C$7=$D$59,COUNTIF('Unit 16'!$C:$C,$D37),\"0\")","v":"0"},{"$f":"IF('Unit 17'!$C$7=$D$59,COUNTIF('Unit 17'!$C:$C,$D37),\"0\")","v":"0"},{"$f":"IF('Unit 18'!$C$7=$D$59,COUNTIF('Unit 18'!$C:$C,$D37),\"0\")","v":"0"},{"$f":"IF('Unit 19'!$C$7=$D$59,COUNTIF('Unit 19'!$C:$C,$D37),\"0\")","v":"0"},{"$f":"IF('Unit 20'!$C$7=$D$59,COUNTIF('Unit 20'!$C:$C,$D37),\"0\")","v":"0"},{"$f":"IF('Unit 21'!$C$7=$D$59,COUNTIF('Unit 21'!$C:$C,$D37),\"0\")","v":"0"},{"$f":"IF('Unit 22'!$C$7=$D$59,COUNTIF('Unit 22'!$C:$C,$D37),\"0\")","v":"0"},{"$f":"IF('Unit 23'!$C$7=$D$59,COUNTIF('Unit 23'!$C:$C,$D37),\"0\")","v":"0"},{"$f":"IF('Unit 24'!$C$7=$D$59,COUNTIF('Unit 24'!$C:$C,$D37),\"0\")","v":"0"},{"$f":"IF('Unit 25'!$C$7=$D$59,COUNTIF('Unit 25'!$C:$C,$D37),\"0\")","v":"0"},{"$f":"IF('Unit 26'!$C$7=$D$59,COUNTIF('Unit 26'!$C:$C,$D37),\"0\")","v":"0"},{"$f":"IF('Unit 27'!$C$7=$D$59,COUNTIF('Unit 27'!$C:$C,$D37),\"0\")","v":"0"},{"$f":"IF('Unit 28'!$C$7=$D$59,COUNTIF('Unit 28'!$C:$C,$D37),\"0\")","v":"0"},{"$f":"IF('Unit 29'!$C$7=$D$59,COUNTIF('Unit 29'!$C:$C,$D37),\"0\")","v":"0"},{"$f":"IF('Unit 30'!$C$7=$D$59,COUNTIF('Unit 30'!$C:$C,$D37),\"0\")","v":"0"},{"$f":"IF('Unit 31'!$C$7=$D$59,COUNTIF('Unit 31'!$C:$C,$D37),\"0\")","v":"0"},{"$f":"IF('Unit 32'!$C$7=$D$59,COUNTIF('Unit 32'!$C:$C,$D37),\"0\")","v":"0"},{"$f":"IF('Unit 33'!$C$7=$D$59,COUNTIF('Unit 33'!$C:$C,$D37),\"0\")","v":"0"},{"$f":"IF('Unit 34'!$C$7=$D$59,COUNTIF('Unit 34'!$C:$C,$D37),\"0\")","v":"0"},{"$f":"IF('Unit 35'!$C$7=$D$59,COUNTIF('Unit 35'!$C:$C,$D37),\"0\")","v":"0"},{"$f":"IF('Unit 36'!$C$7=$D$59,COUNTIF('Unit 36'!$C:$C,$D37),\"0\")","v":"0"},{"$f":"IF('Unit 37'!$C$7=$D$59,COUNTIF('Unit 37'!$C:$C,$D37),\"0\")","v":"0"},{"$f":"IF('Unit 38'!$C$7=$D$59,COUNTIF('Unit 38'!$C:$C,$D37),\"0\")","v":"0"},0,null,{"$f":"IF('Unit 1'!$C$7=$D$60,COUNTIF('Unit 1'!$C:$C,$D37),\"0\")","v":"0"},{"$f":"IF('Unit 2'!$C$7=$D$60,COUNTIF('Unit 2'!$C:$C,$D37),\"0\")","v":"0"},{"$f":"IF('Unit 3'!$C$7=$D$60,COUNTIF('Unit 3'!$C:$C,$D37),\"0\")","v":"0"},{"$f":"IF('Unit 4'!$C$7=$D$60,COUNTIF('Unit 4'!$C:$C,$D37),\"0\")","v":"0"},{"$f":"IF('Unit 5'!$C$7=$D$60,COUNTIF('Unit 5'!$C:$C,$D37),\"0\")","v":"0"},{"$f":"IF('Unit 6'!$C$7=$D$60,COUNTIF('Unit 6'!$C:$C,$D37),\"0\")","v":"0"},{"$f":"IF('Unit 7'!$C$7=$D$60,COUNTIF('Unit 7'!$C:$C,$D37),\"0\")","v":"0"},{"$f":"IF('Unit 8'!$C$7=$D$60,COUNTIF('Unit 8'!$C:$C,$D37),\"0\")","v":"0"},{"$f":"IF('Unit 9'!$C$7=$D$60,COUNTIF('Unit 9'!$C:$C,$D37),\"0\")","v":"0"},{"$f":"IF('Unit 10'!$C$7=$D$60,COUNTIF('Unit 10'!$C:$C,$D37),\"0\")","v":"0"},{"$f":"IF('Unit 11'!$C$7=$D$60,COUNTIF('Unit 11'!$C:$C,$D37),\"0\")","v":"0"},{"$f":"IF('Unit 12'!$C$7=$D$60,COUNTIF('Unit 12'!$C:$C,$D37),\"0\")","v":"0"},{"$f":"IF('Unit 13'!$C$7=$D$60,COUNTIF('Unit 13'!$C:$C,$D37),\"0\")","v":"0"},{"$f":"IF('Unit 14'!$C$7=$D$60,COUNTIF('Unit 14'!$C:$C,$D37),\"0\")","v":"0"},{"$f":"IF('Unit 15'!$C$7=$D$60,COUNTIF('Unit 15'!$C:$C,$D37),\"0\")","v":"0"},{"$f":"IF('Unit 16'!$C$7=$D$60,COUNTIF('Unit 16'!$C:$C,$D37),\"0\")","v":"0"},{"$f":"IF('Unit 17'!$C$7=$D$60,COUNTIF('Unit 17'!$C:$C,$D37),\"0\")","v":"0"},{"$f":"IF('Unit 18'!$C$7=$D$60,COUNTIF('Unit 18'!$C:$C,$D37),\"0\")","v":"0"},{"$f":"IF('Unit 19'!$C$7=$D$60,COUNTIF('Unit 19'!$C:$C,$D37),\"0\")","v":"0"},{"$f":"IF('Unit 20'!$C$7=$D$60,COUNTIF('Unit 20'!$C:$C,$D37),\"0\")","v":"0"},{"$f":"IF('Unit 21'!$C$7=$D$60,COUNTIF('Unit 21'!$C:$C,$D37),\"0\")","v":"0"},{"$f":"IF('Unit 22'!$C$7=$D$60,COUNTIF('Unit 22'!$C:$C,$D37),\"0\")","v":"0"},{"$f":"IF('Unit 23'!$C$7=$D$60,COUNTIF('Unit 23'!$C:$C,$D37),\"0\")","v":"0"},{"$f":"IF('Unit 24'!$C$7=$D$60,COUNTIF('Unit 24'!$C:$C,$D37),\"0\")","v":"0"},{"$f":"IF('Unit 25'!$C$7=$D$60,COUNTIF('Unit 25'!$C:$C,$D37),\"0\")","v":"0"},{"$f":"IF('Unit 26'!$C$7=$D$60,COUNTIF('Unit 26'!$C:$C,$D37),\"0\")","v":"0"},{"$f":"IF('Unit 27'!$C$7=$D$60,COUNTIF('Unit 27'!$C:$C,$D37),\"0\")","v":"0"},{"$f":"IF('Unit 28'!$C$7=$D$60,COUNTIF('Unit 28'!$C:$C,$D37),\"0\")","v":"0"},{"$f":"IF('Unit 29'!$C$7=$D$60,COUNTIF('Unit 29'!$C:$C,$D37),\"0\")","v":"0"},{"$f":"IF('Unit 30'!$C$7=$D$60,COUNTIF('Unit 30'!$C:$C,$D37),\"0\")","v":"0"},{"$f":"IF('Unit 31'!$C$7=$D$60,COUNTIF('Unit 31'!$C:$C,$D37),\"0\")","v":"0"},{"$f":"IF('Unit 32'!$C$7=$D$60,COUNTIF('Unit 32'!$C:$C,$D37),\"0\")","v":"0"},{"$f":"IF('Unit 33'!$C$7=$D$60,COUNTIF('Unit 33'!$C:$C,$D37),\"0\")","v":"0"},{"$f":"IF('Unit 34'!$C$7=$D$60,COUNTIF('Unit 34'!$C:$C,$D37),\"0\")","v":"0"},{"$f":"IF('Unit 35'!$C$7=$D$60,COUNTIF('Unit 35'!$C:$C,$D37),\"0\")","v":"0"},{"$f":"IF('Unit 36'!$C$7=$D$60,COUNTIF('Unit 36'!$C:$C,$D37),\"0\")","v":"0"},{"$f":"IF('Unit 37'!$C$7=$D$60,COUNTIF('Unit 37'!$C:$C,$D37),\"0\")","v":"0"},{"$f":"IF('Unit 38'!$C$7=$D$60,COUNTIF('Unit 38'!$C:$C,$D37),\"0\")","v":"0"},0]
[null,null,null,null,null,{"$f":"COUNTIF('Unit 1'!C:C,$D38)","v":0},{"$f":"COUNTIF('Unit 2'!C:C,D38)","v":0},{"$f":"COUNTIF('Unit 3'!C:C,D38)","v":0},{"$f":"COUNTIF('Unit 4'!C:C,D38)","v":0},{"$f":"COUNTIF('Unit 5'!C:C,D38)","v":0},{"$f":"COUNTIF('Unit 6'!C:C,D38)","v":0},{"$f":"COUNTIF('Unit 7'!C:C,D38)","v":0},{"$f":"COUNTIF('Unit 8'!C:C,D38)","v":0},{"$f":"COUNTIF('Unit 9'!C:C,D38)","v":0},{"$f":"COUNTIF('Unit 10'!C:C,D38)","v":0},{"$f":"COUNTIF('Unit 11'!C:C,D38)","v":0},{"$f":"COUNTIF('Unit 12'!C:C,D38)","v":0},{"$f":"COUNTIF('Unit 13'!C:C,D38)","v":0},{"$f":"COUNTIF('Unit 14'!C:C,D38)","v":0},{"$f":"COUNTIF('Unit 15'!C:C,D38)","v":0},{"$f":"COUNTIF('Unit 16'!C:C,D38)","v":0},{"$f":"COUNTIF('Unit 17'!C:C,D38)","v":0},{"$f":"COUNTIF('Unit 18'!C:C,D38)","v":0},{"$f":"COUNTIF('Unit 19'!C:C,D38)","v":0},{"$f":"COUNTIF('Unit 20'!C:C,D38)","v":0},{"$f":"COUNTIF('Unit 21'!C:C,D38)","v":0},{"$f":"COUNTIF('Unit 22'!C:C,D38)","v":0},{"$f":"COUNTIF('Unit 23'!C:C,D38)","v":0},{"$f":"COUNTIF('Unit 24'!C:C,D38)","v":0},{"$f":"COUNTIF('Unit 25'!C:C,D38)","v":0},{"$f":"COUNTIF('Unit 26'!C:C,D38)","v":0},{"$f":"COUNTIF('Unit 27'!C:C,D38)","v":0},{"$f":"COUNTIF('Unit 28'!C:C,D38)","v":0},{"$f":"COUNTIF('Unit 29'!C:C,D38)","v":0},{"$f":"COUNTIF('Unit 30'!C:C,D38)","v":0},{"$f":"COUNTIF('Unit 31'!C:C,D38)","v":0},{"$f":"COUNTIF('Unit 32'!C:C,D38)","v":0},{"$f":"COUNTIF('Unit 33'!C:C,D38)","v":0},{"$f":"COUNTIF('Unit 34'!C:C,D38)","v":0},{"$f":"COUNTIF('Unit 35'!C:C,D38)","v":0},{"$f":"COUNTIF('Unit 36'!C:C,D38)","v":0},{"$f":"COUNTIF('Unit 37'!C:C,D38)","v":0},{"$f":"COUNTIF('Unit 38'!C:C,D38)","v":0},0,null,{"$f":"IF('Unit 1'!$C$7=$D$58,COUNTIF('Unit 1'!$C:$C,$D38),\"0\")","v":"0"},{"$f":"IF('Unit 2'!$C$7=$D$58,COUNTIF('Unit 2'!$C:$C,$D38),\"0\")","v":"0"},{"$f":"IF('Unit 3'!$C$7=$D$58,COUNTIF('Unit 3'!$C:$C,$D38),\"0\")","v":"0"},{"$f":"IF('Unit 4'!$C$7=$D$58,COUNTIF('Unit 4'!$C:$C,$D38),\"0\")","v":"0"},{"$f":"IF('Unit 5'!$C$7=$D$58,COUNTIF('Unit 5'!$C:$C,$D38),\"0\")","v":"0"},{"$f":"IF('Unit 6'!$C$7=$D$58,COUNTIF('Unit 6'!$C:$C,$D38),\"0\")","v":"0"},{"$f":"IF('Unit 7'!$C$7=$D$58,COUNTIF('Unit 7'!$C:$C,$D38),\"0\")","v":"0"},{"$f":"IF('Unit 8'!$C$7=$D$58,COUNTIF('Unit 8'!$C:$C,$D38),\"0\")","v":"0"},{"$f":"IF('Unit 9'!$C$7=$D$58,COUNTIF('Unit 9'!$C:$C,$D38),\"0\")","v":"0"},{"$f":"IF('Unit 10'!$C$7=$D$58,COUNTIF('Unit 10'!$C:$C,$D38),\"0\")","v":"0"},{"$f":"IF('Unit 11'!$C$7=$D$58,COUNTIF('Unit 11'!$C:$C,$D38),\"0\")","v":"0"},{"$f":"IF('Unit 12'!$C$7=$D$58,COUNTIF('Unit 12'!$C:$C,$D38),\"0\")","v":"0"},{"$f":"IF('Unit 13'!$C$7=$D$58,COUNTIF('Unit 13'!$C:$C,$D38),\"0\")","v":"0"},{"$f":"IF('Unit 14'!$C$7=$D$58,COUNTIF('Unit 14'!$C:$C,$D38),\"0\")","v":"0"},{"$f":"IF('Unit 15'!$C$7=$D$58,COUNTIF('Unit 15'!$C:$C,$D38),\"0\")","v":"0"},{"$f":"IF('Unit 16'!$C$7=$D$58,COUNTIF('Unit 16'!$C:$C,$D38),\"0\")","v":"0"},{"$f":"IF('Unit 17'!$C$7=$D$58,COUNTIF('Unit 17'!$C:$C,$D38),\"0\")","v":"0"},{"$f":"IF('Unit 18'!$C$7=$D$58,COUNTIF('Unit 18'!$C:$C,$D38),\"0\")","v":"0"},{"$f":"IF('Unit 19'!$C$7=$D$58,COUNTIF('Unit 19'!$C:$C,$D38),\"0\")","v":"0"},{"$f":"IF('Unit 20'!$C$7=$D$58,COUNTIF('Unit 20'!$C:$C,$D38),\"0\")","v":"0"},{"$f":"IF('Unit 21'!$C$7=$D$58,COUNTIF('Unit 21'!$C:$C,$D38),\"0\")","v":"0"},{"$f":"IF('Unit 22'!$C$7=$D$58,COUNTIF('Unit 22'!$C:$C,$D38),\"0\")","v":"0"},{"$f":"IF('Unit 23'!$C$7=$D$58,COUNTIF('Unit 23'!$C:$C,$D38),\"0\")","v":"0"},{"$f":"IF('Unit 24'!$C$7=$D$58,COUNTIF('Unit 24'!$C:$C,$D38),\"0\")","v":"0"},{"$f":"IF('Unit 25'!$C$7=$D$58,COUNTIF('Unit 25'!$C:$C,$D38),\"0\")","v":"0"},{"$f":"IF('Unit 26'!$C$7=$D$58,COUNTIF('Unit 26'!$C:$C,$D38),\"0\")","v":"0"},{"$f":"IF('Unit 27'!$C$7=$D$58,COUNTIF('Unit 27'!$C:$C,$D38),\"0\")","v":"0"},{"$f":"IF('Unit 28'!$C$7=$D$58,COUNTIF('Unit 28'!$C:$C,$D38),\"0\")","v":"0"},{"$f":"IF('Unit 29'!$C$7=$D$58,COUNTIF('Unit 29'!$C:$C,$D38),\"0\")","v":"0"},{"$f":"IF('Unit 30'!$C$7=$D$58,COUNTIF('Unit 30'!$C:$C,$D38),\"0\")","v":"0"},{"$f":"IF('Unit 31'!$C$7=$D$58,COUNTIF('Unit 31'!$C:$C,$D38),\"0\")","v":"0"},{"$f":"IF('Unit 32'!$C$7=$D$58,COUNTIF('Unit 32'!$C:$C,$D38),\"0\")","v":"0"},{"$f":"IF('Unit 33'!$C$7=$D$58,COUNTIF('Unit 33'!$C:$C,$D38),\"0\")","v":"0"},{"$f":"IF('Unit 34'!$C$7=$D$58,COUNTIF('Unit 34'!$C:$C,$D38),\"0\")","v":"0"},{"$f":"IF('Unit 35'!$C$7=$D$58,COUNTIF('Unit 35'!$C:$C,$D38),\"0\")","v":"0"},{"$f":"IF('Unit 36'!$C$7=$D$58,COUNTIF('Unit 36'!$C:$C,$D38),\"0\")","v":"0"},{"$f":"IF('Unit 37'!$C$7=$D$58,COUNTIF('Unit 37'!$C:$C,$D38),\"0\")","v":"0"},{"$f":"IF('Unit 38'!$C$7=$D$58,COUNTIF('Unit 38'!$C:$C,$D38),\"0\")","v":"0"},0,null,{"$f":"IF('Unit 1'!$C$7=$D$59,COUNTIF('Unit 1'!$C:$C,$D38),\"0\")","v":"0"},{"$f":"IF('Unit 2'!$C$7=$D$59,COUNTIF('Unit 2'!$C:$C,$D38),\"0\")","v":"0"},{"$f":"IF('Unit 3'!$C$7=$D$59,COUNTIF('Unit 3'!$C:$C,$D38),\"0\")","v":"0"},{"$f":"IF('Unit 4'!$C$7=$D$59,COUNTIF('Unit 4'!$C:$C,$D38),\"0\")","v":"0"},{"$f":"IF('Unit 5'!$C$7=$D$59,COUNTIF('Unit 5'!$C:$C,$D38),\"0\")","v":"0"},{"$f":"IF('Unit 6'!$C$7=$D$59,COUNTIF('Unit 6'!$C:$C,$D38),\"0\")","v":"0"},{"$f":"IF('Unit 7'!$C$7=$D$59,COUNTIF('Unit 7'!$C:$C,$D38),\"0\")","v":"0"},{"$f":"IF('Unit 8'!$C$7=$D$59,COUNTIF('Unit 8'!$C:$C,$D38),\"0\")","v":"0"},{"$f":"IF('Unit 9'!$C$7=$D$59,COUNTIF('Unit 9'!$C:$C,$D38),\"0\")","v":"0"},{"$f":"IF('Unit 10'!$C$7=$D$59,COUNTIF('Unit 10'!$C:$C,$D38),\"0\")","v":"0"},{"$f":"IF('Unit 11'!$C$7=$D$59,COUNTIF('Unit 11'!$C:$C,$D38),\"0\")","v":"0"},{"$f":"IF('Unit 12'!$C$7=$D$59,COUNTIF('Unit 12'!$C:$C,$D38),\"0\")","v":"0"},{"$f":"IF('Unit 13'!$C$7=$D$59,COUNTIF('Unit 13'!$C:$C,$D38),\"0\")","v":"0"},{"$f":"IF('Unit 14'!$C$7=$D$59,COUNTIF('Unit 14'!$C:$C,$D38),\"0\")","v":"0"},{"$f":"IF('Unit 15'!$C$7=$D$59,COUNTIF('Unit 15'!$C:$C,$D38),\"0\")","v":"0"},{"$f":"IF('Unit 16'!$C$7=$D$59,COUNTIF('Unit 16'!$C:$C,$D38),\"0\")","v":"0"},{"$f":"IF('Unit 17'!$C$7=$D$59,COUNTIF('Unit 17'!$C:$C,$D38),\"0\")","v":"0"},{"$f":"IF('Unit 18'!$C$7=$D$59,COUNTIF('Unit 18'!$C:$C,$D38),\"0\")","v":"0"},{"$f":"IF('Unit 19'!$C$7=$D$59,COUNTIF('Unit 19'!$C:$C,$D38),\"0\")","v":"0"},{"$f":"IF('Unit 20'!$C$7=$D$59,COUNTIF('Unit 20'!$C:$C,$D38),\"0\")","v":"0"},{"$f":"IF('Unit 21'!$C$7=$D$59,COUNTIF('Unit 21'!$C:$C,$D38),\"0\")","v":"0"},{"$f":"IF('Unit 22'!$C$7=$D$59,COUNTIF('Unit 22'!$C:$C,$D38),\"0\")","v":"0"},{"$f":"IF('Unit 23'!$C$7=$D$59,COUNTIF('Unit 23'!$C:$C,$D38),\"0\")","v":"0"},{"$f":"IF('Unit 24'!$C$7=$D$59,COUNTIF('Unit 24'!$C:$C,$D38),\"0\")","v":"0"},{"$f":"IF('Unit 25'!$C$7=$D$59,COUNTIF('Unit 25'!$C:$C,$D38),\"0\")","v":"0"},{"$f":"IF('Unit 26'!$C$7=$D$59,COUNTIF('Unit 26'!$C:$C,$D38),\"0\")","v":"0"},{"$f":"IF('Unit 27'!$C$7=$D$59,COUNTIF('Unit 27'!$C:$C,$D38),\"0\")","v":"0"},{"$f":"IF('Unit 28'!$C$7=$D$59,COUNTIF('Unit 28'!$C:$C,$D38),\"0\")","v":"0"},{"$f":"IF('Unit 29'!$C$7=$D$59,COUNTIF('Unit 29'!$C:$C,$D38),\"0\")","v":"0"},{"$f":"IF('Unit 30'!$C$7=$D$59,COUNTIF('Unit 30'!$C:$C,$D38),\"0\")","v":"0"},{"$f":"IF('Unit 31'!$C$7=$D$59,COUNTIF('Unit 31'!$C:$C,$D38),\"0\")","v":"0"},{"$f":"IF('Unit 32'!$C$7=$D$59,COUNTIF('Unit 32'!$C:$C,$D38),\"0\")","v":"0"},{"$f":"IF('Unit 33'!$C$7=$D$59,COUNTIF('Unit 33'!$C:$C,$D38),\"0\")","v":"0"},{"$f":"IF('Unit 34'!$C$7=$D$59,COUNTIF('Unit 34'!$C:$C,$D38),\"0\")","v":"0"},{"$f":"IF('Unit 35'!$C$7=$D$59,COUNTIF('Unit 35'!$C:$C,$D38),\"0\")","v":"0"},{"$f":"IF('Unit 36'!$C$7=$D$59,COUNTIF('Unit 36'!$C:$C,$D38),\"0\")","v":"0"},{"$f":"IF('Unit 37'!$C$7=$D$59,COUNTIF('Unit 37'!$C:$C,$D38),\"0\")","v":"0"},{"$f":"IF('Unit 38'!$C$7=$D$59,COUNTIF('Unit 38'!$C:$C,$D38),\"0\")","v":"0"},0,null,{"$f":"IF('Unit 1'!$C$7=$D$60,COUNTIF('Unit 1'!$C:$C,$D38),\"0\")","v":"0"},{"$f":"IF('Unit 2'!$C$7=$D$60,COUNTIF('Unit 2'!$C:$C,$D38),\"0\")","v":"0"},{"$f":"IF('Unit 3'!$C$7=$D$60,COUNTIF('Unit 3'!$C:$C,$D38),\"0\")","v":"0"},{"$f":"IF('Unit 4'!$C$7=$D$60,COUNTIF('Unit 4'!$C:$C,$D38),\"0\")","v":"0"},{"$f":"IF('Unit 5'!$C$7=$D$60,COUNTIF('Unit 5'!$C:$C,$D38),\"0\")","v":"0"},{"$f":"IF('Unit 6'!$C$7=$D$60,COUNTIF('Unit 6'!$C:$C,$D38),\"0\")","v":"0"},{"$f":"IF('Unit 7'!$C$7=$D$60,COUNTIF('Unit 7'!$C:$C,$D38),\"0\")","v":"0"},{"$f":"IF('Unit 8'!$C$7=$D$60,COUNTIF('Unit 8'!$C:$C,$D38),\"0\")","v":"0"},{"$f":"IF('Unit 9'!$C$7=$D$60,COUNTIF('Unit 9'!$C:$C,$D38),\"0\")","v":"0"},{"$f":"IF('Unit 10'!$C$7=$D$60,COUNTIF('Unit 10'!$C:$C,$D38),\"0\")","v":"0"},{"$f":"IF('Unit 11'!$C$7=$D$60,COUNTIF('Unit 11'!$C:$C,$D38),\"0\")","v":"0"},{"$f":"IF('Unit 12'!$C$7=$D$60,COUNTIF('Unit 12'!$C:$C,$D38),\"0\")","v":"0"},{"$f":"IF('Unit 13'!$C$7=$D$60,COUNTIF('Unit 13'!$C:$C,$D38),\"0\")","v":"0"},{"$f":"IF('Unit 14'!$C$7=$D$60,COUNTIF('Unit 14'!$C:$C,$D38),\"0\")","v":"0"},{"$f":"IF('Unit 15'!$C$7=$D$60,COUNTIF('Unit 15'!$C:$C,$D38),\"0\")","v":"0"},{"$f":"IF('Unit 16'!$C$7=$D$60,COUNTIF('Unit 16'!$C:$C,$D38),\"0\")","v":"0"},{"$f":"IF('Unit 17'!$C$7=$D$60,COUNTIF('Unit 17'!$C:$C,$D38),\"0\")","v":"0"},{"$f":"IF('Unit 18'!$C$7=$D$60,COUNTIF('Unit 18'!$C:$C,$D38),\"0\")","v":"0"},{"$f":"IF('Unit 19'!$C$7=$D$60,COUNTIF('Unit 19'!$C:$C,$D38),\"0\")","v":"0"},{"$f":"IF('Unit 20'!$C$7=$D$60,COUNTIF('Unit 20'!$C:$C,$D38),\"0\")","v":"0"},{"$f":"IF('Unit 21'!$C$7=$D$60,COUNTIF('Unit 21'!$C:$C,$D38),\"0\")","v":"0"},{"$f":"IF('Unit 22'!$C$7=$D$60,COUNTIF('Unit 22'!$C:$C,$D38),\"0\")","v":"0"},{"$f":"IF('Unit 23'!$C$7=$D$60,COUNTIF('Unit 23'!$C:$C,$D38),\"0\")","v":"0"},{"$f":"IF('Unit 24'!$C$7=$D$60,COUNTIF('Unit 24'!$C:$C,$D38),\"0\")","v":"0"},{"$f":"IF('Unit 25'!$C$7=$D$60,COUNTIF('Unit 25'!$C:$C,$D38),\"0\")","v":"0"},{"$f":"IF('Unit 26'!$C$7=$D$60,COUNTIF('Unit 26'!$C:$C,$D38),\"0\")","v":"0"},{"$f":"IF('Unit 27'!$C$7=$D$60,COUNTIF('Unit 27'!$C:$C,$D38),\"0\")","v":"0"},{"$f":"IF('Unit 28'!$C$7=$D$60,COUNTIF('Unit 28'!$C:$C,$D38),\"0\")","v":"0"},{"$f":"IF('Unit 29'!$C$7=$D$60,COUNTIF('Unit 29'!$C:$C,$D38),\"0\")","v":"0"},{"$f":"IF('Unit 30'!$C$7=$D$60,COUNTIF('Unit 30'!$C:$C,$D38),\"0\")","v":"0"},{"$f":"IF('Unit 31'!$C$7=$D$60,COUNTIF('Unit 31'!$C:$C,$D38),\"0\")","v":"0"},{"$f":"IF('Unit 32'!$C$7=$D$60,COUNTIF('Unit 32'!$C:$C,$D38),\"0\")","v":"0"},{"$f":"IF('Unit 33'!$C$7=$D$60,COUNTIF('Unit 33'!$C:$C,$D38),\"0\")","v":"0"},{"$f":"IF('Unit 34'!$C$7=$D$60,COUNTIF('Unit 34'!$C:$C,$D38),\"0\")","v":"0"},{"$f":"IF('Unit 35'!$C$7=$D$60,COUNTIF('Unit 35'!$C:$C,$D38),\"0\")","v":"0"},{"$f":"IF('Unit 36'!$C$7=$D$60,COUNTIF('Unit 36'!$C:$C,$D38),\"0\")","v":"0"},{"$f":"IF('Unit 37'!$C$7=$D$60,COUNTIF('Unit 37'!$C:$C,$D38),\"0\")","v":"0"},{"$f":"IF('Unit 38'!$C$7=$D$60,COUNTIF('Unit 38'!$C:$C,$D38),\"0\")","v":"0"},0]
[null,null,null,null,null,{"$f":"COUNTIF('Unit 1'!C:C,$D39)","v":0},{"$f":"COUNTIF('Unit 2'!C:C,D39)","v":0},{"$f":"COUNTIF('Unit 3'!C:C,D39)","v":0},{"$f":"COUNTIF('Unit 4'!C:C,D39)","v":0},{"$f":"COUNTIF('Unit 5'!C:C,D39)","v":0},{"$f":"COUNTIF('Unit 6'!C:C,D39)","v":0},{"$f":"COUNTIF('Unit 7'!C:C,D39)","v":0},{"$f":"COUNTIF('Unit 8'!C:C,D39)","v":0},{"$f":"COUNTIF('Unit 9'!C:C,D39)","v":0},{"$f":"COUNTIF('Unit 10'!C:C,D39)","v":0},{"$f":"COUNTIF('Unit 11'!C:C,D39)","v":0},{"$f":"COUNTIF('Unit 12'!C:C,D39)","v":0},{"$f":"COUNTIF('Unit 13'!C:C,D39)","v":0},{"$f":"COUNTIF('Unit 14'!C:C,D39)","v":0},{"$f":"COUNTIF('Unit 15'!C:C,D39)","v":0},{"$f":"COUNTIF('Unit 16'!C:C,D39)","v":0},{"$f":"COUNTIF('Unit 17'!C:C,D39)","v":0},{"$f":"COUNTIF('Unit 18'!C:C,D39)","v":0},{"$f":"COUNTIF('Unit 19'!C:C,D39)","v":0},{"$f":"COUNTIF('Unit 20'!C:C,D39)","v":0},{"$f":"COUNTIF('Unit 21'!C:C,D39)","v":0},{"$f":"COUNTIF('Unit 22'!C:C,D39)","v":0},{"$f":"COUNTIF('Unit 23'!C:C,D39)","v":0},{"$f":"COUNTIF('Unit 24'!C:C,D39)","v":0},{"$f":"COUNTIF('Unit 25'!C:C,D39)","v":0},{"$f":"COUNTIF('Unit 26'!C:C,D39)","v":0},{"$f":"COUNTIF('Unit 27'!C:C,D39)","v":0},{"$f":"COUNTIF('Unit 28'!C:C,D39)","v":0},{"$f":"COUNTIF('Unit 29'!C:C,D39)","v":0},{"$f":"COUNTIF('Unit 30'!C:C,D39)","v":0},{"$f":"COUNTIF('Unit 31'!C:C,D39)","v":0},{"$f":"COUNTIF('Unit 32'!C:C,D39)","v":0},{"$f":"COUNTIF('Unit 33'!C:C,D39)","v":0},{"$f":"COUNTIF('Unit 34'!C:C,D39)","v":0},{"$f":"COUNTIF('Unit 35'!C:C,D39)","v":0},{"$f":"COUNTIF('Unit 36'!C:C,D39)","v":0},{"$f":"COUNTIF('Unit 37'!C:C,D39)","v":0},{"$f":"COUNTIF('Unit 38'!C:C,D39)","v":0},0,null,{"$f":"IF('Unit 1'!$C$7=$D$58,COUNTIF('Unit 1'!$C:$C,$D39),\"0\")","v":"0"},{"$f":"IF('Unit 2'!$C$7=$D$58,COUNTIF('Unit 2'!$C:$C,$D39),\"0\")","v":"0"},{"$f":"IF('Unit 3'!$C$7=$D$58,COUNTIF('Unit 3'!$C:$C,$D39),\"0\")","v":"0"},{"$f":"IF('Unit 4'!$C$7=$D$58,COUNTIF('Unit 4'!$C:$C,$D39),\"0\")","v":"0"},{"$f":"IF('Unit 5'!$C$7=$D$58,COUNTIF('Unit 5'!$C:$C,$D39),\"0\")","v":"0"},{"$f":"IF('Unit 6'!$C$7=$D$58,COUNTIF('Unit 6'!$C:$C,$D39),\"0\")","v":"0"},{"$f":"IF('Unit 7'!$C$7=$D$58,COUNTIF('Unit 7'!$C:$C,$D39),\"0\")","v":"0"},{"$f":"IF('Unit 8'!$C$7=$D$58,COUNTIF('Unit 8'!$C:$C,$D39),\"0\")","v":"0"},{"$f":"IF('Unit 9'!$C$7=$D$58,COUNTIF('Unit 9'!$C:$C,$D39),\"0\")","v":"0"},{"$f":"IF('Unit 10'!$C$7=$D$58,COUNTIF('Unit 10'!$C:$C,$D39),\"0\")","v":"0"},{"$f":"IF('Unit 11'!$C$7=$D$58,COUNTIF('Unit 11'!$C:$C,$D39),\"0\")","v":"0"},{"$f":"IF('Unit 12'!$C$7=$D$58,COUNTIF('Unit 12'!$C:$C,$D39),\"0\")","v":"0"},{"$f":"IF('Unit 13'!$C$7=$D$58,COUNTIF('Unit 13'!$C:$C,$D39),\"0\")","v":"0"},{"$f":"IF('Unit 14'!$C$7=$D$58,COUNTIF('Unit 14'!$C:$C,$D39),\"0\")","v":"0"},{"$f":"IF('Unit 15'!$C$7=$D$58,COUNTIF('Unit 15'!$C:$C,$D39),\"0\")","v":"0"},{"$f":"IF('Unit 16'!$C$7=$D$58,COUNTIF('Unit 16'!$C:$C,$D39),\"0\")","v":"0"},{"$f":"IF('Unit 17'!$C$7=$D$58,COUNTIF('Unit 17'!$C:$C,$D39),\"0\")","v":"0"},{"$f":"IF('Unit 18'!$C$7=$D$58,COUNTIF('Unit 18'!$C:$C,$D39),\"0\")","v":"0"},{"$f":"IF('Unit 19'!$C$7=$D$58,COUNTIF('Unit 19'!$C:$C,$D39),\"0\")","v":"0"},{"$f":"IF('Unit 20'!$C$7=$D$58,COUNTIF('Unit 20'!$C:$C,$D39),\"0\")","v":"0"},{"$f":"IF('Unit 21'!$C$7=$D$58,COUNTIF('Unit 21'!$C:$C,$D39),\"0\")","v":"0"},{"$f":"IF('Unit 22'!$C$7=$D$58,COUNTIF('Unit 22'!$C:$C,$D39),\"0\")","v":"0"},{"$f":"IF('Unit 23'!$C$7=$D$58,COUNTIF('Unit 23'!$C:$C,$D39),\"0\")","v":"0"},{"$f":"IF('Unit 24'!$C$7=$D$58,COUNTIF('Unit 24'!$C:$C,$D39),\"0\")","v":"0"},{"$f":"IF('Unit 25'!$C$7=$D$58,COUNTIF('Unit 25'!$C:$C,$D39),\"0\")","v":"0"},{"$f":"IF('Unit 26'!$C$7=$D$58,COUNTIF('Unit 26'!$C:$C,$D39),\"0\")","v":"0"},{"$f":"IF('Unit 27'!$C$7=$D$58,COUNTIF('Unit 27'!$C:$C,$D39),\"0\")","v":"0"},{"$f":"IF('Unit 28'!$C$7=$D$58,COUNTIF('Unit 28'!$C:$C,$D39),\"0\")","v":"0"},{"$f":"IF('Unit 29'!$C$7=$D$58,COUNTIF('Unit 29'!$C:$C,$D39),\"0\")","v":"0"},{"$f":"IF('Unit 30'!$C$7=$D$58,COUNTIF('Unit 30'!$C:$C,$D39),\"0\")","v":"0"},{"$f":"IF('Unit 31'!$C$7=$D$58,COUNTIF('Unit 31'!$C:$C,$D39),\"0\")","v":"0"},{"$f":"IF('Unit 32'!$C$7=$D$58,COUNTIF('Unit 32'!$C:$C,$D39),\"0\")","v":"0"},{"$f":"IF('Unit 33'!$C$7=$D$58,COUNTIF('Unit 33'!$C:$C,$D39),\"0\")","v":"0"},{"$f":"IF('Unit 34'!$C$7=$D$58,COUNTIF('Unit 34'!$C:$C,$D39),\"0\")","v":"0"},{"$f":"IF('Unit 35'!$C$7=$D$58,COUNTIF('Unit 35'!$C:$C,$D39),\"0\")","v":"0"},{"$f":"IF('Unit 36'!$C$7=$D$58,COUNTIF('Unit 36'!$C:$C,$D39),\"0\")","v":"0"},{"$f":"IF('Unit 37'!$C$7=$D$58,COUNTIF('Unit 37'!$C:$C,$D39),\"0\")","v":"0"},{"$f":"IF('Unit 38'!$C$7=$D$58,COUNTIF('Unit 38'!$C:$C,$D39),\"0\")","v":"0"},0,null,{"$f":"IF('Unit 1'!$C$7=$D$59,COUNTIF('Unit 1'!$C:$C,$D39),\"0\")","v":"0"},{"$f":"IF('Unit 2'!$C$7=$D$59,COUNTIF('Unit 2'!$C:$C,$D39),\"0\")","v":"0"},{"$f":"IF('Unit 3'!$C$7=$D$59,COUNTIF('Unit 3'!$C:$C,$D39),\"0\")","v":"0"},{"$f":"IF('Unit 4'!$C$7=$D$59,COUNTIF('Unit 4'!$C:$C,$D39),\"0\")","v":"0"},{"$f":"IF('Unit 5'!$C$7=$D$59,COUNTIF('Unit 5'!$C:$C,$D39),\"0\")","v":"0"},{"$f":"IF('Unit 6'!$C$7=$D$59,COUNTIF('Unit 6'!$C:$C,$D39),\"0\")","v":"0"},{"$f":"IF('Unit 7'!$C$7=$D$59,COUNTIF('Unit 7'!$C:$C,$D39),\"0\")","v":"0"},{"$f":"IF('Unit 8'!$C$7=$D$59,COUNTIF('Unit 8'!$C:$C,$D39),\"0\")","v":"0"},{"$f":"IF('Unit 9'!$C$7=$D$59,COUNTIF('Unit 9'!$C:$C,$D39),\"0\")","v":"0"},{"$f":"IF('Unit 10'!$C$7=$D$59,COUNTIF('Unit 10'!$C:$C,$D39),\"0\")","v":"0"},{"$f":"IF('Unit 11'!$C$7=$D$59,COUNTIF('Unit 11'!$C:$C,$D39),\"0\")","v":"0"},{"$f":"IF('Unit 12'!$C$7=$D$59,COUNTIF('Unit 12'!$C:$C,$D39),\"0\")","v":"0"},{"$f":"IF('Unit 13'!$C$7=$D$59,COUNTIF('Unit 13'!$C:$C,$D39),\"0\")","v":"0"},{"$f":"IF('Unit 14'!$C$7=$D$59,COUNTIF('Unit 14'!$C:$C,$D39),\"0\")","v":"0"},{"$f":"IF('Unit 15'!$C$7=$D$59,COUNTIF('Unit 15'!$C:$C,$D39),\"0\")","v":"0"},{"$f":"IF('Unit 16'!$C$7=$D$59,COUNTIF('Unit 16'!$C:$C,$D39),\"0\")","v":"0"},{"$f":"IF('Unit 17'!$C$7=$D$59,COUNTIF('Unit 17'!$C:$C,$D39),\"0\")","v":"0"},{"$f":"IF('Unit 18'!$C$7=$D$59,COUNTIF('Unit 18'!$C:$C,$D39),\"0\")","v":"0"},{"$f":"IF('Unit 19'!$C$7=$D$59,COUNTIF('Unit 19'!$C:$C,$D39),\"0\")","v":"0"},{"$f":"IF('Unit 20'!$C$7=$D$59,COUNTIF('Unit 20'!$C:$C,$D39),\"0\")","v":"0"},{"$f":"IF('Unit 21'!$C$7=$D$59,COUNTIF('Unit 21'!$C:$C,$D39),\"0\")","v":"0"},{"$f":"IF('Unit 22'!$C$7=$D$59,COUNTIF('Unit 22'!$C:$C,$D39),\"0\")","v":"0"},{"$f":"IF('Unit 23'!$C$7=$D$59,COUNTIF('Unit 23'!$C:$C,$D39),\"0\")","v":"0"},{"$f":"IF('Unit 24'!$C$7=$D$59,COUNTIF('Unit 24'!$C:$C,$D39),\"0\")","v":"0"},{"$f":"IF('Unit 25'!$C$7=$D$59,COUNTIF('Unit 25'!$C:$C,$D39),\"0\")","v":"0"},{"$f":"IF('Unit 26'!$C$7=$D$59,COUNTIF('Unit 26'!$C:$C,$D39),\"0\")","v":"0"},{"$f":"IF('Unit 27'!$C$7=$D$59,COUNTIF('Unit 27'!$C:$C,$D39),\"0\")","v":"0"},{"$f":"IF('Unit 28'!$C$7=$D$59,COUNTIF('Unit 28'!$C:$C,$D39),\"0\")","v":"0"},{"$f":"IF('Unit 29'!$C$7=$D$59,COUNTIF('Unit 29'!$C:$C,$D39),\"0\")","v":"0"},{"$f":"IF('Unit 30'!$C$7=$D$59,COUNTIF('Unit 30'!$C:$C,$D39),\"0\")","v":"0"},{"$f":"IF('Unit 31'!$C$7=$D$59,COUNTIF('Unit 31'!$C:$C,$D39),\"0\")","v":"0"},{"$f":"IF('Unit 32'!$C$7=$D$59,COUNTIF('Unit 32'!$C:$C,$D39),\"0\")","v":"0"},{"$f":"IF('Unit 33'!$C$7=$D$59,COUNTIF('Unit 33'!$C:$C,$D39),\"0\")","v":"0"},{"$f":"IF('Unit 34'!$C$7=$D$59,COUNTIF('Unit 34'!$C:$C,$D39),\"0\")","v":"0"},{"$f":"IF('Unit 35'!$C$7=$D$59,COUNTIF('Unit 35'!$C:$C,$D39),\"0\")","v":"0"},{"$f":"IF('Unit 36'!$C$7=$D$59,COUNTIF('Unit 36'!$C:$C,$D39),\"0\")","v":"0"},{"$f":"IF('Unit 37'!$C$7=$D$59,COUNTIF('Unit 37'!$C:$C,$D39),\"0\")","v":"0"},{"$f":"IF('Unit 38'!$C$7=$D$59,COUNTIF('Unit 38'!$C:$C,$D39),\"0\")","v":"0"},0,null,{"$f":"IF('Unit 1'!$C$7=$D$60,COUNTIF('Unit 1'!$C:$C,$D39),\"0\")","v":"0"},{"$f":"IF('Unit 2'!$C$7=$D$60,COUNTIF('Unit 2'!$C:$C,$D39),\"0\")","v":"0"},{"$f":"IF('Unit 3'!$C$7=$D$60,COUNTIF('Unit 3'!$C:$C,$D39),\"0\")","v":"0"},{"$f":"IF('Unit 4'!$C$7=$D$60,COUNTIF('Unit 4'!$C:$C,$D39),\"0\")","v":"0"},{"$f":"IF('Unit 5'!$C$7=$D$60,COUNTIF('Unit 5'!$C:$C,$D39),\"0\")","v":"0"},{"$f":"IF('Unit 6'!$C$7=$D$60,COUNTIF('Unit 6'!$C:$C,$D39),\"0\")","v":"0"},{"$f":"IF('Unit 7'!$C$7=$D$60,COUNTIF('Unit 7'!$C:$C,$D39),\"0\")","v":"0"},{"$f":"IF('Unit 8'!$C$7=$D$60,COUNTIF('Unit 8'!$C:$C,$D39),\"0\")","v":"0"},{"$f":"IF('Unit 9'!$C$7=$D$60,COUNTIF('Unit 9'!$C:$C,$D39),\"0\")","v":"0"},{"$f":"IF('Unit 10'!$C$7=$D$60,COUNTIF('Unit 10'!$C:$C,$D39),\"0\")","v":"0"},{"$f":"IF('Unit 11'!$C$7=$D$60,COUNTIF('Unit 11'!$C:$C,$D39),\"0\")","v":"0"},{"$f":"IF('Unit 12'!$C$7=$D$60,COUNTIF('Unit 12'!$C:$C,$D39),\"0\")","v":"0"},{"$f":"IF('Unit 13'!$C$7=$D$60,COUNTIF('Unit 13'!$C:$C,$D39),\"0\")","v":"0"},{"$f":"IF('Unit 14'!$C$7=$D$60,COUNTIF('Unit 14'!$C:$C,$D39),\"0\")","v":"0"},{"$f":"IF('Unit 15'!$C$7=$D$60,COUNTIF('Unit 15'!$C:$C,$D39),\"0\")","v":"0"},{"$f":"IF('Unit 16'!$C$7=$D$60,COUNTIF('Unit 16'!$C:$C,$D39),\"0\")","v":"0"},{"$f":"IF('Unit 17'!$C$7=$D$60,COUNTIF('Unit 17'!$C:$C,$D39),\"0\")","v":"0"},{"$f":"IF('Unit 18'!$C$7=$D$60,COUNTIF('Unit 18'!$C:$C,$D39),\"0\")","v":"0"},{"$f":"IF('Unit 19'!$C$7=$D$60,COUNTIF('Unit 19'!$C:$C,$D39),\"0\")","v":"0"},{"$f":"IF('Unit 20'!$C$7=$D$60,COUNTIF('Unit 20'!$C:$C,$D39),\"0\")","v":"0"},{"$f":"IF('Unit 21'!$C$7=$D$60,COUNTIF('Unit 21'!$C:$C,$D39),\"0\")","v":"0"},{"$f":"IF('Unit 22'!$C$7=$D$60,COUNTIF('Unit 22'!$C:$C,$D39),\"0\")","v":"0"},{"$f":"IF('Unit 23'!$C$7=$D$60,COUNTIF('Unit 23'!$C:$C,$D39),\"0\")","v":"0"},{"$f":"IF('Unit 24'!$C$7=$D$60,COUNTIF('Unit 24'!$C:$C,$D39),\"0\")","v":"0"},{"$f":"IF('Unit 25'!$C$7=$D$60,COUNTIF('Unit 25'!$C:$C,$D39),\"0\")","v":"0"},{"$f":"IF('Unit 26'!$C$7=$D$60,COUNTIF('Unit 26'!$C:$C,$D39),\"0\")","v":"0"},{"$f":"IF('Unit 27'!$C$7=$D$60,COUNTIF('Unit 27'!$C:$C,$D39),\"0\")","v":"0"},{"$f":"IF('Unit 28'!$C$7=$D$60,COUNTIF('Unit 28'!$C:$C,$D39),\"0\")","v":"0"},{"$f":"IF('Unit 29'!$C$7=$D$60,COUNTIF('Unit 29'!$C:$C,$D39),\"0\")","v":"0"},{"$f":"IF('Unit 30'!$C$7=$D$60,COUNTIF('Unit 30'!$C:$C,$D39),\"0\")","v":"0"},{"$f":"IF('Unit 31'!$C$7=$D$60,COUNTIF('Unit 31'!$C:$C,$D39),\"0\")","v":"0"},{"$f":"IF('Unit 32'!$C$7=$D$60,COUNTIF('Unit 32'!$C:$C,$D39),\"0\")","v":"0"},{"$f":"IF('Unit 33'!$C$7=$D$60,COUNTIF('Unit 33'!$C:$C,$D39),\"0\")","v":"0"},{"$f":"IF('Unit 34'!$C$7=$D$60,COUNTIF('Unit 34'!$C:$C,$D39),\"0\")","v":"0"},{"$f":"IF('Unit 35'!$C$7=$D$60,COUNTIF('Unit 35'!$C:$C,$D39),\"0\")","v":"0"},{"$f":"IF('Unit 36'!$C$7=$D$60,COUNTIF('Unit 36'!$C:$C,$D39),\"0\")","v":"0"},{"$f":"IF('Unit 37'!$C$7=$D$60,COUNTIF('Unit 37'!$C:$C,$D39),\"0\")","v":"0"},{"$f":"IF('Unit 38'!$C$7=$D$60,COUNTIF('Unit 38'!$C:$C,$D39),\"0\")","v":"0"},0]
["Mechatronics",{"$f":"B8","v":"Engineering Knowledge and Awareness"},"3.1","3.1 explain the operation of basic mechatronic systems ","Explain: give a detailed account including reasons or causes",{"$f":"COUNTIF('Unit 1'!C:C,$D40)","v":0},{"$f":"COUNTIF('Unit 2'!C:C,D40)","v":0},{"$f":"COUNTIF('Unit 3'!C:C,D40)","v":0},{"$f":"COUNTIF('Unit 4'!C:C,D40)","v":0},{"$f":"COUNTIF('Unit 5'!C:C,D40)","v":0},{"$f":"COUNTIF('Unit 6'!C:C,D40)","v":0},{"$f":"COUNTIF('Unit 7'!C:C,D40)","v":0},{"$f":"COUNTIF('Unit 8'!C:C,D40)","v":0},{"$f":"COUNTIF('Unit 9'!C:C,D40)","v":0},{"$f":"COUNTIF('Unit 10'!C:C,D40)","v":0},{"$f":"COUNTIF('Unit 11'!C:C,D40)","v":0},{"$f":"COUNTIF('Unit 12'!C:C,D40)","v":0},{"$f":"COUNTIF('Unit 13'!C:C,D40)","v":0},{"$f":"COUNTIF('Unit 14'!C:C,D40)","v":0},{"$f":"COUNTIF('Unit 15'!C:C,D40)","v":0},{"$f":"COUNTIF('Unit 16'!C:C,D40)","v":0},{"$f":"COUNTIF('Unit 17'!C:C,D40)","v":0},{"$f":"COUNTIF('Unit 18'!C:C,D40)","v":0},{"$f":"COUNTIF('Unit 19'!C:C,D40)","v":0},{"$f":"COUNTIF('Unit 20'!C:C,D40)","v":0},{"$f":"COUNTIF('Unit 21'!C:C,D40)","v":0},{"$f":"COUNTIF('Unit 22'!C:C,D40)","v":0},{"$f":"COUNTIF('Unit 23'!C:C,D40)","v":0},{"$f":"COUNTIF('Unit 24'!C:C,D40)","v":0},{"$f":"COUNTIF('Unit 25'!C:C,D40)","v":0},{"$f":"COUNTIF('Unit 26'!C:C,D40)","v":0},{"$f":"COUNTIF('Unit 27'!C:C,D40)","v":0},{"$f":"COUNTIF('Unit 28'!C:C,D40)","v":0},{"$f":"COUNTIF('Unit 29'!C:C,D40)","v":0},{"$f":"COUNTIF('Unit 30'!C:C,D40)","v":0},{"$f":"COUNTIF('Unit 31'!C:C,D40)","v":0},{"$f":"COUNTIF('Unit 32'!C:C,D40)","v":0},{"$f":"COUNTIF('Unit 33'!C:C,D40)","v":0},{"$f":"COUNTIF('Unit 34'!C:C,D40)","v":0},{"$f":"COUNTIF('Unit 35'!C:C,D40)","v":0},{"$f":"COUNTIF('Unit 36'!C:C,D40)","v":0},{"$f":"COUNTIF('Unit 37'!C:C,D40)","v":0},{"$f":"COUNTIF('Unit 38'!C:C,D40)","v":0},0,null,{"$f":"IF('Unit 1'!$C$7=$D$58,COUNTIF('Unit 1'!$C:$C,$D40),\"0\")","v":"0"},{"$f":"IF('Unit 2'!$C$7=$D$58,COUNTIF('Unit 2'!$C:$C,$D40),\"0\")","v":"0"},{"$f":"IF('Unit 3'!$C$7=$D$58,COUNTIF('Unit 3'!$C:$C,$D40),\"0\")","v":"0"},{"$f":"IF('Unit 4'!$C$7=$D$58,COUNTIF('Unit 4'!$C:$C,$D40),\"0\")","v":"0"},{"$f":"IF('Unit 5'!$C$7=$D$58,COUNTIF('Unit 5'!$C:$C,$D40),\"0\")","v":"0"},{"$f":"IF('Unit 6'!$C$7=$D$58,COUNTIF('Unit 6'!$C:$C,$D40),\"0\")","v":"0"},{"$f":"IF('Unit 7'!$C$7=$D$58,COUNTIF('Unit 7'!$C:$C,$D40),\"0\")","v":"0"},{"$f":"IF('Unit 8'!$C$7=$D$58,COUNTIF('Unit 8'!$C:$C,$D40),\"0\")","v":"0"},{"$f":"IF('Unit 9'!$C$7=$D$58,COUNTIF('Unit 9'!$C:$C,$D40),\"0\")","v":"0"},{"$f":"IF('Unit 10'!$C$7=$D$58,COUNTIF('Unit 10'!$C:$C,$D40),\"0\")","v":"0"},{"$f":"IF('Unit 11'!$C$7=$D$58,COUNTIF('Unit 11'!$C:$C,$D40),\"0\")","v":"0"},{"$f":"IF('Unit 12'!$C$7=$D$58,COUNTIF('Unit 12'!$C:$C,$D40),\"0\")","v":"0"},{"$f":"IF('Unit 13'!$C$7=$D$58,COUNTIF('Unit 13'!$C:$C,$D40),\"0\")","v":"0"},{"$f":"IF('Unit 14'!$C$7=$D$58,COUNTIF('Unit 14'!$C:$C,$D40),\"0\")","v":"0"},{"$f":"IF('Unit 15'!$C$7=$D$58,COUNTIF('Unit 15'!$C:$C,$D40),\"0\")","v":"0"},{"$f":"IF('Unit 16'!$C$7=$D$58,COUNTIF('Unit 16'!$C:$C,$D40),\"0\")","v":"0"},{"$f":"IF('Unit 17'!$C$7=$D$58,COUNTIF('Unit 17'!$C:$C,$D40),\"0\")","v":"0"},{"$f":"IF('Unit 18'!$C$7=$D$58,COUNTIF('Unit 18'!$C:$C,$D40),\"0\")","v":"0"},{"$f":"IF('Unit 19'!$C$7=$D$58,COUNTIF('Unit 19'!$C:$C,$D40),\"0\")","v":"0"},{"$f":"IF('Unit 20'!$C$7=$D$58,COUNTIF('Unit 20'!$C:$C,$D40),\"0\")","v":"0"},{"$f":"IF('Unit 21'!$C$7=$D$58,COUNTIF('Unit 21'!$C:$C,$D40),\"0\")","v":"0"},{"$f":"IF('Unit 22'!$C$7=$D$58,COUNTIF('Unit 22'!$C:$C,$D40),\"0\")","v":"0"},{"$f":"IF('Unit 23'!$C$7=$D$58,COUNTIF('Unit 23'!$C:$C,$D40),\"0\")","v":"0"},{"$f":"IF('Unit 24'!$C$7=$D$58,COUNTIF('Unit 24'!$C:$C,$D40),\"0\")","v":"0"},{"$f":"IF('Unit 25'!$C$7=$D$58,COUNTIF('Unit 25'!$C:$C,$D40),\"0\")","v":"0"},{"$f":"IF('Unit 26'!$C$7=$D$58,COUNTIF('Unit 26'!$C:$C,$D40),\"0\")","v":"0"},{"$f":"IF('Unit 27'!$C$7=$D$58,COUNTIF('Unit 27'!$C:$C,$D40),\"0\")","v":"0"},{"$f":"IF('Unit 28'!$C$7=$D$58,COUNTIF('Unit 28'!$C:$C,$D40),\"0\")","v":"0"},{"$f":"IF('Unit 29'!$C$7=$D$58,COUNTIF('Unit 29'!$C:$C,$D40),\"0\")","v":"0"},{"$f":"IF('Unit 30'!$C$7=$D$58,COUNTIF('Unit 30'!$C:$C,$D40),\"0\")","v":"0"},{"$f":"IF('Unit 31'!$C$7=$D$58,COUNTIF('Unit 31'!$C:$C,$D40),\"0\")","v":"0"},{"$f":"IF('Unit 32'!$C$7=$D$58,COUNTIF('Unit 32'!$C:$C,$D40),\"0\")","v":"0"},{"$f":"IF('Unit 33'!$C$7=$D$58,COUNTIF('Unit 33'!$C:$C,$D40),\"0\")","v":"0"},{"$f":"IF('Unit 34'!$C$7=$D$58,COUNTIF('Unit 34'!$C:$C,$D40),\"0\")","v":"0"},{"$f":"IF('Unit 35'!$C$7=$D$58,COUNTIF('Unit 35'!$C:$C,$D40),\"0\")","v":"0"},{"$f":"IF('Unit 36'!$C$7=$D$58,COUNTIF('Unit 36'!$C:$C,$D40),\"0\")","v":"0"},{"$f":"IF('Unit 37'!$C$7=$D$58,COUNTIF('Unit 37'!$C:$C,$D40),\"0\")","v":"0"},{"$f":"IF('Unit 38'!$C$7=$D$58,COUNTIF('Unit 38'!$C:$C,$D40),\"0\")","v":"0"},0,null,{"$f":"IF('Unit 1'!$C$7=$D$59,COUNTIF('Unit 1'!$C:$C,$D40),\"0\")","v":"0"},{"$f":"IF('Unit 2'!$C$7=$D$59,COUNTIF('Unit 2'!$C:$C,$D40),\"0\")","v":"0"},{"$f":"IF('Unit 3'!$C$7=$D$59,COUNTIF('Unit 3'!$C:$C,$D40),\"0\")","v":"0"},{"$f":"IF('Unit 4'!$C$7=$D$59,COUNTIF('Unit 4'!$C:$C,$D40),\"0\")","v":"0"},{"$f":"IF('Unit 5'!$C$7=$D$59,COUNTIF('Unit 5'!$C:$C,$D40),\"0\")","v":"0"},{"$f":"IF('Unit 6'!$C$7=$D$59,COUNTIF('Unit 6'!$C:$C,$D40),\"0\")","v":"0"},{"$f":"IF('Unit 7'!$C$7=$D$59,COUNTIF('Unit 7'!$C:$C,$D40),\"0\")","v":"0"},{"$f":"IF('Unit 8'!$C$7=$D$59,COUNTIF('Unit 8'!$C:$C,$D40),\"0\")","v":"0"},{"$f":"IF('Unit 9'!$C$7=$D$59,COUNTIF('Unit 9'!$C:$C,$D40),\"0\")","v":"0"},{"$f":"IF('Unit 10'!$C$7=$D$59,COUNTIF('Unit 10'!$C:$C,$D40),\"0\")","v":"0"},{"$f":"IF('Unit 11'!$C$7=$D$59,COUNTIF('Unit 11'!$C:$C,$D40),\"0\")","v":"0"},{"$f":"IF('Unit 12'!$C$7=$D$59,COUNTIF('Unit 12'!$C:$C,$D40),\"0\")","v":"0"},{"$f":"IF('Unit 13'!$C$7=$D$59,COUNTIF('Unit 13'!$C:$C,$D40),\"0\")","v":"0"},{"$f":"IF('Unit 14'!$C$7=$D$59,COUNTIF('Unit 14'!$C:$C,$D40),\"0\")","v":"0"},{"$f":"IF('Unit 15'!$C$7=$D$59,COUNTIF('Unit 15'!$C:$C,$D40),\"0\")","v":"0"},{"$f":"IF('Unit 16'!$C$7=$D$59,COUNTIF('Unit 16'!$C:$C,$D40),\"0\")","v":"0"},{"$f":"IF('Unit 17'!$C$7=$D$59,COUNTIF('Unit 17'!$C:$C,$D40),\"0\")","v":"0"},{"$f":"IF('Unit 18'!$C$7=$D$59,COUNTIF('Unit 18'!$C:$C,$D40),\"0\")","v":"0"},{"$f":"IF('Unit 19'!$C$7=$D$59,COUNTIF('Unit 19'!$C:$C,$D40),\"0\")","v":"0"},{"$f":"IF('Unit 20'!$C$7=$D$59,COUNTIF('Unit 20'!$C:$C,$D40),\"0\")","v":"0"},{"$f":"IF('Unit 21'!$C$7=$D$59,COUNTIF('Unit 21'!$C:$C,$D40),\"0\")","v":"0"},{"$f":"IF('Unit 22'!$C$7=$D$59,COUNTIF('Unit 22'!$C:$C,$D40),\"0\")","v":"0"},{"$f":"IF('Unit 23'!$C$7=$D$59,COUNTIF('Unit 23'!$C:$C,$D40),\"0\")","v":"0"},{"$f":"IF('Unit 24'!$C$7=$D$59,COUNTIF('Unit 24'!$C:$C,$D40),\"0\")","v":"0"},{"$f":"IF('Unit 25'!$C$7=$D$59,COUNTIF('Unit 25'!$C:$C,$D40),\"0\")","v":"0"},{"$f":"IF('Unit 26'!$C$7=$D$59,COUNTIF('Unit 26'!$C:$C,$D40),\"0\")","v":"0"},{"$f":"IF('Unit 27'!$C$7=$D$59,COUNTIF('Unit 27'!$C:$C,$D40),\"0\")","v":"0"},{"$f":"IF('Unit 28'!$C$7=$D$59,COUNTIF('Unit 28'!$C:$C,$D40),\"0\")","v":"0"},{"$f":"IF('Unit 29'!$C$7=$D$59,COUNTIF('Unit 29'!$C:$C,$D40),\"0\")","v":"0"},{"$f":"IF('Unit 30'!$C$7=$D$59,COUNTIF('Unit 30'!$C:$C,$D40),\"0\")","v":"0"},{"$f":"IF('Unit 31'!$C$7=$D$59,COUNTIF('Unit 31'!$C:$C,$D40),\"0\")","v":"0"},{"$f":"IF('Unit 32'!$C$7=$D$59,COUNTIF('Unit 32'!$C:$C,$D40),\"0\")","v":"0"},{"$f":"IF('Unit 33'!$C$7=$D$59,COUNTIF('Unit 33'!$C:$C,$D40),\"0\")","v":"0"},{"$f":"IF('Unit 34'!$C$7=$D$59,COUNTIF('Unit 34'!$C:$C,$D40),\"0\")","v":"0"},{"$f":"IF('Unit 35'!$C$7=$D$59,COUNTIF('Unit 35'!$C:$C,$D40),\"0\")","v":"0"},{"$f":"IF('Unit 36'!$C$7=$D$59,COUNTIF('Unit 36'!$C:$C,$D40),\"0\")","v":"0"},{"$f":"IF('Unit 37'!$C$7=$D$59,COUNTIF('Unit 37'!$C:$C,$D40),\"0\")","v":"0"},{"$f":"IF('Unit 38'!$C$7=$D$59,COUNTIF('Unit 38'!$C:$C,$D40),\"0\")","v":"0"},0,null,{"$f":"IF('Unit 1'!$C$7=$D$60,COUNTIF('Unit 1'!$C:$C,$D40),\"0\")","v":"0"},{"$f":"IF('Unit 2'!$C$7=$D$60,COUNTIF('Unit 2'!$C:$C,$D40),\"0\")","v":"0"},{"$f":"IF('Unit 3'!$C$7=$D$60,COUNTIF('Unit 3'!$C:$C,$D40),\"0\")","v":"0"},{"$f":"IF('Unit 4'!$C$7=$D$60,COUNTIF('Unit 4'!$C:$C,$D40),\"0\")","v":"0"},{"$f":"IF('Unit 5'!$C$7=$D$60,COUNTIF('Unit 5'!$C:$C,$D40),\"0\")","v":"0"},{"$f":"IF('Unit 6'!$C$7=$D$60,COUNTIF('Unit 6'!$C:$C,$D40),\"0\")","v":"0"},{"$f":"IF('Unit 7'!$C$7=$D$60,COUNTIF('Unit 7'!$C:$C,$D40),\"0\")","v":"0"},{"$f":"IF('Unit 8'!$C$7=$D$60,COUNTIF('Unit 8'!$C:$C,$D40),\"0\")","v":"0"},{"$f":"IF('Unit 9'!$C$7=$D$60,COUNTIF('Unit 9'!$C:$C,$D40),\"0\")","v":"0"},{"$f":"IF('Unit 10'!$C$7=$D$60,COUNTIF('Unit 10'!$C:$C,$D40),\"0\")","v":"0"},{"$f":"IF('Unit 11'!$C$7=$D$60,COUNTIF('Unit 11'!$C:$C,$D40),\"0\")","v":"0"},{"$f":"IF('Unit 12'!$C$7=$D$60,COUNTIF('Unit 12'!$C:$C,$D40),\"0\")","v":"0"},{"$f":"IF('Unit 13'!$C$7=$D$60,COUNTIF('Unit 13'!$C:$C,$D40),\"0\")","v":"0"},{"$f":"IF('Unit 14'!$C$7=$D$60,COUNTIF('Unit 14'!$C:$C,$D40),\"0\")","v":"0"},{"$f":"IF('Unit 15'!$C$7=$D$60,COUNTIF('Unit 15'!$C:$C,$D40),\"0\")","v":"0"},{"$f":"IF('Unit 16'!$C$7=$D$60,COUNTIF('Unit 16'!$C:$C,$D40),\"0\")","v":"0"},{"$f":"IF('Unit 17'!$C$7=$D$60,COUNTIF('Unit 17'!$C:$C,$D40),\"0\")","v":"0"},{"$f":"IF('Unit 18'!$C$7=$D$60,COUNTIF('Unit 18'!$C:$C,$D40),\"0\")","v":"0"},{"$f":"IF('Unit 19'!$C$7=$D$60,COUNTIF('Unit 19'!$C:$C,$D40),\"0\")","v":"0"},{"$f":"IF('Unit 20'!$C$7=$D$60,COUNTIF('Unit 20'!$C:$C,$D40),\"0\")","v":"0"},{"$f":"IF('Unit 21'!$C$7=$D$60,COUNTIF('Unit 21'!$C:$C,$D40),\"0\")","v":"0"},{"$f":"IF('Unit 22'!$C$7=$D$60,COUNTIF('Unit 22'!$C:$C,$D40),\"0\")","v":"0"},{"$f":"IF('Unit 23'!$C$7=$D$60,COUNTIF('Unit 23'!$C:$C,$D40),\"0\")","v":"0"},{"$f":"IF('Unit 24'!$C$7=$D$60,COUNTIF('Unit 24'!$C:$C,$D40),\"0\")","v":"0"},{"$f":"IF('Unit 25'!$C$7=$D$60,COUNTIF('Unit 25'!$C:$C,$D40),\"0\")","v":"0"},{"$f":"IF('Unit 26'!$C$7=$D$60,COUNTIF('Unit 26'!$C:$C,$D40),\"0\")","v":"0"},{"$f":"IF('Unit 27'!$C$7=$D$60,COUNTIF('Unit 27'!$C:$C,$D40),\"0\")","v":"0"},{"$f":"IF('Unit 28'!$C$7=$D$60,COUNTIF('Unit 28'!$C:$C,$D40),\"0\")","v":"0"},{"$f":"IF('Unit 29'!$C$7=$D$60,COUNTIF('Unit 29'!$C:$C,$D40),\"0\")","v":"0"},{"$f":"IF('Unit 30'!$C$7=$D$60,COUNTIF('Unit 30'!$C:$C,$D40),\"0\")","v":"0"},{"$f":"IF('Unit 31'!$C$7=$D$60,COUNTIF('Unit 31'!$C:$C,$D40),\"0\")","v":"0"},{"$f":"IF('Unit 32'!$C$7=$D$60,COUNTIF('Unit 32'!$C:$C,$D40),\"0\")","v":"0"},{"$f":"IF('Unit 33'!$C$7=$D$60,COUNTIF('Unit 33'!$C:$C,$D40),\"0\")","v":"0"},{"$f":"IF('Unit 34'!$C$7=$D$60,COUNTIF('Unit 34'!$C:$C,$D40),\"0\")","v":"0"},{"$f":"IF('Unit 35'!$C$7=$D$60,COUNTIF('Unit 35'!$C:$C,$D40),\"0\")","v":"0"},{"$f":"IF('Unit 36'!$C$7=$D$60,COUNTIF('Unit 36'!$C:$C,$D40),\"0\")","v":"0"},{"$f":"IF('Unit 37'!$C$7=$D$60,COUNTIF('Unit 37'!$C:$C,$D40),\"0\")","v":"0"},{"$f":"IF('Unit 38'!$C$7=$D$60,COUNTIF('Unit 38'!$C:$C,$D40),\"0\")","v":"0"},0]
[null,null,"3.2","3.2 investigate relationships between inputs, processes and outputs for basic control systems ","Investigate: observe, study, or make a detailed and systematic examination, to establish facts and reach new conclusions",{"$f":"COUNTIF('Unit 1'!C:C,$D41)","v":0},{"$f":"COUNTIF('Unit 2'!C:C,D41)","v":0},{"$f":"COUNTIF('Unit 3'!C:C,D41)","v":0},{"$f":"COUNTIF('Unit 4'!C:C,D41)","v":0},{"$f":"COUNTIF('Unit 5'!C:C,D41)","v":0},{"$f":"COUNTIF('Unit 6'!C:C,D41)","v":0},{"$f":"COUNTIF('Unit 7'!C:C,D41)","v":0},{"$f":"COUNTIF('Unit 8'!C:C,D41)","v":0},{"$f":"COUNTIF('Unit 9'!C:C,D41)","v":0},{"$f":"COUNTIF('Unit 10'!C:C,D41)","v":0},{"$f":"COUNTIF('Unit 11'!C:C,D41)","v":0},{"$f":"COUNTIF('Unit 12'!C:C,D41)","v":0},{"$f":"COUNTIF('Unit 13'!C:C,D41)","v":0},{"$f":"COUNTIF('Unit 14'!C:C,D41)","v":0},{"$f":"COUNTIF('Unit 15'!C:C,D41)","v":0},{"$f":"COUNTIF('Unit 16'!C:C,D41)","v":0},{"$f":"COUNTIF('Unit 17'!C:C,D41)","v":0},{"$f":"COUNTIF('Unit 18'!C:C,D41)","v":0},{"$f":"COUNTIF('Unit 19'!C:C,D41)","v":0},{"$f":"COUNTIF('Unit 20'!C:C,D41)","v":0},{"$f":"COUNTIF('Unit 21'!C:C,D41)","v":0},{"$f":"COUNTIF('Unit 22'!C:C,D41)","v":0},{"$f":"COUNTIF('Unit 23'!C:C,D41)","v":0},{"$f":"COUNTIF('Unit 24'!C:C,D41)","v":0},{"$f":"COUNTIF('Unit 25'!C:C,D41)","v":0},{"$f":"COUNTIF('Unit 26'!C:C,D41)","v":0},{"$f":"COUNTIF('Unit 27'!C:C,D41)","v":0},{"$f":"COUNTIF('Unit 28'!C:C,D41)","v":0},{"$f":"COUNTIF('Unit 29'!C:C,D41)","v":0},{"$f":"COUNTIF('Unit 30'!C:C,D41)","v":0},{"$f":"COUNTIF('Unit 31'!C:C,D41)","v":0},{"$f":"COUNTIF('Unit 32'!C:C,D41)","v":0},{"$f":"COUNTIF('Unit 33'!C:C,D41)","v":0},{"$f":"COUNTIF('Unit 34'!C:C,D41)","v":0},{"$f":"COUNTIF('Unit 35'!C:C,D41)","v":0},{"$f":"COUNTIF('Unit 36'!C:C,D41)","v":0},{"$f":"COUNTIF('Unit 37'!C:C,D41)","v":0},{"$f":"COUNTIF('Unit 38'!C:C,D41)","v":0},0,null,{"$f":"IF('Unit 1'!$C$7=$D$58,COUNTIF('Unit 1'!$C:$C,$D41),\"0\")","v":"0"},{"$f":"IF('Unit 2'!$C$7=$D$58,COUNTIF('Unit 2'!$C:$C,$D41),\"0\")","v":"0"},{"$f":"IF('Unit 3'!$C$7=$D$58,COUNTIF('Unit 3'!$C:$C,$D41),\"0\")","v":"0"},{"$f":"IF('Unit 4'!$C$7=$D$58,COUNTIF('Unit 4'!$C:$C,$D41),\"0\")","v":"0"},{"$f":"IF('Unit 5'!$C$7=$D$58,COUNTIF('Unit 5'!$C:$C,$D41),\"0\")","v":"0"},{"$f":"IF('Unit 6'!$C$7=$D$58,COUNTIF('Unit 6'!$C:$C,$D41),\"0\")","v":"0"},{"$f":"IF('Unit 7'!$C$7=$D$58,COUNTIF('Unit 7'!$C:$C,$D41),\"0\")","v":"0"},{"$f":"IF('Unit 8'!$C$7=$D$58,COUNTIF('Unit 8'!$C:$C,$D41),\"0\")","v":"0"},{"$f":"IF('Unit 9'!$C$7=$D$58,COUNTIF('Unit 9'!$C:$C,$D41),\"0\")","v":"0"},{"$f":"IF('Unit 10'!$C$7=$D$58,COUNTIF('Unit 10'!$C:$C,$D41),\"0\")","v":"0"},{"$f":"IF('Unit 11'!$C$7=$D$58,COUNTIF('Unit 11'!$C:$C,$D41),\"0\")","v":"0"},{"$f":"IF('Unit 12'!$C$7=$D$58,COUNTIF('Unit 12'!$C:$C,$D41),\"0\")","v":"0"},{"$f":"IF('Unit 13'!$C$7=$D$58,COUNTIF('Unit 13'!$C:$C,$D41),\"0\")","v":"0"},{"$f":"IF('Unit 14'!$C$7=$D$58,COUNTIF('Unit 14'!$C:$C,$D41),\"0\")","v":"0"},{"$f":"IF('Unit 15'!$C$7=$D$58,COUNTIF('Unit 15'!$C:$C,$D41),\"0\")","v":"0"},{"$f":"IF('Unit 16'!$C$7=$D$58,COUNTIF('Unit 16'!$C:$C,$D41),\"0\")","v":"0"},{"$f":"IF('Unit 17'!$C$7=$D$58,COUNTIF('Unit 17'!$C:$C,$D41),\"0\")","v":"0"},{"$f":"IF('Unit 18'!$C$7=$D$58,COUNTIF('Unit 18'!$C:$C,$D41),\"0\")","v":"0"},{"$f":"IF('Unit 19'!$C$7=$D$58,COUNTIF('Unit 19'!$C:$C,$D41),\"0\")","v":"0"},{"$f":"IF('Unit 20'!$C$7=$D$58,COUNTIF('Unit 20'!$C:$C,$D41),\"0\")","v":"0"},{"$f":"IF('Unit 21'!$C$7=$D$58,COUNTIF('Unit 21'!$C:$C,$D41),\"0\")","v":"0"},{"$f":"IF('Unit 22'!$C$7=$D$58,COUNTIF('Unit 22'!$C:$C,$D41),\"0\")","v":"0"},{"$f":"IF('Unit 23'!$C$7=$D$58,COUNTIF('Unit 23'!$C:$C,$D41),\"0\")","v":"0"},{"$f":"IF('Unit 24'!$C$7=$D$58,COUNTIF('Unit 24'!$C:$C,$D41),\"0\")","v":"0"},{"$f":"IF('Unit 25'!$C$7=$D$58,COUNTIF('Unit 25'!$C:$C,$D41),\"0\")","v":"0"},{"$f":"IF('Unit 26'!$C$7=$D$58,COUNTIF('Unit 26'!$C:$C,$D41),\"0\")","v":"0"},{"$f":"IF('Unit 27'!$C$7=$D$58,COUNTIF('Unit 27'!$C:$C,$D41),\"0\")","v":"0"},{"$f":"IF('Unit 28'!$C$7=$D$58,COUNTIF('Unit 28'!$C:$C,$D41),\"0\")","v":"0"},{"$f":"IF('Unit 29'!$C$7=$D$58,COUNTIF('Unit 29'!$C:$C,$D41),\"0\")","v":"0"},{"$f":"IF('Unit 30'!$C$7=$D$58,COUNTIF('Unit 30'!$C:$C,$D41),\"0\")","v":"0"},{"$f":"IF('Unit 31'!$C$7=$D$58,COUNTIF('Unit 31'!$C:$C,$D41),\"0\")","v":"0"},{"$f":"IF('Unit 32'!$C$7=$D$58,COUNTIF('Unit 32'!$C:$C,$D41),\"0\")","v":"0"},{"$f":"IF('Unit 33'!$C$7=$D$58,COUNTIF('Unit 33'!$C:$C,$D41),\"0\")","v":"0"},{"$f":"IF('Unit 34'!$C$7=$D$58,COUNTIF('Unit 34'!$C:$C,$D41),\"0\")","v":"0"},{"$f":"IF('Unit 35'!$C$7=$D$58,COUNTIF('Unit 35'!$C:$C,$D41),\"0\")","v":"0"},{"$f":"IF('Unit 36'!$C$7=$D$58,COUNTIF('Unit 36'!$C:$C,$D41),\"0\")","v":"0"},{"$f":"IF('Unit 37'!$C$7=$D$58,COUNTIF('Unit 37'!$C:$C,$D41),\"0\")","v":"0"},{"$f":"IF('Unit 38'!$C$7=$D$58,COUNTIF('Unit 38'!$C:$C,$D41),\"0\")","v":"0"},0,null,{"$f":"IF('Unit 1'!$C$7=$D$59,COUNTIF('Unit 1'!$C:$C,$D41),\"0\")","v":"0"},{"$f":"IF('Unit 2'!$C$7=$D$59,COUNTIF('Unit 2'!$C:$C,$D41),\"0\")","v":"0"},{"$f":"IF('Unit 3'!$C$7=$D$59,COUNTIF('Unit 3'!$C:$C,$D41),\"0\")","v":"0"},{"$f":"IF('Unit 4'!$C$7=$D$59,COUNTIF('Unit 4'!$C:$C,$D41),\"0\")","v":"0"},{"$f":"IF('Unit 5'!$C$7=$D$59,COUNTIF('Unit 5'!$C:$C,$D41),\"0\")","v":"0"},{"$f":"IF('Unit 6'!$C$7=$D$59,COUNTIF('Unit 6'!$C:$C,$D41),\"0\")","v":"0"},{"$f":"IF('Unit 7'!$C$7=$D$59,COUNTIF('Unit 7'!$C:$C,$D41),\"0\")","v":"0"},{"$f":"IF('Unit 8'!$C$7=$D$59,COUNTIF('Unit 8'!$C:$C,$D41),\"0\")","v":"0"},{"$f":"IF('Unit 9'!$C$7=$D$59,COUNTIF('Unit 9'!$C:$C,$D41),\"0\")","v":"0"},{"$f":"IF('Unit 10'!$C$7=$D$59,COUNTIF('Unit 10'!$C:$C,$D41),\"0\")","v":"0"},{"$f":"IF('Unit 11'!$C$7=$D$59,COUNTIF('Unit 11'!$C:$C,$D41),\"0\")","v":"0"},{"$f":"IF('Unit 12'!$C$7=$D$59,COUNTIF('Unit 12'!$C:$C,$D41),\"0\")","v":"0"},{"$f":"IF('Unit 13'!$C$7=$D$59,COUNTIF('Unit 13'!$C:$C,$D41),\"0\")","v":"0"},{"$f":"IF('Unit 14'!$C$7=$D$59,COUNTIF('Unit 14'!$C:$C,$D41),\"0\")","v":"0"},{"$f":"IF('Unit 15'!$C$7=$D$59,COUNTIF('Unit 15'!$C:$C,$D41),\"0\")","v":"0"},{"$f":"IF('Unit 16'!$C$7=$D$59,COUNTIF('Unit 16'!$C:$C,$D41),\"0\")","v":"0"},{"$f":"IF('Unit 17'!$C$7=$D$59,COUNTIF('Unit 17'!$C:$C,$D41),\"0\")","v":"0"},{"$f":"IF('Unit 18'!$C$7=$D$59,COUNTIF('Unit 18'!$C:$C,$D41),\"0\")","v":"0"},{"$f":"IF('Unit 19'!$C$7=$D$59,COUNTIF('Unit 19'!$C:$C,$D41),\"0\")","v":"0"},{"$f":"IF('Unit 20'!$C$7=$D$59,COUNTIF('Unit 20'!$C:$C,$D41),\"0\")","v":"0"},{"$f":"IF('Unit 21'!$C$7=$D$59,COUNTIF('Unit 21'!$C:$C,$D41),\"0\")","v":"0"},{"$f":"IF('Unit 22'!$C$7=$D$59,COUNTIF('Unit 22'!$C:$C,$D41),\"0\")","v":"0"},{"$f":"IF('Unit 23'!$C$7=$D$59,COUNTIF('Unit 23'!$C:$C,$D41),\"0\")","v":"0"},{"$f":"IF('Unit 24'!$C$7=$D$59,COUNTIF('Unit 24'!$C:$C,$D41),\"0\")","v":"0"},{"$f":"IF('Unit 25'!$C$7=$D$59,COUNTIF('Unit 25'!$C:$C,$D41),\"0\")","v":"0"},{"$f":"IF('Unit 26'!$C$7=$D$59,COUNTIF('Unit 26'!$C:$C,$D41),\"0\")","v":"0"},{"$f":"IF('Unit 27'!$C$7=$D$59,COUNTIF('Unit 27'!$C:$C,$D41),\"0\")","v":"0"},{"$f":"IF('Unit 28'!$C$7=$D$59,COUNTIF('Unit 28'!$C:$C,$D41),\"0\")","v":"0"},{"$f":"IF('Unit 29'!$C$7=$D$59,COUNTIF('Unit 29'!$C:$C,$D41),\"0\")","v":"0"},{"$f":"IF('Unit 30'!$C$7=$D$59,COUNTIF('Unit 30'!$C:$C,$D41),\"0\")","v":"0"},{"$f":"IF('Unit 31'!$C$7=$D$59,COUNTIF('Unit 31'!$C:$C,$D41),\"0\")","v":"0"},{"$f":"IF('Unit 32'!$C$7=$D$59,COUNTIF('Unit 32'!$C:$C,$D41),\"0\")","v":"0"},{"$f":"IF('Unit 33'!$C$7=$D$59,COUNTIF('Unit 33'!$C:$C,$D41),\"0\")","v":"0"},{"$f":"IF('Unit 34'!$C$7=$D$59,COUNTIF('Unit 34'!$C:$C,$D41),\"0\")","v":"0"},{"$f":"IF('Unit 35'!$C$7=$D$59,COUNTIF('Unit 35'!$C:$C,$D41),\"0\")","v":"0"},{"$f":"IF('Unit 36'!$C$7=$D$59,COUNTIF('Unit 36'!$C:$C,$D41),\"0\")","v":"0"},{"$f":"IF('Unit 37'!$C$7=$D$59,COUNTIF('Unit 37'!$C:$C,$D41),\"0\")","v":"0"},{"$f":"IF('Unit 38'!$C$7=$D$59,COUNTIF('Unit 38'!$C:$C,$D41),\"0\")","v":"0"},0,null,{"$f":"IF('Unit 1'!$C$7=$D$60,COUNTIF('Unit 1'!$C:$C,$D41),\"0\")","v":"0"},{"$f":"IF('Unit 2'!$C$7=$D$60,COUNTIF('Unit 2'!$C:$C,$D41),\"0\")","v":"0"},{"$f":"IF('Unit 3'!$C$7=$D$60,COUNTIF('Unit 3'!$C:$C,$D41),\"0\")","v":"0"},{"$f":"IF('Unit 4'!$C$7=$D$60,COUNTIF('Unit 4'!$C:$C,$D41),\"0\")","v":"0"},{"$f":"IF('Unit 5'!$C$7=$D$60,COUNTIF('Unit 5'!$C:$C,$D41),\"0\")","v":"0"},{"$f":"IF('Unit 6'!$C$7=$D$60,COUNTIF('Unit 6'!$C:$C,$D41),\"0\")","v":"0"},{"$f":"IF('Unit 7'!$C$7=$D$60,COUNTIF('Unit 7'!$C:$C,$D41),\"0\")","v":"0"},{"$f":"IF('Unit 8'!$C$7=$D$60,COUNTIF('Unit 8'!$C:$C,$D41),\"0\")","v":"0"},{"$f":"IF('Unit 9'!$C$7=$D$60,COUNTIF('Unit 9'!$C:$C,$D41),\"0\")","v":"0"},{"$f":"IF('Unit 10'!$C$7=$D$60,COUNTIF('Unit 10'!$C:$C,$D41),\"0\")","v":"0"},{"$f":"IF('Unit 11'!$C$7=$D$60,COUNTIF('Unit 11'!$C:$C,$D41),\"0\")","v":"0"},{"$f":"IF('Unit 12'!$C$7=$D$60,COUNTIF('Unit 12'!$C:$C,$D41),\"0\")","v":"0"},{"$f":"IF('Unit 13'!$C$7=$D$60,COUNTIF('Unit 13'!$C:$C,$D41),\"0\")","v":"0"},{"$f":"IF('Unit 14'!$C$7=$D$60,COUNTIF('Unit 14'!$C:$C,$D41),\"0\")","v":"0"},{"$f":"IF('Unit 15'!$C$7=$D$60,COUNTIF('Unit 15'!$C:$C,$D41),\"0\")","v":"0"},{"$f":"IF('Unit 16'!$C$7=$D$60,COUNTIF('Unit 16'!$C:$C,$D41),\"0\")","v":"0"},{"$f":"IF('Unit 17'!$C$7=$D$60,COUNTIF('Unit 17'!$C:$C,$D41),\"0\")","v":"0"},{"$f":"IF('Unit 18'!$C$7=$D$60,COUNTIF('Unit 18'!$C:$C,$D41),\"0\")","v":"0"},{"$f":"IF('Unit 19'!$C$7=$D$60,COUNTIF('Unit 19'!$C:$C,$D41),\"0\")","v":"0"},{"$f":"IF('Unit 20'!$C$7=$D$60,COUNTIF('Unit 20'!$C:$C,$D41),\"0\")","v":"0"},{"$f":"IF('Unit 21'!$C$7=$D$60,COUNTIF('Unit 21'!$C:$C,$D41),\"0\")","v":"0"},{"$f":"IF('Unit 22'!$C$7=$D$60,COUNTIF('Unit 22'!$C:$C,$D41),\"0\")","v":"0"},{"$f":"IF('Unit 23'!$C$7=$D$60,COUNTIF('Unit 23'!$C:$C,$D41),\"0\")","v":"0"},{"$f":"IF('Unit 24'!$C$7=$D$60,COUNTIF('Unit 24'!$C:$C,$D41),\"0\")","v":"0"},{"$f":"IF('Unit 25'!$C$7=$D$60,COUNTIF('Unit 25'!$C:$C,$D41),\"0\")","v":"0"},{"$f":"IF('Unit 26'!$C$7=$D$60,COUNTIF('Unit 26'!$C:$C,$D41),\"0\")","v":"0"},{"$f":"IF('Unit 27'!$C$7=$D$60,COUNTIF('Unit 27'!$C:$C,$D41),\"0\")","v":"0"},{"$f":"IF('Unit 28'!$C$7=$D$60,COUNTIF('Unit 28'!$C:$C,$D41),\"0\")","v":"0"},{"$f":"IF('Unit 29'!$C$7=$D$60,COUNTIF('Unit 29'!$C:$C,$D41),\"0\")","v":"0"},{"$f":"IF('Unit 30'!$C$7=$D$60,COUNTIF('Unit 30'!$C:$C,$D41),\"0\")","v":"0"},{"$f":"IF('Unit 31'!$C$7=$D$60,COUNTIF('Unit 31'!$C:$C,$D41),\"0\")","v":"0"},{"$f":"IF('Unit 32'!$C$7=$D$60,COUNTIF('Unit 32'!$C:$C,$D41),\"0\")","v":"0"},{"$f":"IF('Unit 33'!$C$7=$D$60,COUNTIF('Unit 33'!$C:$C,$D41),\"0\")","v":"0"},{"$f":"IF('Unit 34'!$C$7=$D$60,COUNTIF('Unit 34'!$C:$C,$D41),\"0\")","v":"0"},{"$f":"IF('Unit 35'!$C$7=$D$60,COUNTIF('Unit 35'!$C:$C,$D41),\"0\")","v":"0"},{"$f":"IF('Unit 36'!$C$7=$D$60,COUNTIF('Unit 36'!$C:$C,$D41),\"0\")","v":"0"},{"$f":"IF('Unit 37'!$C$7=$D$60,COUNTIF('Unit 37'!$C:$C,$D41),\"0\")","v":"0"},{"$f":"IF('Unit 38'!$C$7=$D$60,COUNTIF('Unit 38'!$C:$C,$D41),\"0\")","v":"0"},0]
[null,null,"3.3","3.3 appreciate the application of mechanisms in a controlled system","Appreciate: Appreciate recognise the meaning of, have a practical understanding of",{"$f":"COUNTIF('Unit 1'!C:C,$D42)","v":0},{"$f":"COUNTIF('Unit 2'!C:C,D42)","v":0},{"$f":"COUNTIF('Unit 3'!C:C,D42)","v":0},{"$f":"COUNTIF('Unit 4'!C:C,D42)","v":0},{"$f":"COUNTIF('Unit 5'!C:C,D42)","v":0},{"$f":"COUNTIF('Unit 6'!C:C,D42)","v":0},{"$f":"COUNTIF('Unit 7'!C:C,D42)","v":0},{"$f":"COUNTIF('Unit 8'!C:C,D42)","v":0},{"$f":"COUNTIF('Unit 9'!C:C,D42)","v":0},{"$f":"COUNTIF('Unit 10'!C:C,D42)","v":0},{"$f":"COUNTIF('Unit 11'!C:C,D42)","v":0},{"$f":"COUNTIF('Unit 12'!C:C,D42)","v":0},{"$f":"COUNTIF('Unit 13'!C:C,D42)","v":0},{"$f":"COUNTIF('Unit 14'!C:C,D42)","v":0},{"$f":"COUNTIF('Unit 15'!C:C,D42)","v":0},{"$f":"COUNTIF('Unit 16'!C:C,D42)","v":0},{"$f":"COUNTIF('Unit 17'!C:C,D42)","v":0},{"$f":"COUNTIF('Unit 18'!C:C,D42)","v":0},{"$f":"COUNTIF('Unit 19'!C:C,D42)","v":0},{"$f":"COUNTIF('Unit 20'!C:C,D42)","v":0},{"$f":"COUNTIF('Unit 21'!C:C,D42)","v":0},{"$f":"COUNTIF('Unit 22'!C:C,D42)","v":0},{"$f":"COUNTIF('Unit 23'!C:C,D42)","v":0},{"$f":"COUNTIF('Unit 24'!C:C,D42)","v":0},{"$f":"COUNTIF('Unit 25'!C:C,D42)","v":0},{"$f":"COUNTIF('Unit 26'!C:C,D42)","v":0},{"$f":"COUNTIF('Unit 27'!C:C,D42)","v":0},{"$f":"COUNTIF('Unit 28'!C:C,D42)","v":0},{"$f":"COUNTIF('Unit 29'!C:C,D42)","v":0},{"$f":"COUNTIF('Unit 30'!C:C,D42)","v":0},{"$f":"COUNTIF('Unit 31'!C:C,D42)","v":0},{"$f":"COUNTIF('Unit 32'!C:C,D42)","v":0},{"$f":"COUNTIF('Unit 33'!C:C,D42)","v":0},{"$f":"COUNTIF('Unit 34'!C:C,D42)","v":0},{"$f":"COUNTIF('Unit 35'!C:C,D42)","v":0},{"$f":"COUNTIF('Unit 36'!C:C,D42)","v":0},{"$f":"COUNTIF('Unit 37'!C:C,D42)","v":0},{"$f":"COUNTIF('Unit 38'!C:C,D42)","v":0},0,null,{"$f":"IF('Unit 1'!$C$7=$D$58,COUNTIF('Unit 1'!$C:$C,$D42),\"0\")","v":"0"},{"$f":"IF('Unit 2'!$C$7=$D$58,COUNTIF('Unit 2'!$C:$C,$D42),\"0\")","v":"0"},{"$f":"IF('Unit 3'!$C$7=$D$58,COUNTIF('Unit 3'!$C:$C,$D42),\"0\")","v":"0"},{"$f":"IF('Unit 4'!$C$7=$D$58,COUNTIF('Unit 4'!$C:$C,$D42),\"0\")","v":"0"},{"$f":"IF('Unit 5'!$C$7=$D$58,COUNTIF('Unit 5'!$C:$C,$D42),\"0\")","v":"0"},{"$f":"IF('Unit 6'!$C$7=$D$58,COUNTIF('Unit 6'!$C:$C,$D42),\"0\")","v":"0"},{"$f":"IF('Unit 7'!$C$7=$D$58,COUNTIF('Unit 7'!$C:$C,$D42),\"0\")","v":"0"},{"$f":"IF('Unit 8'!$C$7=$D$58,COUNTIF('Unit 8'!$C:$C,$D42),\"0\")","v":"0"},{"$f":"IF('Unit 9'!$C$7=$D$58,COUNTIF('Unit 9'!$C:$C,$D42),\"0\")","v":"0"},{"$f":"IF('Unit 10'!$C$7=$D$58,COUNTIF('Unit 10'!$C:$C,$D42),\"0\")","v":"0"},{"$f":"IF('Unit 11'!$C$7=$D$58,COUNTIF('Unit 11'!$C:$C,$D42),\"0\")","v":"0"},{"$f":"IF('Unit 12'!$C$7=$D$58,COUNTIF('Unit 12'!$C:$C,$D42),\"0\")","v":"0"},{"$f":"IF('Unit 13'!$C$7=$D$58,COUNTIF('Unit 13'!$C:$C,$D42),\"0\")","v":"0"},{"$f":"IF('Unit 14'!$C$7=$D$58,COUNTIF('Unit 14'!$C:$C,$D42),\"0\")","v":"0"},{"$f":"IF('Unit 15'!$C$7=$D$58,COUNTIF('Unit 15'!$C:$C,$D42),\"0\")","v":"0"},{"$f":"IF('Unit 16'!$C$7=$D$58,COUNTIF('Unit 16'!$C:$C,$D42),\"0\")","v":"0"},{"$f":"IF('Unit 17'!$C$7=$D$58,COUNTIF('Unit 17'!$C:$C,$D42),\"0\")","v":"0"},{"$f":"IF('Unit 18'!$C$7=$D$58,COUNTIF('Unit 18'!$C:$C,$D42),\"0\")","v":"0"},{"$f":"IF('Unit 19'!$C$7=$D$58,COUNTIF('Unit 19'!$C:$C,$D42),\"0\")","v":"0"},{"$f":"IF('Unit 20'!$C$7=$D$58,COUNTIF('Unit 20'!$C:$C,$D42),\"0\")","v":"0"},{"$f":"IF('Unit 21'!$C$7=$D$58,COUNTIF('Unit 21'!$C:$C,$D42),\"0\")","v":"0"},{"$f":"IF('Unit 22'!$C$7=$D$58,COUNTIF('Unit 22'!$C:$C,$D42),\"0\")","v":"0"},{"$f":"IF('Unit 23'!$C$7=$D$58,COUNTIF('Unit 23'!$C:$C,$D42),\"0\")","v":"0"},{"$f":"IF('Unit 24'!$C$7=$D$58,COUNTIF('Unit 24'!$C:$C,$D42),\"0\")","v":"0"},{"$f":"IF('Unit 25'!$C$7=$D$58,COUNTIF('Unit 25'!$C:$C,$D42),\"0\")","v":"0"},{"$f":"IF('Unit 26'!$C$7=$D$58,COUNTIF('Unit 26'!$C:$C,$D42),\"0\")","v":"0"},{"$f":"IF('Unit 27'!$C$7=$D$58,COUNTIF('Unit 27'!$C:$C,$D42),\"0\")","v":"0"},{"$f":"IF('Unit 28'!$C$7=$D$58,COUNTIF('Unit 28'!$C:$C,$D42),\"0\")","v":"0"},{"$f":"IF('Unit 29'!$C$7=$D$58,COUNTIF('Unit 29'!$C:$C,$D42),\"0\")","v":"0"},{"$f":"IF('Unit 30'!$C$7=$D$58,COUNTIF('Unit 30'!$C:$C,$D42),\"0\")","v":"0"},{"$f":"IF('Unit 31'!$C$7=$D$58,COUNTIF('Unit 31'!$C:$C,$D42),\"0\")","v":"0"},{"$f":"IF('Unit 32'!$C$7=$D$58,COUNTIF('Unit 32'!$C:$C,$D42),\"0\")","v":"0"},{"$f":"IF('Unit 33'!$C$7=$D$58,COUNTIF('Unit 33'!$C:$C,$D42),\"0\")","v":"0"},{"$f":"IF('Unit 34'!$C$7=$D$58,COUNTIF('Unit 34'!$C:$C,$D42),\"0\")","v":"0"},{"$f":"IF('Unit 35'!$C$7=$D$58,COUNTIF('Unit 35'!$C:$C,$D42),\"0\")","v":"0"},{"$f":"IF('Unit 36'!$C$7=$D$58,COUNTIF('Unit 36'!$C:$C,$D42),\"0\")","v":"0"},{"$f":"IF('Unit 37'!$C$7=$D$58,COUNTIF('Unit 37'!$C:$C,$D42),\"0\")","v":"0"},{"$f":"IF('Unit 38'!$C$7=$D$58,COUNTIF('Unit 38'!$C:$C,$D42),\"0\")","v":"0"},0,null,{"$f":"IF('Unit 1'!$C$7=$D$59,COUNTIF('Unit 1'!$C:$C,$D42),\"0\")","v":"0"},{"$f":"IF('Unit 2'!$C$7=$D$59,COUNTIF('Unit 2'!$C:$C,$D42),\"0\")","v":"0"},{"$f":"IF('Unit 3'!$C$7=$D$59,COUNTIF('Unit 3'!$C:$C,$D42),\"0\")","v":"0"},{"$f":"IF('Unit 4'!$C$7=$D$59,COUNTIF('Unit 4'!$C:$C,$D42),\"0\")","v":"0"},{"$f":"IF('Unit 5'!$C$7=$D$59,COUNTIF('Unit 5'!$C:$C,$D42),\"0\")","v":"0"},{"$f":"IF('Unit 6'!$C$7=$D$59,COUNTIF('Unit 6'!$C:$C,$D42),\"0\")","v":"0"},{"$f":"IF('Unit 7'!$C$7=$D$59,COUNTIF('Unit 7'!$C:$C,$D42),\"0\")","v":"0"},{"$f":"IF('Unit 8'!$C$7=$D$59,COUNTIF('Unit 8'!$C:$C,$D42),\"0\")","v":"0"},{"$f":"IF('Unit 9'!$C$7=$D$59,COUNTIF('Unit 9'!$C:$C,$D42),\"0\")","v":"0"},{"$f":"IF('Unit 10'!$C$7=$D$59,COUNTIF('Unit 10'!$C:$C,$D42),\"0\")","v":"0"},{"$f":"IF('Unit 11'!$C$7=$D$59,COUNTIF('Unit 11'!$C:$C,$D42),\"0\")","v":"0"},{"$f":"IF('Unit 12'!$C$7=$D$59,COUNTIF('Unit 12'!$C:$C,$D42),\"0\")","v":"0"},{"$f":"IF('Unit 13'!$C$7=$D$59,COUNTIF('Unit 13'!$C:$C,$D42),\"0\")","v":"0"},{"$f":"IF('Unit 14'!$C$7=$D$59,COUNTIF('Unit 14'!$C:$C,$D42),\"0\")","v":"0"},{"$f":"IF('Unit 15'!$C$7=$D$59,COUNTIF('Unit 15'!$C:$C,$D42),\"0\")","v":"0"},{"$f":"IF('Unit 16'!$C$7=$D$59,COUNTIF('Unit 16'!$C:$C,$D42),\"0\")","v":"0"},{"$f":"IF('Unit 17'!$C$7=$D$59,COUNTIF('Unit 17'!$C:$C,$D42),\"0\")","v":"0"},{"$f":"IF('Unit 18'!$C$7=$D$59,COUNTIF('Unit 18'!$C:$C,$D42),\"0\")","v":"0"},{"$f":"IF('Unit 19'!$C$7=$D$59,COUNTIF('Unit 19'!$C:$C,$D42),\"0\")","v":"0"},{"$f":"IF('Unit 20'!$C$7=$D$59,COUNTIF('Unit 20'!$C:$C,$D42),\"0\")","v":"0"},{"$f":"IF('Unit 21'!$C$7=$D$59,COUNTIF('Unit 21'!$C:$C,$D42),\"0\")","v":"0"},{"$f":"IF('Unit 22'!$C$7=$D$59,COUNTIF('Unit 22'!$C:$C,$D42),\"0\")","v":"0"},{"$f":"IF('Unit 23'!$C$7=$D$59,COUNTIF('Unit 23'!$C:$C,$D42),\"0\")","v":"0"},{"$f":"IF('Unit 24'!$C$7=$D$59,COUNTIF('Unit 24'!$C:$C,$D42),\"0\")","v":"0"},{"$f":"IF('Unit 25'!$C$7=$D$59,COUNTIF('Unit 25'!$C:$C,$D42),\"0\")","v":"0"},{"$f":"IF('Unit 26'!$C$7=$D$59,COUNTIF('Unit 26'!$C:$C,$D42),\"0\")","v":"0"},{"$f":"IF('Unit 27'!$C$7=$D$59,COUNTIF('Unit 27'!$C:$C,$D42),\"0\")","v":"0"},{"$f":"IF('Unit 28'!$C$7=$D$59,COUNTIF('Unit 28'!$C:$C,$D42),\"0\")","v":"0"},{"$f":"IF('Unit 29'!$C$7=$D$59,COUNTIF('Unit 29'!$C:$C,$D42),\"0\")","v":"0"},{"$f":"IF('Unit 30'!$C$7=$D$59,COUNTIF('Unit 30'!$C:$C,$D42),\"0\")","v":"0"},{"$f":"IF('Unit 31'!$C$7=$D$59,COUNTIF('Unit 31'!$C:$C,$D42),\"0\")","v":"0"},{"$f":"IF('Unit 32'!$C$7=$D$59,COUNTIF('Unit 32'!$C:$C,$D42),\"0\")","v":"0"},{"$f":"IF('Unit 33'!$C$7=$D$59,COUNTIF('Unit 33'!$C:$C,$D42),\"0\")","v":"0"},{"$f":"IF('Unit 34'!$C$7=$D$59,COUNTIF('Unit 34'!$C:$C,$D42),\"0\")","v":"0"},{"$f":"IF('Unit 35'!$C$7=$D$59,COUNTIF('Unit 35'!$C:$C,$D42),\"0\")","v":"0"},{"$f":"IF('Unit 36'!$C$7=$D$59,COUNTIF('Unit 36'!$C:$C,$D42),\"0\")","v":"0"},{"$f":"IF('Unit 37'!$C$7=$D$59,COUNTIF('Unit 37'!$C:$C,$D42),\"0\")","v":"0"},{"$f":"IF('Unit 38'!$C$7=$D$59,COUNTIF('Unit 38'!$C:$C,$D42),\"0\")","v":"0"},0,null,{"$f":"IF('Unit 1'!$C$7=$D$60,COUNTIF('Unit 1'!$C:$C,$D42),\"0\")","v":"0"},{"$f":"IF('Unit 2'!$C$7=$D$60,COUNTIF('Unit 2'!$C:$C,$D42),\"0\")","v":"0"},{"$f":"IF('Unit 3'!$C$7=$D$60,COUNTIF('Unit 3'!$C:$C,$D42),\"0\")","v":"0"},{"$f":"IF('Unit 4'!$C$7=$D$60,COUNTIF('Unit 4'!$C:$C,$D42),\"0\")","v":"0"},{"$f":"IF('Unit 5'!$C$7=$D$60,COUNTIF('Unit 5'!$C:$C,$D42),\"0\")","v":"0"},{"$f":"IF('Unit 6'!$C$7=$D$60,COUNTIF('Unit 6'!$C:$C,$D42),\"0\")","v":"0"},{"$f":"IF('Unit 7'!$C$7=$D$60,COUNTIF('Unit 7'!$C:$C,$D42),\"0\")","v":"0"},{"$f":"IF('Unit 8'!$C$7=$D$60,COUNTIF('Unit 8'!$C:$C,$D42),\"0\")","v":"0"},{"$f":"IF('Unit 9'!$C$7=$D$60,COUNTIF('Unit 9'!$C:$C,$D42),\"0\")","v":"0"},{"$f":"IF('Unit 10'!$C$7=$D$60,COUNTIF('Unit 10'!$C:$C,$D42),\"0\")","v":"0"},{"$f":"IF('Unit 11'!$C$7=$D$60,COUNTIF('Unit 11'!$C:$C,$D42),\"0\")","v":"0"},{"$f":"IF('Unit 12'!$C$7=$D$60,COUNTIF('Unit 12'!$C:$C,$D42),\"0\")","v":"0"},{"$f":"IF('Unit 13'!$C$7=$D$60,COUNTIF('Unit 13'!$C:$C,$D42),\"0\")","v":"0"},{"$f":"IF('Unit 14'!$C$7=$D$60,COUNTIF('Unit 14'!$C:$C,$D42),\"0\")","v":"0"},{"$f":"IF('Unit 15'!$C$7=$D$60,COUNTIF('Unit 15'!$C:$C,$D42),\"0\")","v":"0"},{"$f":"IF('Unit 16'!$C$7=$D$60,COUNTIF('Unit 16'!$C:$C,$D42),\"0\")","v":"0"},{"$f":"IF('Unit 17'!$C$7=$D$60,COUNTIF('Unit 17'!$C:$C,$D42),\"0\")","v":"0"},{"$f":"IF('Unit 18'!$C$7=$D$60,COUNTIF('Unit 18'!$C:$C,$D42),\"0\")","v":"0"},{"$f":"IF('Unit 19'!$C$7=$D$60,COUNTIF('Unit 19'!$C:$C,$D42),\"0\")","v":"0"},{"$f":"IF('Unit 20'!$C$7=$D$60,COUNTIF('Unit 20'!$C:$C,$D42),\"0\")","v":"0"},{"$f":"IF('Unit 21'!$C$7=$D$60,COUNTIF('Unit 21'!$C:$C,$D42),\"0\")","v":"0"},{"$f":"IF('Unit 22'!$C$7=$D$60,COUNTIF('Unit 22'!$C:$C,$D42),\"0\")","v":"0"},{"$f":"IF('Unit 23'!$C$7=$D$60,COUNTIF('Unit 23'!$C:$C,$D42),\"0\")","v":"0"},{"$f":"IF('Unit 24'!$C$7=$D$60,COUNTIF('Unit 24'!$C:$C,$D42),\"0\")","v":"0"},{"$f":"IF('Unit 25'!$C$7=$D$60,COUNTIF('Unit 25'!$C:$C,$D42),\"0\")","v":"0"},{"$f":"IF('Unit 26'!$C$7=$D$60,COUNTIF('Unit 26'!$C:$C,$D42),\"0\")","v":"0"},{"$f":"IF('Unit 27'!$C$7=$D$60,COUNTIF('Unit 27'!$C:$C,$D42),\"0\")","v":"0"},{"$f":"IF('Unit 28'!$C$7=$D$60,COUNTIF('Unit 28'!$C:$C,$D42),\"0\")","v":"0"},{"$f":"IF('Unit 29'!$C$7=$D$60,COUNTIF('Unit 29'!$C:$C,$D42),\"0\")","v":"0"},{"$f":"IF('Unit 30'!$C$7=$D$60,COUNTIF('Unit 30'!$C:$C,$D42),\"0\")","v":"0"},{"$f":"IF('Unit 31'!$C$7=$D$60,COUNTIF('Unit 31'!$C:$C,$D42),\"0\")","v":"0"},{"$f":"IF('Unit 32'!$C$7=$D$60,COUNTIF('Unit 32'!$C:$C,$D42),\"0\")","v":"0"},{"$f":"IF('Unit 33'!$C$7=$D$60,COUNTIF('Unit 33'!$C:$C,$D42),\"0\")","v":"0"},{"$f":"IF('Unit 34'!$C$7=$D$60,COUNTIF('Unit 34'!$C:$C,$D42),\"0\")","v":"0"},{"$f":"IF('Unit 35'!$C$7=$D$60,COUNTIF('Unit 35'!$C:$C,$D42),\"0\")","v":"0"},{"$f":"IF('Unit 36'!$C$7=$D$60,COUNTIF('Unit 36'!$C:$C,$D42),\"0\")","v":"0"},{"$f":"IF('Unit 37'!$C$7=$D$60,COUNTIF('Unit 37'!$C:$C,$D42),\"0\")","v":"0"},{"$f":"IF('Unit 38'!$C$7=$D$60,COUNTIF('Unit 38'!$C:$C,$D42),\"0\")","v":"0"},0]
[null,null,null,null,null,{"$f":"COUNTIF('Unit 1'!C:C,$D43)","v":0},{"$f":"COUNTIF('Unit 2'!C:C,D43)","v":0},{"$f":"COUNTIF('Unit 3'!C:C,D43)","v":0},{"$f":"COUNTIF('Unit 4'!C:C,D43)","v":0},{"$f":"COUNTIF('Unit 5'!C:C,D43)","v":0},{"$f":"COUNTIF('Unit 6'!C:C,D43)","v":0},{"$f":"COUNTIF('Unit 7'!C:C,D43)","v":0},{"$f":"COUNTIF('Unit 8'!C:C,D43)","v":0},{"$f":"COUNTIF('Unit 9'!C:C,D43)","v":0},{"$f":"COUNTIF('Unit 10'!C:C,D43)","v":0},{"$f":"COUNTIF('Unit 11'!C:C,D43)","v":0},{"$f":"COUNTIF('Unit 12'!C:C,D43)","v":0},{"$f":"COUNTIF('Unit 13'!C:C,D43)","v":0},{"$f":"COUNTIF('Unit 14'!C:C,D43)","v":0},{"$f":"COUNTIF('Unit 15'!C:C,D43)","v":0},{"$f":"COUNTIF('Unit 16'!C:C,D43)","v":0},{"$f":"COUNTIF('Unit 17'!C:C,D43)","v":0},{"$f":"COUNTIF('Unit 18'!C:C,D43)","v":0},{"$f":"COUNTIF('Unit 19'!C:C,D43)","v":0},{"$f":"COUNTIF('Unit 20'!C:C,D43)","v":0},{"$f":"COUNTIF('Unit 21'!C:C,D43)","v":0},{"$f":"COUNTIF('Unit 22'!C:C,D43)","v":0},{"$f":"COUNTIF('Unit 23'!C:C,D43)","v":0},{"$f":"COUNTIF('Unit 24'!C:C,D43)","v":0},{"$f":"COUNTIF('Unit 25'!C:C,D43)","v":0},{"$f":"COUNTIF('Unit 26'!C:C,D43)","v":0},{"$f":"COUNTIF('Unit 27'!C:C,D43)","v":0},{"$f":"COUNTIF('Unit 28'!C:C,D43)","v":0},{"$f":"COUNTIF('Unit 29'!C:C,D43)","v":0},{"$f":"COUNTIF('Unit 30'!C:C,D43)","v":0},{"$f":"COUNTIF('Unit 31'!C:C,D43)","v":0},{"$f":"COUNTIF('Unit 32'!C:C,D43)","v":0},{"$f":"COUNTIF('Unit 33'!C:C,D43)","v":0},{"$f":"COUNTIF('Unit 34'!C:C,D43)","v":0},{"$f":"COUNTIF('Unit 35'!C:C,D43)","v":0},{"$f":"COUNTIF('Unit 36'!C:C,D43)","v":0},{"$f":"COUNTIF('Unit 37'!C:C,D43)","v":0},{"$f":"COUNTIF('Unit 38'!C:C,D43)","v":0},0,null,{"$f":"IF('Unit 1'!$C$7=$D$58,COUNTIF('Unit 1'!$C:$C,$D43),\"0\")","v":"0"},{"$f":"IF('Unit 2'!$C$7=$D$58,COUNTIF('Unit 2'!$C:$C,$D43),\"0\")","v":"0"},{"$f":"IF('Unit 3'!$C$7=$D$58,COUNTIF('Unit 3'!$C:$C,$D43),\"0\")","v":"0"},{"$f":"IF('Unit 4'!$C$7=$D$58,COUNTIF('Unit 4'!$C:$C,$D43),\"0\")","v":"0"},{"$f":"IF('Unit 5'!$C$7=$D$58,COUNTIF('Unit 5'!$C:$C,$D43),\"0\")","v":"0"},{"$f":"IF('Unit 6'!$C$7=$D$58,COUNTIF('Unit 6'!$C:$C,$D43),\"0\")","v":"0"},{"$f":"IF('Unit 7'!$C$7=$D$58,COUNTIF('Unit 7'!$C:$C,$D43),\"0\")","v":"0"},{"$f":"IF('Unit 8'!$C$7=$D$58,COUNTIF('Unit 8'!$C:$C,$D43),\"0\")","v":"0"},{"$f":"IF('Unit 9'!$C$7=$D$58,COUNTIF('Unit 9'!$C:$C,$D43),\"0\")","v":"0"},{"$f":"IF('Unit 10'!$C$7=$D$58,COUNTIF('Unit 10'!$C:$C,$D43),\"0\")","v":"0"},{"$f":"IF('Unit 11'!$C$7=$D$58,COUNTIF('Unit 11'!$C:$C,$D43),\"0\")","v":"0"},{"$f":"IF('Unit 12'!$C$7=$D$58,COUNTIF('Unit 12'!$C:$C,$D43),\"0\")","v":"0"},{"$f":"IF('Unit 13'!$C$7=$D$58,COUNTIF('Unit 13'!$C:$C,$D43),\"0\")","v":"0"},{"$f":"IF('Unit 14'!$C$7=$D$58,COUNTIF('Unit 14'!$C:$C,$D43),\"0\")","v":"0"},{"$f":"IF('Unit 15'!$C$7=$D$58,COUNTIF('Unit 15'!$C:$C,$D43),\"0\")","v":"0"},{"$f":"IF('Unit 16'!$C$7=$D$58,COUNTIF('Unit 16'!$C:$C,$D43),\"0\")","v":"0"},{"$f":"IF('Unit 17'!$C$7=$D$58,COUNTIF('Unit 17'!$C:$C,$D43),\"0\")","v":"0"},{"$f":"IF('Unit 18'!$C$7=$D$58,COUNTIF('Unit 18'!$C:$C,$D43),\"0\")","v":"0"},{"$f":"IF('Unit 19'!$C$7=$D$58,COUNTIF('Unit 19'!$C:$C,$D43),\"0\")","v":"0"},{"$f":"IF('Unit 20'!$C$7=$D$58,COUNTIF('Unit 20'!$C:$C,$D43),\"0\")","v":"0"},{"$f":"IF('Unit 21'!$C$7=$D$58,COUNTIF('Unit 21'!$C:$C,$D43),\"0\")","v":"0"},{"$f":"IF('Unit 22'!$C$7=$D$58,COUNTIF('Unit 22'!$C:$C,$D43),\"0\")","v":"0"},{"$f":"IF('Unit 23'!$C$7=$D$58,COUNTIF('Unit 23'!$C:$C,$D43),\"0\")","v":"0"},{"$f":"IF('Unit 24'!$C$7=$D$58,COUNTIF('Unit 24'!$C:$C,$D43),\"0\")","v":"0"},{"$f":"IF('Unit 25'!$C$7=$D$58,COUNTIF('Unit 25'!$C:$C,$D43),\"0\")","v":"0"},{"$f":"IF('Unit 26'!$C$7=$D$58,COUNTIF('Unit 26'!$C:$C,$D43),\"0\")","v":"0"},{"$f":"IF('Unit 27'!$C$7=$D$58,COUNTIF('Unit 27'!$C:$C,$D43),\"0\")","v":"0"},{"$f":"IF('Unit 28'!$C$7=$D$58,COUNTIF('Unit 28'!$C:$C,$D43),\"0\")","v":"0"},{"$f":"IF('Unit 29'!$C$7=$D$58,COUNTIF('Unit 29'!$C:$C,$D43),\"0\")","v":"0"},{"$f":"IF('Unit 30'!$C$7=$D$58,COUNTIF('Unit 30'!$C:$C,$D43),\"0\")","v":"0"},{"$f":"IF('Unit 31'!$C$7=$D$58,COUNTIF('Unit 31'!$C:$C,$D43),\"0\")","v":"0"},{"$f":"IF('Unit 32'!$C$7=$D$58,COUNTIF('Unit 32'!$C:$C,$D43),\"0\")","v":"0"},{"$f":"IF('Unit 33'!$C$7=$D$58,COUNTIF('Unit 33'!$C:$C,$D43),\"0\")","v":"0"},{"$f":"IF('Unit 34'!$C$7=$D$58,COUNTIF('Unit 34'!$C:$C,$D43),\"0\")","v":"0"},{"$f":"IF('Unit 35'!$C$7=$D$58,COUNTIF('Unit 35'!$C:$C,$D43),\"0\")","v":"0"},{"$f":"IF('Unit 36'!$C$7=$D$58,COUNTIF('Unit 36'!$C:$C,$D43),\"0\")","v":"0"},{"$f":"IF('Unit 37'!$C$7=$D$58,COUNTIF('Unit 37'!$C:$C,$D43),\"0\")","v":"0"},{"$f":"IF('Unit 38'!$C$7=$D$58,COUNTIF('Unit 38'!$C:$C,$D43),\"0\")","v":"0"},0,null,{"$f":"IF('Unit 1'!$C$7=$D$59,COUNTIF('Unit 1'!$C:$C,$D43),\"0\")","v":"0"},{"$f":"IF('Unit 2'!$C$7=$D$59,COUNTIF('Unit 2'!$C:$C,$D43),\"0\")","v":"0"},{"$f":"IF('Unit 3'!$C$7=$D$59,COUNTIF('Unit 3'!$C:$C,$D43),\"0\")","v":"0"},{"$f":"IF('Unit 4'!$C$7=$D$59,COUNTIF('Unit 4'!$C:$C,$D43),\"0\")","v":"0"},{"$f":"IF('Unit 5'!$C$7=$D$59,COUNTIF('Unit 5'!$C:$C,$D43),\"0\")","v":"0"},{"$f":"IF('Unit 6'!$C$7=$D$59,COUNTIF('Unit 6'!$C:$C,$D43),\"0\")","v":"0"},{"$f":"IF('Unit 7'!$C$7=$D$59,COUNTIF('Unit 7'!$C:$C,$D43),\"0\")","v":"0"},{"$f":"IF('Unit 8'!$C$7=$D$59,COUNTIF('Unit 8'!$C:$C,$D43),\"0\")","v":"0"},{"$f":"IF('Unit 9'!$C$7=$D$59,COUNTIF('Unit 9'!$C:$C,$D43),\"0\")","v":"0"},{"$f":"IF('Unit 10'!$C$7=$D$59,COUNTIF('Unit 10'!$C:$C,$D43),\"0\")","v":"0"},{"$f":"IF('Unit 11'!$C$7=$D$59,COUNTIF('Unit 11'!$C:$C,$D43),\"0\")","v":"0"},{"$f":"IF('Unit 12'!$C$7=$D$59,COUNTIF('Unit 12'!$C:$C,$D43),\"0\")","v":"0"},{"$f":"IF('Unit 13'!$C$7=$D$59,COUNTIF('Unit 13'!$C:$C,$D43),\"0\")","v":"0"},{"$f":"IF('Unit 14'!$C$7=$D$59,COUNTIF('Unit 14'!$C:$C,$D43),\"0\")","v":"0"},{"$f":"IF('Unit 15'!$C$7=$D$59,COUNTIF('Unit 15'!$C:$C,$D43),\"0\")","v":"0"},{"$f":"IF('Unit 16'!$C$7=$D$59,COUNTIF('Unit 16'!$C:$C,$D43),\"0\")","v":"0"},{"$f":"IF('Unit 17'!$C$7=$D$59,COUNTIF('Unit 17'!$C:$C,$D43),\"0\")","v":"0"},{"$f":"IF('Unit 18'!$C$7=$D$59,COUNTIF('Unit 18'!$C:$C,$D43),\"0\")","v":"0"},{"$f":"IF('Unit 19'!$C$7=$D$59,COUNTIF('Unit 19'!$C:$C,$D43),\"0\")","v":"0"},{"$f":"IF('Unit 20'!$C$7=$D$59,COUNTIF('Unit 20'!$C:$C,$D43),\"0\")","v":"0"},{"$f":"IF('Unit 21'!$C$7=$D$59,COUNTIF('Unit 21'!$C:$C,$D43),\"0\")","v":"0"},{"$f":"IF('Unit 22'!$C$7=$D$59,COUNTIF('Unit 22'!$C:$C,$D43),\"0\")","v":"0"},{"$f":"IF('Unit 23'!$C$7=$D$59,COUNTIF('Unit 23'!$C:$C,$D43),\"0\")","v":"0"},{"$f":"IF('Unit 24'!$C$7=$D$59,COUNTIF('Unit 24'!$C:$C,$D43),\"0\")","v":"0"},{"$f":"IF('Unit 25'!$C$7=$D$59,COUNTIF('Unit 25'!$C:$C,$D43),\"0\")","v":"0"},{"$f":"IF('Unit 26'!$C$7=$D$59,COUNTIF('Unit 26'!$C:$C,$D43),\"0\")","v":"0"},{"$f":"IF('Unit 27'!$C$7=$D$59,COUNTIF('Unit 27'!$C:$C,$D43),\"0\")","v":"0"},{"$f":"IF('Unit 28'!$C$7=$D$59,COUNTIF('Unit 28'!$C:$C,$D43),\"0\")","v":"0"},{"$f":"IF('Unit 29'!$C$7=$D$59,COUNTIF('Unit 29'!$C:$C,$D43),\"0\")","v":"0"},{"$f":"IF('Unit 30'!$C$7=$D$59,COUNTIF('Unit 30'!$C:$C,$D43),\"0\")","v":"0"},{"$f":"IF('Unit 31'!$C$7=$D$59,COUNTIF('Unit 31'!$C:$C,$D43),\"0\")","v":"0"},{"$f":"IF('Unit 32'!$C$7=$D$59,COUNTIF('Unit 32'!$C:$C,$D43),\"0\")","v":"0"},{"$f":"IF('Unit 33'!$C$7=$D$59,COUNTIF('Unit 33'!$C:$C,$D43),\"0\")","v":"0"},{"$f":"IF('Unit 34'!$C$7=$D$59,COUNTIF('Unit 34'!$C:$C,$D43),\"0\")","v":"0"},{"$f":"IF('Unit 35'!$C$7=$D$59,COUNTIF('Unit 35'!$C:$C,$D43),\"0\")","v":"0"},{"$f":"IF('Unit 36'!$C$7=$D$59,COUNTIF('Unit 36'!$C:$C,$D43),\"0\")","v":"0"},{"$f":"IF('Unit 37'!$C$7=$D$59,COUNTIF('Unit 37'!$C:$C,$D43),\"0\")","v":"0"},{"$f":"IF('Unit 38'!$C$7=$D$59,COUNTIF('Unit 38'!$C:$C,$D43),\"0\")","v":"0"},0,null,{"$f":"IF('Unit 1'!$C$7=$D$60,COUNTIF('Unit 1'!$C:$C,$D43),\"0\")","v":"0"},{"$f":"IF('Unit 2'!$C$7=$D$60,COUNTIF('Unit 2'!$C:$C,$D43),\"0\")","v":"0"},{"$f":"IF('Unit 3'!$C$7=$D$60,COUNTIF('Unit 3'!$C:$C,$D43),\"0\")","v":"0"},{"$f":"IF('Unit 4'!$C$7=$D$60,COUNTIF('Unit 4'!$C:$C,$D43),\"0\")","v":"0"},{"$f":"IF('Unit 5'!$C$7=$D$60,COUNTIF('Unit 5'!$C:$C,$D43),\"0\")","v":"0"},{"$f":"IF('Unit 6'!$C$7=$D$60,COUNTIF('Unit 6'!$C:$C,$D43),\"0\")","v":"0"},{"$f":"IF('Unit 7'!$C$7=$D$60,COUNTIF('Unit 7'!$C:$C,$D43),\"0\")","v":"0"},{"$f":"IF('Unit 8'!$C$7=$D$60,COUNTIF('Unit 8'!$C:$C,$D43),\"0\")","v":"0"},{"$f":"IF('Unit 9'!$C$7=$D$60,COUNTIF('Unit 9'!$C:$C,$D43),\"0\")","v":"0"},{"$f":"IF('Unit 10'!$C$7=$D$60,COUNTIF('Unit 10'!$C:$C,$D43),\"0\")","v":"0"},{"$f":"IF('Unit 11'!$C$7=$D$60,COUNTIF('Unit 11'!$C:$C,$D43),\"0\")","v":"0"},{"$f":"IF('Unit 12'!$C$7=$D$60,COUNTIF('Unit 12'!$C:$C,$D43),\"0\")","v":"0"},{"$f":"IF('Unit 13'!$C$7=$D$60,COUNTIF('Unit 13'!$C:$C,$D43),\"0\")","v":"0"},{"$f":"IF('Unit 14'!$C$7=$D$60,COUNTIF('Unit 14'!$C:$C,$D43),\"0\")","v":"0"},{"$f":"IF('Unit 15'!$C$7=$D$60,COUNTIF('Unit 15'!$C:$C,$D43),\"0\")","v":"0"},{"$f":"IF('Unit 16'!$C$7=$D$60,COUNTIF('Unit 16'!$C:$C,$D43),\"0\")","v":"0"},{"$f":"IF('Unit 17'!$C$7=$D$60,COUNTIF('Unit 17'!$C:$C,$D43),\"0\")","v":"0"},{"$f":"IF('Unit 18'!$C$7=$D$60,COUNTIF('Unit 18'!$C:$C,$D43),\"0\")","v":"0"},{"$f":"IF('Unit 19'!$C$7=$D$60,COUNTIF('Unit 19'!$C:$C,$D43),\"0\")","v":"0"},{"$f":"IF('Unit 20'!$C$7=$D$60,COUNTIF('Unit 20'!$C:$C,$D43),\"0\")","v":"0"},{"$f":"IF('Unit 21'!$C$7=$D$60,COUNTIF('Unit 21'!$C:$C,$D43),\"0\")","v":"0"},{"$f":"IF('Unit 22'!$C$7=$D$60,COUNTIF('Unit 22'!$C:$C,$D43),\"0\")","v":"0"},{"$f":"IF('Unit 23'!$C$7=$D$60,COUNTIF('Unit 23'!$C:$C,$D43),\"0\")","v":"0"},{"$f":"IF('Unit 24'!$C$7=$D$60,COUNTIF('Unit 24'!$C:$C,$D43),\"0\")","v":"0"},{"$f":"IF('Unit 25'!$C$7=$D$60,COUNTIF('Unit 25'!$C:$C,$D43),\"0\")","v":"0"},{"$f":"IF('Unit 26'!$C$7=$D$60,COUNTIF('Unit 26'!$C:$C,$D43),\"0\")","v":"0"},{"$f":"IF('Unit 27'!$C$7=$D$60,COUNTIF('Unit 27'!$C:$C,$D43),\"0\")","v":"0"},{"$f":"IF('Unit 28'!$C$7=$D$60,COUNTIF('Unit 28'!$C:$C,$D43),\"0\")","v":"0"},{"$f":"IF('Unit 29'!$C$7=$D$60,COUNTIF('Unit 29'!$C:$C,$D43),\"0\")","v":"0"},{"$f":"IF('Unit 30'!$C$7=$D$60,COUNTIF('Unit 30'!$C:$C,$D43),\"0\")","v":"0"},{"$f":"IF('Unit 31'!$C$7=$D$60,COUNTIF('Unit 31'!$C:$C,$D43),\"0\")","v":"0"},{"$f":"IF('Unit 32'!$C$7=$D$60,COUNTIF('Unit 32'!$C:$C,$D43),\"0\")","v":"0"},{"$f":"IF('Unit 33'!$C$7=$D$60,COUNTIF('Unit 33'!$C:$C,$D43),\"0\")","v":"0"},{"$f":"IF('Unit 34'!$C$7=$D$60,COUNTIF('Unit 34'!$C:$C,$D43),\"0\")","v":"0"},{"$f":"IF('Unit 35'!$C$7=$D$60,COUNTIF('Unit 35'!$C:$C,$D43),\"0\")","v":"0"},{"$f":"IF('Unit 36'!$C$7=$D$60,COUNTIF('Unit 36'!$C:$C,$D43),\"0\")","v":"0"},{"$f":"IF('Unit 37'!$C$7=$D$60,COUNTIF('Unit 37'!$C:$C,$D43),\"0\")","v":"0"},{"$f":"IF('Unit 38'!$C$7=$D$60,COUNTIF('Unit 38'!$C:$C,$D43),\"0\")","v":"0"},0]
[null,{"$f":"B12","v":"Innovation and Exploration"},"3.4","3.4 explore the application of systems in an engineering setting such as the classroom, home and industry ","Explore: to think or talk about something in order to find out more about it",{"$f":"COUNTIF('Unit 1'!C:C,$D44)","v":0},{"$f":"COUNTIF('Unit 2'!C:C,D44)","v":0},{"$f":"COUNTIF('Unit 3'!C:C,D44)","v":0},{"$f":"COUNTIF('Unit 4'!C:C,D44)","v":0},{"$f":"COUNTIF('Unit 5'!C:C,D44)","v":0},{"$f":"COUNTIF('Unit 6'!C:C,D44)","v":0},{"$f":"COUNTIF('Unit 7'!C:C,D44)","v":0},{"$f":"COUNTIF('Unit 8'!C:C,D44)","v":0},{"$f":"COUNTIF('Unit 9'!C:C,D44)","v":0},{"$f":"COUNTIF('Unit 10'!C:C,D44)","v":0},{"$f":"COUNTIF('Unit 11'!C:C,D44)","v":0},{"$f":"COUNTIF('Unit 12'!C:C,D44)","v":0},{"$f":"COUNTIF('Unit 13'!C:C,D44)","v":0},{"$f":"COUNTIF('Unit 14'!C:C,D44)","v":0},{"$f":"COUNTIF('Unit 15'!C:C,D44)","v":0},{"$f":"COUNTIF('Unit 16'!C:C,D44)","v":0},{"$f":"COUNTIF('Unit 17'!C:C,D44)","v":0},{"$f":"COUNTIF('Unit 18'!C:C,D44)","v":0},{"$f":"COUNTIF('Unit 19'!C:C,D44)","v":0},{"$f":"COUNTIF('Unit 20'!C:C,D44)","v":0},{"$f":"COUNTIF('Unit 21'!C:C,D44)","v":0},{"$f":"COUNTIF('Unit 22'!C:C,D44)","v":0},{"$f":"COUNTIF('Unit 23'!C:C,D44)","v":0},{"$f":"COUNTIF('Unit 24'!C:C,D44)","v":0},{"$f":"COUNTIF('Unit 25'!C:C,D44)","v":0},{"$f":"COUNTIF('Unit 26'!C:C,D44)","v":0},{"$f":"COUNTIF('Unit 27'!C:C,D44)","v":0},{"$f":"COUNTIF('Unit 28'!C:C,D44)","v":0},{"$f":"COUNTIF('Unit 29'!C:C,D44)","v":0},{"$f":"COUNTIF('Unit 30'!C:C,D44)","v":0},{"$f":"COUNTIF('Unit 31'!C:C,D44)","v":0},{"$f":"COUNTIF('Unit 32'!C:C,D44)","v":0},{"$f":"COUNTIF('Unit 33'!C:C,D44)","v":0},{"$f":"COUNTIF('Unit 34'!C:C,D44)","v":0},{"$f":"COUNTIF('Unit 35'!C:C,D44)","v":0},{"$f":"COUNTIF('Unit 36'!C:C,D44)","v":0},{"$f":"COUNTIF('Unit 37'!C:C,D44)","v":0},{"$f":"COUNTIF('Unit 38'!C:C,D44)","v":0},0,null,{"$f":"IF('Unit 1'!$C$7=$D$58,COUNTIF('Unit 1'!$C:$C,$D44),\"0\")","v":"0"},{"$f":"IF('Unit 2'!$C$7=$D$58,COUNTIF('Unit 2'!$C:$C,$D44),\"0\")","v":"0"},{"$f":"IF('Unit 3'!$C$7=$D$58,COUNTIF('Unit 3'!$C:$C,$D44),\"0\")","v":"0"},{"$f":"IF('Unit 4'!$C$7=$D$58,COUNTIF('Unit 4'!$C:$C,$D44),\"0\")","v":"0"},{"$f":"IF('Unit 5'!$C$7=$D$58,COUNTIF('Unit 5'!$C:$C,$D44),\"0\")","v":"0"},{"$f":"IF('Unit 6'!$C$7=$D$58,COUNTIF('Unit 6'!$C:$C,$D44),\"0\")","v":"0"},{"$f":"IF('Unit 7'!$C$7=$D$58,COUNTIF('Unit 7'!$C:$C,$D44),\"0\")","v":"0"},{"$f":"IF('Unit 8'!$C$7=$D$58,COUNTIF('Unit 8'!$C:$C,$D44),\"0\")","v":"0"},{"$f":"IF('Unit 9'!$C$7=$D$58,COUNTIF('Unit 9'!$C:$C,$D44),\"0\")","v":"0"},{"$f":"IF('Unit 10'!$C$7=$D$58,COUNTIF('Unit 10'!$C:$C,$D44),\"0\")","v":"0"},{"$f":"IF('Unit 11'!$C$7=$D$58,COUNTIF('Unit 11'!$C:$C,$D44),\"0\")","v":"0"},{"$f":"IF('Unit 12'!$C$7=$D$58,COUNTIF('Unit 12'!$C:$C,$D44),\"0\")","v":"0"},{"$f":"IF('Unit 13'!$C$7=$D$58,COUNTIF('Unit 13'!$C:$C,$D44),\"0\")","v":"0"},{"$f":"IF('Unit 14'!$C$7=$D$58,COUNTIF('Unit 14'!$C:$C,$D44),\"0\")","v":"0"},{"$f":"IF('Unit 15'!$C$7=$D$58,COUNTIF('Unit 15'!$C:$C,$D44),\"0\")","v":"0"},{"$f":"IF('Unit 16'!$C$7=$D$58,COUNTIF('Unit 16'!$C:$C,$D44),\"0\")","v":"0"},{"$f":"IF('Unit 17'!$C$7=$D$58,COUNTIF('Unit 17'!$C:$C,$D44),\"0\")","v":"0"},{"$f":"IF('Unit 18'!$C$7=$D$58,COUNTIF('Unit 18'!$C:$C,$D44),\"0\")","v":"0"},{"$f":"IF('Unit 19'!$C$7=$D$58,COUNTIF('Unit 19'!$C:$C,$D44),\"0\")","v":"0"},{"$f":"IF('Unit 20'!$C$7=$D$58,COUNTIF('Unit 20'!$C:$C,$D44),\"0\")","v":"0"},{"$f":"IF('Unit 21'!$C$7=$D$58,COUNTIF('Unit 21'!$C:$C,$D44),\"0\")","v":"0"},{"$f":"IF('Unit 22'!$C$7=$D$58,COUNTIF('Unit 22'!$C:$C,$D44),\"0\")","v":"0"},{"$f":"IF('Unit 23'!$C$7=$D$58,COUNTIF('Unit 23'!$C:$C,$D44),\"0\")","v":"0"},{"$f":"IF('Unit 24'!$C$7=$D$58,COUNTIF('Unit 24'!$C:$C,$D44),\"0\")","v":"0"},{"$f":"IF('Unit 25'!$C$7=$D$58,COUNTIF('Unit 25'!$C:$C,$D44),\"0\")","v":"0"},{"$f":"IF('Unit 26'!$C$7=$D$58,COUNTIF('Unit 26'!$C:$C,$D44),\"0\")","v":"0"},{"$f":"IF('Unit 27'!$C$7=$D$58,COUNTIF('Unit 27'!$C:$C,$D44),\"0\")","v":"0"},{"$f":"IF('Unit 28'!$C$7=$D$58,COUNTIF('Unit 28'!$C:$C,$D44),\"0\")","v":"0"},{"$f":"IF('Unit 29'!$C$7=$D$58,COUNTIF('Unit 29'!$C:$C,$D44),\"0\")","v":"0"},{"$f":"IF('Unit 30'!$C$7=$D$58,COUNTIF('Unit 30'!$C:$C,$D44),\"0\")","v":"0"},{"$f":"IF('Unit 31'!$C$7=$D$58,COUNTIF('Unit 31'!$C:$C,$D44),\"0\")","v":"0"},{"$f":"IF('Unit 32'!$C$7=$D$58,COUNTIF('Unit 32'!$C:$C,$D44),\"0\")","v":"0"},{"$f":"IF('Unit 33'!$C$7=$D$58,COUNTIF('Unit 33'!$C:$C,$D44),\"0\")","v":"0"},{"$f":"IF('Unit 34'!$C$7=$D$58,COUNTIF('Unit 34'!$C:$C,$D44),\"0\")","v":"0"},{"$f":"IF('Unit 35'!$C$7=$D$58,COUNTIF('Unit 35'!$C:$C,$D44),\"0\")","v":"0"},{"$f":"IF('Unit 36'!$C$7=$D$58,COUNTIF('Unit 36'!$C:$C,$D44),\"0\")","v":"0"},{"$f":"IF('Unit 37'!$C$7=$D$58,COUNTIF('Unit 37'!$C:$C,$D44),\"0\")","v":"0"},{"$f":"IF('Unit 38'!$C$7=$D$58,COUNTIF('Unit 38'!$C:$C,$D44),\"0\")","v":"0"},0,null,{"$f":"IF('Unit 1'!$C$7=$D$59,COUNTIF('Unit 1'!$C:$C,$D44),\"0\")","v":"0"},{"$f":"IF('Unit 2'!$C$7=$D$59,COUNTIF('Unit 2'!$C:$C,$D44),\"0\")","v":"0"},{"$f":"IF('Unit 3'!$C$7=$D$59,COUNTIF('Unit 3'!$C:$C,$D44),\"0\")","v":"0"},{"$f":"IF('Unit 4'!$C$7=$D$59,COUNTIF('Unit 4'!$C:$C,$D44),\"0\")","v":"0"},{"$f":"IF('Unit 5'!$C$7=$D$59,COUNTIF('Unit 5'!$C:$C,$D44),\"0\")","v":"0"},{"$f":"IF('Unit 6'!$C$7=$D$59,COUNTIF('Unit 6'!$C:$C,$D44),\"0\")","v":"0"},{"$f":"IF('Unit 7'!$C$7=$D$59,COUNTIF('Unit 7'!$C:$C,$D44),\"0\")","v":"0"},{"$f":"IF('Unit 8'!$C$7=$D$59,COUNTIF('Unit 8'!$C:$C,$D44),\"0\")","v":"0"},{"$f":"IF('Unit 9'!$C$7=$D$59,COUNTIF('Unit 9'!$C:$C,$D44),\"0\")","v":"0"},{"$f":"IF('Unit 10'!$C$7=$D$59,COUNTIF('Unit 10'!$C:$C,$D44),\"0\")","v":"0"},{"$f":"IF('Unit 11'!$C$7=$D$59,COUNTIF('Unit 11'!$C:$C,$D44),\"0\")","v":"0"},{"$f":"IF('Unit 12'!$C$7=$D$59,COUNTIF('Unit 12'!$C:$C,$D44),\"0\")","v":"0"},{"$f":"IF('Unit 13'!$C$7=$D$59,COUNTIF('Unit 13'!$C:$C,$D44),\"0\")","v":"0"},{"$f":"IF('Unit 14'!$C$7=$D$59,COUNTIF('Unit 14'!$C:$C,$D44),\"0\")","v":"0"},{"$f":"IF('Unit 15'!$C$7=$D$59,COUNTIF('Unit 15'!$C:$C,$D44),\"0\")","v":"0"},{"$f":"IF('Unit 16'!$C$7=$D$59,COUNTIF('Unit 16'!$C:$C,$D44),\"0\")","v":"0"},{"$f":"IF('Unit 17'!$C$7=$D$59,COUNTIF('Unit 17'!$C:$C,$D44),\"0\")","v":"0"},{"$f":"IF('Unit 18'!$C$7=$D$59,COUNTIF('Unit 18'!$C:$C,$D44),\"0\")","v":"0"},{"$f":"IF('Unit 19'!$C$7=$D$59,COUNTIF('Unit 19'!$C:$C,$D44),\"0\")","v":"0"},{"$f":"IF('Unit 20'!$C$7=$D$59,COUNTIF('Unit 20'!$C:$C,$D44),\"0\")","v":"0"},{"$f":"IF('Unit 21'!$C$7=$D$59,COUNTIF('Unit 21'!$C:$C,$D44),\"0\")","v":"0"},{"$f":"IF('Unit 22'!$C$7=$D$59,COUNTIF('Unit 22'!$C:$C,$D44),\"0\")","v":"0"},{"$f":"IF('Unit 23'!$C$7=$D$59,COUNTIF('Unit 23'!$C:$C,$D44),\"0\")","v":"0"},{"$f":"IF('Unit 24'!$C$7=$D$59,COUNTIF('Unit 24'!$C:$C,$D44),\"0\")","v":"0"},{"$f":"IF('Unit 25'!$C$7=$D$59,COUNTIF('Unit 25'!$C:$C,$D44),\"0\")","v":"0"},{"$f":"IF('Unit 26'!$C$7=$D$59,COUNTIF('Unit 26'!$C:$C,$D44),\"0\")","v":"0"},{"$f":"IF('Unit 27'!$C$7=$D$59,COUNTIF('Unit 27'!$C:$C,$D44),\"0\")","v":"0"},{"$f":"IF('Unit 28'!$C$7=$D$59,COUNTIF('Unit 28'!$C:$C,$D44),\"0\")","v":"0"},{"$f":"IF('Unit 29'!$C$7=$D$59,COUNTIF('Unit 29'!$C:$C,$D44),\"0\")","v":"0"},{"$f":"IF('Unit 30'!$C$7=$D$59,COUNTIF('Unit 30'!$C:$C,$D44),\"0\")","v":"0"},{"$f":"IF('Unit 31'!$C$7=$D$59,COUNTIF('Unit 31'!$C:$C,$D44),\"0\")","v":"0"},{"$f":"IF('Unit 32'!$C$7=$D$59,COUNTIF('Unit 32'!$C:$C,$D44),\"0\")","v":"0"},{"$f":"IF('Unit 33'!$C$7=$D$59,COUNTIF('Unit 33'!$C:$C,$D44),\"0\")","v":"0"},{"$f":"IF('Unit 34'!$C$7=$D$59,COUNTIF('Unit 34'!$C:$C,$D44),\"0\")","v":"0"},{"$f":"IF('Unit 35'!$C$7=$D$59,COUNTIF('Unit 35'!$C:$C,$D44),\"0\")","v":"0"},{"$f":"IF('Unit 36'!$C$7=$D$59,COUNTIF('Unit 36'!$C:$C,$D44),\"0\")","v":"0"},{"$f":"IF('Unit 37'!$C$7=$D$59,COUNTIF('Unit 37'!$C:$C,$D44),\"0\")","v":"0"},{"$f":"IF('Unit 38'!$C$7=$D$59,COUNTIF('Unit 38'!$C:$C,$D44),\"0\")","v":"0"},0,null,{"$f":"IF('Unit 1'!$C$7=$D$60,COUNTIF('Unit 1'!$C:$C,$D44),\"0\")","v":"0"},{"$f":"IF('Unit 2'!$C$7=$D$60,COUNTIF('Unit 2'!$C:$C,$D44),\"0\")","v":"0"},{"$f":"IF('Unit 3'!$C$7=$D$60,COUNTIF('Unit 3'!$C:$C,$D44),\"0\")","v":"0"},{"$f":"IF('Unit 4'!$C$7=$D$60,COUNTIF('Unit 4'!$C:$C,$D44),\"0\")","v":"0"},{"$f":"IF('Unit 5'!$C$7=$D$60,COUNTIF('Unit 5'!$C:$C,$D44),\"0\")","v":"0"},{"$f":"IF('Unit 6'!$C$7=$D$60,COUNTIF('Unit 6'!$C:$C,$D44),\"0\")","v":"0"},{"$f":"IF('Unit 7'!$C$7=$D$60,COUNTIF('Unit 7'!$C:$C,$D44),\"0\")","v":"0"},{"$f":"IF('Unit 8'!$C$7=$D$60,COUNTIF('Unit 8'!$C:$C,$D44),\"0\")","v":"0"},{"$f":"IF('Unit 9'!$C$7=$D$60,COUNTIF('Unit 9'!$C:$C,$D44),\"0\")","v":"0"},{"$f":"IF('Unit 10'!$C$7=$D$60,COUNTIF('Unit 10'!$C:$C,$D44),\"0\")","v":"0"},{"$f":"IF('Unit 11'!$C$7=$D$60,COUNTIF('Unit 11'!$C:$C,$D44),\"0\")","v":"0"},{"$f":"IF('Unit 12'!$C$7=$D$60,COUNTIF('Unit 12'!$C:$C,$D44),\"0\")","v":"0"},{"$f":"IF('Unit 13'!$C$7=$D$60,COUNTIF('Unit 13'!$C:$C,$D44),\"0\")","v":"0"},{"$f":"IF('Unit 14'!$C$7=$D$60,COUNTIF('Unit 14'!$C:$C,$D44),\"0\")","v":"0"},{"$f":"IF('Unit 15'!$C$7=$D$60,COUNTIF('Unit 15'!$C:$C,$D44),\"0\")","v":"0"},{"$f":"IF('Unit 16'!$C$7=$D$60,COUNTIF('Unit 16'!$C:$C,$D44),\"0\")","v":"0"},{"$f":"IF('Unit 17'!$C$7=$D$60,COUNTIF('Unit 17'!$C:$C,$D44),\"0\")","v":"0"},{"$f":"IF('Unit 18'!$C$7=$D$60,COUNTIF('Unit 18'!$C:$C,$D44),\"0\")","v":"0"},{"$f":"IF('Unit 19'!$C$7=$D$60,COUNTIF('Unit 19'!$C:$C,$D44),\"0\")","v":"0"},{"$f":"IF('Unit 20'!$C$7=$D$60,COUNTIF('Unit 20'!$C:$C,$D44),\"0\")","v":"0"},{"$f":"IF('Unit 21'!$C$7=$D$60,COUNTIF('Unit 21'!$C:$C,$D44),\"0\")","v":"0"},{"$f":"IF('Unit 22'!$C$7=$D$60,COUNTIF('Unit 22'!$C:$C,$D44),\"0\")","v":"0"},{"$f":"IF('Unit 23'!$C$7=$D$60,COUNTIF('Unit 23'!$C:$C,$D44),\"0\")","v":"0"},{"$f":"IF('Unit 24'!$C$7=$D$60,COUNTIF('Unit 24'!$C:$C,$D44),\"0\")","v":"0"},{"$f":"IF('Unit 25'!$C$7=$D$60,COUNTIF('Unit 25'!$C:$C,$D44),\"0\")","v":"0"},{"$f":"IF('Unit 26'!$C$7=$D$60,COUNTIF('Unit 26'!$C:$C,$D44),\"0\")","v":"0"},{"$f":"IF('Unit 27'!$C$7=$D$60,COUNTIF('Unit 27'!$C:$C,$D44),\"0\")","v":"0"},{"$f":"IF('Unit 28'!$C$7=$D$60,COUNTIF('Unit 28'!$C:$C,$D44),\"0\")","v":"0"},{"$f":"IF('Unit 29'!$C$7=$D$60,COUNTIF('Unit 29'!$C:$C,$D44),\"0\")","v":"0"},{"$f":"IF('Unit 30'!$C$7=$D$60,COUNTIF('Unit 30'!$C:$C,$D44),\"0\")","v":"0"},{"$f":"IF('Unit 31'!$C$7=$D$60,COUNTIF('Unit 31'!$C:$C,$D44),\"0\")","v":"0"},{"$f":"IF('Unit 32'!$C$7=$D$60,COUNTIF('Unit 32'!$C:$C,$D44),\"0\")","v":"0"},{"$f":"IF('Unit 33'!$C$7=$D$60,COUNTIF('Unit 33'!$C:$C,$D44),\"0\")","v":"0"},{"$f":"IF('Unit 34'!$C$7=$D$60,COUNTIF('Unit 34'!$C:$C,$D44),\"0\")","v":"0"},{"$f":"IF('Unit 35'!$C$7=$D$60,COUNTIF('Unit 35'!$C:$C,$D44),\"0\")","v":"0"},{"$f":"IF('Unit 36'!$C$7=$D$60,COUNTIF('Unit 36'!$C:$C,$D44),\"0\")","v":"0"},{"$f":"IF('Unit 37'!$C$7=$D$60,COUNTIF('Unit 37'!$C:$C,$D44),\"0\")","v":"0"},{"$f":"IF('Unit 38'!$C$7=$D$60,COUNTIF('Unit 38'!$C:$C,$D44),\"0\")","v":"0"},0]
[null,null,"3.5","3.5 investigate the impact of mechatronics on the environment and society ","Investigate: observe, study, or make a detailed and systematic examination, to establish facts and reach new conclusions",{"$f":"COUNTIF('Unit 1'!C:C,$D45)","v":0},{"$f":"COUNTIF('Unit 2'!C:C,D45)","v":0},{"$f":"COUNTIF('Unit 3'!C:C,D45)","v":0},{"$f":"COUNTIF('Unit 4'!C:C,D45)","v":0},{"$f":"COUNTIF('Unit 5'!C:C,D45)","v":0},{"$f":"COUNTIF('Unit 6'!C:C,D45)","v":0},{"$f":"COUNTIF('Unit 7'!C:C,D45)","v":0},{"$f":"COUNTIF('Unit 8'!C:C,D45)","v":0},{"$f":"COUNTIF('Unit 9'!C:C,D45)","v":0},{"$f":"COUNTIF('Unit 10'!C:C,D45)","v":0},{"$f":"COUNTIF('Unit 11'!C:C,D45)","v":0},{"$f":"COUNTIF('Unit 12'!C:C,D45)","v":0},{"$f":"COUNTIF('Unit 13'!C:C,D45)","v":0},{"$f":"COUNTIF('Unit 14'!C:C,D45)","v":0},{"$f":"COUNTIF('Unit 15'!C:C,D45)","v":0},{"$f":"COUNTIF('Unit 16'!C:C,D45)","v":0},{"$f":"COUNTIF('Unit 17'!C:C,D45)","v":0},{"$f":"COUNTIF('Unit 18'!C:C,D45)","v":0},{"$f":"COUNTIF('Unit 19'!C:C,D45)","v":0},{"$f":"COUNTIF('Unit 20'!C:C,D45)","v":0},{"$f":"COUNTIF('Unit 21'!C:C,D45)","v":0},{"$f":"COUNTIF('Unit 22'!C:C,D45)","v":0},{"$f":"COUNTIF('Unit 23'!C:C,D45)","v":0},{"$f":"COUNTIF('Unit 24'!C:C,D45)","v":0},{"$f":"COUNTIF('Unit 25'!C:C,D45)","v":0},{"$f":"COUNTIF('Unit 26'!C:C,D45)","v":0},{"$f":"COUNTIF('Unit 27'!C:C,D45)","v":0},{"$f":"COUNTIF('Unit 28'!C:C,D45)","v":0},{"$f":"COUNTIF('Unit 29'!C:C,D45)","v":0},{"$f":"COUNTIF('Unit 30'!C:C,D45)","v":0},{"$f":"COUNTIF('Unit 31'!C:C,D45)","v":0},{"$f":"COUNTIF('Unit 32'!C:C,D45)","v":0},{"$f":"COUNTIF('Unit 33'!C:C,D45)","v":0},{"$f":"COUNTIF('Unit 34'!C:C,D45)","v":0},{"$f":"COUNTIF('Unit 35'!C:C,D45)","v":0},{"$f":"COUNTIF('Unit 36'!C:C,D45)","v":0},{"$f":"COUNTIF('Unit 37'!C:C,D45)","v":0},{"$f":"COUNTIF('Unit 38'!C:C,D45)","v":0},0,null,{"$f":"IF('Unit 1'!$C$7=$D$58,COUNTIF('Unit 1'!$C:$C,$D45),\"0\")","v":"0"},{"$f":"IF('Unit 2'!$C$7=$D$58,COUNTIF('Unit 2'!$C:$C,$D45),\"0\")","v":"0"},{"$f":"IF('Unit 3'!$C$7=$D$58,COUNTIF('Unit 3'!$C:$C,$D45),\"0\")","v":"0"},{"$f":"IF('Unit 4'!$C$7=$D$58,COUNTIF('Unit 4'!$C:$C,$D45),\"0\")","v":"0"},{"$f":"IF('Unit 5'!$C$7=$D$58,COUNTIF('Unit 5'!$C:$C,$D45),\"0\")","v":"0"},{"$f":"IF('Unit 6'!$C$7=$D$58,COUNTIF('Unit 6'!$C:$C,$D45),\"0\")","v":"0"},{"$f":"IF('Unit 7'!$C$7=$D$58,COUNTIF('Unit 7'!$C:$C,$D45),\"0\")","v":"0"},{"$f":"IF('Unit 8'!$C$7=$D$58,COUNTIF('Unit 8'!$C:$C,$D45),\"0\")","v":"0"},{"$f":"IF('Unit 9'!$C$7=$D$58,COUNTIF('Unit 9'!$C:$C,$D45),\"0\")","v":"0"},{"$f":"IF('Unit 10'!$C$7=$D$58,COUNTIF('Unit 10'!$C:$C,$D45),\"0\")","v":"0"},{"$f":"IF('Unit 11'!$C$7=$D$58,COUNTIF('Unit 11'!$C:$C,$D45),\"0\")","v":"0"},{"$f":"IF('Unit 12'!$C$7=$D$58,COUNTIF('Unit 12'!$C:$C,$D45),\"0\")","v":"0"},{"$f":"IF('Unit 13'!$C$7=$D$58,COUNTIF('Unit 13'!$C:$C,$D45),\"0\")","v":"0"},{"$f":"IF('Unit 14'!$C$7=$D$58,COUNTIF('Unit 14'!$C:$C,$D45),\"0\")","v":"0"},{"$f":"IF('Unit 15'!$C$7=$D$58,COUNTIF('Unit 15'!$C:$C,$D45),\"0\")","v":"0"},{"$f":"IF('Unit 16'!$C$7=$D$58,COUNTIF('Unit 16'!$C:$C,$D45),\"0\")","v":"0"},{"$f":"IF('Unit 17'!$C$7=$D$58,COUNTIF('Unit 17'!$C:$C,$D45),\"0\")","v":"0"},{"$f":"IF('Unit 18'!$C$7=$D$58,COUNTIF('Unit 18'!$C:$C,$D45),\"0\")","v":"0"},{"$f":"IF('Unit 19'!$C$7=$D$58,COUNTIF('Unit 19'!$C:$C,$D45),\"0\")","v":"0"},{"$f":"IF('Unit 20'!$C$7=$D$58,COUNTIF('Unit 20'!$C:$C,$D45),\"0\")","v":"0"},{"$f":"IF('Unit 21'!$C$7=$D$58,COUNTIF('Unit 21'!$C:$C,$D45),\"0\")","v":"0"},{"$f":"IF('Unit 22'!$C$7=$D$58,COUNTIF('Unit 22'!$C:$C,$D45),\"0\")","v":"0"},{"$f":"IF('Unit 23'!$C$7=$D$58,COUNTIF('Unit 23'!$C:$C,$D45),\"0\")","v":"0"},{"$f":"IF('Unit 24'!$C$7=$D$58,COUNTIF('Unit 24'!$C:$C,$D45),\"0\")","v":"0"},{"$f":"IF('Unit 25'!$C$7=$D$58,COUNTIF('Unit 25'!$C:$C,$D45),\"0\")","v":"0"},{"$f":"IF('Unit 26'!$C$7=$D$58,COUNTIF('Unit 26'!$C:$C,$D45),\"0\")","v":"0"},{"$f":"IF('Unit 27'!$C$7=$D$58,COUNTIF('Unit 27'!$C:$C,$D45),\"0\")","v":"0"},{"$f":"IF('Unit 28'!$C$7=$D$58,COUNTIF('Unit 28'!$C:$C,$D45),\"0\")","v":"0"},{"$f":"IF('Unit 29'!$C$7=$D$58,COUNTIF('Unit 29'!$C:$C,$D45),\"0\")","v":"0"},{"$f":"IF('Unit 30'!$C$7=$D$58,COUNTIF('Unit 30'!$C:$C,$D45),\"0\")","v":"0"},{"$f":"IF('Unit 31'!$C$7=$D$58,COUNTIF('Unit 31'!$C:$C,$D45),\"0\")","v":"0"},{"$f":"IF('Unit 32'!$C$7=$D$58,COUNTIF('Unit 32'!$C:$C,$D45),\"0\")","v":"0"},{"$f":"IF('Unit 33'!$C$7=$D$58,COUNTIF('Unit 33'!$C:$C,$D45),\"0\")","v":"0"},{"$f":"IF('Unit 34'!$C$7=$D$58,COUNTIF('Unit 34'!$C:$C,$D45),\"0\")","v":"0"},{"$f":"IF('Unit 35'!$C$7=$D$58,COUNTIF('Unit 35'!$C:$C,$D45),\"0\")","v":"0"},{"$f":"IF('Unit 36'!$C$7=$D$58,COUNTIF('Unit 36'!$C:$C,$D45),\"0\")","v":"0"},{"$f":"IF('Unit 37'!$C$7=$D$58,COUNTIF('Unit 37'!$C:$C,$D45),\"0\")","v":"0"},{"$f":"IF('Unit 38'!$C$7=$D$58,COUNTIF('Unit 38'!$C:$C,$D45),\"0\")","v":"0"},0,null,{"$f":"IF('Unit 1'!$C$7=$D$59,COUNTIF('Unit 1'!$C:$C,$D45),\"0\")","v":"0"},{"$f":"IF('Unit 2'!$C$7=$D$59,COUNTIF('Unit 2'!$C:$C,$D45),\"0\")","v":"0"},{"$f":"IF('Unit 3'!$C$7=$D$59,COUNTIF('Unit 3'!$C:$C,$D45),\"0\")","v":"0"},{"$f":"IF('Unit 4'!$C$7=$D$59,COUNTIF('Unit 4'!$C:$C,$D45),\"0\")","v":"0"},{"$f":"IF('Unit 5'!$C$7=$D$59,COUNTIF('Unit 5'!$C:$C,$D45),\"0\")","v":"0"},{"$f":"IF('Unit 6'!$C$7=$D$59,COUNTIF('Unit 6'!$C:$C,$D45),\"0\")","v":"0"},{"$f":"IF('Unit 7'!$C$7=$D$59,COUNTIF('Unit 7'!$C:$C,$D45),\"0\")","v":"0"},{"$f":"IF('Unit 8'!$C$7=$D$59,COUNTIF('Unit 8'!$C:$C,$D45),\"0\")","v":"0"},{"$f":"IF('Unit 9'!$C$7=$D$59,COUNTIF('Unit 9'!$C:$C,$D45),\"0\")","v":"0"},{"$f":"IF('Unit 10'!$C$7=$D$59,COUNTIF('Unit 10'!$C:$C,$D45),\"0\")","v":"0"},{"$f":"IF('Unit 11'!$C$7=$D$59,COUNTIF('Unit 11'!$C:$C,$D45),\"0\")","v":"0"},{"$f":"IF('Unit 12'!$C$7=$D$59,COUNTIF('Unit 12'!$C:$C,$D45),\"0\")","v":"0"},{"$f":"IF('Unit 13'!$C$7=$D$59,COUNTIF('Unit 13'!$C:$C,$D45),\"0\")","v":"0"},{"$f":"IF('Unit 14'!$C$7=$D$59,COUNTIF('Unit 14'!$C:$C,$D45),\"0\")","v":"0"},{"$f":"IF('Unit 15'!$C$7=$D$59,COUNTIF('Unit 15'!$C:$C,$D45),\"0\")","v":"0"},{"$f":"IF('Unit 16'!$C$7=$D$59,COUNTIF('Unit 16'!$C:$C,$D45),\"0\")","v":"0"},{"$f":"IF('Unit 17'!$C$7=$D$59,COUNTIF('Unit 17'!$C:$C,$D45),\"0\")","v":"0"},{"$f":"IF('Unit 18'!$C$7=$D$59,COUNTIF('Unit 18'!$C:$C,$D45),\"0\")","v":"0"},{"$f":"IF('Unit 19'!$C$7=$D$59,COUNTIF('Unit 19'!$C:$C,$D45),\"0\")","v":"0"},{"$f":"IF('Unit 20'!$C$7=$D$59,COUNTIF('Unit 20'!$C:$C,$D45),\"0\")","v":"0"},{"$f":"IF('Unit 21'!$C$7=$D$59,COUNTIF('Unit 21'!$C:$C,$D45),\"0\")","v":"0"},{"$f":"IF('Unit 22'!$C$7=$D$59,COUNTIF('Unit 22'!$C:$C,$D45),\"0\")","v":"0"},{"$f":"IF('Unit 23'!$C$7=$D$59,COUNTIF('Unit 23'!$C:$C,$D45),\"0\")","v":"0"},{"$f":"IF('Unit 24'!$C$7=$D$59,COUNTIF('Unit 24'!$C:$C,$D45),\"0\")","v":"0"},{"$f":"IF('Unit 25'!$C$7=$D$59,COUNTIF('Unit 25'!$C:$C,$D45),\"0\")","v":"0"},{"$f":"IF('Unit 26'!$C$7=$D$59,COUNTIF('Unit 26'!$C:$C,$D45),\"0\")","v":"0"},{"$f":"IF('Unit 27'!$C$7=$D$59,COUNTIF('Unit 27'!$C:$C,$D45),\"0\")","v":"0"},{"$f":"IF('Unit 28'!$C$7=$D$59,COUNTIF('Unit 28'!$C:$C,$D45),\"0\")","v":"0"},{"$f":"IF('Unit 29'!$C$7=$D$59,COUNTIF('Unit 29'!$C:$C,$D45),\"0\")","v":"0"},{"$f":"IF('Unit 30'!$C$7=$D$59,COUNTIF('Unit 30'!$C:$C,$D45),\"0\")","v":"0"},{"$f":"IF('Unit 31'!$C$7=$D$59,COUNTIF('Unit 31'!$C:$C,$D45),\"0\")","v":"0"},{"$f":"IF('Unit 32'!$C$7=$D$59,COUNTIF('Unit 32'!$C:$C,$D45),\"0\")","v":"0"},{"$f":"IF('Unit 33'!$C$7=$D$59,COUNTIF('Unit 33'!$C:$C,$D45),\"0\")","v":"0"},{"$f":"IF('Unit 34'!$C$7=$D$59,COUNTIF('Unit 34'!$C:$C,$D45),\"0\")","v":"0"},{"$f":"IF('Unit 35'!$C$7=$D$59,COUNTIF('Unit 35'!$C:$C,$D45),\"0\")","v":"0"},{"$f":"IF('Unit 36'!$C$7=$D$59,COUNTIF('Unit 36'!$C:$C,$D45),\"0\")","v":"0"},{"$f":"IF('Unit 37'!$C$7=$D$59,COUNTIF('Unit 37'!$C:$C,$D45),\"0\")","v":"0"},{"$f":"IF('Unit 38'!$C$7=$D$59,COUNTIF('Unit 38'!$C:$C,$D45),\"0\")","v":"0"},0,null,{"$f":"IF('Unit 1'!$C$7=$D$60,COUNTIF('Unit 1'!$C:$C,$D45),\"0\")","v":"0"},{"$f":"IF('Unit 2'!$C$7=$D$60,COUNTIF('Unit 2'!$C:$C,$D45),\"0\")","v":"0"},{"$f":"IF('Unit 3'!$C$7=$D$60,COUNTIF('Unit 3'!$C:$C,$D45),\"0\")","v":"0"},{"$f":"IF('Unit 4'!$C$7=$D$60,COUNTIF('Unit 4'!$C:$C,$D45),\"0\")","v":"0"},{"$f":"IF('Unit 5'!$C$7=$D$60,COUNTIF('Unit 5'!$C:$C,$D45),\"0\")","v":"0"},{"$f":"IF('Unit 6'!$C$7=$D$60,COUNTIF('Unit 6'!$C:$C,$D45),\"0\")","v":"0"},{"$f":"IF('Unit 7'!$C$7=$D$60,COUNTIF('Unit 7'!$C:$C,$D45),\"0\")","v":"0"},{"$f":"IF('Unit 8'!$C$7=$D$60,COUNTIF('Unit 8'!$C:$C,$D45),\"0\")","v":"0"},{"$f":"IF('Unit 9'!$C$7=$D$60,COUNTIF('Unit 9'!$C:$C,$D45),\"0\")","v":"0"},{"$f":"IF('Unit 10'!$C$7=$D$60,COUNTIF('Unit 10'!$C:$C,$D45),\"0\")","v":"0"},{"$f":"IF('Unit 11'!$C$7=$D$60,COUNTIF('Unit 11'!$C:$C,$D45),\"0\")","v":"0"},{"$f":"IF('Unit 12'!$C$7=$D$60,COUNTIF('Unit 12'!$C:$C,$D45),\"0\")","v":"0"},{"$f":"IF('Unit 13'!$C$7=$D$60,COUNTIF('Unit 13'!$C:$C,$D45),\"0\")","v":"0"},{"$f":"IF('Unit 14'!$C$7=$D$60,COUNTIF('Unit 14'!$C:$C,$D45),\"0\")","v":"0"},{"$f":"IF('Unit 15'!$C$7=$D$60,COUNTIF('Unit 15'!$C:$C,$D45),\"0\")","v":"0"},{"$f":"IF('Unit 16'!$C$7=$D$60,COUNTIF('Unit 16'!$C:$C,$D45),\"0\")","v":"0"},{"$f":"IF('Unit 17'!$C$7=$D$60,COUNTIF('Unit 17'!$C:$C,$D45),\"0\")","v":"0"},{"$f":"IF('Unit 18'!$C$7=$D$60,COUNTIF('Unit 18'!$C:$C,$D45),\"0\")","v":"0"},{"$f":"IF('Unit 19'!$C$7=$D$60,COUNTIF('Unit 19'!$C:$C,$D45),\"0\")","v":"0"},{"$f":"IF('Unit 20'!$C$7=$D$60,COUNTIF('Unit 20'!$C:$C,$D45),\"0\")","v":"0"},{"$f":"IF('Unit 21'!$C$7=$D$60,COUNTIF('Unit 21'!$C:$C,$D45),\"0\")","v":"0"},{"$f":"IF('Unit 22'!$C$7=$D$60,COUNTIF('Unit 22'!$C:$C,$D45),\"0\")","v":"0"},{"$f":"IF('Unit 23'!$C$7=$D$60,COUNTIF('Unit 23'!$C:$C,$D45),\"0\")","v":"0"},{"$f":"IF('Unit 24'!$C$7=$D$60,COUNTIF('Unit 24'!$C:$C,$D45),\"0\")","v":"0"},{"$f":"IF('Unit 25'!$C$7=$D$60,COUNTIF('Unit 25'!$C:$C,$D45),\"0\")","v":"0"},{"$f":"IF('Unit 26'!$C$7=$D$60,COUNTIF('Unit 26'!$C:$C,$D45),\"0\")","v":"0"},{"$f":"IF('Unit 27'!$C$7=$D$60,COUNTIF('Unit 27'!$C:$C,$D45),\"0\")","v":"0"},{"$f":"IF('Unit 28'!$C$7=$D$60,COUNTIF('Unit 28'!$C:$C,$D45),\"0\")","v":"0"},{"$f":"IF('Unit 29'!$C$7=$D$60,COUNTIF('Unit 29'!$C:$C,$D45),\"0\")","v":"0"},{"$f":"IF('Unit 30'!$C$7=$D$60,COUNTIF('Unit 30'!$C:$C,$D45),\"0\")","v":"0"},{"$f":"IF('Unit 31'!$C$7=$D$60,COUNTIF('Unit 31'!$C:$C,$D45),\"0\")","v":"0"},{"$f":"IF('Unit 32'!$C$7=$D$60,COUNTIF('Unit 32'!$C:$C,$D45),\"0\")","v":"0"},{"$f":"IF('Unit 33'!$C$7=$D$60,COUNTIF('Unit 33'!$C:$C,$D45),\"0\")","v":"0"},{"$f":"IF('Unit 34'!$C$7=$D$60,COUNTIF('Unit 34'!$C:$C,$D45),\"0\")","v":"0"},{"$f":"IF('Unit 35'!$C$7=$D$60,COUNTIF('Unit 35'!$C:$C,$D45),\"0\")","v":"0"},{"$f":"IF('Unit 36'!$C$7=$D$60,COUNTIF('Unit 36'!$C:$C,$D45),\"0\")","v":"0"},{"$f":"IF('Unit 37'!$C$7=$D$60,COUNTIF('Unit 37'!$C:$C,$D45),\"0\")","v":"0"},{"$f":"IF('Unit 38'!$C$7=$D$60,COUNTIF('Unit 38'!$C:$C,$D45),\"0\")","v":"0"},0]
[null,null,"3.6","3.6 configure and program basic mechatronic systems using appropriate software ","Configure: arrange or put together in a particular form or configuration\nProgram to instruct a device or system to operate in a particular way or at a particular time",{"$f":"COUNTIF('Unit 1'!C:C,$D46)","v":0},{"$f":"COUNTIF('Unit 2'!C:C,D46)","v":0},{"$f":"COUNTIF('Unit 3'!C:C,D46)","v":0},{"$f":"COUNTIF('Unit 4'!C:C,D46)","v":0},{"$f":"COUNTIF('Unit 5'!C:C,D46)","v":0},{"$f":"COUNTIF('Unit 6'!C:C,D46)","v":0},{"$f":"COUNTIF('Unit 7'!C:C,D46)","v":0},{"$f":"COUNTIF('Unit 8'!C:C,D46)","v":0},{"$f":"COUNTIF('Unit 9'!C:C,D46)","v":0},{"$f":"COUNTIF('Unit 10'!C:C,D46)","v":0},{"$f":"COUNTIF('Unit 11'!C:C,D46)","v":0},{"$f":"COUNTIF('Unit 12'!C:C,D46)","v":0},{"$f":"COUNTIF('Unit 13'!C:C,D46)","v":0},{"$f":"COUNTIF('Unit 14'!C:C,D46)","v":0},{"$f":"COUNTIF('Unit 15'!C:C,D46)","v":0},{"$f":"COUNTIF('Unit 16'!C:C,D46)","v":0},{"$f":"COUNTIF('Unit 17'!C:C,D46)","v":0},{"$f":"COUNTIF('Unit 18'!C:C,D46)","v":0},{"$f":"COUNTIF('Unit 19'!C:C,D46)","v":0},{"$f":"COUNTIF('Unit 20'!C:C,D46)","v":0},{"$f":"COUNTIF('Unit 21'!C:C,D46)","v":0},{"$f":"COUNTIF('Unit 22'!C:C,D46)","v":0},{"$f":"COUNTIF('Unit 23'!C:C,D46)","v":0},{"$f":"COUNTIF('Unit 24'!C:C,D46)","v":0},{"$f":"COUNTIF('Unit 25'!C:C,D46)","v":0},{"$f":"COUNTIF('Unit 26'!C:C,D46)","v":0},{"$f":"COUNTIF('Unit 27'!C:C,D46)","v":0},{"$f":"COUNTIF('Unit 28'!C:C,D46)","v":0},{"$f":"COUNTIF('Unit 29'!C:C,D46)","v":0},{"$f":"COUNTIF('Unit 30'!C:C,D46)","v":0},{"$f":"COUNTIF('Unit 31'!C:C,D46)","v":0},{"$f":"COUNTIF('Unit 32'!C:C,D46)","v":0},{"$f":"COUNTIF('Unit 33'!C:C,D46)","v":0},{"$f":"COUNTIF('Unit 34'!C:C,D46)","v":0},{"$f":"COUNTIF('Unit 35'!C:C,D46)","v":0},{"$f":"COUNTIF('Unit 36'!C:C,D46)","v":0},{"$f":"COUNTIF('Unit 37'!C:C,D46)","v":0},{"$f":"COUNTIF('Unit 38'!C:C,D46)","v":0},0,null,{"$f":"IF('Unit 1'!$C$7=$D$58,COUNTIF('Unit 1'!$C:$C,$D46),\"0\")","v":"0"},{"$f":"IF('Unit 2'!$C$7=$D$58,COUNTIF('Unit 2'!$C:$C,$D46),\"0\")","v":"0"},{"$f":"IF('Unit 3'!$C$7=$D$58,COUNTIF('Unit 3'!$C:$C,$D46),\"0\")","v":"0"},{"$f":"IF('Unit 4'!$C$7=$D$58,COUNTIF('Unit 4'!$C:$C,$D46),\"0\")","v":"0"},{"$f":"IF('Unit 5'!$C$7=$D$58,COUNTIF('Unit 5'!$C:$C,$D46),\"0\")","v":"0"},{"$f":"IF('Unit 6'!$C$7=$D$58,COUNTIF('Unit 6'!$C:$C,$D46),\"0\")","v":"0"},{"$f":"IF('Unit 7'!$C$7=$D$58,COUNTIF('Unit 7'!$C:$C,$D46),\"0\")","v":"0"},{"$f":"IF('Unit 8'!$C$7=$D$58,COUNTIF('Unit 8'!$C:$C,$D46),\"0\")","v":"0"},{"$f":"IF('Unit 9'!$C$7=$D$58,COUNTIF('Unit 9'!$C:$C,$D46),\"0\")","v":"0"},{"$f":"IF('Unit 10'!$C$7=$D$58,COUNTIF('Unit 10'!$C:$C,$D46),\"0\")","v":"0"},{"$f":"IF('Unit 11'!$C$7=$D$58,COUNTIF('Unit 11'!$C:$C,$D46),\"0\")","v":"0"},{"$f":"IF('Unit 12'!$C$7=$D$58,COUNTIF('Unit 12'!$C:$C,$D46),\"0\")","v":"0"},{"$f":"IF('Unit 13'!$C$7=$D$58,COUNTIF('Unit 13'!$C:$C,$D46),\"0\")","v":"0"},{"$f":"IF('Unit 14'!$C$7=$D$58,COUNTIF('Unit 14'!$C:$C,$D46),\"0\")","v":"0"},{"$f":"IF('Unit 15'!$C$7=$D$58,COUNTIF('Unit 15'!$C:$C,$D46),\"0\")","v":"0"},{"$f":"IF('Unit 16'!$C$7=$D$58,COUNTIF('Unit 16'!$C:$C,$D46),\"0\")","v":"0"},{"$f":"IF('Unit 17'!$C$7=$D$58,COUNTIF('Unit 17'!$C:$C,$D46),\"0\")","v":"0"},{"$f":"IF('Unit 18'!$C$7=$D$58,COUNTIF('Unit 18'!$C:$C,$D46),\"0\")","v":"0"},{"$f":"IF('Unit 19'!$C$7=$D$58,COUNTIF('Unit 19'!$C:$C,$D46),\"0\")","v":"0"},{"$f":"IF('Unit 20'!$C$7=$D$58,COUNTIF('Unit 20'!$C:$C,$D46),\"0\")","v":"0"},{"$f":"IF('Unit 21'!$C$7=$D$58,COUNTIF('Unit 21'!$C:$C,$D46),\"0\")","v":"0"},{"$f":"IF('Unit 22'!$C$7=$D$58,COUNTIF('Unit 22'!$C:$C,$D46),\"0\")","v":"0"},{"$f":"IF('Unit 23'!$C$7=$D$58,COUNTIF('Unit 23'!$C:$C,$D46),\"0\")","v":"0"},{"$f":"IF('Unit 24'!$C$7=$D$58,COUNTIF('Unit 24'!$C:$C,$D46),\"0\")","v":"0"},{"$f":"IF('Unit 25'!$C$7=$D$58,COUNTIF('Unit 25'!$C:$C,$D46),\"0\")","v":"0"},{"$f":"IF('Unit 26'!$C$7=$D$58,COUNTIF('Unit 26'!$C:$C,$D46),\"0\")","v":"0"},{"$f":"IF('Unit 27'!$C$7=$D$58,COUNTIF('Unit 27'!$C:$C,$D46),\"0\")","v":"0"},{"$f":"IF('Unit 28'!$C$7=$D$58,COUNTIF('Unit 28'!$C:$C,$D46),\"0\")","v":"0"},{"$f":"IF('Unit 29'!$C$7=$D$58,COUNTIF('Unit 29'!$C:$C,$D46),\"0\")","v":"0"},{"$f":"IF('Unit 30'!$C$7=$D$58,COUNTIF('Unit 30'!$C:$C,$D46),\"0\")","v":"0"},{"$f":"IF('Unit 31'!$C$7=$D$58,COUNTIF('Unit 31'!$C:$C,$D46),\"0\")","v":"0"},{"$f":"IF('Unit 32'!$C$7=$D$58,COUNTIF('Unit 32'!$C:$C,$D46),\"0\")","v":"0"},{"$f":"IF('Unit 33'!$C$7=$D$58,COUNTIF('Unit 33'!$C:$C,$D46),\"0\")","v":"0"},{"$f":"IF('Unit 34'!$C$7=$D$58,COUNTIF('Unit 34'!$C:$C,$D46),\"0\")","v":"0"},{"$f":"IF('Unit 35'!$C$7=$D$58,COUNTIF('Unit 35'!$C:$C,$D46),\"0\")","v":"0"},{"$f":"IF('Unit 36'!$C$7=$D$58,COUNTIF('Unit 36'!$C:$C,$D46),\"0\")","v":"0"},{"$f":"IF('Unit 37'!$C$7=$D$58,COUNTIF('Unit 37'!$C:$C,$D46),\"0\")","v":"0"},{"$f":"IF('Unit 38'!$C$7=$D$58,COUNTIF('Unit 38'!$C:$C,$D46),\"0\")","v":"0"},0,null,{"$f":"IF('Unit 1'!$C$7=$D$59,COUNTIF('Unit 1'!$C:$C,$D46),\"0\")","v":"0"},{"$f":"IF('Unit 2'!$C$7=$D$59,COUNTIF('Unit 2'!$C:$C,$D46),\"0\")","v":"0"},{"$f":"IF('Unit 3'!$C$7=$D$59,COUNTIF('Unit 3'!$C:$C,$D46),\"0\")","v":"0"},{"$f":"IF('Unit 4'!$C$7=$D$59,COUNTIF('Unit 4'!$C:$C,$D46),\"0\")","v":"0"},{"$f":"IF('Unit 5'!$C$7=$D$59,COUNTIF('Unit 5'!$C:$C,$D46),\"0\")","v":"0"},{"$f":"IF('Unit 6'!$C$7=$D$59,COUNTIF('Unit 6'!$C:$C,$D46),\"0\")","v":"0"},{"$f":"IF('Unit 7'!$C$7=$D$59,COUNTIF('Unit 7'!$C:$C,$D46),\"0\")","v":"0"},{"$f":"IF('Unit 8'!$C$7=$D$59,COUNTIF('Unit 8'!$C:$C,$D46),\"0\")","v":"0"},{"$f":"IF('Unit 9'!$C$7=$D$59,COUNTIF('Unit 9'!$C:$C,$D46),\"0\")","v":"0"},{"$f":"IF('Unit 10'!$C$7=$D$59,COUNTIF('Unit 10'!$C:$C,$D46),\"0\")","v":"0"},{"$f":"IF('Unit 11'!$C$7=$D$59,COUNTIF('Unit 11'!$C:$C,$D46),\"0\")","v":"0"},{"$f":"IF('Unit 12'!$C$7=$D$59,COUNTIF('Unit 12'!$C:$C,$D46),\"0\")","v":"0"},{"$f":"IF('Unit 13'!$C$7=$D$59,COUNTIF('Unit 13'!$C:$C,$D46),\"0\")","v":"0"},{"$f":"IF('Unit 14'!$C$7=$D$59,COUNTIF('Unit 14'!$C:$C,$D46),\"0\")","v":"0"},{"$f":"IF('Unit 15'!$C$7=$D$59,COUNTIF('Unit 15'!$C:$C,$D46),\"0\")","v":"0"},{"$f":"IF('Unit 16'!$C$7=$D$59,COUNTIF('Unit 16'!$C:$C,$D46),\"0\")","v":"0"},{"$f":"IF('Unit 17'!$C$7=$D$59,COUNTIF('Unit 17'!$C:$C,$D46),\"0\")","v":"0"},{"$f":"IF('Unit 18'!$C$7=$D$59,COUNTIF('Unit 18'!$C:$C,$D46),\"0\")","v":"0"},{"$f":"IF('Unit 19'!$C$7=$D$59,COUNTIF('Unit 19'!$C:$C,$D46),\"0\")","v":"0"},{"$f":"IF('Unit 20'!$C$7=$D$59,COUNTIF('Unit 20'!$C:$C,$D46),\"0\")","v":"0"},{"$f":"IF('Unit 21'!$C$7=$D$59,COUNTIF('Unit 21'!$C:$C,$D46),\"0\")","v":"0"},{"$f":"IF('Unit 22'!$C$7=$D$59,COUNTIF('Unit 22'!$C:$C,$D46),\"0\")","v":"0"},{"$f":"IF('Unit 23'!$C$7=$D$59,COUNTIF('Unit 23'!$C:$C,$D46),\"0\")","v":"0"},{"$f":"IF('Unit 24'!$C$7=$D$59,COUNTIF('Unit 24'!$C:$C,$D46),\"0\")","v":"0"},{"$f":"IF('Unit 25'!$C$7=$D$59,COUNTIF('Unit 25'!$C:$C,$D46),\"0\")","v":"0"},{"$f":"IF('Unit 26'!$C$7=$D$59,COUNTIF('Unit 26'!$C:$C,$D46),\"0\")","v":"0"},{"$f":"IF('Unit 27'!$C$7=$D$59,COUNTIF('Unit 27'!$C:$C,$D46),\"0\")","v":"0"},{"$f":"IF('Unit 28'!$C$7=$D$59,COUNTIF('Unit 28'!$C:$C,$D46),\"0\")","v":"0"},{"$f":"IF('Unit 29'!$C$7=$D$59,COUNTIF('Unit 29'!$C:$C,$D46),\"0\")","v":"0"},{"$f":"IF('Unit 30'!$C$7=$D$59,COUNTIF('Unit 30'!$C:$C,$D46),\"0\")","v":"0"},{"$f":"IF('Unit 31'!$C$7=$D$59,COUNTIF('Unit 31'!$C:$C,$D46),\"0\")","v":"0"},{"$f":"IF('Unit 32'!$C$7=$D$59,COUNTIF('Unit 32'!$C:$C,$D46),\"0\")","v":"0"},{"$f":"IF('Unit 33'!$C$7=$D$59,COUNTIF('Unit 33'!$C:$C,$D46),\"0\")","v":"0"},{"$f":"IF('Unit 34'!$C$7=$D$59,COUNTIF('Unit 34'!$C:$C,$D46),\"0\")","v":"0"},{"$f":"IF('Unit 35'!$C$7=$D$59,COUNTIF('Unit 35'!$C:$C,$D46),\"0\")","v":"0"},{"$f":"IF('Unit 36'!$C$7=$D$59,COUNTIF('Unit 36'!$C:$C,$D46),\"0\")","v":"0"},{"$f":"IF('Unit 37'!$C$7=$D$59,COUNTIF('Unit 37'!$C:$C,$D46),\"0\")","v":"0"},{"$f":"IF('Unit 38'!$C$7=$D$59,COUNTIF('Unit 38'!$C:$C,$D46),\"0\")","v":"0"},0,null,{"$f":"IF('Unit 1'!$C$7=$D$60,COUNTIF('Unit 1'!$C:$C,$D46),\"0\")","v":"0"},{"$f":"IF('Unit 2'!$C$7=$D$60,COUNTIF('Unit 2'!$C:$C,$D46),\"0\")","v":"0"},{"$f":"IF('Unit 3'!$C$7=$D$60,COUNTIF('Unit 3'!$C:$C,$D46),\"0\")","v":"0"},{"$f":"IF('Unit 4'!$C$7=$D$60,COUNTIF('Unit 4'!$C:$C,$D46),\"0\")","v":"0"},{"$f":"IF('Unit 5'!$C$7=$D$60,COUNTIF('Unit 5'!$C:$C,$D46),\"0\")","v":"0"},{"$f":"IF('Unit 6'!$C$7=$D$60,COUNTIF('Unit 6'!$C:$C,$D46),\"0\")","v":"0"},{"$f":"IF('Unit 7'!$C$7=$D$60,COUNTIF('Unit 7'!$C:$C,$D46),\"0\")","v":"0"},{"$f":"IF('Unit 8'!$C$7=$D$60,COUNTIF('Unit 8'!$C:$C,$D46),\"0\")","v":"0"},{"$f":"IF('Unit 9'!$C$7=$D$60,COUNTIF('Unit 9'!$C:$C,$D46),\"0\")","v":"0"},{"$f":"IF('Unit 10'!$C$7=$D$60,COUNTIF('Unit 10'!$C:$C,$D46),\"0\")","v":"0"},{"$f":"IF('Unit 11'!$C$7=$D$60,COUNTIF('Unit 11'!$C:$C,$D46),\"0\")","v":"0"},{"$f":"IF('Unit 12'!$C$7=$D$60,COUNTIF('Unit 12'!$C:$C,$D46),\"0\")","v":"0"},{"$f":"IF('Unit 13'!$C$7=$D$60,COUNTIF('Unit 13'!$C:$C,$D46),\"0\")","v":"0"},{"$f":"IF('Unit 14'!$C$7=$D$60,COUNTIF('Unit 14'!$C:$C,$D46),\"0\")","v":"0"},{"$f":"IF('Unit 15'!$C$7=$D$60,COUNTIF('Unit 15'!$C:$C,$D46),\"0\")","v":"0"},{"$f":"IF('Unit 16'!$C$7=$D$60,COUNTIF('Unit 16'!$C:$C,$D46),\"0\")","v":"0"},{"$f":"IF('Unit 17'!$C$7=$D$60,COUNTIF('Unit 17'!$C:$C,$D46),\"0\")","v":"0"},{"$f":"IF('Unit 18'!$C$7=$D$60,COUNTIF('Unit 18'!$C:$C,$D46),\"0\")","v":"0"},{"$f":"IF('Unit 19'!$C$7=$D$60,COUNTIF('Unit 19'!$C:$C,$D46),\"0\")","v":"0"},{"$f":"IF('Unit 20'!$C$7=$D$60,COUNTIF('Unit 20'!$C:$C,$D46),\"0\")","v":"0"},{"$f":"IF('Unit 21'!$C$7=$D$60,COUNTIF('Unit 21'!$C:$C,$D46),\"0\")","v":"0"},{"$f":"IF('Unit 22'!$C$7=$D$60,COUNTIF('Unit 22'!$C:$C,$D46),\"0\")","v":"0"},{"$f":"IF('Unit 23'!$C$7=$D$60,COUNTIF('Unit 23'!$C:$C,$D46),\"0\")","v":"0"},{"$f":"IF('Unit 24'!$C$7=$D$60,COUNTIF('Unit 24'!$C:$C,$D46),\"0\")","v":"0"},{"$f":"IF('Unit 25'!$C$7=$D$60,COUNTIF('Unit 25'!$C:$C,$D46),\"0\")","v":"0"},{"$f":"IF('Unit 26'!$C$7=$D$60,COUNTIF('Unit 26'!$C:$C,$D46),\"0\")","v":"0"},{"$f":"IF('Unit 27'!$C$7=$D$60,COUNTIF('Unit 27'!$C:$C,$D46),\"0\")","v":"0"},{"$f":"IF('Unit 28'!$C$7=$D$60,COUNTIF('Unit 28'!$C:$C,$D46),\"0\")","v":"0"},{"$f":"IF('Unit 29'!$C$7=$D$60,COUNTIF('Unit 29'!$C:$C,$D46),\"0\")","v":"0"},{"$f":"IF('Unit 30'!$C$7=$D$60,COUNTIF('Unit 30'!$C:$C,$D46),\"0\")","v":"0"},{"$f":"IF('Unit 31'!$C$7=$D$60,COUNTIF('Unit 31'!$C:$C,$D46),\"0\")","v":"0"},{"$f":"IF('Unit 32'!$C$7=$D$60,COUNTIF('Unit 32'!$C:$C,$D46),\"0\")","v":"0"},{"$f":"IF('Unit 33'!$C$7=$D$60,COUNTIF('Unit 33'!$C:$C,$D46),\"0\")","v":"0"},{"$f":"IF('Unit 34'!$C$7=$D$60,COUNTIF('Unit 34'!$C:$C,$D46),\"0\")","v":"0"},{"$f":"IF('Unit 35'!$C$7=$D$60,COUNTIF('Unit 35'!$C:$C,$D46),\"0\")","v":"0"},{"$f":"IF('Unit 36'!$C$7=$D$60,COUNTIF('Unit 36'!$C:$C,$D46),\"0\")","v":"0"},{"$f":"IF('Unit 37'!$C$7=$D$60,COUNTIF('Unit 37'!$C:$C,$D46),\"0\")","v":"0"},{"$f":"IF('Unit 38'!$C$7=$D$60,COUNTIF('Unit 38'!$C:$C,$D46),\"0\")","v":"0"},0]
[null,null,"3.7","3.7 design a basic mechatronic system either individually or collaboratively","Design:\tplanning the features of a solution that solves a perceived user problem",{"$f":"COUNTIF('Unit 1'!C:C,$D47)","v":0},{"$f":"COUNTIF('Unit 2'!C:C,D47)","v":0},{"$f":"COUNTIF('Unit 3'!C:C,D47)","v":0},{"$f":"COUNTIF('Unit 4'!C:C,D47)","v":0},{"$f":"COUNTIF('Unit 5'!C:C,D47)","v":0},{"$f":"COUNTIF('Unit 6'!C:C,D47)","v":0},{"$f":"COUNTIF('Unit 7'!C:C,D47)","v":0},{"$f":"COUNTIF('Unit 8'!C:C,D47)","v":0},{"$f":"COUNTIF('Unit 9'!C:C,D47)","v":0},{"$f":"COUNTIF('Unit 10'!C:C,D47)","v":0},{"$f":"COUNTIF('Unit 11'!C:C,D47)","v":0},{"$f":"COUNTIF('Unit 12'!C:C,D47)","v":0},{"$f":"COUNTIF('Unit 13'!C:C,D47)","v":0},{"$f":"COUNTIF('Unit 14'!C:C,D47)","v":0},{"$f":"COUNTIF('Unit 15'!C:C,D47)","v":0},{"$f":"COUNTIF('Unit 16'!C:C,D47)","v":0},{"$f":"COUNTIF('Unit 17'!C:C,D47)","v":0},{"$f":"COUNTIF('Unit 18'!C:C,D47)","v":0},{"$f":"COUNTIF('Unit 19'!C:C,D47)","v":0},{"$f":"COUNTIF('Unit 20'!C:C,D47)","v":0},{"$f":"COUNTIF('Unit 21'!C:C,D47)","v":0},{"$f":"COUNTIF('Unit 22'!C:C,D47)","v":0},{"$f":"COUNTIF('Unit 23'!C:C,D47)","v":0},{"$f":"COUNTIF('Unit 24'!C:C,D47)","v":0},{"$f":"COUNTIF('Unit 25'!C:C,D47)","v":0},{"$f":"COUNTIF('Unit 26'!C:C,D47)","v":0},{"$f":"COUNTIF('Unit 27'!C:C,D47)","v":0},{"$f":"COUNTIF('Unit 28'!C:C,D47)","v":0},{"$f":"COUNTIF('Unit 29'!C:C,D47)","v":0},{"$f":"COUNTIF('Unit 30'!C:C,D47)","v":0},{"$f":"COUNTIF('Unit 31'!C:C,D47)","v":0},{"$f":"COUNTIF('Unit 32'!C:C,D47)","v":0},{"$f":"COUNTIF('Unit 33'!C:C,D47)","v":0},{"$f":"COUNTIF('Unit 34'!C:C,D47)","v":0},{"$f":"COUNTIF('Unit 35'!C:C,D47)","v":0},{"$f":"COUNTIF('Unit 36'!C:C,D47)","v":0},{"$f":"COUNTIF('Unit 37'!C:C,D47)","v":0},{"$f":"COUNTIF('Unit 38'!C:C,D47)","v":0},0,null,{"$f":"IF('Unit 1'!$C$7=$D$58,COUNTIF('Unit 1'!$C:$C,$D47),\"0\")","v":"0"},{"$f":"IF('Unit 2'!$C$7=$D$58,COUNTIF('Unit 2'!$C:$C,$D47),\"0\")","v":"0"},{"$f":"IF('Unit 3'!$C$7=$D$58,COUNTIF('Unit 3'!$C:$C,$D47),\"0\")","v":"0"},{"$f":"IF('Unit 4'!$C$7=$D$58,COUNTIF('Unit 4'!$C:$C,$D47),\"0\")","v":"0"},{"$f":"IF('Unit 5'!$C$7=$D$58,COUNTIF('Unit 5'!$C:$C,$D47),\"0\")","v":"0"},{"$f":"IF('Unit 6'!$C$7=$D$58,COUNTIF('Unit 6'!$C:$C,$D47),\"0\")","v":"0"},{"$f":"IF('Unit 7'!$C$7=$D$58,COUNTIF('Unit 7'!$C:$C,$D47),\"0\")","v":"0"},{"$f":"IF('Unit 8'!$C$7=$D$58,COUNTIF('Unit 8'!$C:$C,$D47),\"0\")","v":"0"},{"$f":"IF('Unit 9'!$C$7=$D$58,COUNTIF('Unit 9'!$C:$C,$D47),\"0\")","v":"0"},{"$f":"IF('Unit 10'!$C$7=$D$58,COUNTIF('Unit 10'!$C:$C,$D47),\"0\")","v":"0"},{"$f":"IF('Unit 11'!$C$7=$D$58,COUNTIF('Unit 11'!$C:$C,$D47),\"0\")","v":"0"},{"$f":"IF('Unit 12'!$C$7=$D$58,COUNTIF('Unit 12'!$C:$C,$D47),\"0\")","v":"0"},{"$f":"IF('Unit 13'!$C$7=$D$58,COUNTIF('Unit 13'!$C:$C,$D47),\"0\")","v":"0"},{"$f":"IF('Unit 14'!$C$7=$D$58,COUNTIF('Unit 14'!$C:$C,$D47),\"0\")","v":"0"},{"$f":"IF('Unit 15'!$C$7=$D$58,COUNTIF('Unit 15'!$C:$C,$D47),\"0\")","v":"0"},{"$f":"IF('Unit 16'!$C$7=$D$58,COUNTIF('Unit 16'!$C:$C,$D47),\"0\")","v":"0"},{"$f":"IF('Unit 17'!$C$7=$D$58,COUNTIF('Unit 17'!$C:$C,$D47),\"0\")","v":"0"},{"$f":"IF('Unit 18'!$C$7=$D$58,COUNTIF('Unit 18'!$C:$C,$D47),\"0\")","v":"0"},{"$f":"IF('Unit 19'!$C$7=$D$58,COUNTIF('Unit 19'!$C:$C,$D47),\"0\")","v":"0"},{"$f":"IF('Unit 20'!$C$7=$D$58,COUNTIF('Unit 20'!$C:$C,$D47),\"0\")","v":"0"},{"$f":"IF('Unit 21'!$C$7=$D$58,COUNTIF('Unit 21'!$C:$C,$D47),\"0\")","v":"0"},{"$f":"IF('Unit 22'!$C$7=$D$58,COUNTIF('Unit 22'!$C:$C,$D47),\"0\")","v":"0"},{"$f":"IF('Unit 23'!$C$7=$D$58,COUNTIF('Unit 23'!$C:$C,$D47),\"0\")","v":"0"},{"$f":"IF('Unit 24'!$C$7=$D$58,COUNTIF('Unit 24'!$C:$C,$D47),\"0\")","v":"0"},{"$f":"IF('Unit 25'!$C$7=$D$58,COUNTIF('Unit 25'!$C:$C,$D47),\"0\")","v":"0"},{"$f":"IF('Unit 26'!$C$7=$D$58,COUNTIF('Unit 26'!$C:$C,$D47),\"0\")","v":"0"},{"$f":"IF('Unit 27'!$C$7=$D$58,COUNTIF('Unit 27'!$C:$C,$D47),\"0\")","v":"0"},{"$f":"IF('Unit 28'!$C$7=$D$58,COUNTIF('Unit 28'!$C:$C,$D47),\"0\")","v":"0"},{"$f":"IF('Unit 29'!$C$7=$D$58,COUNTIF('Unit 29'!$C:$C,$D47),\"0\")","v":"0"},{"$f":"IF('Unit 30'!$C$7=$D$58,COUNTIF('Unit 30'!$C:$C,$D47),\"0\")","v":"0"},{"$f":"IF('Unit 31'!$C$7=$D$58,COUNTIF('Unit 31'!$C:$C,$D47),\"0\")","v":"0"},{"$f":"IF('Unit 32'!$C$7=$D$58,COUNTIF('Unit 32'!$C:$C,$D47),\"0\")","v":"0"},{"$f":"IF('Unit 33'!$C$7=$D$58,COUNTIF('Unit 33'!$C:$C,$D47),\"0\")","v":"0"},{"$f":"IF('Unit 34'!$C$7=$D$58,COUNTIF('Unit 34'!$C:$C,$D47),\"0\")","v":"0"},{"$f":"IF('Unit 35'!$C$7=$D$58,COUNTIF('Unit 35'!$C:$C,$D47),\"0\")","v":"0"},{"$f":"IF('Unit 36'!$C$7=$D$58,COUNTIF('Unit 36'!$C:$C,$D47),\"0\")","v":"0"},{"$f":"IF('Unit 37'!$C$7=$D$58,COUNTIF('Unit 37'!$C:$C,$D47),\"0\")","v":"0"},{"$f":"IF('Unit 38'!$C$7=$D$58,COUNTIF('Unit 38'!$C:$C,$D47),\"0\")","v":"0"},0,null,{"$f":"IF('Unit 1'!$C$7=$D$59,COUNTIF('Unit 1'!$C:$C,$D47),\"0\")","v":"0"},{"$f":"IF('Unit 2'!$C$7=$D$59,COUNTIF('Unit 2'!$C:$C,$D47),\"0\")","v":"0"},{"$f":"IF('Unit 3'!$C$7=$D$59,COUNTIF('Unit 3'!$C:$C,$D47),\"0\")","v":"0"},{"$f":"IF('Unit 4'!$C$7=$D$59,COUNTIF('Unit 4'!$C:$C,$D47),\"0\")","v":"0"},{"$f":"IF('Unit 5'!$C$7=$D$59,COUNTIF('Unit 5'!$C:$C,$D47),\"0\")","v":"0"},{"$f":"IF('Unit 6'!$C$7=$D$59,COUNTIF('Unit 6'!$C:$C,$D47),\"0\")","v":"0"},{"$f":"IF('Unit 7'!$C$7=$D$59,COUNTIF('Unit 7'!$C:$C,$D47),\"0\")","v":"0"},{"$f":"IF('Unit 8'!$C$7=$D$59,COUNTIF('Unit 8'!$C:$C,$D47),\"0\")","v":"0"},{"$f":"IF('Unit 9'!$C$7=$D$59,COUNTIF('Unit 9'!$C:$C,$D47),\"0\")","v":"0"},{"$f":"IF('Unit 10'!$C$7=$D$59,COUNTIF('Unit 10'!$C:$C,$D47),\"0\")","v":"0"},{"$f":"IF('Unit 11'!$C$7=$D$59,COUNTIF('Unit 11'!$C:$C,$D47),\"0\")","v":"0"},{"$f":"IF('Unit 12'!$C$7=$D$59,COUNTIF('Unit 12'!$C:$C,$D47),\"0\")","v":"0"},{"$f":"IF('Unit 13'!$C$7=$D$59,COUNTIF('Unit 13'!$C:$C,$D47),\"0\")","v":"0"},{"$f":"IF('Unit 14'!$C$7=$D$59,COUNTIF('Unit 14'!$C:$C,$D47),\"0\")","v":"0"},{"$f":"IF('Unit 15'!$C$7=$D$59,COUNTIF('Unit 15'!$C:$C,$D47),\"0\")","v":"0"},{"$f":"IF('Unit 16'!$C$7=$D$59,COUNTIF('Unit 16'!$C:$C,$D47),\"0\")","v":"0"},{"$f":"IF('Unit 17'!$C$7=$D$59,COUNTIF('Unit 17'!$C:$C,$D47),\"0\")","v":"0"},{"$f":"IF('Unit 18'!$C$7=$D$59,COUNTIF('Unit 18'!$C:$C,$D47),\"0\")","v":"0"},{"$f":"IF('Unit 19'!$C$7=$D$59,COUNTIF('Unit 19'!$C:$C,$D47),\"0\")","v":"0"},{"$f":"IF('Unit 20'!$C$7=$D$59,COUNTIF('Unit 20'!$C:$C,$D47),\"0\")","v":"0"},{"$f":"IF('Unit 21'!$C$7=$D$59,COUNTIF('Unit 21'!$C:$C,$D47),\"0\")","v":"0"},{"$f":"IF('Unit 22'!$C$7=$D$59,COUNTIF('Unit 22'!$C:$C,$D47),\"0\")","v":"0"},{"$f":"IF('Unit 23'!$C$7=$D$59,COUNTIF('Unit 23'!$C:$C,$D47),\"0\")","v":"0"},{"$f":"IF('Unit 24'!$C$7=$D$59,COUNTIF('Unit 24'!$C:$C,$D47),\"0\")","v":"0"},{"$f":"IF('Unit 25'!$C$7=$D$59,COUNTIF('Unit 25'!$C:$C,$D47),\"0\")","v":"0"},{"$f":"IF('Unit 26'!$C$7=$D$59,COUNTIF('Unit 26'!$C:$C,$D47),\"0\")","v":"0"},{"$f":"IF('Unit 27'!$C$7=$D$59,COUNTIF('Unit 27'!$C:$C,$D47),\"0\")","v":"0"},{"$f":"IF('Unit 28'!$C$7=$D$59,COUNTIF('Unit 28'!$C:$C,$D47),\"0\")","v":"0"},{"$f":"IF('Unit 29'!$C$7=$D$59,COUNTIF('Unit 29'!$C:$C,$D47),\"0\")","v":"0"},{"$f":"IF('Unit 30'!$C$7=$D$59,COUNTIF('Unit 30'!$C:$C,$D47),\"0\")","v":"0"},{"$f":"IF('Unit 31'!$C$7=$D$59,COUNTIF('Unit 31'!$C:$C,$D47),\"0\")","v":"0"},{"$f":"IF('Unit 32'!$C$7=$D$59,COUNTIF('Unit 32'!$C:$C,$D47),\"0\")","v":"0"},{"$f":"IF('Unit 33'!$C$7=$D$59,COUNTIF('Unit 33'!$C:$C,$D47),\"0\")","v":"0"},{"$f":"IF('Unit 34'!$C$7=$D$59,COUNTIF('Unit 34'!$C:$C,$D47),\"0\")","v":"0"},{"$f":"IF('Unit 35'!$C$7=$D$59,COUNTIF('Unit 35'!$C:$C,$D47),\"0\")","v":"0"},{"$f":"IF('Unit 36'!$C$7=$D$59,COUNTIF('Unit 36'!$C:$C,$D47),\"0\")","v":"0"},{"$f":"IF('Unit 37'!$C$7=$D$59,COUNTIF('Unit 37'!$C:$C,$D47),\"0\")","v":"0"},{"$f":"IF('Unit 38'!$C$7=$D$59,COUNTIF('Unit 38'!$C:$C,$D47),\"0\")","v":"0"},0,null,{"$f":"IF('Unit 1'!$C$7=$D$60,COUNTIF('Unit 1'!$C:$C,$D47),\"0\")","v":"0"},{"$f":"IF('Unit 2'!$C$7=$D$60,COUNTIF('Unit 2'!$C:$C,$D47),\"0\")","v":"0"},{"$f":"IF('Unit 3'!$C$7=$D$60,COUNTIF('Unit 3'!$C:$C,$D47),\"0\")","v":"0"},{"$f":"IF('Unit 4'!$C$7=$D$60,COUNTIF('Unit 4'!$C:$C,$D47),\"0\")","v":"0"},{"$f":"IF('Unit 5'!$C$7=$D$60,COUNTIF('Unit 5'!$C:$C,$D47),\"0\")","v":"0"},{"$f":"IF('Unit 6'!$C$7=$D$60,COUNTIF('Unit 6'!$C:$C,$D47),\"0\")","v":"0"},{"$f":"IF('Unit 7'!$C$7=$D$60,COUNTIF('Unit 7'!$C:$C,$D47),\"0\")","v":"0"},{"$f":"IF('Unit 8'!$C$7=$D$60,COUNTIF('Unit 8'!$C:$C,$D47),\"0\")","v":"0"},{"$f":"IF('Unit 9'!$C$7=$D$60,COUNTIF('Unit 9'!$C:$C,$D47),\"0\")","v":"0"},{"$f":"IF('Unit 10'!$C$7=$D$60,COUNTIF('Unit 10'!$C:$C,$D47),\"0\")","v":"0"},{"$f":"IF('Unit 11'!$C$7=$D$60,COUNTIF('Unit 11'!$C:$C,$D47),\"0\")","v":"0"},{"$f":"IF('Unit 12'!$C$7=$D$60,COUNTIF('Unit 12'!$C:$C,$D47),\"0\")","v":"0"},{"$f":"IF('Unit 13'!$C$7=$D$60,COUNTIF('Unit 13'!$C:$C,$D47),\"0\")","v":"0"},{"$f":"IF('Unit 14'!$C$7=$D$60,COUNTIF('Unit 14'!$C:$C,$D47),\"0\")","v":"0"},{"$f":"IF('Unit 15'!$C$7=$D$60,COUNTIF('Unit 15'!$C:$C,$D47),\"0\")","v":"0"},{"$f":"IF('Unit 16'!$C$7=$D$60,COUNTIF('Unit 16'!$C:$C,$D47),\"0\")","v":"0"},{"$f":"IF('Unit 17'!$C$7=$D$60,COUNTIF('Unit 17'!$C:$C,$D47),\"0\")","v":"0"},{"$f":"IF('Unit 18'!$C$7=$D$60,COUNTIF('Unit 18'!$C:$C,$D47),\"0\")","v":"0"},{"$f":"IF('Unit 19'!$C$7=$D$60,COUNTIF('Unit 19'!$C:$C,$D47),\"0\")","v":"0"},{"$f":"IF('Unit 20'!$C$7=$D$60,COUNTIF('Unit 20'!$C:$C,$D47),\"0\")","v":"0"},{"$f":"IF('Unit 21'!$C$7=$D$60,COUNTIF('Unit 21'!$C:$C,$D47),\"0\")","v":"0"},{"$f":"IF('Unit 22'!$C$7=$D$60,COUNTIF('Unit 22'!$C:$C,$D47),\"0\")","v":"0"},{"$f":"IF('Unit 23'!$C$7=$D$60,COUNTIF('Unit 23'!$C:$C,$D47),\"0\")","v":"0"},{"$f":"IF('Unit 24'!$C$7=$D$60,COUNTIF('Unit 24'!$C:$C,$D47),\"0\")","v":"0"},{"$f":"IF('Unit 25'!$C$7=$D$60,COUNTIF('Unit 25'!$C:$C,$D47),\"0\")","v":"0"},{"$f":"IF('Unit 26'!$C$7=$D$60,COUNTIF('Unit 26'!$C:$C,$D47),\"0\")","v":"0"},{"$f":"IF('Unit 27'!$C$7=$D$60,COUNTIF('Unit 27'!$C:$C,$D47),\"0\")","v":"0"},{"$f":"IF('Unit 28'!$C$7=$D$60,COUNTIF('Unit 28'!$C:$C,$D47),\"0\")","v":"0"},{"$f":"IF('Unit 29'!$C$7=$D$60,COUNTIF('Unit 29'!$C:$C,$D47),\"0\")","v":"0"},{"$f":"IF('Unit 30'!$C$7=$D$60,COUNTIF('Unit 30'!$C:$C,$D47),\"0\")","v":"0"},{"$f":"IF('Unit 31'!$C$7=$D$60,COUNTIF('Unit 31'!$C:$C,$D47),\"0\")","v":"0"},{"$f":"IF('Unit 32'!$C$7=$D$60,COUNTIF('Unit 32'!$C:$C,$D47),\"0\")","v":"0"},{"$f":"IF('Unit 33'!$C$7=$D$60,COUNTIF('Unit 33'!$C:$C,$D47),\"0\")","v":"0"},{"$f":"IF('Unit 34'!$C$7=$D$60,COUNTIF('Unit 34'!$C:$C,$D47),\"0\")","v":"0"},{"$f":"IF('Unit 35'!$C$7=$D$60,COUNTIF('Unit 35'!$C:$C,$D47),\"0\")","v":"0"},{"$f":"IF('Unit 36'!$C$7=$D$60,COUNTIF('Unit 36'!$C:$C,$D47),\"0\")","v":"0"},{"$f":"IF('Unit 37'!$C$7=$D$60,COUNTIF('Unit 37'!$C:$C,$D47),\"0\")","v":"0"},{"$f":"IF('Unit 38'!$C$7=$D$60,COUNTIF('Unit 38'!$C:$C,$D47),\"0\")","v":"0"},0]
[null,{"$f":"B16","v":"Developing and Manufacturing"},"3.8","3.8 build and test a basic mechatronic system with specific inputs or outputs ","Build: construct by putting parts or material together\nTest: establish the quality, performance, or reliability of something",{"$f":"COUNTIF('Unit 1'!C:C,$D48)","v":0},{"$f":"COUNTIF('Unit 2'!C:C,D48)","v":0},{"$f":"COUNTIF('Unit 3'!C:C,D48)","v":0},{"$f":"COUNTIF('Unit 4'!C:C,D48)","v":0},{"$f":"COUNTIF('Unit 5'!C:C,D48)","v":0},{"$f":"COUNTIF('Unit 6'!C:C,D48)","v":0},{"$f":"COUNTIF('Unit 7'!C:C,D48)","v":0},{"$f":"COUNTIF('Unit 8'!C:C,D48)","v":0},{"$f":"COUNTIF('Unit 9'!C:C,D48)","v":0},{"$f":"COUNTIF('Unit 10'!C:C,D48)","v":0},{"$f":"COUNTIF('Unit 11'!C:C,D48)","v":0},{"$f":"COUNTIF('Unit 12'!C:C,D48)","v":0},{"$f":"COUNTIF('Unit 13'!C:C,D48)","v":0},{"$f":"COUNTIF('Unit 14'!C:C,D48)","v":0},{"$f":"COUNTIF('Unit 15'!C:C,D48)","v":0},{"$f":"COUNTIF('Unit 16'!C:C,D48)","v":0},{"$f":"COUNTIF('Unit 17'!C:C,D48)","v":0},{"$f":"COUNTIF('Unit 18'!C:C,D48)","v":0},{"$f":"COUNTIF('Unit 19'!C:C,D48)","v":0},{"$f":"COUNTIF('Unit 20'!C:C,D48)","v":0},{"$f":"COUNTIF('Unit 21'!C:C,D48)","v":0},{"$f":"COUNTIF('Unit 22'!C:C,D48)","v":0},{"$f":"COUNTIF('Unit 23'!C:C,D48)","v":0},{"$f":"COUNTIF('Unit 24'!C:C,D48)","v":0},{"$f":"COUNTIF('Unit 25'!C:C,D48)","v":0},{"$f":"COUNTIF('Unit 26'!C:C,D48)","v":0},{"$f":"COUNTIF('Unit 27'!C:C,D48)","v":0},{"$f":"COUNTIF('Unit 28'!C:C,D48)","v":0},{"$f":"COUNTIF('Unit 29'!C:C,D48)","v":0},{"$f":"COUNTIF('Unit 30'!C:C,D48)","v":0},{"$f":"COUNTIF('Unit 31'!C:C,D48)","v":0},{"$f":"COUNTIF('Unit 32'!C:C,D48)","v":0},{"$f":"COUNTIF('Unit 33'!C:C,D48)","v":0},{"$f":"COUNTIF('Unit 34'!C:C,D48)","v":0},{"$f":"COUNTIF('Unit 35'!C:C,D48)","v":0},{"$f":"COUNTIF('Unit 36'!C:C,D48)","v":0},{"$f":"COUNTIF('Unit 37'!C:C,D48)","v":0},{"$f":"COUNTIF('Unit 38'!C:C,D48)","v":0},0,null,{"$f":"IF('Unit 1'!$C$7=$D$58,COUNTIF('Unit 1'!$C:$C,$D48),\"0\")","v":"0"},{"$f":"IF('Unit 2'!$C$7=$D$58,COUNTIF('Unit 2'!$C:$C,$D48),\"0\")","v":"0"},{"$f":"IF('Unit 3'!$C$7=$D$58,COUNTIF('Unit 3'!$C:$C,$D48),\"0\")","v":"0"},{"$f":"IF('Unit 4'!$C$7=$D$58,COUNTIF('Unit 4'!$C:$C,$D48),\"0\")","v":"0"},{"$f":"IF('Unit 5'!$C$7=$D$58,COUNTIF('Unit 5'!$C:$C,$D48),\"0\")","v":"0"},{"$f":"IF('Unit 6'!$C$7=$D$58,COUNTIF('Unit 6'!$C:$C,$D48),\"0\")","v":"0"},{"$f":"IF('Unit 7'!$C$7=$D$58,COUNTIF('Unit 7'!$C:$C,$D48),\"0\")","v":"0"},{"$f":"IF('Unit 8'!$C$7=$D$58,COUNTIF('Unit 8'!$C:$C,$D48),\"0\")","v":"0"},{"$f":"IF('Unit 9'!$C$7=$D$58,COUNTIF('Unit 9'!$C:$C,$D48),\"0\")","v":"0"},{"$f":"IF('Unit 10'!$C$7=$D$58,COUNTIF('Unit 10'!$C:$C,$D48),\"0\")","v":"0"},{"$f":"IF('Unit 11'!$C$7=$D$58,COUNTIF('Unit 11'!$C:$C,$D48),\"0\")","v":"0"},{"$f":"IF('Unit 12'!$C$7=$D$58,COUNTIF('Unit 12'!$C:$C,$D48),\"0\")","v":"0"},{"$f":"IF('Unit 13'!$C$7=$D$58,COUNTIF('Unit 13'!$C:$C,$D48),\"0\")","v":"0"},{"$f":"IF('Unit 14'!$C$7=$D$58,COUNTIF('Unit 14'!$C:$C,$D48),\"0\")","v":"0"},{"$f":"IF('Unit 15'!$C$7=$D$58,COUNTIF('Unit 15'!$C:$C,$D48),\"0\")","v":"0"},{"$f":"IF('Unit 16'!$C$7=$D$58,COUNTIF('Unit 16'!$C:$C,$D48),\"0\")","v":"0"},{"$f":"IF('Unit 17'!$C$7=$D$58,COUNTIF('Unit 17'!$C:$C,$D48),\"0\")","v":"0"},{"$f":"IF('Unit 18'!$C$7=$D$58,COUNTIF('Unit 18'!$C:$C,$D48),\"0\")","v":"0"},{"$f":"IF('Unit 19'!$C$7=$D$58,COUNTIF('Unit 19'!$C:$C,$D48),\"0\")","v":"0"},{"$f":"IF('Unit 20'!$C$7=$D$58,COUNTIF('Unit 20'!$C:$C,$D48),\"0\")","v":"0"},{"$f":"IF('Unit 21'!$C$7=$D$58,COUNTIF('Unit 21'!$C:$C,$D48),\"0\")","v":"0"},{"$f":"IF('Unit 22'!$C$7=$D$58,COUNTIF('Unit 22'!$C:$C,$D48),\"0\")","v":"0"},{"$f":"IF('Unit 23'!$C$7=$D$58,COUNTIF('Unit 23'!$C:$C,$D48),\"0\")","v":"0"},{"$f":"IF('Unit 24'!$C$7=$D$58,COUNTIF('Unit 24'!$C:$C,$D48),\"0\")","v":"0"},{"$f":"IF('Unit 25'!$C$7=$D$58,COUNTIF('Unit 25'!$C:$C,$D48),\"0\")","v":"0"},{"$f":"IF('Unit 26'!$C$7=$D$58,COUNTIF('Unit 26'!$C:$C,$D48),\"0\")","v":"0"},{"$f":"IF('Unit 27'!$C$7=$D$58,COUNTIF('Unit 27'!$C:$C,$D48),\"0\")","v":"0"},{"$f":"IF('Unit 28'!$C$7=$D$58,COUNTIF('Unit 28'!$C:$C,$D48),\"0\")","v":"0"},{"$f":"IF('Unit 29'!$C$7=$D$58,COUNTIF('Unit 29'!$C:$C,$D48),\"0\")","v":"0"},{"$f":"IF('Unit 30'!$C$7=$D$58,COUNTIF('Unit 30'!$C:$C,$D48),\"0\")","v":"0"},{"$f":"IF('Unit 31'!$C$7=$D$58,COUNTIF('Unit 31'!$C:$C,$D48),\"0\")","v":"0"},{"$f":"IF('Unit 32'!$C$7=$D$58,COUNTIF('Unit 32'!$C:$C,$D48),\"0\")","v":"0"},{"$f":"IF('Unit 33'!$C$7=$D$58,COUNTIF('Unit 33'!$C:$C,$D48),\"0\")","v":"0"},{"$f":"IF('Unit 34'!$C$7=$D$58,COUNTIF('Unit 34'!$C:$C,$D48),\"0\")","v":"0"},{"$f":"IF('Unit 35'!$C$7=$D$58,COUNTIF('Unit 35'!$C:$C,$D48),\"0\")","v":"0"},{"$f":"IF('Unit 36'!$C$7=$D$58,COUNTIF('Unit 36'!$C:$C,$D48),\"0\")","v":"0"},{"$f":"IF('Unit 37'!$C$7=$D$58,COUNTIF('Unit 37'!$C:$C,$D48),\"0\")","v":"0"},{"$f":"IF('Unit 38'!$C$7=$D$58,COUNTIF('Unit 38'!$C:$C,$D48),\"0\")","v":"0"},0,null,{"$f":"IF('Unit 1'!$C$7=$D$59,COUNTIF('Unit 1'!$C:$C,$D48),\"0\")","v":"0"},{"$f":"IF('Unit 2'!$C$7=$D$59,COUNTIF('Unit 2'!$C:$C,$D48),\"0\")","v":"0"},{"$f":"IF('Unit 3'!$C$7=$D$59,COUNTIF('Unit 3'!$C:$C,$D48),\"0\")","v":"0"},{"$f":"IF('Unit 4'!$C$7=$D$59,COUNTIF('Unit 4'!$C:$C,$D48),\"0\")","v":"0"},{"$f":"IF('Unit 5'!$C$7=$D$59,COUNTIF('Unit 5'!$C:$C,$D48),\"0\")","v":"0"},{"$f":"IF('Unit 6'!$C$7=$D$59,COUNTIF('Unit 6'!$C:$C,$D48),\"0\")","v":"0"},{"$f":"IF('Unit 7'!$C$7=$D$59,COUNTIF('Unit 7'!$C:$C,$D48),\"0\")","v":"0"},{"$f":"IF('Unit 8'!$C$7=$D$59,COUNTIF('Unit 8'!$C:$C,$D48),\"0\")","v":"0"},{"$f":"IF('Unit 9'!$C$7=$D$59,COUNTIF('Unit 9'!$C:$C,$D48),\"0\")","v":"0"},{"$f":"IF('Unit 10'!$C$7=$D$59,COUNTIF('Unit 10'!$C:$C,$D48),\"0\")","v":"0"},{"$f":"IF('Unit 11'!$C$7=$D$59,COUNTIF('Unit 11'!$C:$C,$D48),\"0\")","v":"0"},{"$f":"IF('Unit 12'!$C$7=$D$59,COUNTIF('Unit 12'!$C:$C,$D48),\"0\")","v":"0"},{"$f":"IF('Unit 13'!$C$7=$D$59,COUNTIF('Unit 13'!$C:$C,$D48),\"0\")","v":"0"},{"$f":"IF('Unit 14'!$C$7=$D$59,COUNTIF('Unit 14'!$C:$C,$D48),\"0\")","v":"0"},{"$f":"IF('Unit 15'!$C$7=$D$59,COUNTIF('Unit 15'!$C:$C,$D48),\"0\")","v":"0"},{"$f":"IF('Unit 16'!$C$7=$D$59,COUNTIF('Unit 16'!$C:$C,$D48),\"0\")","v":"0"},{"$f":"IF('Unit 17'!$C$7=$D$59,COUNTIF('Unit 17'!$C:$C,$D48),\"0\")","v":"0"},{"$f":"IF('Unit 18'!$C$7=$D$59,COUNTIF('Unit 18'!$C:$C,$D48),\"0\")","v":"0"},{"$f":"IF('Unit 19'!$C$7=$D$59,COUNTIF('Unit 19'!$C:$C,$D48),\"0\")","v":"0"},{"$f":"IF('Unit 20'!$C$7=$D$59,COUNTIF('Unit 20'!$C:$C,$D48),\"0\")","v":"0"},{"$f":"IF('Unit 21'!$C$7=$D$59,COUNTIF('Unit 21'!$C:$C,$D48),\"0\")","v":"0"},{"$f":"IF('Unit 22'!$C$7=$D$59,COUNTIF('Unit 22'!$C:$C,$D48),\"0\")","v":"0"},{"$f":"IF('Unit 23'!$C$7=$D$59,COUNTIF('Unit 23'!$C:$C,$D48),\"0\")","v":"0"},{"$f":"IF('Unit 24'!$C$7=$D$59,COUNTIF('Unit 24'!$C:$C,$D48),\"0\")","v":"0"},{"$f":"IF('Unit 25'!$C$7=$D$59,COUNTIF('Unit 25'!$C:$C,$D48),\"0\")","v":"0"},{"$f":"IF('Unit 26'!$C$7=$D$59,COUNTIF('Unit 26'!$C:$C,$D48),\"0\")","v":"0"},{"$f":"IF('Unit 27'!$C$7=$D$59,COUNTIF('Unit 27'!$C:$C,$D48),\"0\")","v":"0"},{"$f":"IF('Unit 28'!$C$7=$D$59,COUNTIF('Unit 28'!$C:$C,$D48),\"0\")","v":"0"},{"$f":"IF('Unit 29'!$C$7=$D$59,COUNTIF('Unit 29'!$C:$C,$D48),\"0\")","v":"0"},{"$f":"IF('Unit 30'!$C$7=$D$59,COUNTIF('Unit 30'!$C:$C,$D48),\"0\")","v":"0"},{"$f":"IF('Unit 31'!$C$7=$D$59,COUNTIF('Unit 31'!$C:$C,$D48),\"0\")","v":"0"},{"$f":"IF('Unit 32'!$C$7=$D$59,COUNTIF('Unit 32'!$C:$C,$D48),\"0\")","v":"0"},{"$f":"IF('Unit 33'!$C$7=$D$59,COUNTIF('Unit 33'!$C:$C,$D48),\"0\")","v":"0"},{"$f":"IF('Unit 34'!$C$7=$D$59,COUNTIF('Unit 34'!$C:$C,$D48),\"0\")","v":"0"},{"$f":"IF('Unit 35'!$C$7=$D$59,COUNTIF('Unit 35'!$C:$C,$D48),\"0\")","v":"0"},{"$f":"IF('Unit 36'!$C$7=$D$59,COUNTIF('Unit 36'!$C:$C,$D48),\"0\")","v":"0"},{"$f":"IF('Unit 37'!$C$7=$D$59,COUNTIF('Unit 37'!$C:$C,$D48),\"0\")","v":"0"},{"$f":"IF('Unit 38'!$C$7=$D$59,COUNTIF('Unit 38'!$C:$C,$D48),\"0\")","v":"0"},0,null,{"$f":"IF('Unit 1'!$C$7=$D$60,COUNTIF('Unit 1'!$C:$C,$D48),\"0\")","v":"0"},{"$f":"IF('Unit 2'!$C$7=$D$60,COUNTIF('Unit 2'!$C:$C,$D48),\"0\")","v":"0"},{"$f":"IF('Unit 3'!$C$7=$D$60,COUNTIF('Unit 3'!$C:$C,$D48),\"0\")","v":"0"},{"$f":"IF('Unit 4'!$C$7=$D$60,COUNTIF('Unit 4'!$C:$C,$D48),\"0\")","v":"0"},{"$f":"IF('Unit 5'!$C$7=$D$60,COUNTIF('Unit 5'!$C:$C,$D48),\"0\")","v":"0"},{"$f":"IF('Unit 6'!$C$7=$D$60,COUNTIF('Unit 6'!$C:$C,$D48),\"0\")","v":"0"},{"$f":"IF('Unit 7'!$C$7=$D$60,COUNTIF('Unit 7'!$C:$C,$D48),\"0\")","v":"0"},{"$f":"IF('Unit 8'!$C$7=$D$60,COUNTIF('Unit 8'!$C:$C,$D48),\"0\")","v":"0"},{"$f":"IF('Unit 9'!$C$7=$D$60,COUNTIF('Unit 9'!$C:$C,$D48),\"0\")","v":"0"},{"$f":"IF('Unit 10'!$C$7=$D$60,COUNTIF('Unit 10'!$C:$C,$D48),\"0\")","v":"0"},{"$f":"IF('Unit 11'!$C$7=$D$60,COUNTIF('Unit 11'!$C:$C,$D48),\"0\")","v":"0"},{"$f":"IF('Unit 12'!$C$7=$D$60,COUNTIF('Unit 12'!$C:$C,$D48),\"0\")","v":"0"},{"$f":"IF('Unit 13'!$C$7=$D$60,COUNTIF('Unit 13'!$C:$C,$D48),\"0\")","v":"0"},{"$f":"IF('Unit 14'!$C$7=$D$60,COUNTIF('Unit 14'!$C:$C,$D48),\"0\")","v":"0"},{"$f":"IF('Unit 15'!$C$7=$D$60,COUNTIF('Unit 15'!$C:$C,$D48),\"0\")","v":"0"},{"$f":"IF('Unit 16'!$C$7=$D$60,COUNTIF('Unit 16'!$C:$C,$D48),\"0\")","v":"0"},{"$f":"IF('Unit 17'!$C$7=$D$60,COUNTIF('Unit 17'!$C:$C,$D48),\"0\")","v":"0"},{"$f":"IF('Unit 18'!$C$7=$D$60,COUNTIF('Unit 18'!$C:$C,$D48),\"0\")","v":"0"},{"$f":"IF('Unit 19'!$C$7=$D$60,COUNTIF('Unit 19'!$C:$C,$D48),\"0\")","v":"0"},{"$f":"IF('Unit 20'!$C$7=$D$60,COUNTIF('Unit 20'!$C:$C,$D48),\"0\")","v":"0"},{"$f":"IF('Unit 21'!$C$7=$D$60,COUNTIF('Unit 21'!$C:$C,$D48),\"0\")","v":"0"},{"$f":"IF('Unit 22'!$C$7=$D$60,COUNTIF('Unit 22'!$C:$C,$D48),\"0\")","v":"0"},{"$f":"IF('Unit 23'!$C$7=$D$60,COUNTIF('Unit 23'!$C:$C,$D48),\"0\")","v":"0"},{"$f":"IF('Unit 24'!$C$7=$D$60,COUNTIF('Unit 24'!$C:$C,$D48),\"0\")","v":"0"},{"$f":"IF('Unit 25'!$C$7=$D$60,COUNTIF('Unit 25'!$C:$C,$D48),\"0\")","v":"0"},{"$f":"IF('Unit 26'!$C$7=$D$60,COUNTIF('Unit 26'!$C:$C,$D48),\"0\")","v":"0"},{"$f":"IF('Unit 27'!$C$7=$D$60,COUNTIF('Unit 27'!$C:$C,$D48),\"0\")","v":"0"},{"$f":"IF('Unit 28'!$C$7=$D$60,COUNTIF('Unit 28'!$C:$C,$D48),\"0\")","v":"0"},{"$f":"IF('Unit 29'!$C$7=$D$60,COUNTIF('Unit 29'!$C:$C,$D48),\"0\")","v":"0"},{"$f":"IF('Unit 30'!$C$7=$D$60,COUNTIF('Unit 30'!$C:$C,$D48),\"0\")","v":"0"},{"$f":"IF('Unit 31'!$C$7=$D$60,COUNTIF('Unit 31'!$C:$C,$D48),\"0\")","v":"0"},{"$f":"IF('Unit 32'!$C$7=$D$60,COUNTIF('Unit 32'!$C:$C,$D48),\"0\")","v":"0"},{"$f":"IF('Unit 33'!$C$7=$D$60,COUNTIF('Unit 33'!$C:$C,$D48),\"0\")","v":"0"},{"$f":"IF('Unit 34'!$C$7=$D$60,COUNTIF('Unit 34'!$C:$C,$D48),\"0\")","v":"0"},{"$f":"IF('Unit 35'!$C$7=$D$60,COUNTIF('Unit 35'!$C:$C,$D48),\"0\")","v":"0"},{"$f":"IF('Unit 36'!$C$7=$D$60,COUNTIF('Unit 36'!$C:$C,$D48),\"0\")","v":"0"},{"$f":"IF('Unit 37'!$C$7=$D$60,COUNTIF('Unit 37'!$C:$C,$D48),\"0\")","v":"0"},{"$f":"IF('Unit 38'!$C$7=$D$60,COUNTIF('Unit 38'!$C:$C,$D48),\"0\")","v":"0"},0]
[null,null,"3.9","3.9 incorporate basic mechatronics into their engineered products","Incorporate: take in or contain something as part of a whole",{"$f":"COUNTIF('Unit 1'!C:C,$D49)","v":0},{"$f":"COUNTIF('Unit 2'!C:C,D49)","v":0},{"$f":"COUNTIF('Unit 3'!C:C,D49)","v":0},{"$f":"COUNTIF('Unit 4'!C:C,D49)","v":0},{"$f":"COUNTIF('Unit 5'!C:C,D49)","v":0},{"$f":"COUNTIF('Unit 6'!C:C,D49)","v":0},{"$f":"COUNTIF('Unit 7'!C:C,D49)","v":0},{"$f":"COUNTIF('Unit 8'!C:C,D49)","v":0},{"$f":"COUNTIF('Unit 9'!C:C,D49)","v":0},{"$f":"COUNTIF('Unit 10'!C:C,D49)","v":0},{"$f":"COUNTIF('Unit 11'!C:C,D49)","v":0},{"$f":"COUNTIF('Unit 12'!C:C,D49)","v":0},{"$f":"COUNTIF('Unit 13'!C:C,D49)","v":0},{"$f":"COUNTIF('Unit 14'!C:C,D49)","v":0},{"$f":"COUNTIF('Unit 15'!C:C,D49)","v":0},{"$f":"COUNTIF('Unit 16'!C:C,D49)","v":0},{"$f":"COUNTIF('Unit 17'!C:C,D49)","v":0},{"$f":"COUNTIF('Unit 18'!C:C,D49)","v":0},{"$f":"COUNTIF('Unit 19'!C:C,D49)","v":0},{"$f":"COUNTIF('Unit 20'!C:C,D49)","v":0},{"$f":"COUNTIF('Unit 21'!C:C,D49)","v":0},{"$f":"COUNTIF('Unit 22'!C:C,D49)","v":0},{"$f":"COUNTIF('Unit 23'!C:C,D49)","v":0},{"$f":"COUNTIF('Unit 24'!C:C,D49)","v":0},{"$f":"COUNTIF('Unit 25'!C:C,D49)","v":0},{"$f":"COUNTIF('Unit 26'!C:C,D49)","v":0},{"$f":"COUNTIF('Unit 27'!C:C,D49)","v":0},{"$f":"COUNTIF('Unit 28'!C:C,D49)","v":0},{"$f":"COUNTIF('Unit 29'!C:C,D49)","v":0},{"$f":"COUNTIF('Unit 30'!C:C,D49)","v":0},{"$f":"COUNTIF('Unit 31'!C:C,D49)","v":0},{"$f":"COUNTIF('Unit 32'!C:C,D49)","v":0},{"$f":"COUNTIF('Unit 33'!C:C,D49)","v":0},{"$f":"COUNTIF('Unit 34'!C:C,D49)","v":0},{"$f":"COUNTIF('Unit 35'!C:C,D49)","v":0},{"$f":"COUNTIF('Unit 36'!C:C,D49)","v":0},{"$f":"COUNTIF('Unit 37'!C:C,D49)","v":0},{"$f":"COUNTIF('Unit 38'!C:C,D49)","v":0},0,null,{"$f":"IF('Unit 1'!$C$7=$D$58,COUNTIF('Unit 1'!$C:$C,$D49),\"0\")","v":"0"},{"$f":"IF('Unit 2'!$C$7=$D$58,COUNTIF('Unit 2'!$C:$C,$D49),\"0\")","v":"0"},{"$f":"IF('Unit 3'!$C$7=$D$58,COUNTIF('Unit 3'!$C:$C,$D49),\"0\")","v":"0"},{"$f":"IF('Unit 4'!$C$7=$D$58,COUNTIF('Unit 4'!$C:$C,$D49),\"0\")","v":"0"},{"$f":"IF('Unit 5'!$C$7=$D$58,COUNTIF('Unit 5'!$C:$C,$D49),\"0\")","v":"0"},{"$f":"IF('Unit 6'!$C$7=$D$58,COUNTIF('Unit 6'!$C:$C,$D49),\"0\")","v":"0"},{"$f":"IF('Unit 7'!$C$7=$D$58,COUNTIF('Unit 7'!$C:$C,$D49),\"0\")","v":"0"},{"$f":"IF('Unit 8'!$C$7=$D$58,COUNTIF('Unit 8'!$C:$C,$D49),\"0\")","v":"0"},{"$f":"IF('Unit 9'!$C$7=$D$58,COUNTIF('Unit 9'!$C:$C,$D49),\"0\")","v":"0"},{"$f":"IF('Unit 10'!$C$7=$D$58,COUNTIF('Unit 10'!$C:$C,$D49),\"0\")","v":"0"},{"$f":"IF('Unit 11'!$C$7=$D$58,COUNTIF('Unit 11'!$C:$C,$D49),\"0\")","v":"0"},{"$f":"IF('Unit 12'!$C$7=$D$58,COUNTIF('Unit 12'!$C:$C,$D49),\"0\")","v":"0"},{"$f":"IF('Unit 13'!$C$7=$D$58,COUNTIF('Unit 13'!$C:$C,$D49),\"0\")","v":"0"},{"$f":"IF('Unit 14'!$C$7=$D$58,COUNTIF('Unit 14'!$C:$C,$D49),\"0\")","v":"0"},{"$f":"IF('Unit 15'!$C$7=$D$58,COUNTIF('Unit 15'!$C:$C,$D49),\"0\")","v":"0"},{"$f":"IF('Unit 16'!$C$7=$D$58,COUNTIF('Unit 16'!$C:$C,$D49),\"0\")","v":"0"},{"$f":"IF('Unit 17'!$C$7=$D$58,COUNTIF('Unit 17'!$C:$C,$D49),\"0\")","v":"0"},{"$f":"IF('Unit 18'!$C$7=$D$58,COUNTIF('Unit 18'!$C:$C,$D49),\"0\")","v":"0"},{"$f":"IF('Unit 19'!$C$7=$D$58,COUNTIF('Unit 19'!$C:$C,$D49),\"0\")","v":"0"},{"$f":"IF('Unit 20'!$C$7=$D$58,COUNTIF('Unit 20'!$C:$C,$D49),\"0\")","v":"0"},{"$f":"IF('Unit 21'!$C$7=$D$58,COUNTIF('Unit 21'!$C:$C,$D49),\"0\")","v":"0"},{"$f":"IF('Unit 22'!$C$7=$D$58,COUNTIF('Unit 22'!$C:$C,$D49),\"0\")","v":"0"},{"$f":"IF('Unit 23'!$C$7=$D$58,COUNTIF('Unit 23'!$C:$C,$D49),\"0\")","v":"0"},{"$f":"IF('Unit 24'!$C$7=$D$58,COUNTIF('Unit 24'!$C:$C,$D49),\"0\")","v":"0"},{"$f":"IF('Unit 25'!$C$7=$D$58,COUNTIF('Unit 25'!$C:$C,$D49),\"0\")","v":"0"},{"$f":"IF('Unit 26'!$C$7=$D$58,COUNTIF('Unit 26'!$C:$C,$D49),\"0\")","v":"0"},{"$f":"IF('Unit 27'!$C$7=$D$58,COUNTIF('Unit 27'!$C:$C,$D49),\"0\")","v":"0"},{"$f":"IF('Unit 28'!$C$7=$D$58,COUNTIF('Unit 28'!$C:$C,$D49),\"0\")","v":"0"},{"$f":"IF('Unit 29'!$C$7=$D$58,COUNTIF('Unit 29'!$C:$C,$D49),\"0\")","v":"0"},{"$f":"IF('Unit 30'!$C$7=$D$58,COUNTIF('Unit 30'!$C:$C,$D49),\"0\")","v":"0"},{"$f":"IF('Unit 31'!$C$7=$D$58,COUNTIF('Unit 31'!$C:$C,$D49),\"0\")","v":"0"},{"$f":"IF('Unit 32'!$C$7=$D$58,COUNTIF('Unit 32'!$C:$C,$D49),\"0\")","v":"0"},{"$f":"IF('Unit 33'!$C$7=$D$58,COUNTIF('Unit 33'!$C:$C,$D49),\"0\")","v":"0"},{"$f":"IF('Unit 34'!$C$7=$D$58,COUNTIF('Unit 34'!$C:$C,$D49),\"0\")","v":"0"},{"$f":"IF('Unit 35'!$C$7=$D$58,COUNTIF('Unit 35'!$C:$C,$D49),\"0\")","v":"0"},{"$f":"IF('Unit 36'!$C$7=$D$58,COUNTIF('Unit 36'!$C:$C,$D49),\"0\")","v":"0"},{"$f":"IF('Unit 37'!$C$7=$D$58,COUNTIF('Unit 37'!$C:$C,$D49),\"0\")","v":"0"},{"$f":"IF('Unit 38'!$C$7=$D$58,COUNTIF('Unit 38'!$C:$C,$D49),\"0\")","v":"0"},0,null,{"$f":"IF('Unit 1'!$C$7=$D$59,COUNTIF('Unit 1'!$C:$C,$D49),\"0\")","v":"0"},{"$f":"IF('Unit 2'!$C$7=$D$59,COUNTIF('Unit 2'!$C:$C,$D49),\"0\")","v":"0"},{"$f":"IF('Unit 3'!$C$7=$D$59,COUNTIF('Unit 3'!$C:$C,$D49),\"0\")","v":"0"},{"$f":"IF('Unit 4'!$C$7=$D$59,COUNTIF('Unit 4'!$C:$C,$D49),\"0\")","v":"0"},{"$f":"IF('Unit 5'!$C$7=$D$59,COUNTIF('Unit 5'!$C:$C,$D49),\"0\")","v":"0"},{"$f":"IF('Unit 6'!$C$7=$D$59,COUNTIF('Unit 6'!$C:$C,$D49),\"0\")","v":"0"},{"$f":"IF('Unit 7'!$C$7=$D$59,COUNTIF('Unit 7'!$C:$C,$D49),\"0\")","v":"0"},{"$f":"IF('Unit 8'!$C$7=$D$59,COUNTIF('Unit 8'!$C:$C,$D49),\"0\")","v":"0"},{"$f":"IF('Unit 9'!$C$7=$D$59,COUNTIF('Unit 9'!$C:$C,$D49),\"0\")","v":"0"},{"$f":"IF('Unit 10'!$C$7=$D$59,COUNTIF('Unit 10'!$C:$C,$D49),\"0\")","v":"0"},{"$f":"IF('Unit 11'!$C$7=$D$59,COUNTIF('Unit 11'!$C:$C,$D49),\"0\")","v":"0"},{"$f":"IF('Unit 12'!$C$7=$D$59,COUNTIF('Unit 12'!$C:$C,$D49),\"0\")","v":"0"},{"$f":"IF('Unit 13'!$C$7=$D$59,COUNTIF('Unit 13'!$C:$C,$D49),\"0\")","v":"0"},{"$f":"IF('Unit 14'!$C$7=$D$59,COUNTIF('Unit 14'!$C:$C,$D49),\"0\")","v":"0"},{"$f":"IF('Unit 15'!$C$7=$D$59,COUNTIF('Unit 15'!$C:$C,$D49),\"0\")","v":"0"},{"$f":"IF('Unit 16'!$C$7=$D$59,COUNTIF('Unit 16'!$C:$C,$D49),\"0\")","v":"0"},{"$f":"IF('Unit 17'!$C$7=$D$59,COUNTIF('Unit 17'!$C:$C,$D49),\"0\")","v":"0"},{"$f":"IF('Unit 18'!$C$7=$D$59,COUNTIF('Unit 18'!$C:$C,$D49),\"0\")","v":"0"},{"$f":"IF('Unit 19'!$C$7=$D$59,COUNTIF('Unit 19'!$C:$C,$D49),\"0\")","v":"0"},{"$f":"IF('Unit 20'!$C$7=$D$59,COUNTIF('Unit 20'!$C:$C,$D49),\"0\")","v":"0"},{"$f":"IF('Unit 21'!$C$7=$D$59,COUNTIF('Unit 21'!$C:$C,$D49),\"0\")","v":"0"},{"$f":"IF('Unit 22'!$C$7=$D$59,COUNTIF('Unit 22'!$C:$C,$D49),\"0\")","v":"0"},{"$f":"IF('Unit 23'!$C$7=$D$59,COUNTIF('Unit 23'!$C:$C,$D49),\"0\")","v":"0"},{"$f":"IF('Unit 24'!$C$7=$D$59,COUNTIF('Unit 24'!$C:$C,$D49),\"0\")","v":"0"},{"$f":"IF('Unit 25'!$C$7=$D$59,COUNTIF('Unit 25'!$C:$C,$D49),\"0\")","v":"0"},{"$f":"IF('Unit 26'!$C$7=$D$59,COUNTIF('Unit 26'!$C:$C,$D49),\"0\")","v":"0"},{"$f":"IF('Unit 27'!$C$7=$D$59,COUNTIF('Unit 27'!$C:$C,$D49),\"0\")","v":"0"},{"$f":"IF('Unit 28'!$C$7=$D$59,COUNTIF('Unit 28'!$C:$C,$D49),\"0\")","v":"0"},{"$f":"IF('Unit 29'!$C$7=$D$59,COUNTIF('Unit 29'!$C:$C,$D49),\"0\")","v":"0"},{"$f":"IF('Unit 30'!$C$7=$D$59,COUNTIF('Unit 30'!$C:$C,$D49),\"0\")","v":"0"},{"$f":"IF('Unit 31'!$C$7=$D$59,COUNTIF('Unit 31'!$C:$C,$D49),\"0\")","v":"0"},{"$f":"IF('Unit 32'!$C$7=$D$59,COUNTIF('Unit 32'!$C:$C,$D49),\"0\")","v":"0"},{"$f":"IF('Unit 33'!$C$7=$D$59,COUNTIF('Unit 33'!$C:$C,$D49),\"0\")","v":"0"},{"$f":"IF('Unit 34'!$C$7=$D$59,COUNTIF('Unit 34'!$C:$C,$D49),\"0\")","v":"0"},{"$f":"IF('Unit 35'!$C$7=$D$59,COUNTIF('Unit 35'!$C:$C,$D49),\"0\")","v":"0"},{"$f":"IF('Unit 36'!$C$7=$D$59,COUNTIF('Unit 36'!$C:$C,$D49),\"0\")","v":"0"},{"$f":"IF('Unit 37'!$C$7=$D$59,COUNTIF('Unit 37'!$C:$C,$D49),\"0\")","v":"0"},{"$f":"IF('Unit 38'!$C$7=$D$59,COUNTIF('Unit 38'!$C:$C,$D49),\"0\")","v":"0"},0,null,{"$f":"IF('Unit 1'!$C$7=$D$60,COUNTIF('Unit 1'!$C:$C,$D49),\"0\")","v":"0"},{"$f":"IF('Unit 2'!$C$7=$D$60,COUNTIF('Unit 2'!$C:$C,$D49),\"0\")","v":"0"},{"$f":"IF('Unit 3'!$C$7=$D$60,COUNTIF('Unit 3'!$C:$C,$D49),\"0\")","v":"0"},{"$f":"IF('Unit 4'!$C$7=$D$60,COUNTIF('Unit 4'!$C:$C,$D49),\"0\")","v":"0"},{"$f":"IF('Unit 5'!$C$7=$D$60,COUNTIF('Unit 5'!$C:$C,$D49),\"0\")","v":"0"},{"$f":"IF('Unit 6'!$C$7=$D$60,COUNTIF('Unit 6'!$C:$C,$D49),\"0\")","v":"0"},{"$f":"IF('Unit 7'!$C$7=$D$60,COUNTIF('Unit 7'!$C:$C,$D49),\"0\")","v":"0"},{"$f":"IF('Unit 8'!$C$7=$D$60,COUNTIF('Unit 8'!$C:$C,$D49),\"0\")","v":"0"},{"$f":"IF('Unit 9'!$C$7=$D$60,COUNTIF('Unit 9'!$C:$C,$D49),\"0\")","v":"0"},{"$f":"IF('Unit 10'!$C$7=$D$60,COUNTIF('Unit 10'!$C:$C,$D49),\"0\")","v":"0"},{"$f":"IF('Unit 11'!$C$7=$D$60,COUNTIF('Unit 11'!$C:$C,$D49),\"0\")","v":"0"},{"$f":"IF('Unit 12'!$C$7=$D$60,COUNTIF('Unit 12'!$C:$C,$D49),\"0\")","v":"0"},{"$f":"IF('Unit 13'!$C$7=$D$60,COUNTIF('Unit 13'!$C:$C,$D49),\"0\")","v":"0"},{"$f":"IF('Unit 14'!$C$7=$D$60,COUNTIF('Unit 14'!$C:$C,$D49),\"0\")","v":"0"},{"$f":"IF('Unit 15'!$C$7=$D$60,COUNTIF('Unit 15'!$C:$C,$D49),\"0\")","v":"0"},{"$f":"IF('Unit 16'!$C$7=$D$60,COUNTIF('Unit 16'!$C:$C,$D49),\"0\")","v":"0"},{"$f":"IF('Unit 17'!$C$7=$D$60,COUNTIF('Unit 17'!$C:$C,$D49),\"0\")","v":"0"},{"$f":"IF('Unit 18'!$C$7=$D$60,COUNTIF('Unit 18'!$C:$C,$D49),\"0\")","v":"0"},{"$f":"IF('Unit 19'!$C$7=$D$60,COUNTIF('Unit 19'!$C:$C,$D49),\"0\")","v":"0"},{"$f":"IF('Unit 20'!$C$7=$D$60,COUNTIF('Unit 20'!$C:$C,$D49),\"0\")","v":"0"},{"$f":"IF('Unit 21'!$C$7=$D$60,COUNTIF('Unit 21'!$C:$C,$D49),\"0\")","v":"0"},{"$f":"IF('Unit 22'!$C$7=$D$60,COUNTIF('Unit 22'!$C:$C,$D49),\"0\")","v":"0"},{"$f":"IF('Unit 23'!$C$7=$D$60,COUNTIF('Unit 23'!$C:$C,$D49),\"0\")","v":"0"},{"$f":"IF('Unit 24'!$C$7=$D$60,COUNTIF('Unit 24'!$C:$C,$D49),\"0\")","v":"0"},{"$f":"IF('Unit 25'!$C$7=$D$60,COUNTIF('Unit 25'!$C:$C,$D49),\"0\")","v":"0"},{"$f":"IF('Unit 26'!$C$7=$D$60,COUNTIF('Unit 26'!$C:$C,$D49),\"0\")","v":"0"},{"$f":"IF('Unit 27'!$C$7=$D$60,COUNTIF('Unit 27'!$C:$C,$D49),\"0\")","v":"0"},{"$f":"IF('Unit 28'!$C$7=$D$60,COUNTIF('Unit 28'!$C:$C,$D49),\"0\")","v":"0"},{"$f":"IF('Unit 29'!$C$7=$D$60,COUNTIF('Unit 29'!$C:$C,$D49),\"0\")","v":"0"},{"$f":"IF('Unit 30'!$C$7=$D$60,COUNTIF('Unit 30'!$C:$C,$D49),\"0\")","v":"0"},{"$f":"IF('Unit 31'!$C$7=$D$60,COUNTIF('Unit 31'!$C:$C,$D49),\"0\")","v":"0"},{"$f":"IF('Unit 32'!$C$7=$D$60,COUNTIF('Unit 32'!$C:$C,$D49),\"0\")","v":"0"},{"$f":"IF('Unit 33'!$C$7=$D$60,COUNTIF('Unit 33'!$C:$C,$D49),\"0\")","v":"0"},{"$f":"IF('Unit 34'!$C$7=$D$60,COUNTIF('Unit 34'!$C:$C,$D49),\"0\")","v":"0"},{"$f":"IF('Unit 35'!$C$7=$D$60,COUNTIF('Unit 35'!$C:$C,$D49),\"0\")","v":"0"},{"$f":"IF('Unit 36'!$C$7=$D$60,COUNTIF('Unit 36'!$C:$C,$D49),\"0\")","v":"0"},{"$f":"IF('Unit 37'!$C$7=$D$60,COUNTIF('Unit 37'!$C:$C,$D49),\"0\")","v":"0"},{"$f":"IF('Unit 38'!$C$7=$D$60,COUNTIF('Unit 38'!$C:$C,$D49),\"0\")","v":"0"},0]
[null,null,null,null,null,{"$f":"COUNTIF('Unit 1'!C:C,$D50)","v":0},{"$f":"COUNTIF('Unit 2'!C:C,D50)","v":0},{"$f":"COUNTIF('Unit 3'!C:C,D50)","v":0},{"$f":"COUNTIF('Unit 4'!C:C,D50)","v":0},{"$f":"COUNTIF('Unit 5'!C:C,D50)","v":0},{"$f":"COUNTIF('Unit 6'!C:C,D50)","v":0},{"$f":"COUNTIF('Unit 7'!C:C,D50)","v":0},{"$f":"COUNTIF('Unit 8'!C:C,D50)","v":0},{"$f":"COUNTIF('Unit 9'!C:C,D50)","v":0},{"$f":"COUNTIF('Unit 10'!C:C,D50)","v":0},{"$f":"COUNTIF('Unit 11'!C:C,D50)","v":0},{"$f":"COUNTIF('Unit 12'!C:C,D50)","v":0},{"$f":"COUNTIF('Unit 13'!C:C,D50)","v":0},{"$f":"COUNTIF('Unit 14'!C:C,D50)","v":0},{"$f":"COUNTIF('Unit 15'!C:C,D50)","v":0},{"$f":"COUNTIF('Unit 16'!C:C,D50)","v":0},{"$f":"COUNTIF('Unit 17'!C:C,D50)","v":0},{"$f":"COUNTIF('Unit 18'!C:C,D50)","v":0},{"$f":"COUNTIF('Unit 19'!C:C,D50)","v":0},{"$f":"COUNTIF('Unit 20'!C:C,D50)","v":0},{"$f":"COUNTIF('Unit 21'!C:C,D50)","v":0},{"$f":"COUNTIF('Unit 22'!C:C,D50)","v":0},{"$f":"COUNTIF('Unit 23'!C:C,D50)","v":0},{"$f":"COUNTIF('Unit 24'!C:C,D50)","v":0},{"$f":"COUNTIF('Unit 25'!C:C,D50)","v":0},{"$f":"COUNTIF('Unit 26'!C:C,D50)","v":0},{"$f":"COUNTIF('Unit 27'!C:C,D50)","v":0},{"$f":"COUNTIF('Unit 28'!C:C,D50)","v":0},{"$f":"COUNTIF('Unit 29'!C:C,D50)","v":0},{"$f":"COUNTIF('Unit 30'!C:C,D50)","v":0},{"$f":"COUNTIF('Unit 31'!C:C,D50)","v":0},{"$f":"COUNTIF('Unit 32'!C:C,D50)","v":0},{"$f":"COUNTIF('Unit 33'!C:C,D50)","v":0},{"$f":"COUNTIF('Unit 34'!C:C,D50)","v":0},{"$f":"COUNTIF('Unit 35'!C:C,D50)","v":0},{"$f":"COUNTIF('Unit 36'!C:C,D50)","v":0},{"$f":"COUNTIF('Unit 37'!C:C,D50)","v":0},{"$f":"COUNTIF('Unit 38'!C:C,D50)","v":0},0,null,{"$f":"IF('Unit 1'!$C$7=$D$58,COUNTIF('Unit 1'!$C:$C,$D50),\"0\")","v":"0"},{"$f":"IF('Unit 2'!$C$7=$D$58,COUNTIF('Unit 2'!$C:$C,$D50),\"0\")","v":"0"},{"$f":"IF('Unit 3'!$C$7=$D$58,COUNTIF('Unit 3'!$C:$C,$D50),\"0\")","v":"0"},{"$f":"IF('Unit 4'!$C$7=$D$58,COUNTIF('Unit 4'!$C:$C,$D50),\"0\")","v":"0"},{"$f":"IF('Unit 5'!$C$7=$D$58,COUNTIF('Unit 5'!$C:$C,$D50),\"0\")","v":"0"},{"$f":"IF('Unit 6'!$C$7=$D$58,COUNTIF('Unit 6'!$C:$C,$D50),\"0\")","v":"0"},{"$f":"IF('Unit 7'!$C$7=$D$58,COUNTIF('Unit 7'!$C:$C,$D50),\"0\")","v":"0"},{"$f":"IF('Unit 8'!$C$7=$D$58,COUNTIF('Unit 8'!$C:$C,$D50),\"0\")","v":"0"},{"$f":"IF('Unit 9'!$C$7=$D$58,COUNTIF('Unit 9'!$C:$C,$D50),\"0\")","v":"0"},{"$f":"IF('Unit 10'!$C$7=$D$58,COUNTIF('Unit 10'!$C:$C,$D50),\"0\")","v":"0"},{"$f":"IF('Unit 11'!$C$7=$D$58,COUNTIF('Unit 11'!$C:$C,$D50),\"0\")","v":"0"},{"$f":"IF('Unit 12'!$C$7=$D$58,COUNTIF('Unit 12'!$C:$C,$D50),\"0\")","v":"0"},{"$f":"IF('Unit 13'!$C$7=$D$58,COUNTIF('Unit 13'!$C:$C,$D50),\"0\")","v":"0"},{"$f":"IF('Unit 14'!$C$7=$D$58,COUNTIF('Unit 14'!$C:$C,$D50),\"0\")","v":"0"},{"$f":"IF('Unit 15'!$C$7=$D$58,COUNTIF('Unit 15'!$C:$C,$D50),\"0\")","v":"0"},{"$f":"IF('Unit 16'!$C$7=$D$58,COUNTIF('Unit 16'!$C:$C,$D50),\"0\")","v":"0"},{"$f":"IF('Unit 17'!$C$7=$D$58,COUNTIF('Unit 17'!$C:$C,$D50),\"0\")","v":"0"},{"$f":"IF('Unit 18'!$C$7=$D$58,COUNTIF('Unit 18'!$C:$C,$D50),\"0\")","v":"0"},{"$f":"IF('Unit 19'!$C$7=$D$58,COUNTIF('Unit 19'!$C:$C,$D50),\"0\")","v":"0"},{"$f":"IF('Unit 20'!$C$7=$D$58,COUNTIF('Unit 20'!$C:$C,$D50),\"0\")","v":"0"},{"$f":"IF('Unit 21'!$C$7=$D$58,COUNTIF('Unit 21'!$C:$C,$D50),\"0\")","v":"0"},{"$f":"IF('Unit 22'!$C$7=$D$58,COUNTIF('Unit 22'!$C:$C,$D50),\"0\")","v":"0"},{"$f":"IF('Unit 23'!$C$7=$D$58,COUNTIF('Unit 23'!$C:$C,$D50),\"0\")","v":"0"},{"$f":"IF('Unit 24'!$C$7=$D$58,COUNTIF('Unit 24'!$C:$C,$D50),\"0\")","v":"0"},{"$f":"IF('Unit 25'!$C$7=$D$58,COUNTIF('Unit 25'!$C:$C,$D50),\"0\")","v":"0"},{"$f":"IF('Unit 26'!$C$7=$D$58,COUNTIF('Unit 26'!$C:$C,$D50),\"0\")","v":"0"},{"$f":"IF('Unit 27'!$C$7=$D$58,COUNTIF('Unit 27'!$C:$C,$D50),\"0\")","v":"0"},{"$f":"IF('Unit 28'!$C$7=$D$58,COUNTIF('Unit 28'!$C:$C,$D50),\"0\")","v":"0"},{"$f":"IF('Unit 29'!$C$7=$D$58,COUNTIF('Unit 29'!$C:$C,$D50),\"0\")","v":"0"},{"$f":"IF('Unit 30'!$C$7=$D$58,COUNTIF('Unit 30'!$C:$C,$D50),\"0\")","v":"0"},{"$f":"IF('Unit 31'!$C$7=$D$58,COUNTIF('Unit 31'!$C:$C,$D50),\"0\")","v":"0"},{"$f":"IF('Unit 32'!$C$7=$D$58,COUNTIF('Unit 32'!$C:$C,$D50),\"0\")","v":"0"},{"$f":"IF('Unit 33'!$C$7=$D$58,COUNTIF('Unit 33'!$C:$C,$D50),\"0\")","v":"0"},{"$f":"IF('Unit 34'!$C$7=$D$58,COUNTIF('Unit 34'!$C:$C,$D50),\"0\")","v":"0"},{"$f":"IF('Unit 35'!$C$7=$D$58,COUNTIF('Unit 35'!$C:$C,$D50),\"0\")","v":"0"},{"$f":"IF('Unit 36'!$C$7=$D$58,COUNTIF('Unit 36'!$C:$C,$D50),\"0\")","v":"0"},{"$f":"IF('Unit 37'!$C$7=$D$58,COUNTIF('Unit 37'!$C:$C,$D50),\"0\")","v":"0"},{"$f":"IF('Unit 38'!$C$7=$D$58,COUNTIF('Unit 38'!$C:$C,$D50),\"0\")","v":"0"},0,null,{"$f":"IF('Unit 1'!$C$7=$D$59,COUNTIF('Unit 1'!$C:$C,$D50),\"0\")","v":"0"},{"$f":"IF('Unit 2'!$C$7=$D$59,COUNTIF('Unit 2'!$C:$C,$D50),\"0\")","v":"0"},{"$f":"IF('Unit 3'!$C$7=$D$59,COUNTIF('Unit 3'!$C:$C,$D50),\"0\")","v":"0"},{"$f":"IF('Unit 4'!$C$7=$D$59,COUNTIF('Unit 4'!$C:$C,$D50),\"0\")","v":"0"},{"$f":"IF('Unit 5'!$C$7=$D$59,COUNTIF('Unit 5'!$C:$C,$D50),\"0\")","v":"0"},{"$f":"IF('Unit 6'!$C$7=$D$59,COUNTIF('Unit 6'!$C:$C,$D50),\"0\")","v":"0"},{"$f":"IF('Unit 7'!$C$7=$D$59,COUNTIF('Unit 7'!$C:$C,$D50),\"0\")","v":"0"},{"$f":"IF('Unit 8'!$C$7=$D$59,COUNTIF('Unit 8'!$C:$C,$D50),\"0\")","v":"0"},{"$f":"IF('Unit 9'!$C$7=$D$59,COUNTIF('Unit 9'!$C:$C,$D50),\"0\")","v":"0"},{"$f":"IF('Unit 10'!$C$7=$D$59,COUNTIF('Unit 10'!$C:$C,$D50),\"0\")","v":"0"},{"$f":"IF('Unit 11'!$C$7=$D$59,COUNTIF('Unit 11'!$C:$C,$D50),\"0\")","v":"0"},{"$f":"IF('Unit 12'!$C$7=$D$59,COUNTIF('Unit 12'!$C:$C,$D50),\"0\")","v":"0"},{"$f":"IF('Unit 13'!$C$7=$D$59,COUNTIF('Unit 13'!$C:$C,$D50),\"0\")","v":"0"},{"$f":"IF('Unit 14'!$C$7=$D$59,COUNTIF('Unit 14'!$C:$C,$D50),\"0\")","v":"0"},{"$f":"IF('Unit 15'!$C$7=$D$59,COUNTIF('Unit 15'!$C:$C,$D50),\"0\")","v":"0"},{"$f":"IF('Unit 16'!$C$7=$D$59,COUNTIF('Unit 16'!$C:$C,$D50),\"0\")","v":"0"},{"$f":"IF('Unit 17'!$C$7=$D$59,COUNTIF('Unit 17'!$C:$C,$D50),\"0\")","v":"0"},{"$f":"IF('Unit 18'!$C$7=$D$59,COUNTIF('Unit 18'!$C:$C,$D50),\"0\")","v":"0"},{"$f":"IF('Unit 19'!$C$7=$D$59,COUNTIF('Unit 19'!$C:$C,$D50),\"0\")","v":"0"},{"$f":"IF('Unit 20'!$C$7=$D$59,COUNTIF('Unit 20'!$C:$C,$D50),\"0\")","v":"0"},{"$f":"IF('Unit 21'!$C$7=$D$59,COUNTIF('Unit 21'!$C:$C,$D50),\"0\")","v":"0"},{"$f":"IF('Unit 22'!$C$7=$D$59,COUNTIF('Unit 22'!$C:$C,$D50),\"0\")","v":"0"},{"$f":"IF('Unit 23'!$C$7=$D$59,COUNTIF('Unit 23'!$C:$C,$D50),\"0\")","v":"0"},{"$f":"IF('Unit 24'!$C$7=$D$59,COUNTIF('Unit 24'!$C:$C,$D50),\"0\")","v":"0"},{"$f":"IF('Unit 25'!$C$7=$D$59,COUNTIF('Unit 25'!$C:$C,$D50),\"0\")","v":"0"},{"$f":"IF('Unit 26'!$C$7=$D$59,COUNTIF('Unit 26'!$C:$C,$D50),\"0\")","v":"0"},{"$f":"IF('Unit 27'!$C$7=$D$59,COUNTIF('Unit 27'!$C:$C,$D50),\"0\")","v":"0"},{"$f":"IF('Unit 28'!$C$7=$D$59,COUNTIF('Unit 28'!$C:$C,$D50),\"0\")","v":"0"},{"$f":"IF('Unit 29'!$C$7=$D$59,COUNTIF('Unit 29'!$C:$C,$D50),\"0\")","v":"0"},{"$f":"IF('Unit 30'!$C$7=$D$59,COUNTIF('Unit 30'!$C:$C,$D50),\"0\")","v":"0"},{"$f":"IF('Unit 31'!$C$7=$D$59,COUNTIF('Unit 31'!$C:$C,$D50),\"0\")","v":"0"},{"$f":"IF('Unit 32'!$C$7=$D$59,COUNTIF('Unit 32'!$C:$C,$D50),\"0\")","v":"0"},{"$f":"IF('Unit 33'!$C$7=$D$59,COUNTIF('Unit 33'!$C:$C,$D50),\"0\")","v":"0"},{"$f":"IF('Unit 34'!$C$7=$D$59,COUNTIF('Unit 34'!$C:$C,$D50),\"0\")","v":"0"},{"$f":"IF('Unit 35'!$C$7=$D$59,COUNTIF('Unit 35'!$C:$C,$D50),\"0\")","v":"0"},{"$f":"IF('Unit 36'!$C$7=$D$59,COUNTIF('Unit 36'!$C:$C,$D50),\"0\")","v":"0"},{"$f":"IF('Unit 37'!$C$7=$D$59,COUNTIF('Unit 37'!$C:$C,$D50),\"0\")","v":"0"},{"$f":"IF('Unit 38'!$C$7=$D$59,COUNTIF('Unit 38'!$C:$C,$D50),\"0\")","v":"0"},0,null,{"$f":"IF('Unit 1'!$C$7=$D$60,COUNTIF('Unit 1'!$C:$C,$D50),\"0\")","v":"0"},{"$f":"IF('Unit 2'!$C$7=$D$60,COUNTIF('Unit 2'!$C:$C,$D50),\"0\")","v":"0"},{"$f":"IF('Unit 3'!$C$7=$D$60,COUNTIF('Unit 3'!$C:$C,$D50),\"0\")","v":"0"},{"$f":"IF('Unit 4'!$C$7=$D$60,COUNTIF('Unit 4'!$C:$C,$D50),\"0\")","v":"0"},{"$f":"IF('Unit 5'!$C$7=$D$60,COUNTIF('Unit 5'!$C:$C,$D50),\"0\")","v":"0"},{"$f":"IF('Unit 6'!$C$7=$D$60,COUNTIF('Unit 6'!$C:$C,$D50),\"0\")","v":"0"},{"$f":"IF('Unit 7'!$C$7=$D$60,COUNTIF('Unit 7'!$C:$C,$D50),\"0\")","v":"0"},{"$f":"IF('Unit 8'!$C$7=$D$60,COUNTIF('Unit 8'!$C:$C,$D50),\"0\")","v":"0"},{"$f":"IF('Unit 9'!$C$7=$D$60,COUNTIF('Unit 9'!$C:$C,$D50),\"0\")","v":"0"},{"$f":"IF('Unit 10'!$C$7=$D$60,COUNTIF('Unit 10'!$C:$C,$D50),\"0\")","v":"0"},{"$f":"IF('Unit 11'!$C$7=$D$60,COUNTIF('Unit 11'!$C:$C,$D50),\"0\")","v":"0"},{"$f":"IF('Unit 12'!$C$7=$D$60,COUNTIF('Unit 12'!$C:$C,$D50),\"0\")","v":"0"},{"$f":"IF('Unit 13'!$C$7=$D$60,COUNTIF('Unit 13'!$C:$C,$D50),\"0\")","v":"0"},{"$f":"IF('Unit 14'!$C$7=$D$60,COUNTIF('Unit 14'!$C:$C,$D50),\"0\")","v":"0"},{"$f":"IF('Unit 15'!$C$7=$D$60,COUNTIF('Unit 15'!$C:$C,$D50),\"0\")","v":"0"},{"$f":"IF('Unit 16'!$C$7=$D$60,COUNTIF('Unit 16'!$C:$C,$D50),\"0\")","v":"0"},{"$f":"IF('Unit 17'!$C$7=$D$60,COUNTIF('Unit 17'!$C:$C,$D50),\"0\")","v":"0"},{"$f":"IF('Unit 18'!$C$7=$D$60,COUNTIF('Unit 18'!$C:$C,$D50),\"0\")","v":"0"},{"$f":"IF('Unit 19'!$C$7=$D$60,COUNTIF('Unit 19'!$C:$C,$D50),\"0\")","v":"0"},{"$f":"IF('Unit 20'!$C$7=$D$60,COUNTIF('Unit 20'!$C:$C,$D50),\"0\")","v":"0"},{"$f":"IF('Unit 21'!$C$7=$D$60,COUNTIF('Unit 21'!$C:$C,$D50),\"0\")","v":"0"},{"$f":"IF('Unit 22'!$C$7=$D$60,COUNTIF('Unit 22'!$C:$C,$D50),\"0\")","v":"0"},{"$f":"IF('Unit 23'!$C$7=$D$60,COUNTIF('Unit 23'!$C:$C,$D50),\"0\")","v":"0"},{"$f":"IF('Unit 24'!$C$7=$D$60,COUNTIF('Unit 24'!$C:$C,$D50),\"0\")","v":"0"},{"$f":"IF('Unit 25'!$C$7=$D$60,COUNTIF('Unit 25'!$C:$C,$D50),\"0\")","v":"0"},{"$f":"IF('Unit 26'!$C$7=$D$60,COUNTIF('Unit 26'!$C:$C,$D50),\"0\")","v":"0"},{"$f":"IF('Unit 27'!$C$7=$D$60,COUNTIF('Unit 27'!$C:$C,$D50),\"0\")","v":"0"},{"$f":"IF('Unit 28'!$C$7=$D$60,COUNTIF('Unit 28'!$C:$C,$D50),\"0\")","v":"0"},{"$f":"IF('Unit 29'!$C$7=$D$60,COUNTIF('Unit 29'!$C:$C,$D50),\"0\")","v":"0"},{"$f":"IF('Unit 30'!$C$7=$D$60,COUNTIF('Unit 30'!$C:$C,$D50),\"0\")","v":"0"},{"$f":"IF('Unit 31'!$C$7=$D$60,COUNTIF('Unit 31'!$C:$C,$D50),\"0\")","v":"0"},{"$f":"IF('Unit 32'!$C$7=$D$60,COUNTIF('Unit 32'!$C:$C,$D50),\"0\")","v":"0"},{"$f":"IF('Unit 33'!$C$7=$D$60,COUNTIF('Unit 33'!$C:$C,$D50),\"0\")","v":"0"},{"$f":"IF('Unit 34'!$C$7=$D$60,COUNTIF('Unit 34'!$C:$C,$D50),\"0\")","v":"0"},{"$f":"IF('Unit 35'!$C$7=$D$60,COUNTIF('Unit 35'!$C:$C,$D50),\"0\")","v":"0"},{"$f":"IF('Unit 36'!$C$7=$D$60,COUNTIF('Unit 36'!$C:$C,$D50),\"0\")","v":"0"},{"$f":"IF('Unit 37'!$C$7=$D$60,COUNTIF('Unit 37'!$C:$C,$D50),\"0\")","v":"0"},{"$f":"IF('Unit 38'!$C$7=$D$60,COUNTIF('Unit 38'!$C:$C,$D50),\"0\")","v":"0"},0]
[null,null,null,null,null,{"$f":"COUNTIF('Unit 1'!C:C,$D51)","v":0},{"$f":"COUNTIF('Unit 2'!C:C,D51)","v":0},{"$f":"COUNTIF('Unit 3'!C:C,D51)","v":0},{"$f":"COUNTIF('Unit 4'!C:C,D51)","v":0},{"$f":"COUNTIF('Unit 5'!C:C,D51)","v":0},{"$f":"COUNTIF('Unit 6'!C:C,D51)","v":0},{"$f":"COUNTIF('Unit 7'!C:C,D51)","v":0},{"$f":"COUNTIF('Unit 8'!C:C,D51)","v":0},{"$f":"COUNTIF('Unit 9'!C:C,D51)","v":0},{"$f":"COUNTIF('Unit 10'!C:C,D51)","v":0},{"$f":"COUNTIF('Unit 11'!C:C,D51)","v":0},{"$f":"COUNTIF('Unit 12'!C:C,D51)","v":0},{"$f":"COUNTIF('Unit 13'!C:C,D51)","v":0},{"$f":"COUNTIF('Unit 14'!C:C,D51)","v":0},{"$f":"COUNTIF('Unit 15'!C:C,D51)","v":0},{"$f":"COUNTIF('Unit 16'!C:C,D51)","v":0},{"$f":"COUNTIF('Unit 17'!C:C,D51)","v":0},{"$f":"COUNTIF('Unit 18'!C:C,D51)","v":0},{"$f":"COUNTIF('Unit 19'!C:C,D51)","v":0},{"$f":"COUNTIF('Unit 20'!C:C,D51)","v":0},{"$f":"COUNTIF('Unit 21'!C:C,D51)","v":0},{"$f":"COUNTIF('Unit 22'!C:C,D51)","v":0},{"$f":"COUNTIF('Unit 23'!C:C,D51)","v":0},{"$f":"COUNTIF('Unit 24'!C:C,D51)","v":0},{"$f":"COUNTIF('Unit 25'!C:C,D51)","v":0},{"$f":"COUNTIF('Unit 26'!C:C,D51)","v":0},{"$f":"COUNTIF('Unit 27'!C:C,D51)","v":0},{"$f":"COUNTIF('Unit 28'!C:C,D51)","v":0},{"$f":"COUNTIF('Unit 29'!C:C,D51)","v":0},{"$f":"COUNTIF('Unit 30'!C:C,D51)","v":0},{"$f":"COUNTIF('Unit 31'!C:C,D51)","v":0},{"$f":"COUNTIF('Unit 32'!C:C,D51)","v":0},{"$f":"COUNTIF('Unit 33'!C:C,D51)","v":0},{"$f":"COUNTIF('Unit 34'!C:C,D51)","v":0},{"$f":"COUNTIF('Unit 35'!C:C,D51)","v":0},{"$f":"COUNTIF('Unit 36'!C:C,D51)","v":0},{"$f":"COUNTIF('Unit 37'!C:C,D51)","v":0},{"$f":"COUNTIF('Unit 38'!C:C,D51)","v":0},0,null,{"$f":"IF('Unit 1'!$C$7=$D$58,COUNTIF('Unit 1'!$C:$C,$D51),\"0\")","v":"0"},{"$f":"IF('Unit 2'!$C$7=$D$58,COUNTIF('Unit 2'!$C:$C,$D51),\"0\")","v":"0"},{"$f":"IF('Unit 3'!$C$7=$D$58,COUNTIF('Unit 3'!$C:$C,$D51),\"0\")","v":"0"},{"$f":"IF('Unit 4'!$C$7=$D$58,COUNTIF('Unit 4'!$C:$C,$D51),\"0\")","v":"0"},{"$f":"IF('Unit 5'!$C$7=$D$58,COUNTIF('Unit 5'!$C:$C,$D51),\"0\")","v":"0"},{"$f":"IF('Unit 6'!$C$7=$D$58,COUNTIF('Unit 6'!$C:$C,$D51),\"0\")","v":"0"},{"$f":"IF('Unit 7'!$C$7=$D$58,COUNTIF('Unit 7'!$C:$C,$D51),\"0\")","v":"0"},{"$f":"IF('Unit 8'!$C$7=$D$58,COUNTIF('Unit 8'!$C:$C,$D51),\"0\")","v":"0"},{"$f":"IF('Unit 9'!$C$7=$D$58,COUNTIF('Unit 9'!$C:$C,$D51),\"0\")","v":"0"},{"$f":"IF('Unit 10'!$C$7=$D$58,COUNTIF('Unit 10'!$C:$C,$D51),\"0\")","v":"0"},{"$f":"IF('Unit 11'!$C$7=$D$58,COUNTIF('Unit 11'!$C:$C,$D51),\"0\")","v":"0"},{"$f":"IF('Unit 12'!$C$7=$D$58,COUNTIF('Unit 12'!$C:$C,$D51),\"0\")","v":"0"},{"$f":"IF('Unit 13'!$C$7=$D$58,COUNTIF('Unit 13'!$C:$C,$D51),\"0\")","v":"0"},{"$f":"IF('Unit 14'!$C$7=$D$58,COUNTIF('Unit 14'!$C:$C,$D51),\"0\")","v":"0"},{"$f":"IF('Unit 15'!$C$7=$D$58,COUNTIF('Unit 15'!$C:$C,$D51),\"0\")","v":"0"},{"$f":"IF('Unit 16'!$C$7=$D$58,COUNTIF('Unit 16'!$C:$C,$D51),\"0\")","v":"0"},{"$f":"IF('Unit 17'!$C$7=$D$58,COUNTIF('Unit 17'!$C:$C,$D51),\"0\")","v":"0"},{"$f":"IF('Unit 18'!$C$7=$D$58,COUNTIF('Unit 18'!$C:$C,$D51),\"0\")","v":"0"},{"$f":"IF('Unit 19'!$C$7=$D$58,COUNTIF('Unit 19'!$C:$C,$D51),\"0\")","v":"0"},{"$f":"IF('Unit 20'!$C$7=$D$58,COUNTIF('Unit 20'!$C:$C,$D51),\"0\")","v":"0"},{"$f":"IF('Unit 21'!$C$7=$D$58,COUNTIF('Unit 21'!$C:$C,$D51),\"0\")","v":"0"},{"$f":"IF('Unit 22'!$C$7=$D$58,COUNTIF('Unit 22'!$C:$C,$D51),\"0\")","v":"0"},{"$f":"IF('Unit 23'!$C$7=$D$58,COUNTIF('Unit 23'!$C:$C,$D51),\"0\")","v":"0"},{"$f":"IF('Unit 24'!$C$7=$D$58,COUNTIF('Unit 24'!$C:$C,$D51),\"0\")","v":"0"},{"$f":"IF('Unit 25'!$C$7=$D$58,COUNTIF('Unit 25'!$C:$C,$D51),\"0\")","v":"0"},{"$f":"IF('Unit 26'!$C$7=$D$58,COUNTIF('Unit 26'!$C:$C,$D51),\"0\")","v":"0"},{"$f":"IF('Unit 27'!$C$7=$D$58,COUNTIF('Unit 27'!$C:$C,$D51),\"0\")","v":"0"},{"$f":"IF('Unit 28'!$C$7=$D$58,COUNTIF('Unit 28'!$C:$C,$D51),\"0\")","v":"0"},{"$f":"IF('Unit 29'!$C$7=$D$58,COUNTIF('Unit 29'!$C:$C,$D51),\"0\")","v":"0"},{"$f":"IF('Unit 30'!$C$7=$D$58,COUNTIF('Unit 30'!$C:$C,$D51),\"0\")","v":"0"},{"$f":"IF('Unit 31'!$C$7=$D$58,COUNTIF('Unit 31'!$C:$C,$D51),\"0\")","v":"0"},{"$f":"IF('Unit 32'!$C$7=$D$58,COUNTIF('Unit 32'!$C:$C,$D51),\"0\")","v":"0"},{"$f":"IF('Unit 33'!$C$7=$D$58,COUNTIF('Unit 33'!$C:$C,$D51),\"0\")","v":"0"},{"$f":"IF('Unit 34'!$C$7=$D$58,COUNTIF('Unit 34'!$C:$C,$D51),\"0\")","v":"0"},{"$f":"IF('Unit 35'!$C$7=$D$58,COUNTIF('Unit 35'!$C:$C,$D51),\"0\")","v":"0"},{"$f":"IF('Unit 36'!$C$7=$D$58,COUNTIF('Unit 36'!$C:$C,$D51),\"0\")","v":"0"},{"$f":"IF('Unit 37'!$C$7=$D$58,COUNTIF('Unit 37'!$C:$C,$D51),\"0\")","v":"0"},{"$f":"IF('Unit 38'!$C$7=$D$58,COUNTIF('Unit 38'!$C:$C,$D51),\"0\")","v":"0"},0,null,{"$f":"IF('Unit 1'!$C$7=$D$59,COUNTIF('Unit 1'!$C:$C,$D51),\"0\")","v":"0"},{"$f":"IF('Unit 2'!$C$7=$D$59,COUNTIF('Unit 2'!$C:$C,$D51),\"0\")","v":"0"},{"$f":"IF('Unit 3'!$C$7=$D$59,COUNTIF('Unit 3'!$C:$C,$D51),\"0\")","v":"0"},{"$f":"IF('Unit 4'!$C$7=$D$59,COUNTIF('Unit 4'!$C:$C,$D51),\"0\")","v":"0"},{"$f":"IF('Unit 5'!$C$7=$D$59,COUNTIF('Unit 5'!$C:$C,$D51),\"0\")","v":"0"},{"$f":"IF('Unit 6'!$C$7=$D$59,COUNTIF('Unit 6'!$C:$C,$D51),\"0\")","v":"0"},{"$f":"IF('Unit 7'!$C$7=$D$59,COUNTIF('Unit 7'!$C:$C,$D51),\"0\")","v":"0"},{"$f":"IF('Unit 8'!$C$7=$D$59,COUNTIF('Unit 8'!$C:$C,$D51),\"0\")","v":"0"},{"$f":"IF('Unit 9'!$C$7=$D$59,COUNTIF('Unit 9'!$C:$C,$D51),\"0\")","v":"0"},{"$f":"IF('Unit 10'!$C$7=$D$59,COUNTIF('Unit 10'!$C:$C,$D51),\"0\")","v":"0"},{"$f":"IF('Unit 11'!$C$7=$D$59,COUNTIF('Unit 11'!$C:$C,$D51),\"0\")","v":"0"},{"$f":"IF('Unit 12'!$C$7=$D$59,COUNTIF('Unit 12'!$C:$C,$D51),\"0\")","v":"0"},{"$f":"IF('Unit 13'!$C$7=$D$59,COUNTIF('Unit 13'!$C:$C,$D51),\"0\")","v":"0"},{"$f":"IF('Unit 14'!$C$7=$D$59,COUNTIF('Unit 14'!$C:$C,$D51),\"0\")","v":"0"},{"$f":"IF('Unit 15'!$C$7=$D$59,COUNTIF('Unit 15'!$C:$C,$D51),\"0\")","v":"0"},{"$f":"IF('Unit 16'!$C$7=$D$59,COUNTIF('Unit 16'!$C:$C,$D51),\"0\")","v":"0"},{"$f":"IF('Unit 17'!$C$7=$D$59,COUNTIF('Unit 17'!$C:$C,$D51),\"0\")","v":"0"},{"$f":"IF('Unit 18'!$C$7=$D$59,COUNTIF('Unit 18'!$C:$C,$D51),\"0\")","v":"0"},{"$f":"IF('Unit 19'!$C$7=$D$59,COUNTIF('Unit 19'!$C:$C,$D51),\"0\")","v":"0"},{"$f":"IF('Unit 20'!$C$7=$D$59,COUNTIF('Unit 20'!$C:$C,$D51),\"0\")","v":"0"},{"$f":"IF('Unit 21'!$C$7=$D$59,COUNTIF('Unit 21'!$C:$C,$D51),\"0\")","v":"0"},{"$f":"IF('Unit 22'!$C$7=$D$59,COUNTIF('Unit 22'!$C:$C,$D51),\"0\")","v":"0"},{"$f":"IF('Unit 23'!$C$7=$D$59,COUNTIF('Unit 23'!$C:$C,$D51),\"0\")","v":"0"},{"$f":"IF('Unit 24'!$C$7=$D$59,COUNTIF('Unit 24'!$C:$C,$D51),\"0\")","v":"0"},{"$f":"IF('Unit 25'!$C$7=$D$59,COUNTIF('Unit 25'!$C:$C,$D51),\"0\")","v":"0"},{"$f":"IF('Unit 26'!$C$7=$D$59,COUNTIF('Unit 26'!$C:$C,$D51),\"0\")","v":"0"},{"$f":"IF('Unit 27'!$C$7=$D$59,COUNTIF('Unit 27'!$C:$C,$D51),\"0\")","v":"0"},{"$f":"IF('Unit 28'!$C$7=$D$59,COUNTIF('Unit 28'!$C:$C,$D51),\"0\")","v":"0"},{"$f":"IF('Unit 29'!$C$7=$D$59,COUNTIF('Unit 29'!$C:$C,$D51),\"0\")","v":"0"},{"$f":"IF('Unit 30'!$C$7=$D$59,COUNTIF('Unit 30'!$C:$C,$D51),\"0\")","v":"0"},{"$f":"IF('Unit 31'!$C$7=$D$59,COUNTIF('Unit 31'!$C:$C,$D51),\"0\")","v":"0"},{"$f":"IF('Unit 32'!$C$7=$D$59,COUNTIF('Unit 32'!$C:$C,$D51),\"0\")","v":"0"},{"$f":"IF('Unit 33'!$C$7=$D$59,COUNTIF('Unit 33'!$C:$C,$D51),\"0\")","v":"0"},{"$f":"IF('Unit 34'!$C$7=$D$59,COUNTIF('Unit 34'!$C:$C,$D51),\"0\")","v":"0"},{"$f":"IF('Unit 35'!$C$7=$D$59,COUNTIF('Unit 35'!$C:$C,$D51),\"0\")","v":"0"},{"$f":"IF('Unit 36'!$C$7=$D$59,COUNTIF('Unit 36'!$C:$C,$D51),\"0\")","v":"0"},{"$f":"IF('Unit 37'!$C$7=$D$59,COUNTIF('Unit 37'!$C:$C,$D51),\"0\")","v":"0"},{"$f":"IF('Unit 38'!$C$7=$D$59,COUNTIF('Unit 38'!$C:$C,$D51),\"0\")","v":"0"},0,null,{"$f":"IF('Unit 1'!$C$7=$D$60,COUNTIF('Unit 1'!$C:$C,$D51),\"0\")","v":"0"},{"$f":"IF('Unit 2'!$C$7=$D$60,COUNTIF('Unit 2'!$C:$C,$D51),\"0\")","v":"0"},{"$f":"IF('Unit 3'!$C$7=$D$60,COUNTIF('Unit 3'!$C:$C,$D51),\"0\")","v":"0"},{"$f":"IF('Unit 4'!$C$7=$D$60,COUNTIF('Unit 4'!$C:$C,$D51),\"0\")","v":"0"},{"$f":"IF('Unit 5'!$C$7=$D$60,COUNTIF('Unit 5'!$C:$C,$D51),\"0\")","v":"0"},{"$f":"IF('Unit 6'!$C$7=$D$60,COUNTIF('Unit 6'!$C:$C,$D51),\"0\")","v":"0"},{"$f":"IF('Unit 7'!$C$7=$D$60,COUNTIF('Unit 7'!$C:$C,$D51),\"0\")","v":"0"},{"$f":"IF('Unit 8'!$C$7=$D$60,COUNTIF('Unit 8'!$C:$C,$D51),\"0\")","v":"0"},{"$f":"IF('Unit 9'!$C$7=$D$60,COUNTIF('Unit 9'!$C:$C,$D51),\"0\")","v":"0"},{"$f":"IF('Unit 10'!$C$7=$D$60,COUNTIF('Unit 10'!$C:$C,$D51),\"0\")","v":"0"},{"$f":"IF('Unit 11'!$C$7=$D$60,COUNTIF('Unit 11'!$C:$C,$D51),\"0\")","v":"0"},{"$f":"IF('Unit 12'!$C$7=$D$60,COUNTIF('Unit 12'!$C:$C,$D51),\"0\")","v":"0"},{"$f":"IF('Unit 13'!$C$7=$D$60,COUNTIF('Unit 13'!$C:$C,$D51),\"0\")","v":"0"},{"$f":"IF('Unit 14'!$C$7=$D$60,COUNTIF('Unit 14'!$C:$C,$D51),\"0\")","v":"0"},{"$f":"IF('Unit 15'!$C$7=$D$60,COUNTIF('Unit 15'!$C:$C,$D51),\"0\")","v":"0"},{"$f":"IF('Unit 16'!$C$7=$D$60,COUNTIF('Unit 16'!$C:$C,$D51),\"0\")","v":"0"},{"$f":"IF('Unit 17'!$C$7=$D$60,COUNTIF('Unit 17'!$C:$C,$D51),\"0\")","v":"0"},{"$f":"IF('Unit 18'!$C$7=$D$60,COUNTIF('Unit 18'!$C:$C,$D51),\"0\")","v":"0"},{"$f":"IF('Unit 19'!$C$7=$D$60,COUNTIF('Unit 19'!$C:$C,$D51),\"0\")","v":"0"},{"$f":"IF('Unit 20'!$C$7=$D$60,COUNTIF('Unit 20'!$C:$C,$D51),\"0\")","v":"0"},{"$f":"IF('Unit 21'!$C$7=$D$60,COUNTIF('Unit 21'!$C:$C,$D51),\"0\")","v":"0"},{"$f":"IF('Unit 22'!$C$7=$D$60,COUNTIF('Unit 22'!$C:$C,$D51),\"0\")","v":"0"},{"$f":"IF('Unit 23'!$C$7=$D$60,COUNTIF('Unit 23'!$C:$C,$D51),\"0\")","v":"0"},{"$f":"IF('Unit 24'!$C$7=$D$60,COUNTIF('Unit 24'!$C:$C,$D51),\"0\")","v":"0"},{"$f":"IF('Unit 25'!$C$7=$D$60,COUNTIF('Unit 25'!$C:$C,$D51),\"0\")","v":"0"},{"$f":"IF('Unit 26'!$C$7=$D$60,COUNTIF('Unit 26'!$C:$C,$D51),\"0\")","v":"0"},{"$f":"IF('Unit 27'!$C$7=$D$60,COUNTIF('Unit 27'!$C:$C,$D51),\"0\")","v":"0"},{"$f":"IF('Unit 28'!$C$7=$D$60,COUNTIF('Unit 28'!$C:$C,$D51),\"0\")","v":"0"},{"$f":"IF('Unit 29'!$C$7=$D$60,COUNTIF('Unit 29'!$C:$C,$D51),\"0\")","v":"0"},{"$f":"IF('Unit 30'!$C$7=$D$60,COUNTIF('Unit 30'!$C:$C,$D51),\"0\")","v":"0"},{"$f":"IF('Unit 31'!$C$7=$D$60,COUNTIF('Unit 31'!$C:$C,$D51),\"0\")","v":"0"},{"$f":"IF('Unit 32'!$C$7=$D$60,COUNTIF('Unit 32'!$C:$C,$D51),\"0\")","v":"0"},{"$f":"IF('Unit 33'!$C$7=$D$60,COUNTIF('Unit 33'!$C:$C,$D51),\"0\")","v":"0"},{"$f":"IF('Unit 34'!$C$7=$D$60,COUNTIF('Unit 34'!$C:$C,$D51),\"0\")","v":"0"},{"$f":"IF('Unit 35'!$C$7=$D$60,COUNTIF('Unit 35'!$C:$C,$D51),\"0\")","v":"0"},{"$f":"IF('Unit 36'!$C$7=$D$60,COUNTIF('Unit 36'!$C:$C,$D51),\"0\")","v":"0"},{"$f":"IF('Unit 37'!$C$7=$D$60,COUNTIF('Unit 37'!$C:$C,$D51),\"0\")","v":"0"},{"$f":"IF('Unit 38'!$C$7=$D$60,COUNTIF('Unit 38'!$C:$C,$D51),\"0\")","v":"0"},0]
[null,{"$f":"B20","v":"Communicating"},"3.10","3.10 represent key information using appropriate media ","Represent: bringing clearly and distinctly to mind by use of description or imagination",{"$f":"COUNTIF('Unit 1'!C:C,$D52)","v":0},{"$f":"COUNTIF('Unit 2'!C:C,D52)","v":0},{"$f":"COUNTIF('Unit 3'!C:C,D52)","v":0},{"$f":"COUNTIF('Unit 4'!C:C,D52)","v":0},{"$f":"COUNTIF('Unit 5'!C:C,D52)","v":0},{"$f":"COUNTIF('Unit 6'!C:C,D52)","v":0},{"$f":"COUNTIF('Unit 7'!C:C,D52)","v":0},{"$f":"COUNTIF('Unit 8'!C:C,D52)","v":0},{"$f":"COUNTIF('Unit 9'!C:C,D52)","v":0},{"$f":"COUNTIF('Unit 10'!C:C,D52)","v":0},{"$f":"COUNTIF('Unit 11'!C:C,D52)","v":0},{"$f":"COUNTIF('Unit 12'!C:C,D52)","v":0},{"$f":"COUNTIF('Unit 13'!C:C,D52)","v":0},{"$f":"COUNTIF('Unit 14'!C:C,D52)","v":0},{"$f":"COUNTIF('Unit 15'!C:C,D52)","v":0},{"$f":"COUNTIF('Unit 16'!C:C,D52)","v":0},{"$f":"COUNTIF('Unit 17'!C:C,D52)","v":0},{"$f":"COUNTIF('Unit 18'!C:C,D52)","v":0},{"$f":"COUNTIF('Unit 19'!C:C,D52)","v":0},{"$f":"COUNTIF('Unit 20'!C:C,D52)","v":0},{"$f":"COUNTIF('Unit 21'!C:C,D52)","v":0},{"$f":"COUNTIF('Unit 22'!C:C,D52)","v":0},{"$f":"COUNTIF('Unit 23'!C:C,D52)","v":0},{"$f":"COUNTIF('Unit 24'!C:C,D52)","v":0},{"$f":"COUNTIF('Unit 25'!C:C,D52)","v":0},{"$f":"COUNTIF('Unit 26'!C:C,D52)","v":0},{"$f":"COUNTIF('Unit 27'!C:C,D52)","v":0},{"$f":"COUNTIF('Unit 28'!C:C,D52)","v":0},{"$f":"COUNTIF('Unit 29'!C:C,D52)","v":0},{"$f":"COUNTIF('Unit 30'!C:C,D52)","v":0},{"$f":"COUNTIF('Unit 31'!C:C,D52)","v":0},{"$f":"COUNTIF('Unit 32'!C:C,D52)","v":0},{"$f":"COUNTIF('Unit 33'!C:C,D52)","v":0},{"$f":"COUNTIF('Unit 34'!C:C,D52)","v":0},{"$f":"COUNTIF('Unit 35'!C:C,D52)","v":0},{"$f":"COUNTIF('Unit 36'!C:C,D52)","v":0},{"$f":"COUNTIF('Unit 37'!C:C,D52)","v":0},{"$f":"COUNTIF('Unit 38'!C:C,D52)","v":0},0,null,{"$f":"IF('Unit 1'!$C$7=$D$58,COUNTIF('Unit 1'!$C:$C,$D52),\"0\")","v":"0"},{"$f":"IF('Unit 2'!$C$7=$D$58,COUNTIF('Unit 2'!$C:$C,$D52),\"0\")","v":"0"},{"$f":"IF('Unit 3'!$C$7=$D$58,COUNTIF('Unit 3'!$C:$C,$D52),\"0\")","v":"0"},{"$f":"IF('Unit 4'!$C$7=$D$58,COUNTIF('Unit 4'!$C:$C,$D52),\"0\")","v":"0"},{"$f":"IF('Unit 5'!$C$7=$D$58,COUNTIF('Unit 5'!$C:$C,$D52),\"0\")","v":"0"},{"$f":"IF('Unit 6'!$C$7=$D$58,COUNTIF('Unit 6'!$C:$C,$D52),\"0\")","v":"0"},{"$f":"IF('Unit 7'!$C$7=$D$58,COUNTIF('Unit 7'!$C:$C,$D52),\"0\")","v":"0"},{"$f":"IF('Unit 8'!$C$7=$D$58,COUNTIF('Unit 8'!$C:$C,$D52),\"0\")","v":"0"},{"$f":"IF('Unit 9'!$C$7=$D$58,COUNTIF('Unit 9'!$C:$C,$D52),\"0\")","v":"0"},{"$f":"IF('Unit 10'!$C$7=$D$58,COUNTIF('Unit 10'!$C:$C,$D52),\"0\")","v":"0"},{"$f":"IF('Unit 11'!$C$7=$D$58,COUNTIF('Unit 11'!$C:$C,$D52),\"0\")","v":"0"},{"$f":"IF('Unit 12'!$C$7=$D$58,COUNTIF('Unit 12'!$C:$C,$D52),\"0\")","v":"0"},{"$f":"IF('Unit 13'!$C$7=$D$58,COUNTIF('Unit 13'!$C:$C,$D52),\"0\")","v":"0"},{"$f":"IF('Unit 14'!$C$7=$D$58,COUNTIF('Unit 14'!$C:$C,$D52),\"0\")","v":"0"},{"$f":"IF('Unit 15'!$C$7=$D$58,COUNTIF('Unit 15'!$C:$C,$D52),\"0\")","v":"0"},{"$f":"IF('Unit 16'!$C$7=$D$58,COUNTIF('Unit 16'!$C:$C,$D52),\"0\")","v":"0"},{"$f":"IF('Unit 17'!$C$7=$D$58,COUNTIF('Unit 17'!$C:$C,$D52),\"0\")","v":"0"},{"$f":"IF('Unit 18'!$C$7=$D$58,COUNTIF('Unit 18'!$C:$C,$D52),\"0\")","v":"0"},{"$f":"IF('Unit 19'!$C$7=$D$58,COUNTIF('Unit 19'!$C:$C,$D52),\"0\")","v":"0"},{"$f":"IF('Unit 20'!$C$7=$D$58,COUNTIF('Unit 20'!$C:$C,$D52),\"0\")","v":"0"},{"$f":"IF('Unit 21'!$C$7=$D$58,COUNTIF('Unit 21'!$C:$C,$D52),\"0\")","v":"0"},{"$f":"IF('Unit 22'!$C$7=$D$58,COUNTIF('Unit 22'!$C:$C,$D52),\"0\")","v":"0"},{"$f":"IF('Unit 23'!$C$7=$D$58,COUNTIF('Unit 23'!$C:$C,$D52),\"0\")","v":"0"},{"$f":"IF('Unit 24'!$C$7=$D$58,COUNTIF('Unit 24'!$C:$C,$D52),\"0\")","v":"0"},{"$f":"IF('Unit 25'!$C$7=$D$58,COUNTIF('Unit 25'!$C:$C,$D52),\"0\")","v":"0"},{"$f":"IF('Unit 26'!$C$7=$D$58,COUNTIF('Unit 26'!$C:$C,$D52),\"0\")","v":"0"},{"$f":"IF('Unit 27'!$C$7=$D$58,COUNTIF('Unit 27'!$C:$C,$D52),\"0\")","v":"0"},{"$f":"IF('Unit 28'!$C$7=$D$58,COUNTIF('Unit 28'!$C:$C,$D52),\"0\")","v":"0"},{"$f":"IF('Unit 29'!$C$7=$D$58,COUNTIF('Unit 29'!$C:$C,$D52),\"0\")","v":"0"},{"$f":"IF('Unit 30'!$C$7=$D$58,COUNTIF('Unit 30'!$C:$C,$D52),\"0\")","v":"0"},{"$f":"IF('Unit 31'!$C$7=$D$58,COUNTIF('Unit 31'!$C:$C,$D52),\"0\")","v":"0"},{"$f":"IF('Unit 32'!$C$7=$D$58,COUNTIF('Unit 32'!$C:$C,$D52),\"0\")","v":"0"},{"$f":"IF('Unit 33'!$C$7=$D$58,COUNTIF('Unit 33'!$C:$C,$D52),\"0\")","v":"0"},{"$f":"IF('Unit 34'!$C$7=$D$58,COUNTIF('Unit 34'!$C:$C,$D52),\"0\")","v":"0"},{"$f":"IF('Unit 35'!$C$7=$D$58,COUNTIF('Unit 35'!$C:$C,$D52),\"0\")","v":"0"},{"$f":"IF('Unit 36'!$C$7=$D$58,COUNTIF('Unit 36'!$C:$C,$D52),\"0\")","v":"0"},{"$f":"IF('Unit 37'!$C$7=$D$58,COUNTIF('Unit 37'!$C:$C,$D52),\"0\")","v":"0"},{"$f":"IF('Unit 38'!$C$7=$D$58,COUNTIF('Unit 38'!$C:$C,$D52),\"0\")","v":"0"},0,null,{"$f":"IF('Unit 1'!$C$7=$D$59,COUNTIF('Unit 1'!$C:$C,$D52),\"0\")","v":"0"},{"$f":"IF('Unit 2'!$C$7=$D$59,COUNTIF('Unit 2'!$C:$C,$D52),\"0\")","v":"0"},{"$f":"IF('Unit 3'!$C$7=$D$59,COUNTIF('Unit 3'!$C:$C,$D52),\"0\")","v":"0"},{"$f":"IF('Unit 4'!$C$7=$D$59,COUNTIF('Unit 4'!$C:$C,$D52),\"0\")","v":"0"},{"$f":"IF('Unit 5'!$C$7=$D$59,COUNTIF('Unit 5'!$C:$C,$D52),\"0\")","v":"0"},{"$f":"IF('Unit 6'!$C$7=$D$59,COUNTIF('Unit 6'!$C:$C,$D52),\"0\")","v":"0"},{"$f":"IF('Unit 7'!$C$7=$D$59,COUNTIF('Unit 7'!$C:$C,$D52),\"0\")","v":"0"},{"$f":"IF('Unit 8'!$C$7=$D$59,COUNTIF('Unit 8'!$C:$C,$D52),\"0\")","v":"0"},{"$f":"IF('Unit 9'!$C$7=$D$59,COUNTIF('Unit 9'!$C:$C,$D52),\"0\")","v":"0"},{"$f":"IF('Unit 10'!$C$7=$D$59,COUNTIF('Unit 10'!$C:$C,$D52),\"0\")","v":"0"},{"$f":"IF('Unit 11'!$C$7=$D$59,COUNTIF('Unit 11'!$C:$C,$D52),\"0\")","v":"0"},{"$f":"IF('Unit 12'!$C$7=$D$59,COUNTIF('Unit 12'!$C:$C,$D52),\"0\")","v":"0"},{"$f":"IF('Unit 13'!$C$7=$D$59,COUNTIF('Unit 13'!$C:$C,$D52),\"0\")","v":"0"},{"$f":"IF('Unit 14'!$C$7=$D$59,COUNTIF('Unit 14'!$C:$C,$D52),\"0\")","v":"0"},{"$f":"IF('Unit 15'!$C$7=$D$59,COUNTIF('Unit 15'!$C:$C,$D52),\"0\")","v":"0"},{"$f":"IF('Unit 16'!$C$7=$D$59,COUNTIF('Unit 16'!$C:$C,$D52),\"0\")","v":"0"},{"$f":"IF('Unit 17'!$C$7=$D$59,COUNTIF('Unit 17'!$C:$C,$D52),\"0\")","v":"0"},{"$f":"IF('Unit 18'!$C$7=$D$59,COUNTIF('Unit 18'!$C:$C,$D52),\"0\")","v":"0"},{"$f":"IF('Unit 19'!$C$7=$D$59,COUNTIF('Unit 19'!$C:$C,$D52),\"0\")","v":"0"},{"$f":"IF('Unit 20'!$C$7=$D$59,COUNTIF('Unit 20'!$C:$C,$D52),\"0\")","v":"0"},{"$f":"IF('Unit 21'!$C$7=$D$59,COUNTIF('Unit 21'!$C:$C,$D52),\"0\")","v":"0"},{"$f":"IF('Unit 22'!$C$7=$D$59,COUNTIF('Unit 22'!$C:$C,$D52),\"0\")","v":"0"},{"$f":"IF('Unit 23'!$C$7=$D$59,COUNTIF('Unit 23'!$C:$C,$D52),\"0\")","v":"0"},{"$f":"IF('Unit 24'!$C$7=$D$59,COUNTIF('Unit 24'!$C:$C,$D52),\"0\")","v":"0"},{"$f":"IF('Unit 25'!$C$7=$D$59,COUNTIF('Unit 25'!$C:$C,$D52),\"0\")","v":"0"},{"$f":"IF('Unit 26'!$C$7=$D$59,COUNTIF('Unit 26'!$C:$C,$D52),\"0\")","v":"0"},{"$f":"IF('Unit 27'!$C$7=$D$59,COUNTIF('Unit 27'!$C:$C,$D52),\"0\")","v":"0"},{"$f":"IF('Unit 28'!$C$7=$D$59,COUNTIF('Unit 28'!$C:$C,$D52),\"0\")","v":"0"},{"$f":"IF('Unit 29'!$C$7=$D$59,COUNTIF('Unit 29'!$C:$C,$D52),\"0\")","v":"0"},{"$f":"IF('Unit 30'!$C$7=$D$59,COUNTIF('Unit 30'!$C:$C,$D52),\"0\")","v":"0"},{"$f":"IF('Unit 31'!$C$7=$D$59,COUNTIF('Unit 31'!$C:$C,$D52),\"0\")","v":"0"},{"$f":"IF('Unit 32'!$C$7=$D$59,COUNTIF('Unit 32'!$C:$C,$D52),\"0\")","v":"0"},{"$f":"IF('Unit 33'!$C$7=$D$59,COUNTIF('Unit 33'!$C:$C,$D52),\"0\")","v":"0"},{"$f":"IF('Unit 34'!$C$7=$D$59,COUNTIF('Unit 34'!$C:$C,$D52),\"0\")","v":"0"},{"$f":"IF('Unit 35'!$C$7=$D$59,COUNTIF('Unit 35'!$C:$C,$D52),\"0\")","v":"0"},{"$f":"IF('Unit 36'!$C$7=$D$59,COUNTIF('Unit 36'!$C:$C,$D52),\"0\")","v":"0"},{"$f":"IF('Unit 37'!$C$7=$D$59,COUNTIF('Unit 37'!$C:$C,$D52),\"0\")","v":"0"},{"$f":"IF('Unit 38'!$C$7=$D$59,COUNTIF('Unit 38'!$C:$C,$D52),\"0\")","v":"0"},0,null,{"$f":"IF('Unit 1'!$C$7=$D$60,COUNTIF('Unit 1'!$C:$C,$D52),\"0\")","v":"0"},{"$f":"IF('Unit 2'!$C$7=$D$60,COUNTIF('Unit 2'!$C:$C,$D52),\"0\")","v":"0"},{"$f":"IF('Unit 3'!$C$7=$D$60,COUNTIF('Unit 3'!$C:$C,$D52),\"0\")","v":"0"},{"$f":"IF('Unit 4'!$C$7=$D$60,COUNTIF('Unit 4'!$C:$C,$D52),\"0\")","v":"0"},{"$f":"IF('Unit 5'!$C$7=$D$60,COUNTIF('Unit 5'!$C:$C,$D52),\"0\")","v":"0"},{"$f":"IF('Unit 6'!$C$7=$D$60,COUNTIF('Unit 6'!$C:$C,$D52),\"0\")","v":"0"},{"$f":"IF('Unit 7'!$C$7=$D$60,COUNTIF('Unit 7'!$C:$C,$D52),\"0\")","v":"0"},{"$f":"IF('Unit 8'!$C$7=$D$60,COUNTIF('Unit 8'!$C:$C,$D52),\"0\")","v":"0"},{"$f":"IF('Unit 9'!$C$7=$D$60,COUNTIF('Unit 9'!$C:$C,$D52),\"0\")","v":"0"},{"$f":"IF('Unit 10'!$C$7=$D$60,COUNTIF('Unit 10'!$C:$C,$D52),\"0\")","v":"0"},{"$f":"IF('Unit 11'!$C$7=$D$60,COUNTIF('Unit 11'!$C:$C,$D52),\"0\")","v":"0"},{"$f":"IF('Unit 12'!$C$7=$D$60,COUNTIF('Unit 12'!$C:$C,$D52),\"0\")","v":"0"},{"$f":"IF('Unit 13'!$C$7=$D$60,COUNTIF('Unit 13'!$C:$C,$D52),\"0\")","v":"0"},{"$f":"IF('Unit 14'!$C$7=$D$60,COUNTIF('Unit 14'!$C:$C,$D52),\"0\")","v":"0"},{"$f":"IF('Unit 15'!$C$7=$D$60,COUNTIF('Unit 15'!$C:$C,$D52),\"0\")","v":"0"},{"$f":"IF('Unit 16'!$C$7=$D$60,COUNTIF('Unit 16'!$C:$C,$D52),\"0\")","v":"0"},{"$f":"IF('Unit 17'!$C$7=$D$60,COUNTIF('Unit 17'!$C:$C,$D52),\"0\")","v":"0"},{"$f":"IF('Unit 18'!$C$7=$D$60,COUNTIF('Unit 18'!$C:$C,$D52),\"0\")","v":"0"},{"$f":"IF('Unit 19'!$C$7=$D$60,COUNTIF('Unit 19'!$C:$C,$D52),\"0\")","v":"0"},{"$f":"IF('Unit 20'!$C$7=$D$60,COUNTIF('Unit 20'!$C:$C,$D52),\"0\")","v":"0"},{"$f":"IF('Unit 21'!$C$7=$D$60,COUNTIF('Unit 21'!$C:$C,$D52),\"0\")","v":"0"},{"$f":"IF('Unit 22'!$C$7=$D$60,COUNTIF('Unit 22'!$C:$C,$D52),\"0\")","v":"0"},{"$f":"IF('Unit 23'!$C$7=$D$60,COUNTIF('Unit 23'!$C:$C,$D52),\"0\")","v":"0"},{"$f":"IF('Unit 24'!$C$7=$D$60,COUNTIF('Unit 24'!$C:$C,$D52),\"0\")","v":"0"},{"$f":"IF('Unit 25'!$C$7=$D$60,COUNTIF('Unit 25'!$C:$C,$D52),\"0\")","v":"0"},{"$f":"IF('Unit 26'!$C$7=$D$60,COUNTIF('Unit 26'!$C:$C,$D52),\"0\")","v":"0"},{"$f":"IF('Unit 27'!$C$7=$D$60,COUNTIF('Unit 27'!$C:$C,$D52),\"0\")","v":"0"},{"$f":"IF('Unit 28'!$C$7=$D$60,COUNTIF('Unit 28'!$C:$C,$D52),\"0\")","v":"0"},{"$f":"IF('Unit 29'!$C$7=$D$60,COUNTIF('Unit 29'!$C:$C,$D52),\"0\")","v":"0"},{"$f":"IF('Unit 30'!$C$7=$D$60,COUNTIF('Unit 30'!$C:$C,$D52),\"0\")","v":"0"},{"$f":"IF('Unit 31'!$C$7=$D$60,COUNTIF('Unit 31'!$C:$C,$D52),\"0\")","v":"0"},{"$f":"IF('Unit 32'!$C$7=$D$60,COUNTIF('Unit 32'!$C:$C,$D52),\"0\")","v":"0"},{"$f":"IF('Unit 33'!$C$7=$D$60,COUNTIF('Unit 33'!$C:$C,$D52),\"0\")","v":"0"},{"$f":"IF('Unit 34'!$C$7=$D$60,COUNTIF('Unit 34'!$C:$C,$D52),\"0\")","v":"0"},{"$f":"IF('Unit 35'!$C$7=$D$60,COUNTIF('Unit 35'!$C:$C,$D52),\"0\")","v":"0"},{"$f":"IF('Unit 36'!$C$7=$D$60,COUNTIF('Unit 36'!$C:$C,$D52),\"0\")","v":"0"},{"$f":"IF('Unit 37'!$C$7=$D$60,COUNTIF('Unit 37'!$C:$C,$D52),\"0\")","v":"0"},{"$f":"IF('Unit 38'!$C$7=$D$60,COUNTIF('Unit 38'!$C:$C,$D52),\"0\")","v":"0"},0]
[null,null,"3.11","3.11 justify their choice of the most appropriate system or systems for a specified purpose","Justify: give valid reasons or evidence to support an answer or conclusion",{"$f":"COUNTIF('Unit 1'!C:C,$D53)","v":0},{"$f":"COUNTIF('Unit 2'!C:C,D53)","v":0},{"$f":"COUNTIF('Unit 3'!C:C,D53)","v":0},{"$f":"COUNTIF('Unit 4'!C:C,D53)","v":0},{"$f":"COUNTIF('Unit 5'!C:C,D53)","v":0},{"$f":"COUNTIF('Unit 6'!C:C,D53)","v":0},{"$f":"COUNTIF('Unit 7'!C:C,D53)","v":0},{"$f":"COUNTIF('Unit 8'!C:C,D53)","v":0},{"$f":"COUNTIF('Unit 9'!C:C,D53)","v":0},{"$f":"COUNTIF('Unit 10'!C:C,D53)","v":0},{"$f":"COUNTIF('Unit 11'!C:C,D53)","v":0},{"$f":"COUNTIF('Unit 12'!C:C,D53)","v":0},{"$f":"COUNTIF('Unit 13'!C:C,D53)","v":0},{"$f":"COUNTIF('Unit 14'!C:C,D53)","v":0},{"$f":"COUNTIF('Unit 15'!C:C,D53)","v":0},{"$f":"COUNTIF('Unit 16'!C:C,D53)","v":0},{"$f":"COUNTIF('Unit 17'!C:C,D53)","v":0},{"$f":"COUNTIF('Unit 18'!C:C,D53)","v":0},{"$f":"COUNTIF('Unit 19'!C:C,D53)","v":0},{"$f":"COUNTIF('Unit 20'!C:C,D53)","v":0},{"$f":"COUNTIF('Unit 21'!C:C,D53)","v":0},{"$f":"COUNTIF('Unit 22'!C:C,D53)","v":0},{"$f":"COUNTIF('Unit 23'!C:C,D53)","v":0},{"$f":"COUNTIF('Unit 24'!C:C,D53)","v":0},{"$f":"COUNTIF('Unit 25'!C:C,D53)","v":0},{"$f":"COUNTIF('Unit 26'!C:C,D53)","v":0},{"$f":"COUNTIF('Unit 27'!C:C,D53)","v":0},{"$f":"COUNTIF('Unit 28'!C:C,D53)","v":0},{"$f":"COUNTIF('Unit 29'!C:C,D53)","v":0},{"$f":"COUNTIF('Unit 30'!C:C,D53)","v":0},{"$f":"COUNTIF('Unit 31'!C:C,D53)","v":0},{"$f":"COUNTIF('Unit 32'!C:C,D53)","v":0},{"$f":"COUNTIF('Unit 33'!C:C,D53)","v":0},{"$f":"COUNTIF('Unit 34'!C:C,D53)","v":0},{"$f":"COUNTIF('Unit 35'!C:C,D53)","v":0},{"$f":"COUNTIF('Unit 36'!C:C,D53)","v":0},{"$f":"COUNTIF('Unit 37'!C:C,D53)","v":0},{"$f":"COUNTIF('Unit 38'!C:C,D53)","v":0},0,null,{"$f":"IF('Unit 1'!$C$7=$D$58,COUNTIF('Unit 1'!$C:$C,$D53),\"0\")","v":"0"},{"$f":"IF('Unit 2'!$C$7=$D$58,COUNTIF('Unit 2'!$C:$C,$D53),\"0\")","v":"0"},{"$f":"IF('Unit 3'!$C$7=$D$58,COUNTIF('Unit 3'!$C:$C,$D53),\"0\")","v":"0"},{"$f":"IF('Unit 4'!$C$7=$D$58,COUNTIF('Unit 4'!$C:$C,$D53),\"0\")","v":"0"},{"$f":"IF('Unit 5'!$C$7=$D$58,COUNTIF('Unit 5'!$C:$C,$D53),\"0\")","v":"0"},{"$f":"IF('Unit 6'!$C$7=$D$58,COUNTIF('Unit 6'!$C:$C,$D53),\"0\")","v":"0"},{"$f":"IF('Unit 7'!$C$7=$D$58,COUNTIF('Unit 7'!$C:$C,$D53),\"0\")","v":"0"},{"$f":"IF('Unit 8'!$C$7=$D$58,COUNTIF('Unit 8'!$C:$C,$D53),\"0\")","v":"0"},{"$f":"IF('Unit 9'!$C$7=$D$58,COUNTIF('Unit 9'!$C:$C,$D53),\"0\")","v":"0"},{"$f":"IF('Unit 10'!$C$7=$D$58,COUNTIF('Unit 10'!$C:$C,$D53),\"0\")","v":"0"},{"$f":"IF('Unit 11'!$C$7=$D$58,COUNTIF('Unit 11'!$C:$C,$D53),\"0\")","v":"0"},{"$f":"IF('Unit 12'!$C$7=$D$58,COUNTIF('Unit 12'!$C:$C,$D53),\"0\")","v":"0"},{"$f":"IF('Unit 13'!$C$7=$D$58,COUNTIF('Unit 13'!$C:$C,$D53),\"0\")","v":"0"},{"$f":"IF('Unit 14'!$C$7=$D$58,COUNTIF('Unit 14'!$C:$C,$D53),\"0\")","v":"0"},{"$f":"IF('Unit 15'!$C$7=$D$58,COUNTIF('Unit 15'!$C:$C,$D53),\"0\")","v":"0"},{"$f":"IF('Unit 16'!$C$7=$D$58,COUNTIF('Unit 16'!$C:$C,$D53),\"0\")","v":"0"},{"$f":"IF('Unit 17'!$C$7=$D$58,COUNTIF('Unit 17'!$C:$C,$D53),\"0\")","v":"0"},{"$f":"IF('Unit 18'!$C$7=$D$58,COUNTIF('Unit 18'!$C:$C,$D53),\"0\")","v":"0"},{"$f":"IF('Unit 19'!$C$7=$D$58,COUNTIF('Unit 19'!$C:$C,$D53),\"0\")","v":"0"},{"$f":"IF('Unit 20'!$C$7=$D$58,COUNTIF('Unit 20'!$C:$C,$D53),\"0\")","v":"0"},{"$f":"IF('Unit 21'!$C$7=$D$58,COUNTIF('Unit 21'!$C:$C,$D53),\"0\")","v":"0"},{"$f":"IF('Unit 22'!$C$7=$D$58,COUNTIF('Unit 22'!$C:$C,$D53),\"0\")","v":"0"},{"$f":"IF('Unit 23'!$C$7=$D$58,COUNTIF('Unit 23'!$C:$C,$D53),\"0\")","v":"0"},{"$f":"IF('Unit 24'!$C$7=$D$58,COUNTIF('Unit 24'!$C:$C,$D53),\"0\")","v":"0"},{"$f":"IF('Unit 25'!$C$7=$D$58,COUNTIF('Unit 25'!$C:$C,$D53),\"0\")","v":"0"},{"$f":"IF('Unit 26'!$C$7=$D$58,COUNTIF('Unit 26'!$C:$C,$D53),\"0\")","v":"0"},{"$f":"IF('Unit 27'!$C$7=$D$58,COUNTIF('Unit 27'!$C:$C,$D53),\"0\")","v":"0"},{"$f":"IF('Unit 28'!$C$7=$D$58,COUNTIF('Unit 28'!$C:$C,$D53),\"0\")","v":"0"},{"$f":"IF('Unit 29'!$C$7=$D$58,COUNTIF('Unit 29'!$C:$C,$D53),\"0\")","v":"0"},{"$f":"IF('Unit 30'!$C$7=$D$58,COUNTIF('Unit 30'!$C:$C,$D53),\"0\")","v":"0"},{"$f":"IF('Unit 31'!$C$7=$D$58,COUNTIF('Unit 31'!$C:$C,$D53),\"0\")","v":"0"},{"$f":"IF('Unit 32'!$C$7=$D$58,COUNTIF('Unit 32'!$C:$C,$D53),\"0\")","v":"0"},{"$f":"IF('Unit 33'!$C$7=$D$58,COUNTIF('Unit 33'!$C:$C,$D53),\"0\")","v":"0"},{"$f":"IF('Unit 34'!$C$7=$D$58,COUNTIF('Unit 34'!$C:$C,$D53),\"0\")","v":"0"},{"$f":"IF('Unit 35'!$C$7=$D$58,COUNTIF('Unit 35'!$C:$C,$D53),\"0\")","v":"0"},{"$f":"IF('Unit 36'!$C$7=$D$58,COUNTIF('Unit 36'!$C:$C,$D53),\"0\")","v":"0"},{"$f":"IF('Unit 37'!$C$7=$D$58,COUNTIF('Unit 37'!$C:$C,$D53),\"0\")","v":"0"},{"$f":"IF('Unit 38'!$C$7=$D$58,COUNTIF('Unit 38'!$C:$C,$D53),\"0\")","v":"0"},0,null,{"$f":"IF('Unit 1'!$C$7=$D$59,COUNTIF('Unit 1'!$C:$C,$D53),\"0\")","v":"0"},{"$f":"IF('Unit 2'!$C$7=$D$59,COUNTIF('Unit 2'!$C:$C,$D53),\"0\")","v":"0"},{"$f":"IF('Unit 3'!$C$7=$D$59,COUNTIF('Unit 3'!$C:$C,$D53),\"0\")","v":"0"},{"$f":"IF('Unit 4'!$C$7=$D$59,COUNTIF('Unit 4'!$C:$C,$D53),\"0\")","v":"0"},{"$f":"IF('Unit 5'!$C$7=$D$59,COUNTIF('Unit 5'!$C:$C,$D53),\"0\")","v":"0"},{"$f":"IF('Unit 6'!$C$7=$D$59,COUNTIF('Unit 6'!$C:$C,$D53),\"0\")","v":"0"},{"$f":"IF('Unit 7'!$C$7=$D$59,COUNTIF('Unit 7'!$C:$C,$D53),\"0\")","v":"0"},{"$f":"IF('Unit 8'!$C$7=$D$59,COUNTIF('Unit 8'!$C:$C,$D53),\"0\")","v":"0"},{"$f":"IF('Unit 9'!$C$7=$D$59,COUNTIF('Unit 9'!$C:$C,$D53),\"0\")","v":"0"},{"$f":"IF('Unit 10'!$C$7=$D$59,COUNTIF('Unit 10'!$C:$C,$D53),\"0\")","v":"0"},{"$f":"IF('Unit 11'!$C$7=$D$59,COUNTIF('Unit 11'!$C:$C,$D53),\"0\")","v":"0"},{"$f":"IF('Unit 12'!$C$7=$D$59,COUNTIF('Unit 12'!$C:$C,$D53),\"0\")","v":"0"},{"$f":"IF('Unit 13'!$C$7=$D$59,COUNTIF('Unit 13'!$C:$C,$D53),\"0\")","v":"0"},{"$f":"IF('Unit 14'!$C$7=$D$59,COUNTIF('Unit 14'!$C:$C,$D53),\"0\")","v":"0"},{"$f":"IF('Unit 15'!$C$7=$D$59,COUNTIF('Unit 15'!$C:$C,$D53),\"0\")","v":"0"},{"$f":"IF('Unit 16'!$C$7=$D$59,COUNTIF('Unit 16'!$C:$C,$D53),\"0\")","v":"0"},{"$f":"IF('Unit 17'!$C$7=$D$59,COUNTIF('Unit 17'!$C:$C,$D53),\"0\")","v":"0"},{"$f":"IF('Unit 18'!$C$7=$D$59,COUNTIF('Unit 18'!$C:$C,$D53),\"0\")","v":"0"},{"$f":"IF('Unit 19'!$C$7=$D$59,COUNTIF('Unit 19'!$C:$C,$D53),\"0\")","v":"0"},{"$f":"IF('Unit 20'!$C$7=$D$59,COUNTIF('Unit 20'!$C:$C,$D53),\"0\")","v":"0"},{"$f":"IF('Unit 21'!$C$7=$D$59,COUNTIF('Unit 21'!$C:$C,$D53),\"0\")","v":"0"},{"$f":"IF('Unit 22'!$C$7=$D$59,COUNTIF('Unit 22'!$C:$C,$D53),\"0\")","v":"0"},{"$f":"IF('Unit 23'!$C$7=$D$59,COUNTIF('Unit 23'!$C:$C,$D53),\"0\")","v":"0"},{"$f":"IF('Unit 24'!$C$7=$D$59,COUNTIF('Unit 24'!$C:$C,$D53),\"0\")","v":"0"},{"$f":"IF('Unit 25'!$C$7=$D$59,COUNTIF('Unit 25'!$C:$C,$D53),\"0\")","v":"0"},{"$f":"IF('Unit 26'!$C$7=$D$59,COUNTIF('Unit 26'!$C:$C,$D53),\"0\")","v":"0"},{"$f":"IF('Unit 27'!$C$7=$D$59,COUNTIF('Unit 27'!$C:$C,$D53),\"0\")","v":"0"},{"$f":"IF('Unit 28'!$C$7=$D$59,COUNTIF('Unit 28'!$C:$C,$D53),\"0\")","v":"0"},{"$f":"IF('Unit 29'!$C$7=$D$59,COUNTIF('Unit 29'!$C:$C,$D53),\"0\")","v":"0"},{"$f":"IF('Unit 30'!$C$7=$D$59,COUNTIF('Unit 30'!$C:$C,$D53),\"0\")","v":"0"},{"$f":"IF('Unit 31'!$C$7=$D$59,COUNTIF('Unit 31'!$C:$C,$D53),\"0\")","v":"0"},{"$f":"IF('Unit 32'!$C$7=$D$59,COUNTIF('Unit 32'!$C:$C,$D53),\"0\")","v":"0"},{"$f":"IF('Unit 33'!$C$7=$D$59,COUNTIF('Unit 33'!$C:$C,$D53),\"0\")","v":"0"},{"$f":"IF('Unit 34'!$C$7=$D$59,COUNTIF('Unit 34'!$C:$C,$D53),\"0\")","v":"0"},{"$f":"IF('Unit 35'!$C$7=$D$59,COUNTIF('Unit 35'!$C:$C,$D53),\"0\")","v":"0"},{"$f":"IF('Unit 36'!$C$7=$D$59,COUNTIF('Unit 36'!$C:$C,$D53),\"0\")","v":"0"},{"$f":"IF('Unit 37'!$C$7=$D$59,COUNTIF('Unit 37'!$C:$C,$D53),\"0\")","v":"0"},{"$f":"IF('Unit 38'!$C$7=$D$59,COUNTIF('Unit 38'!$C:$C,$D53),\"0\")","v":"0"},0,null,{"$f":"IF('Unit 1'!$C$7=$D$60,COUNTIF('Unit 1'!$C:$C,$D53),\"0\")","v":"0"},{"$f":"IF('Unit 2'!$C$7=$D$60,COUNTIF('Unit 2'!$C:$C,$D53),\"0\")","v":"0"},{"$f":"IF('Unit 3'!$C$7=$D$60,COUNTIF('Unit 3'!$C:$C,$D53),\"0\")","v":"0"},{"$f":"IF('Unit 4'!$C$7=$D$60,COUNTIF('Unit 4'!$C:$C,$D53),\"0\")","v":"0"},{"$f":"IF('Unit 5'!$C$7=$D$60,COUNTIF('Unit 5'!$C:$C,$D53),\"0\")","v":"0"},{"$f":"IF('Unit 6'!$C$7=$D$60,COUNTIF('Unit 6'!$C:$C,$D53),\"0\")","v":"0"},{"$f":"IF('Unit 7'!$C$7=$D$60,COUNTIF('Unit 7'!$C:$C,$D53),\"0\")","v":"0"},{"$f":"IF('Unit 8'!$C$7=$D$60,COUNTIF('Unit 8'!$C:$C,$D53),\"0\")","v":"0"},{"$f":"IF('Unit 9'!$C$7=$D$60,COUNTIF('Unit 9'!$C:$C,$D53),\"0\")","v":"0"},{"$f":"IF('Unit 10'!$C$7=$D$60,COUNTIF('Unit 10'!$C:$C,$D53),\"0\")","v":"0"},{"$f":"IF('Unit 11'!$C$7=$D$60,COUNTIF('Unit 11'!$C:$C,$D53),\"0\")","v":"0"},{"$f":"IF('Unit 12'!$C$7=$D$60,COUNTIF('Unit 12'!$C:$C,$D53),\"0\")","v":"0"},{"$f":"IF('Unit 13'!$C$7=$D$60,COUNTIF('Unit 13'!$C:$C,$D53),\"0\")","v":"0"},{"$f":"IF('Unit 14'!$C$7=$D$60,COUNTIF('Unit 14'!$C:$C,$D53),\"0\")","v":"0"},{"$f":"IF('Unit 15'!$C$7=$D$60,COUNTIF('Unit 15'!$C:$C,$D53),\"0\")","v":"0"},{"$f":"IF('Unit 16'!$C$7=$D$60,COUNTIF('Unit 16'!$C:$C,$D53),\"0\")","v":"0"},{"$f":"IF('Unit 17'!$C$7=$D$60,COUNTIF('Unit 17'!$C:$C,$D53),\"0\")","v":"0"},{"$f":"IF('Unit 18'!$C$7=$D$60,COUNTIF('Unit 18'!$C:$C,$D53),\"0\")","v":"0"},{"$f":"IF('Unit 19'!$C$7=$D$60,COUNTIF('Unit 19'!$C:$C,$D53),\"0\")","v":"0"},{"$f":"IF('Unit 20'!$C$7=$D$60,COUNTIF('Unit 20'!$C:$C,$D53),\"0\")","v":"0"},{"$f":"IF('Unit 21'!$C$7=$D$60,COUNTIF('Unit 21'!$C:$C,$D53),\"0\")","v":"0"},{"$f":"IF('Unit 22'!$C$7=$D$60,COUNTIF('Unit 22'!$C:$C,$D53),\"0\")","v":"0"},{"$f":"IF('Unit 23'!$C$7=$D$60,COUNTIF('Unit 23'!$C:$C,$D53),\"0\")","v":"0"},{"$f":"IF('Unit 24'!$C$7=$D$60,COUNTIF('Unit 24'!$C:$C,$D53),\"0\")","v":"0"},{"$f":"IF('Unit 25'!$C$7=$D$60,COUNTIF('Unit 25'!$C:$C,$D53),\"0\")","v":"0"},{"$f":"IF('Unit 26'!$C$7=$D$60,COUNTIF('Unit 26'!$C:$C,$D53),\"0\")","v":"0"},{"$f":"IF('Unit 27'!$C$7=$D$60,COUNTIF('Unit 27'!$C:$C,$D53),\"0\")","v":"0"},{"$f":"IF('Unit 28'!$C$7=$D$60,COUNTIF('Unit 28'!$C:$C,$D53),\"0\")","v":"0"},{"$f":"IF('Unit 29'!$C$7=$D$60,COUNTIF('Unit 29'!$C:$C,$D53),\"0\")","v":"0"},{"$f":"IF('Unit 30'!$C$7=$D$60,COUNTIF('Unit 30'!$C:$C,$D53),\"0\")","v":"0"},{"$f":"IF('Unit 31'!$C$7=$D$60,COUNTIF('Unit 31'!$C:$C,$D53),\"0\")","v":"0"},{"$f":"IF('Unit 32'!$C$7=$D$60,COUNTIF('Unit 32'!$C:$C,$D53),\"0\")","v":"0"},{"$f":"IF('Unit 33'!$C$7=$D$60,COUNTIF('Unit 33'!$C:$C,$D53),\"0\")","v":"0"},{"$f":"IF('Unit 34'!$C$7=$D$60,COUNTIF('Unit 34'!$C:$C,$D53),\"0\")","v":"0"},{"$f":"IF('Unit 35'!$C$7=$D$60,COUNTIF('Unit 35'!$C:$C,$D53),\"0\")","v":"0"},{"$f":"IF('Unit 36'!$C$7=$D$60,COUNTIF('Unit 36'!$C:$C,$D53),\"0\")","v":"0"},{"$f":"IF('Unit 37'!$C$7=$D$60,COUNTIF('Unit 37'!$C:$C,$D53),\"0\")","v":"0"},{"$f":"IF('Unit 38'!$C$7=$D$60,COUNTIF('Unit 38'!$C:$C,$D53),\"0\")","v":"0"},0]
[null,null,null,null,null,{"$f":"COUNTIF('Unit 1'!C:C,$D54)","v":0},{"$f":"COUNTIF('Unit 2'!C:C,D54)","v":0},{"$f":"COUNTIF('Unit 3'!C:C,D54)","v":0},{"$f":"COUNTIF('Unit 4'!C:C,D54)","v":0},{"$f":"COUNTIF('Unit 5'!C:C,D54)","v":0},{"$f":"COUNTIF('Unit 6'!C:C,D54)","v":0},{"$f":"COUNTIF('Unit 7'!C:C,D54)","v":0},{"$f":"COUNTIF('Unit 8'!C:C,D54)","v":0},{"$f":"COUNTIF('Unit 9'!C:C,D54)","v":0},{"$f":"COUNTIF('Unit 10'!C:C,D54)","v":0},{"$f":"COUNTIF('Unit 11'!C:C,D54)","v":0},{"$f":"COUNTIF('Unit 12'!C:C,D54)","v":0},{"$f":"COUNTIF('Unit 13'!C:C,D54)","v":0},{"$f":"COUNTIF('Unit 14'!C:C,D54)","v":0},{"$f":"COUNTIF('Unit 15'!C:C,D54)","v":0},{"$f":"COUNTIF('Unit 16'!C:C,D54)","v":0},{"$f":"COUNTIF('Unit 17'!C:C,D54)","v":0},{"$f":"COUNTIF('Unit 18'!C:C,D54)","v":0},{"$f":"COUNTIF('Unit 19'!C:C,D54)","v":0},{"$f":"COUNTIF('Unit 20'!C:C,D54)","v":0},{"$f":"COUNTIF('Unit 21'!C:C,D54)","v":0},{"$f":"COUNTIF('Unit 22'!C:C,D54)","v":0},{"$f":"COUNTIF('Unit 23'!C:C,D54)","v":0},{"$f":"COUNTIF('Unit 24'!C:C,D54)","v":0},{"$f":"COUNTIF('Unit 25'!C:C,D54)","v":0},{"$f":"COUNTIF('Unit 26'!C:C,D54)","v":0},{"$f":"COUNTIF('Unit 27'!C:C,D54)","v":0},{"$f":"COUNTIF('Unit 28'!C:C,D54)","v":0},{"$f":"COUNTIF('Unit 29'!C:C,D54)","v":0},{"$f":"COUNTIF('Unit 30'!C:C,D54)","v":0},{"$f":"COUNTIF('Unit 31'!C:C,D54)","v":0},{"$f":"COUNTIF('Unit 32'!C:C,D54)","v":0},{"$f":"COUNTIF('Unit 33'!C:C,D54)","v":0},{"$f":"COUNTIF('Unit 34'!C:C,D54)","v":0},{"$f":"COUNTIF('Unit 35'!C:C,D54)","v":0},{"$f":"COUNTIF('Unit 36'!C:C,D54)","v":0},{"$f":"COUNTIF('Unit 37'!C:C,D54)","v":0},{"$f":"COUNTIF('Unit 38'!C:C,D54)","v":0},0,null,{"$f":"IF('Unit 1'!$C$7=$D$58,COUNTIF('Unit 1'!$C:$C,$D54),\"0\")","v":"0"},{"$f":"IF('Unit 2'!$C$7=$D$58,COUNTIF('Unit 2'!$C:$C,$D54),\"0\")","v":"0"},{"$f":"IF('Unit 3'!$C$7=$D$58,COUNTIF('Unit 3'!$C:$C,$D54),\"0\")","v":"0"},{"$f":"IF('Unit 4'!$C$7=$D$58,COUNTIF('Unit 4'!$C:$C,$D54),\"0\")","v":"0"},{"$f":"IF('Unit 5'!$C$7=$D$58,COUNTIF('Unit 5'!$C:$C,$D54),\"0\")","v":"0"},{"$f":"IF('Unit 6'!$C$7=$D$58,COUNTIF('Unit 6'!$C:$C,$D54),\"0\")","v":"0"},{"$f":"IF('Unit 7'!$C$7=$D$58,COUNTIF('Unit 7'!$C:$C,$D54),\"0\")","v":"0"},{"$f":"IF('Unit 8'!$C$7=$D$58,COUNTIF('Unit 8'!$C:$C,$D54),\"0\")","v":"0"},{"$f":"IF('Unit 9'!$C$7=$D$58,COUNTIF('Unit 9'!$C:$C,$D54),\"0\")","v":"0"},{"$f":"IF('Unit 10'!$C$7=$D$58,COUNTIF('Unit 10'!$C:$C,$D54),\"0\")","v":"0"},{"$f":"IF('Unit 11'!$C$7=$D$58,COUNTIF('Unit 11'!$C:$C,$D54),\"0\")","v":"0"},{"$f":"IF('Unit 12'!$C$7=$D$58,COUNTIF('Unit 12'!$C:$C,$D54),\"0\")","v":"0"},{"$f":"IF('Unit 13'!$C$7=$D$58,COUNTIF('Unit 13'!$C:$C,$D54),\"0\")","v":"0"},{"$f":"IF('Unit 14'!$C$7=$D$58,COUNTIF('Unit 14'!$C:$C,$D54),\"0\")","v":"0"},{"$f":"IF('Unit 15'!$C$7=$D$58,COUNTIF('Unit 15'!$C:$C,$D54),\"0\")","v":"0"},{"$f":"IF('Unit 16'!$C$7=$D$58,COUNTIF('Unit 16'!$C:$C,$D54),\"0\")","v":"0"},{"$f":"IF('Unit 17'!$C$7=$D$58,COUNTIF('Unit 17'!$C:$C,$D54),\"0\")","v":"0"},{"$f":"IF('Unit 18'!$C$7=$D$58,COUNTIF('Unit 18'!$C:$C,$D54),\"0\")","v":"0"},{"$f":"IF('Unit 19'!$C$7=$D$58,COUNTIF('Unit 19'!$C:$C,$D54),\"0\")","v":"0"},{"$f":"IF('Unit 20'!$C$7=$D$58,COUNTIF('Unit 20'!$C:$C,$D54),\"0\")","v":"0"},{"$f":"IF('Unit 21'!$C$7=$D$58,COUNTIF('Unit 21'!$C:$C,$D54),\"0\")","v":"0"},{"$f":"IF('Unit 22'!$C$7=$D$58,COUNTIF('Unit 22'!$C:$C,$D54),\"0\")","v":"0"},{"$f":"IF('Unit 23'!$C$7=$D$58,COUNTIF('Unit 23'!$C:$C,$D54),\"0\")","v":"0"},{"$f":"IF('Unit 24'!$C$7=$D$58,COUNTIF('Unit 24'!$C:$C,$D54),\"0\")","v":"0"},{"$f":"IF('Unit 25'!$C$7=$D$58,COUNTIF('Unit 25'!$C:$C,$D54),\"0\")","v":"0"},{"$f":"IF('Unit 26'!$C$7=$D$58,COUNTIF('Unit 26'!$C:$C,$D54),\"0\")","v":"0"},{"$f":"IF('Unit 27'!$C$7=$D$58,COUNTIF('Unit 27'!$C:$C,$D54),\"0\")","v":"0"},{"$f":"IF('Unit 28'!$C$7=$D$58,COUNTIF('Unit 28'!$C:$C,$D54),\"0\")","v":"0"},{"$f":"IF('Unit 29'!$C$7=$D$58,COUNTIF('Unit 29'!$C:$C,$D54),\"0\")","v":"0"},{"$f":"IF('Unit 30'!$C$7=$D$58,COUNTIF('Unit 30'!$C:$C,$D54),\"0\")","v":"0"},{"$f":"IF('Unit 31'!$C$7=$D$58,COUNTIF('Unit 31'!$C:$C,$D54),\"0\")","v":"0"},{"$f":"IF('Unit 32'!$C$7=$D$58,COUNTIF('Unit 32'!$C:$C,$D54),\"0\")","v":"0"},{"$f":"IF('Unit 33'!$C$7=$D$58,COUNTIF('Unit 33'!$C:$C,$D54),\"0\")","v":"0"},{"$f":"IF('Unit 34'!$C$7=$D$58,COUNTIF('Unit 34'!$C:$C,$D54),\"0\")","v":"0"},{"$f":"IF('Unit 35'!$C$7=$D$58,COUNTIF('Unit 35'!$C:$C,$D54),\"0\")","v":"0"},{"$f":"IF('Unit 36'!$C$7=$D$58,COUNTIF('Unit 36'!$C:$C,$D54),\"0\")","v":"0"},{"$f":"IF('Unit 37'!$C$7=$D$58,COUNTIF('Unit 37'!$C:$C,$D54),\"0\")","v":"0"},{"$f":"IF('Unit 38'!$C$7=$D$58,COUNTIF('Unit 38'!$C:$C,$D54),\"0\")","v":"0"},0,null,{"$f":"IF('Unit 1'!$C$7=$D$59,COUNTIF('Unit 1'!$C:$C,$D54),\"0\")","v":"0"},{"$f":"IF('Unit 2'!$C$7=$D$59,COUNTIF('Unit 2'!$C:$C,$D54),\"0\")","v":"0"},{"$f":"IF('Unit 3'!$C$7=$D$59,COUNTIF('Unit 3'!$C:$C,$D54),\"0\")","v":"0"},{"$f":"IF('Unit 4'!$C$7=$D$59,COUNTIF('Unit 4'!$C:$C,$D54),\"0\")","v":"0"},{"$f":"IF('Unit 5'!$C$7=$D$59,COUNTIF('Unit 5'!$C:$C,$D54),\"0\")","v":"0"},{"$f":"IF('Unit 6'!$C$7=$D$59,COUNTIF('Unit 6'!$C:$C,$D54),\"0\")","v":"0"},{"$f":"IF('Unit 7'!$C$7=$D$59,COUNTIF('Unit 7'!$C:$C,$D54),\"0\")","v":"0"},{"$f":"IF('Unit 8'!$C$7=$D$59,COUNTIF('Unit 8'!$C:$C,$D54),\"0\")","v":"0"},{"$f":"IF('Unit 9'!$C$7=$D$59,COUNTIF('Unit 9'!$C:$C,$D54),\"0\")","v":"0"},{"$f":"IF('Unit 10'!$C$7=$D$59,COUNTIF('Unit 10'!$C:$C,$D54),\"0\")","v":"0"},{"$f":"IF('Unit 11'!$C$7=$D$59,COUNTIF('Unit 11'!$C:$C,$D54),\"0\")","v":"0"},{"$f":"IF('Unit 12'!$C$7=$D$59,COUNTIF('Unit 12'!$C:$C,$D54),\"0\")","v":"0"},{"$f":"IF('Unit 13'!$C$7=$D$59,COUNTIF('Unit 13'!$C:$C,$D54),\"0\")","v":"0"},{"$f":"IF('Unit 14'!$C$7=$D$59,COUNTIF('Unit 14'!$C:$C,$D54),\"0\")","v":"0"},{"$f":"IF('Unit 15'!$C$7=$D$59,COUNTIF('Unit 15'!$C:$C,$D54),\"0\")","v":"0"},{"$f":"IF('Unit 16'!$C$7=$D$59,COUNTIF('Unit 16'!$C:$C,$D54),\"0\")","v":"0"},{"$f":"IF('Unit 17'!$C$7=$D$59,COUNTIF('Unit 17'!$C:$C,$D54),\"0\")","v":"0"},{"$f":"IF('Unit 18'!$C$7=$D$59,COUNTIF('Unit 18'!$C:$C,$D54),\"0\")","v":"0"},{"$f":"IF('Unit 19'!$C$7=$D$59,COUNTIF('Unit 19'!$C:$C,$D54),\"0\")","v":"0"},{"$f":"IF('Unit 20'!$C$7=$D$59,COUNTIF('Unit 20'!$C:$C,$D54),\"0\")","v":"0"},{"$f":"IF('Unit 21'!$C$7=$D$59,COUNTIF('Unit 21'!$C:$C,$D54),\"0\")","v":"0"},{"$f":"IF('Unit 22'!$C$7=$D$59,COUNTIF('Unit 22'!$C:$C,$D54),\"0\")","v":"0"},{"$f":"IF('Unit 23'!$C$7=$D$59,COUNTIF('Unit 23'!$C:$C,$D54),\"0\")","v":"0"},{"$f":"IF('Unit 24'!$C$7=$D$59,COUNTIF('Unit 24'!$C:$C,$D54),\"0\")","v":"0"},{"$f":"IF('Unit 25'!$C$7=$D$59,COUNTIF('Unit 25'!$C:$C,$D54),\"0\")","v":"0"},{"$f":"IF('Unit 26'!$C$7=$D$59,COUNTIF('Unit 26'!$C:$C,$D54),\"0\")","v":"0"},{"$f":"IF('Unit 27'!$C$7=$D$59,COUNTIF('Unit 27'!$C:$C,$D54),\"0\")","v":"0"},{"$f":"IF('Unit 28'!$C$7=$D$59,COUNTIF('Unit 28'!$C:$C,$D54),\"0\")","v":"0"},{"$f":"IF('Unit 29'!$C$7=$D$59,COUNTIF('Unit 29'!$C:$C,$D54),\"0\")","v":"0"},{"$f":"IF('Unit 30'!$C$7=$D$59,COUNTIF('Unit 30'!$C:$C,$D54),\"0\")","v":"0"},{"$f":"IF('Unit 31'!$C$7=$D$59,COUNTIF('Unit 31'!$C:$C,$D54),\"0\")","v":"0"},{"$f":"IF('Unit 32'!$C$7=$D$59,COUNTIF('Unit 32'!$C:$C,$D54),\"0\")","v":"0"},{"$f":"IF('Unit 33'!$C$7=$D$59,COUNTIF('Unit 33'!$C:$C,$D54),\"0\")","v":"0"},{"$f":"IF('Unit 34'!$C$7=$D$59,COUNTIF('Unit 34'!$C:$C,$D54),\"0\")","v":"0"},{"$f":"IF('Unit 35'!$C$7=$D$59,COUNTIF('Unit 35'!$C:$C,$D54),\"0\")","v":"0"},{"$f":"IF('Unit 36'!$C$7=$D$59,COUNTIF('Unit 36'!$C:$C,$D54),\"0\")","v":"0"},{"$f":"IF('Unit 37'!$C$7=$D$59,COUNTIF('Unit 37'!$C:$C,$D54),\"0\")","v":"0"},{"$f":"IF('Unit 38'!$C$7=$D$59,COUNTIF('Unit 38'!$C:$C,$D54),\"0\")","v":"0"},0,null,{"$f":"IF('Unit 1'!$C$7=$D$60,COUNTIF('Unit 1'!$C:$C,$D54),\"0\")","v":"0"},{"$f":"IF('Unit 2'!$C$7=$D$60,COUNTIF('Unit 2'!$C:$C,$D54),\"0\")","v":"0"},{"$f":"IF('Unit 3'!$C$7=$D$60,COUNTIF('Unit 3'!$C:$C,$D54),\"0\")","v":"0"},{"$f":"IF('Unit 4'!$C$7=$D$60,COUNTIF('Unit 4'!$C:$C,$D54),\"0\")","v":"0"},{"$f":"IF('Unit 5'!$C$7=$D$60,COUNTIF('Unit 5'!$C:$C,$D54),\"0\")","v":"0"},{"$f":"IF('Unit 6'!$C$7=$D$60,COUNTIF('Unit 6'!$C:$C,$D54),\"0\")","v":"0"},{"$f":"IF('Unit 7'!$C$7=$D$60,COUNTIF('Unit 7'!$C:$C,$D54),\"0\")","v":"0"},{"$f":"IF('Unit 8'!$C$7=$D$60,COUNTIF('Unit 8'!$C:$C,$D54),\"0\")","v":"0"},{"$f":"IF('Unit 9'!$C$7=$D$60,COUNTIF('Unit 9'!$C:$C,$D54),\"0\")","v":"0"},{"$f":"IF('Unit 10'!$C$7=$D$60,COUNTIF('Unit 10'!$C:$C,$D54),\"0\")","v":"0"},{"$f":"IF('Unit 11'!$C$7=$D$60,COUNTIF('Unit 11'!$C:$C,$D54),\"0\")","v":"0"},{"$f":"IF('Unit 12'!$C$7=$D$60,COUNTIF('Unit 12'!$C:$C,$D54),\"0\")","v":"0"},{"$f":"IF('Unit 13'!$C$7=$D$60,COUNTIF('Unit 13'!$C:$C,$D54),\"0\")","v":"0"},{"$f":"IF('Unit 14'!$C$7=$D$60,COUNTIF('Unit 14'!$C:$C,$D54),\"0\")","v":"0"},{"$f":"IF('Unit 15'!$C$7=$D$60,COUNTIF('Unit 15'!$C:$C,$D54),\"0\")","v":"0"},{"$f":"IF('Unit 16'!$C$7=$D$60,COUNTIF('Unit 16'!$C:$C,$D54),\"0\")","v":"0"},{"$f":"IF('Unit 17'!$C$7=$D$60,COUNTIF('Unit 17'!$C:$C,$D54),\"0\")","v":"0"},{"$f":"IF('Unit 18'!$C$7=$D$60,COUNTIF('Unit 18'!$C:$C,$D54),\"0\")","v":"0"},{"$f":"IF('Unit 19'!$C$7=$D$60,COUNTIF('Unit 19'!$C:$C,$D54),\"0\")","v":"0"},{"$f":"IF('Unit 20'!$C$7=$D$60,COUNTIF('Unit 20'!$C:$C,$D54),\"0\")","v":"0"},{"$f":"IF('Unit 21'!$C$7=$D$60,COUNTIF('Unit 21'!$C:$C,$D54),\"0\")","v":"0"},{"$f":"IF('Unit 22'!$C$7=$D$60,COUNTIF('Unit 22'!$C:$C,$D54),\"0\")","v":"0"},{"$f":"IF('Unit 23'!$C$7=$D$60,COUNTIF('Unit 23'!$C:$C,$D54),\"0\")","v":"0"},{"$f":"IF('Unit 24'!$C$7=$D$60,COUNTIF('Unit 24'!$C:$C,$D54),\"0\")","v":"0"},{"$f":"IF('Unit 25'!$C$7=$D$60,COUNTIF('Unit 25'!$C:$C,$D54),\"0\")","v":"0"},{"$f":"IF('Unit 26'!$C$7=$D$60,COUNTIF('Unit 26'!$C:$C,$D54),\"0\")","v":"0"},{"$f":"IF('Unit 27'!$C$7=$D$60,COUNTIF('Unit 27'!$C:$C,$D54),\"0\")","v":"0"},{"$f":"IF('Unit 28'!$C$7=$D$60,COUNTIF('Unit 28'!$C:$C,$D54),\"0\")","v":"0"},{"$f":"IF('Unit 29'!$C$7=$D$60,COUNTIF('Unit 29'!$C:$C,$D54),\"0\")","v":"0"},{"$f":"IF('Unit 30'!$C$7=$D$60,COUNTIF('Unit 30'!$C:$C,$D54),\"0\")","v":"0"},{"$f":"IF('Unit 31'!$C$7=$D$60,COUNTIF('Unit 31'!$C:$C,$D54),\"0\")","v":"0"},{"$f":"IF('Unit 32'!$C$7=$D$60,COUNTIF('Unit 32'!$C:$C,$D54),\"0\")","v":"0"},{"$f":"IF('Unit 33'!$C$7=$D$60,COUNTIF('Unit 33'!$C:$C,$D54),\"0\")","v":"0"},{"$f":"IF('Unit 34'!$C$7=$D$60,COUNTIF('Unit 34'!$C:$C,$D54),\"0\")","v":"0"},{"$f":"IF('Unit 35'!$C$7=$D$60,COUNTIF('Unit 35'!$C:$C,$D54),\"0\")","v":"0"},{"$f":"IF('Unit 36'!$C$7=$D$60,COUNTIF('Unit 36'!$C:$C,$D54),\"0\")","v":"0"},{"$f":"IF('Unit 37'!$C$7=$D$60,COUNTIF('Unit 37'!$C:$C,$D54),\"0\")","v":"0"},{"$f":"IF('Unit 38'!$C$7=$D$60,COUNTIF('Unit 38'!$C:$C,$D54),\"0\")","v":"0"},0]
[null,null,null,null,null,{"$f":"COUNTIF('Unit 1'!C:C,$D55)","v":0},{"$f":"COUNTIF('Unit 2'!C:C,D55)","v":0},{"$f":"COUNTIF('Unit 3'!C:C,D55)","v":0},{"$f":"COUNTIF('Unit 4'!C:C,D55)","v":0},{"$f":"COUNTIF('Unit 5'!C:C,D55)","v":0},{"$f":"COUNTIF('Unit 6'!C:C,D55)","v":0},{"$f":"COUNTIF('Unit 7'!C:C,D55)","v":0},{"$f":"COUNTIF('Unit 8'!C:C,D55)","v":0},{"$f":"COUNTIF('Unit 9'!C:C,D55)","v":0},{"$f":"COUNTIF('Unit 10'!C:C,D55)","v":0},{"$f":"COUNTIF('Unit 11'!C:C,D55)","v":0},{"$f":"COUNTIF('Unit 12'!C:C,D55)","v":0},{"$f":"COUNTIF('Unit 13'!C:C,D55)","v":0},{"$f":"COUNTIF('Unit 14'!C:C,D55)","v":0},{"$f":"COUNTIF('Unit 15'!C:C,D55)","v":0},{"$f":"COUNTIF('Unit 16'!C:C,D55)","v":0},{"$f":"COUNTIF('Unit 17'!C:C,D55)","v":0},{"$f":"COUNTIF('Unit 18'!C:C,D55)","v":0},{"$f":"COUNTIF('Unit 19'!C:C,D55)","v":0},{"$f":"COUNTIF('Unit 20'!C:C,D55)","v":0},{"$f":"COUNTIF('Unit 21'!C:C,D55)","v":0},{"$f":"COUNTIF('Unit 22'!C:C,D55)","v":0},{"$f":"COUNTIF('Unit 23'!C:C,D55)","v":0},{"$f":"COUNTIF('Unit 24'!C:C,D55)","v":0},{"$f":"COUNTIF('Unit 25'!C:C,D55)","v":0},{"$f":"COUNTIF('Unit 26'!C:C,D55)","v":0},{"$f":"COUNTIF('Unit 27'!C:C,D55)","v":0},{"$f":"COUNTIF('Unit 28'!C:C,D55)","v":0},{"$f":"COUNTIF('Unit 29'!C:C,D55)","v":0},{"$f":"COUNTIF('Unit 30'!C:C,D55)","v":0},{"$f":"COUNTIF('Unit 31'!C:C,D55)","v":0},{"$f":"COUNTIF('Unit 32'!C:C,D55)","v":0},{"$f":"COUNTIF('Unit 33'!C:C,D55)","v":0},{"$f":"COUNTIF('Unit 34'!C:C,D55)","v":0},{"$f":"COUNTIF('Unit 35'!C:C,D55)","v":0},{"$f":"COUNTIF('Unit 36'!C:C,D55)","v":0},{"$f":"COUNTIF('Unit 37'!C:C,D55)","v":0},{"$f":"COUNTIF('Unit 38'!C:C,D55)","v":0},0,null,{"$f":"IF('Unit 1'!$C$7=$D$58,COUNTIF('Unit 1'!$C:$C,$D55),\"0\")","v":"0"},{"$f":"IF('Unit 2'!$C$7=$D$58,COUNTIF('Unit 2'!$C:$C,$D55),\"0\")","v":"0"},{"$f":"IF('Unit 3'!$C$7=$D$58,COUNTIF('Unit 3'!$C:$C,$D55),\"0\")","v":"0"},{"$f":"IF('Unit 4'!$C$7=$D$58,COUNTIF('Unit 4'!$C:$C,$D55),\"0\")","v":"0"},{"$f":"IF('Unit 5'!$C$7=$D$58,COUNTIF('Unit 5'!$C:$C,$D55),\"0\")","v":"0"},{"$f":"IF('Unit 6'!$C$7=$D$58,COUNTIF('Unit 6'!$C:$C,$D55),\"0\")","v":"0"},{"$f":"IF('Unit 7'!$C$7=$D$58,COUNTIF('Unit 7'!$C:$C,$D55),\"0\")","v":"0"},{"$f":"IF('Unit 8'!$C$7=$D$58,COUNTIF('Unit 8'!$C:$C,$D55),\"0\")","v":"0"},{"$f":"IF('Unit 9'!$C$7=$D$58,COUNTIF('Unit 9'!$C:$C,$D55),\"0\")","v":"0"},{"$f":"IF('Unit 10'!$C$7=$D$58,COUNTIF('Unit 10'!$C:$C,$D55),\"0\")","v":"0"},{"$f":"IF('Unit 11'!$C$7=$D$58,COUNTIF('Unit 11'!$C:$C,$D55),\"0\")","v":"0"},{"$f":"IF('Unit 12'!$C$7=$D$58,COUNTIF('Unit 12'!$C:$C,$D55),\"0\")","v":"0"},{"$f":"IF('Unit 13'!$C$7=$D$58,COUNTIF('Unit 13'!$C:$C,$D55),\"0\")","v":"0"},{"$f":"IF('Unit 14'!$C$7=$D$58,COUNTIF('Unit 14'!$C:$C,$D55),\"0\")","v":"0"},{"$f":"IF('Unit 15'!$C$7=$D$58,COUNTIF('Unit 15'!$C:$C,$D55),\"0\")","v":"0"},{"$f":"IF('Unit 16'!$C$7=$D$58,COUNTIF('Unit 16'!$C:$C,$D55),\"0\")","v":"0"},{"$f":"IF('Unit 17'!$C$7=$D$58,COUNTIF('Unit 17'!$C:$C,$D55),\"0\")","v":"0"},{"$f":"IF('Unit 18'!$C$7=$D$58,COUNTIF('Unit 18'!$C:$C,$D55),\"0\")","v":"0"},{"$f":"IF('Unit 19'!$C$7=$D$58,COUNTIF('Unit 19'!$C:$C,$D55),\"0\")","v":"0"},{"$f":"IF('Unit 20'!$C$7=$D$58,COUNTIF('Unit 20'!$C:$C,$D55),\"0\")","v":"0"},{"$f":"IF('Unit 21'!$C$7=$D$58,COUNTIF('Unit 21'!$C:$C,$D55),\"0\")","v":"0"},{"$f":"IF('Unit 22'!$C$7=$D$58,COUNTIF('Unit 22'!$C:$C,$D55),\"0\")","v":"0"},{"$f":"IF('Unit 23'!$C$7=$D$58,COUNTIF('Unit 23'!$C:$C,$D55),\"0\")","v":"0"},{"$f":"IF('Unit 24'!$C$7=$D$58,COUNTIF('Unit 24'!$C:$C,$D55),\"0\")","v":"0"},{"$f":"IF('Unit 25'!$C$7=$D$58,COUNTIF('Unit 25'!$C:$C,$D55),\"0\")","v":"0"},{"$f":"IF('Unit 26'!$C$7=$D$58,COUNTIF('Unit 26'!$C:$C,$D55),\"0\")","v":"0"},{"$f":"IF('Unit 27'!$C$7=$D$58,COUNTIF('Unit 27'!$C:$C,$D55),\"0\")","v":"0"},{"$f":"IF('Unit 28'!$C$7=$D$58,COUNTIF('Unit 28'!$C:$C,$D55),\"0\")","v":"0"},{"$f":"IF('Unit 29'!$C$7=$D$58,COUNTIF('Unit 29'!$C:$C,$D55),\"0\")","v":"0"},{"$f":"IF('Unit 30'!$C$7=$D$58,COUNTIF('Unit 30'!$C:$C,$D55),\"0\")","v":"0"},{"$f":"IF('Unit 31'!$C$7=$D$58,COUNTIF('Unit 31'!$C:$C,$D55),\"0\")","v":"0"},{"$f":"IF('Unit 32'!$C$7=$D$58,COUNTIF('Unit 32'!$C:$C,$D55),\"0\")","v":"0"},{"$f":"IF('Unit 33'!$C$7=$D$58,COUNTIF('Unit 33'!$C:$C,$D55),\"0\")","v":"0"},{"$f":"IF('Unit 34'!$C$7=$D$58,COUNTIF('Unit 34'!$C:$C,$D55),\"0\")","v":"0"},{"$f":"IF('Unit 35'!$C$7=$D$58,COUNTIF('Unit 35'!$C:$C,$D55),\"0\")","v":"0"},{"$f":"IF('Unit 36'!$C$7=$D$58,COUNTIF('Unit 36'!$C:$C,$D55),\"0\")","v":"0"},{"$f":"IF('Unit 37'!$C$7=$D$58,COUNTIF('Unit 37'!$C:$C,$D55),\"0\")","v":"0"},{"$f":"IF('Unit 38'!$C$7=$D$58,COUNTIF('Unit 38'!$C:$C,$D55),\"0\")","v":"0"},0,null,{"$f":"IF('Unit 1'!$C$7=$D$59,COUNTIF('Unit 1'!$C:$C,$D55),\"0\")","v":"0"},{"$f":"IF('Unit 2'!$C$7=$D$59,COUNTIF('Unit 2'!$C:$C,$D55),\"0\")","v":"0"},{"$f":"IF('Unit 3'!$C$7=$D$59,COUNTIF('Unit 3'!$C:$C,$D55),\"0\")","v":"0"},{"$f":"IF('Unit 4'!$C$7=$D$59,COUNTIF('Unit 4'!$C:$C,$D55),\"0\")","v":"0"},{"$f":"IF('Unit 5'!$C$7=$D$59,COUNTIF('Unit 5'!$C:$C,$D55),\"0\")","v":"0"},{"$f":"IF('Unit 6'!$C$7=$D$59,COUNTIF('Unit 6'!$C:$C,$D55),\"0\")","v":"0"},{"$f":"IF('Unit 7'!$C$7=$D$59,COUNTIF('Unit 7'!$C:$C,$D55),\"0\")","v":"0"},{"$f":"IF('Unit 8'!$C$7=$D$59,COUNTIF('Unit 8'!$C:$C,$D55),\"0\")","v":"0"},{"$f":"IF('Unit 9'!$C$7=$D$59,COUNTIF('Unit 9'!$C:$C,$D55),\"0\")","v":"0"},{"$f":"IF('Unit 10'!$C$7=$D$59,COUNTIF('Unit 10'!$C:$C,$D55),\"0\")","v":"0"},{"$f":"IF('Unit 11'!$C$7=$D$59,COUNTIF('Unit 11'!$C:$C,$D55),\"0\")","v":"0"},{"$f":"IF('Unit 12'!$C$7=$D$59,COUNTIF('Unit 12'!$C:$C,$D55),\"0\")","v":"0"},{"$f":"IF('Unit 13'!$C$7=$D$59,COUNTIF('Unit 13'!$C:$C,$D55),\"0\")","v":"0"},{"$f":"IF('Unit 14'!$C$7=$D$59,COUNTIF('Unit 14'!$C:$C,$D55),\"0\")","v":"0"},{"$f":"IF('Unit 15'!$C$7=$D$59,COUNTIF('Unit 15'!$C:$C,$D55),\"0\")","v":"0"},{"$f":"IF('Unit 16'!$C$7=$D$59,COUNTIF('Unit 16'!$C:$C,$D55),\"0\")","v":"0"},{"$f":"IF('Unit 17'!$C$7=$D$59,COUNTIF('Unit 17'!$C:$C,$D55),\"0\")","v":"0"},{"$f":"IF('Unit 18'!$C$7=$D$59,COUNTIF('Unit 18'!$C:$C,$D55),\"0\")","v":"0"},{"$f":"IF('Unit 19'!$C$7=$D$59,COUNTIF('Unit 19'!$C:$C,$D55),\"0\")","v":"0"},{"$f":"IF('Unit 20'!$C$7=$D$59,COUNTIF('Unit 20'!$C:$C,$D55),\"0\")","v":"0"},{"$f":"IF('Unit 21'!$C$7=$D$59,COUNTIF('Unit 21'!$C:$C,$D55),\"0\")","v":"0"},{"$f":"IF('Unit 22'!$C$7=$D$59,COUNTIF('Unit 22'!$C:$C,$D55),\"0\")","v":"0"},{"$f":"IF('Unit 23'!$C$7=$D$59,COUNTIF('Unit 23'!$C:$C,$D55),\"0\")","v":"0"},{"$f":"IF('Unit 24'!$C$7=$D$59,COUNTIF('Unit 24'!$C:$C,$D55),\"0\")","v":"0"},{"$f":"IF('Unit 25'!$C$7=$D$59,COUNTIF('Unit 25'!$C:$C,$D55),\"0\")","v":"0"},{"$f":"IF('Unit 26'!$C$7=$D$59,COUNTIF('Unit 26'!$C:$C,$D55),\"0\")","v":"0"},{"$f":"IF('Unit 27'!$C$7=$D$59,COUNTIF('Unit 27'!$C:$C,$D55),\"0\")","v":"0"},{"$f":"IF('Unit 28'!$C$7=$D$59,COUNTIF('Unit 28'!$C:$C,$D55),\"0\")","v":"0"},{"$f":"IF('Unit 29'!$C$7=$D$59,COUNTIF('Unit 29'!$C:$C,$D55),\"0\")","v":"0"},{"$f":"IF('Unit 30'!$C$7=$D$59,COUNTIF('Unit 30'!$C:$C,$D55),\"0\")","v":"0"},{"$f":"IF('Unit 31'!$C$7=$D$59,COUNTIF('Unit 31'!$C:$C,$D55),\"0\")","v":"0"},{"$f":"IF('Unit 32'!$C$7=$D$59,COUNTIF('Unit 32'!$C:$C,$D55),\"0\")","v":"0"},{"$f":"IF('Unit 33'!$C$7=$D$59,COUNTIF('Unit 33'!$C:$C,$D55),\"0\")","v":"0"},{"$f":"IF('Unit 34'!$C$7=$D$59,COUNTIF('Unit 34'!$C:$C,$D55),\"0\")","v":"0"},{"$f":"IF('Unit 35'!$C$7=$D$59,COUNTIF('Unit 35'!$C:$C,$D55),\"0\")","v":"0"},{"$f":"IF('Unit 36'!$C$7=$D$59,COUNTIF('Unit 36'!$C:$C,$D55),\"0\")","v":"0"},{"$f":"IF('Unit 37'!$C$7=$D$59,COUNTIF('Unit 37'!$C:$C,$D55),\"0\")","v":"0"},{"$f":"IF('Unit 38'!$C$7=$D$59,COUNTIF('Unit 38'!$C:$C,$D55),\"0\")","v":"0"},0,null,{"$f":"IF('Unit 1'!$C$7=$D$60,COUNTIF('Unit 1'!$C:$C,$D55),\"0\")","v":"0"},{"$f":"IF('Unit 2'!$C$7=$D$60,COUNTIF('Unit 2'!$C:$C,$D55),\"0\")","v":"0"},{"$f":"IF('Unit 3'!$C$7=$D$60,COUNTIF('Unit 3'!$C:$C,$D55),\"0\")","v":"0"},{"$f":"IF('Unit 4'!$C$7=$D$60,COUNTIF('Unit 4'!$C:$C,$D55),\"0\")","v":"0"},{"$f":"IF('Unit 5'!$C$7=$D$60,COUNTIF('Unit 5'!$C:$C,$D55),\"0\")","v":"0"},{"$f":"IF('Unit 6'!$C$7=$D$60,COUNTIF('Unit 6'!$C:$C,$D55),\"0\")","v":"0"},{"$f":"IF('Unit 7'!$C$7=$D$60,COUNTIF('Unit 7'!$C:$C,$D55),\"0\")","v":"0"},{"$f":"IF('Unit 8'!$C$7=$D$60,COUNTIF('Unit 8'!$C:$C,$D55),\"0\")","v":"0"},{"$f":"IF('Unit 9'!$C$7=$D$60,COUNTIF('Unit 9'!$C:$C,$D55),\"0\")","v":"0"},{"$f":"IF('Unit 10'!$C$7=$D$60,COUNTIF('Unit 10'!$C:$C,$D55),\"0\")","v":"0"},{"$f":"IF('Unit 11'!$C$7=$D$60,COUNTIF('Unit 11'!$C:$C,$D55),\"0\")","v":"0"},{"$f":"IF('Unit 12'!$C$7=$D$60,COUNTIF('Unit 12'!$C:$C,$D55),\"0\")","v":"0"},{"$f":"IF('Unit 13'!$C$7=$D$60,COUNTIF('Unit 13'!$C:$C,$D55),\"0\")","v":"0"},{"$f":"IF('Unit 14'!$C$7=$D$60,COUNTIF('Unit 14'!$C:$C,$D55),\"0\")","v":"0"},{"$f":"IF('Unit 15'!$C$7=$D$60,COUNTIF('Unit 15'!$C:$C,$D55),\"0\")","v":"0"},{"$f":"IF('Unit 16'!$C$7=$D$60,COUNTIF('Unit 16'!$C:$C,$D55),\"0\")","v":"0"},{"$f":"IF('Unit 17'!$C$7=$D$60,COUNTIF('Unit 17'!$C:$C,$D55),\"0\")","v":"0"},{"$f":"IF('Unit 18'!$C$7=$D$60,COUNTIF('Unit 18'!$C:$C,$D55),\"0\")","v":"0"},{"$f":"IF('Unit 19'!$C$7=$D$60,COUNTIF('Unit 19'!$C:$C,$D55),\"0\")","v":"0"},{"$f":"IF('Unit 20'!$C$7=$D$60,COUNTIF('Unit 20'!$C:$C,$D55),\"0\")","v":"0"},{"$f":"IF('Unit 21'!$C$7=$D$60,COUNTIF('Unit 21'!$C:$C,$D55),\"0\")","v":"0"},{"$f":"IF('Unit 22'!$C$7=$D$60,COUNTIF('Unit 22'!$C:$C,$D55),\"0\")","v":"0"},{"$f":"IF('Unit 23'!$C$7=$D$60,COUNTIF('Unit 23'!$C:$C,$D55),\"0\")","v":"0"},{"$f":"IF('Unit 24'!$C$7=$D$60,COUNTIF('Unit 24'!$C:$C,$D55),\"0\")","v":"0"},{"$f":"IF('Unit 25'!$C$7=$D$60,COUNTIF('Unit 25'!$C:$C,$D55),\"0\")","v":"0"},{"$f":"IF('Unit 26'!$C$7=$D$60,COUNTIF('Unit 26'!$C:$C,$D55),\"0\")","v":"0"},{"$f":"IF('Unit 27'!$C$7=$D$60,COUNTIF('Unit 27'!$C:$C,$D55),\"0\")","v":"0"},{"$f":"IF('Unit 28'!$C$7=$D$60,COUNTIF('Unit 28'!$C:$C,$D55),\"0\")","v":"0"},{"$f":"IF('Unit 29'!$C$7=$D$60,COUNTIF('Unit 29'!$C:$C,$D55),\"0\")","v":"0"},{"$f":"IF('Unit 30'!$C$7=$D$60,COUNTIF('Unit 30'!$C:$C,$D55),\"0\")","v":"0"},{"$f":"IF('Unit 31'!$C$7=$D$60,COUNTIF('Unit 31'!$C:$C,$D55),\"0\")","v":"0"},{"$f":"IF('Unit 32'!$C$7=$D$60,COUNTIF('Unit 32'!$C:$C,$D55),\"0\")","v":"0"},{"$f":"IF('Unit 33'!$C$7=$D$60,COUNTIF('Unit 33'!$C:$C,$D55),\"0\")","v":"0"},{"$f":"IF('Unit 34'!$C$7=$D$60,COUNTIF('Unit 34'!$C:$C,$D55),\"0\")","v":"0"},{"$f":"IF('Unit 35'!$C$7=$D$60,COUNTIF('Unit 35'!$C:$C,$D55),\"0\")","v":"0"},{"$f":"IF('Unit 36'!$C$7=$D$60,COUNTIF('Unit 36'!$C:$C,$D55),\"0\")","v":"0"},{"$f":"IF('Unit 37'!$C$7=$D$60,COUNTIF('Unit 37'!$C:$C,$D55),\"0\")","v":"0"},{"$f":"IF('Unit 38'!$C$7=$D$60,COUNTIF('Unit 38'!$C:$C,$D55),\"0\")","v":"0"},0]
[]
[null,null,null,"Year Group:"]
[null,null,null,"Year 1"]
[null,null,null,"Year 2"]
[null,null,null,"Year 3"]
[]
[null,null,null,"Technologies Subjects:"]
[null,null,null,"Applied Technology:"]
[null,null,null,"Engineering:"]
[null,null,null,"Graphics:"]
[null,null,null,"Wood Technology:"]
[]
[null,null,null,"Learning Outcomes for Dropdown Menus: (This list self-populates from above table)"]
[null,null,null,{"$f":"IFERROR(INDEX($D$8:$D$55,MATCH(0,COUNTIF($D$68:D68,$D$8:$D$55&\"\")+IF($D$8:$D$55=\"\",1,0), 0)),\"\")","v":"1.1 understand the concepts and approaches that are required when solving an engineering problem "}]
[null,null,null,{"$f":"IFERROR(INDEX($D$8:$D$55,MATCH(0,COUNTIF($D$68:D69,$D$8:$D$55&\"\")+IF($D$8:$D$55=\"\",1,0), 0)),\"\")","v":"1.2 demonstrate a range of manufacturing processes "}]
[null,null,null,{"$f":"IFERROR(INDEX($D$8:$D$55,MATCH(0,COUNTIF($D$68:D70,$D$8:$D$55&\"\")+IF($D$8:$D$55=\"\",1,0), 0)),\"\")","v":"1.3 recognise and adhere to health and safety standards "}]
[null,null,null,{"$f":"IFERROR(INDEX($D$8:$D$55,MATCH(0,COUNTIF($D$68:D71,$D$8:$D$55&\"\")+IF($D$8:$D$55=\"\",1,0), 0)),\"\")","v":"1.4 understand the properties associated with a range of engineered materials"}]
[null,null,null,{"$f":"IFERROR(INDEX($D$8:$D$55,MATCH(0,COUNTIF($D$68:D72,$D$8:$D$55&\"\")+IF($D$8:$D$55=\"\",1,0), 0)),\"\")","v":"1.5 research applications of existing and emerging technological developments "}]
[null,null,null,{"$f":"IFERROR(INDEX($D$8:$D$55,MATCH(0,COUNTIF($D$68:D73,$D$8:$D$55&\"\")+IF($D$8:$D$55=\"\",1,0), 0)),\"\")","v":"1.6 engage with the various engineering disciplines by relating them to everyday application"}]
[null,null,null,{"$f":"IFERROR(INDEX($D$8:$D$55,MATCH(0,COUNTIF($D$68:D74,$D$8:$D$55&\"\")+IF($D$8:$D$55=\"\",1,0), 0)),\"\")","v":"1.7 develop engineered solutions to various challenges "}]
[null,null,null,{"$f":"IFERROR(INDEX($D$8:$D$55,MATCH(0,COUNTIF($D$68:D75,$D$8:$D$55&\"\")+IF($D$8:$D$55=\"\",1,0), 0)),\"\")","v":"1.8 identify appropriate tools and equipment specific to a task "}]
[null,null,null,{"$f":"IFERROR(INDEX($D$8:$D$55,MATCH(0,COUNTIF($D$68:D76,$D$8:$D$55&\"\")+IF($D$8:$D$55=\"\",1,0), 0)),\"\")","v":"1.9 apply suitable manufacturing processes to engineer a product "}]
[null,null,null,{"$f":"IFERROR(INDEX($D$8:$D$55,MATCH(0,COUNTIF($D$68:D77,$D$8:$D$55&\"\")+IF($D$8:$D$55=\"\",1,0), 0)),\"\")","v":"1.10 demonstrate high-quality work, to include accuracy and surface finish"}]
[null,null,null,{"$f":"IFERROR(INDEX($D$8:$D$55,MATCH(0,COUNTIF($D$68:D78,$D$8:$D$55&\"\")+IF($D$8:$D$55=\"\",1,0), 0)),\"\")","v":"1.11 create sketches, models and working drawings "}]
[null,null,null,{"$f":"IFERROR(INDEX($D$8:$D$55,MATCH(0,COUNTIF($D$68:D79,$D$8:$D$55&\"\")+IF($D$8:$D$55=\"\",1,0), 0)),\"\")","v":"1.12 interpret working drawings "}]
[null,null,null,{"$f":"IFERROR(INDEX($D$8:$D$55,MATCH(0,COUNTIF($D$68:D80,$D$8:$D$55&\"\")+IF($D$8:$D$55=\"\",1,0), 0)),\"\")","v":"1.13 use appropriate technical language and notations"}]
[null,null,null,{"$f":"IFERROR(INDEX($D$8:$D$55,MATCH(0,COUNTIF($D$68:D81,$D$8:$D$55&\"\")+IF($D$8:$D$55=\"\",1,0), 0)),\"\")","v":"2.1 understand the key stages of the engineering design process "}]
[null,null,null,{"$f":"IFERROR(INDEX($D$8:$D$55,MATCH(0,COUNTIF($D$68:D82,$D$8:$D$55&\"\")+IF($D$8:$D$55=\"\",1,0), 0)),\"\")","v":"2.2 evaluate the factors that influence design "}]
[null,null,null,{"$f":"IFERROR(INDEX($D$8:$D$55,MATCH(0,COUNTIF($D$68:D83,$D$8:$D$55&\"\")+IF($D$8:$D$55=\"\",1,0), 0)),\"\")","v":"2.3 choose a suitable material to engineer a product"}]
[null,null,null,{"$f":"IFERROR(INDEX($D$8:$D$55,MATCH(0,COUNTIF($D$68:D84,$D$8:$D$55&\"\")+IF($D$8:$D$55=\"\",1,0), 0)),\"\")","v":"2.4 explore how design impacts on the function and quality of a product including ergonomic considerations"}]
[null,null,null,{"$f":"IFERROR(INDEX($D$8:$D$55,MATCH(0,COUNTIF($D$68:D85,$D$8:$D$55&\"\")+IF($D$8:$D$55=\"\",1,0), 0)),\"\")","v":"2.5 apply appropriate engineering concepts and approaches in the execution of their design solutions "}]
[null,null,null,{"$f":"IFERROR(INDEX($D$8:$D$55,MATCH(0,COUNTIF($D$68:D86,$D$8:$D$55&\"\")+IF($D$8:$D$55=\"\",1,0), 0)),\"\")","v":"2.6 use relevant information to enhance design and function"}]
[null,null,null,{"$f":"IFERROR(INDEX($D$8:$D$55,MATCH(0,COUNTIF($D$68:D87,$D$8:$D$55&\"\")+IF($D$8:$D$55=\"\",1,0), 0)),\"\")","v":"2.7 apply their knowledge of the properties associated with a range of engineering materials "}]
[null,null,null,{"$f":"IFERROR(INDEX($D$8:$D$55,MATCH(0,COUNTIF($D$68:D88,$D$8:$D$55&\"\")+IF($D$8:$D$55=\"\",1,0), 0)),\"\")","v":"2.8 manufacture a product from a working drawing "}]
[null,null,null,{"$f":"IFERROR(INDEX($D$8:$D$55,MATCH(0,COUNTIF($D$68:D89,$D$8:$D$55&\"\")+IF($D$8:$D$55=\"\",1,0), 0)),\"\")","v":"2.9 modify an existing product/design "}]
[null,null,null,{"$f":"IFERROR(INDEX($D$8:$D$55,MATCH(0,COUNTIF($D$68:D90,$D$8:$D$55&\"\")+IF($D$8:$D$55=\"\",1,0), 0)),\"\")","v":"2.10 incorporate basic project management techniques"}]
[null,null,null,{"$f":"IFERROR(INDEX($D$8:$D$55,MATCH(0,COUNTIF($D$68:D91,$D$8:$D$55&\"\")+IF($D$8:$D$55=\"\",1,0), 0)),\"\")","v":"2.11 present ideas through modelling and prototyping, using appropriate media "}]
[null,null,null,{"$f":"IFERROR(INDEX($D$8:$D$55,MATCH(0,COUNTIF($D$68:D92,$D$8:$D$55&\"\")+IF($D$8:$D$55=\"\",1,0), 0)),\"\")","v":"2.12 communicate their design decisions using suitable media"}]
[null,null,null,{"$f":"IFERROR(INDEX($D$8:$D$55,MATCH(0,COUNTIF($D$68:D93,$D$8:$D$55&\"\")+IF($D$8:$D$55=\"\",1,0), 0)),\"\")","v":"3.1 explain the operation of basic mechatronic systems "}]
[null,null,null,{"$f":"IFERROR(INDEX($D$8:$D$55,MATCH(0,COUNTIF($D$68:D94,$D$8:$D$55&\"\")+IF($D$8:$D$55=\"\",1,0), 0)),\"\")","v":"3.2 investigate relationships between inputs, processes and outputs for basic control systems "}]
[null,null,null,{"$f":"IFERROR(INDEX($D$8:$D$55,MATCH(0,COUNTIF($D$68:D95,$D$8:$D$55&\"\")+IF($D$8:$D$55=\"\",1,0), 0)),\"\")","v":"3.3 appreciate the application of mechanisms in a controlled system"}]
[null,null,null,{"$f":"IFERROR(INDEX($D$8:$D$55,MATCH(0,COUNTIF($D$68:D96,$D$8:$D$55&\"\")+IF($D$8:$D$55=\"\",1,0), 0)),\"\")","v":"3.4 explore the application of systems in an engineering setting such as the classroom, home and industry "}]
[null,null,null,{"$f":"IFERROR(INDEX($D$8:$D$55,MATCH(0,COUNTIF($D$68:D97,$D$8:$D$55&\"\")+IF($D$8:$D$55=\"\",1,0), 0)),\"\")","v":"3.5 investigate the impact of mechatronics on the environment and society "}]
[null,null,null,{"$f":"IFERROR(INDEX($D$8:$D$55,MATCH(0,COUNTIF($D$68:D98,$D$8:$D$55&\"\")+IF($D$8:$D$55=\"\",1,0), 0)),\"\")","v":"3.6 configure and program basic mechatronic systems using appropriate software "}]
[null,null,null,{"$f":"IFERROR(INDEX($D$8:$D$55,MATCH(0,COUNTIF($D$68:D99,$D$8:$D$55&\"\")+IF($D$8:$D$55=\"\",1,0), 0)),\"\")","v":"3.7 design a basic mechatronic system either individually or collaboratively"}]
[null,null,null,{"$f":"IFERROR(INDEX($D$8:$D$55,MATCH(0,COUNTIF($D$68:D100,$D$8:$D$55&\"\")+IF($D$8:$D$55=\"\",1,0), 0)),\"\")","v":"3.8 build and test a basic mechatronic system with specific inputs or outputs "}]
[null,null,null,{"$f":"IFERROR(INDEX($D$8:$D$55,MATCH(0,COUNTIF($D$68:D101,$D$8:$D$55&\"\")+IF($D$8:$D$55=\"\",1,0), 0)),\"\")","v":"3.9 incorporate basic mechatronics into their engineered products"}]
[null,null,null,{"$f":"IFERROR(INDEX($D$8:$D$55,MATCH(0,COUNTIF($D$68:D102,$D$8:$D$55&\"\")+IF($D$8:$D$55=\"\",1,0), 0)),\"\")","v":"3.10 represent key information using appropriate media "}]
[null,null,null,{"$f":"IFERROR(INDEX($D$8:$D$55,MATCH(0,COUNTIF($D$68:D103,$D$8:$D$55&\"\")+IF($D$8:$D$55=\"\",1,0), 0)),\"\")","v":"3.11 justify their choice of the most appropriate system or systems for a specified purpose"}]
[null,null,null,{"$f":"IFERROR(INDEX($D$8:$D$55,MATCH(0,COUNTIF($D$68:D104,$D$8:$D$55&\"\")+IF($D$8:$D$55=\"\",1,0), 0)),\"\")","v":""}]
[null,null,null,{"$f":"IFERROR(INDEX($D$8:$D$55,MATCH(0,COUNTIF($D$68:D105,$D$8:$D$55&\"\")+IF($D$8:$D$55=\"\",1,0), 0)),\"\")","v":""}]
[null,null,null,{"$f":"IFERROR(INDEX($D$8:$D$55,MATCH(0,COUNTIF($D$68:D106,$D$8:$D$55&\"\")+IF($D$8:$D$55=\"\",1,0), 0)),\"\")","v":""}]
[null,null,null,{"$f":"IFERROR(INDEX($D$8:$D$55,MATCH(0,COUNTIF($D$68:D107,$D$8:$D$55&\"\")+IF($D$8:$D$55=\"\",1,0), 0)),\"\")","v":""}]